{"text_format":"3","workbook":"xlsx","n_sheets":110,"sheets":["1989","90-89","1990","91-90","1991","92-91","1992","93-92","1993","94-93","1994","95-94","1995","96-95","1996","97-96","1997","98-97","1998","99-98","1999","2000-99","2000","2000-01","2001","2001-02","2002","2002-03","2003","2003-04","2004","2004-2005","2005","2005-06","2006","2007-08","2006-07","2008","2007","2008-09","2009","2009-10","2010","2010-11","2011","2011-12","2012","2012-13","2013","2013-14","2014","2014-15","2015","2015-16","2016","2016-17","2017","2017-18","2018","2018-19","2019","2019-20","2020","2020-21","2021","2021-22","2022","2022-23","2023","2023-2024","2024","2024-25","ICFP Forecast 2025","EU-15","EU-13","EU28","Austria","EU","Belgium","Bulgaria","Cyprus","Czech Rep","Croatia","Denmark","Estonia","France","Finland","Germany","Hungary","Italy","Ireland","Latvia","Lithuania","Poland","Portugal","Romania","Spain","Slovenia","Slovakia","Sweden","The Netherlands","UK","Serbia","Turkey","Switzerland","Norway","Greece","Malta","Luxembourg","nonEU"],"not_rendered":{"comments":2},"read":"whole","date_system":"1900"}

{"sheet":"1989","index":0,"n_rows":45,"n_cols":13,"rows_kept":45,"merged":[[4,0,4,12],[5,0,5,12]]}
["2001-07-04"]
[]
["PRODUCTION INDUSTRIELLE D'ALIMENTS COMPOSES ",{"$nulls":11},"INDUSTRIELLE  MISCHFUTTERPRODUKTION"]
["PRODUZIONE INDUSTRIALE DI MANGIMI COMPOSTI",{"$nulls":11},"INDUSTRIAL COMPOUND PRODUCTION"]
[1989]
["definitif/final"]
[{"$nulls":12},"(1 000 t)"]
[]
["Catégories d'aliments composés/Mischfutterarten",null,"D","F","I","NL","B","UK","IRL","DK","ESP","P","EUR-15"]
["Tipi di mangimi compositi/Types of feed",{"$nulls":11},"*"]
[]
[null,null," ",{"$nulls":4}," ",null,null," "]
["Bovins/Cattle/Bovini/Rinder",null,{"$f":"Germany!B16","v":{"v":6449,"d":"6,449"}},{"$f":"France!B16","v":{"v":3716,"d":"3,716"}},{"$f":"Italy!B16","v":{"v":4262,"d":"4,262"}},{"v":4295,"d":"4,295"},{"$f":"Belgium!B16","v":{"v":1428,"d":"1,428"}},{"$f":"UK!B16","v":{"v":4201,"d":"4,201"}},{"$f":"Ireland!B16","v":{"v":1421,"d":"1,421"}},{"$f":"Denmark!B16","v":{"v":1607,"d":"1,607"}},{"$f":"Spain!B16","v":{"v":3250,"d":"3,250"}},{"$f":"Portugal!B16","v":{"v":1013,"d":"1,013"}},{"$f":"SUM(C13:L13)","v":{"v":31642,"d":"31,642"}}]
["engrais/fattening/Mast  ",null,{"$f":"Germany!B17","v":":"},{"$f":"France!B17","v":":"},{"$f":"Italy!B17","v":":"},{"$f":"'The Netherlands'!B17","v":":"},{"$f":"Belgium!B17","v":":"},{"$f":"UK!B17","v":":"},{"$f":"Ireland!B17","v":":"},{"$f":"Denmark!B17","v":":"},{"$f":"Spain!B17","v":":"},{"$f":"Portugal!B17","v":":"},":"]
["VL/dairy cow/Milchkühe",null,{"$f":"Germany!B18","v":":"},{"$f":"France!B18","v":":"},{"$f":"Italy!B18","v":":"},{"$f":"'The Netherlands'!B18","v":":"},{"$f":"Belgium!B18","v":":"},{"$f":"UK!B18","v":":"},{"$f":"Ireland!B18","v":":"},{"$f":"Denmark!B18","v":":"},{"$f":"Spain!B18","v":":"},{"$f":"Portugal!B18","v":":"},":"]
["veaux (aliments d'allaitement non compris)/calves ",null,{"$f":"Germany!B19","v":":"},{"$f":"France!B19","v":":"},{"$f":"Italy!B19","v":":"},{"$f":"'The Netherlands'!B19","v":":"},{"$f":"Belgium!B19","v":":"},{"$f":"UK!B19","v":":"},{"$f":"Ireland!B19","v":":"},{"$f":"Denmark!B19","v":":"},{"$f":"Spain!B19","v":":"},{"$f":"Portugal!B19","v":":"},":"]
["(excluding milk replacers)/Kälber (exkl. Milchaustauscher)"]
["autres/others/Andere",null,{"$f":"Germany!B20","v":":"},{"$f":"France!B20","v":":"},{"$f":"Italy!B20","v":":"},{"$f":"'The Netherlands'!B20","v":":"},{"$f":"Belgium!B20","v":":"},{"$f":"UK!B20","v":":"},{"$f":"Ireland!B20","v":":"},{"$f":"Denmark!B20","v":":"},{"$f":"Spain!B20","v":":"},{"$f":"Portugal!B20","v":":"},":"]
[]
[]
["Porcins/Pigs/Suini/Schweine",null,{"$f":"Germany!B23","v":{"v":5434,"d":"5,434"}},{"$f":"France!B23","v":{"v":5134,"d":"5,134"}},{"$f":"Italy!B23","v":{"v":2427,"d":"2,427"}},{"v":7611,"d":"7,611"},{"$f":"Belgium!B23","v":{"v":2884,"d":"2,884"}},{"$f":"UK!B23","v":{"v":2134,"d":"2,134"}},{"$f":"Ireland!B23","v":462},{"$f":"Denmark!B23","v":{"v":2401,"d":"2,401"}},{"$f":"Spain!B23","v":{"v":5850,"d":"5,850"}},{"$f":"Portugal!B23","v":{"v":1339,"d":"1,339"}},{"$f":"SUM(C21:L21)","v":{"v":35676,"d":"35,676"}}]
["porcelets/piglets/Ferkel",null,{"$f":"Germany!B24","v":":"},{"$f":"France!B24","v":":"},{"$f":"Italy!B24","v":":"},{"$f":"'The Netherlands'!B24","v":":"},{"$f":"Belgium!B24","v":":"},{"$f":"UK!B24","v":":"},{"$f":"Ireland!B24","v":":"},{"$f":"Denmark!B24","v":":"},{"$f":"Spain!B24","v":":"},{"$f":"Portugal!B24","v":":"},":"]
["porcs engrais/pigs for fattening/Mastschweine",null,{"$f":"Germany!B25","v":":"},{"$f":"France!B25","v":":"},{"$f":"Italy!B25","v":":"},{"$f":"'The Netherlands'!B25","v":":"},{"$f":"Belgium!B25","v":":"},{"$f":"UK!B25","v":":"},{"$f":"Ireland!B25","v":":"},{"$f":"Denmark!B25","v":":"},{"$f":"Spain!B25","v":":"},{"$f":"Portugal!B25","v":":"},":"]
["reproducteurs/breeding pigs/Zuchtschweine",null,{"$f":"Germany!B26","v":":"},{"$f":"France!B26","v":":"},{"$f":"Italy!B26","v":":"},{"$f":"'The Netherlands'!B26","v":":"},{"$f":"Belgium!B26","v":":"},{"$f":"UK!B26","v":":"},{"$f":"Ireland!B26","v":":"},{"$f":"Denmark!B26","v":":"},{"$f":"Spain!B26","v":":"},{"$f":"Portugal!B26","v":":"},":"]
["autres/others/Andere",null,{"$f":"Germany!B27","v":":"},{"$f":"France!B27","v":":"},{"$f":"Italy!B27","v":":"},{"$f":"'The Netherlands'!B27","v":":"},{"$f":"Belgium!B27","v":":"},{"$f":"UK!B27","v":":"},{"$f":"Ireland!B27","v":":"},{"$f":"Denmark!B27","v":":"},{"$f":"Spain!B27","v":":"},{"$f":"Portugal!B27","v":":"},":"]
[{"$nulls":4}," "]
[]
["Volaille/Poultry/Volatili/Geflügel",null,{"$f":"Germany!B30","v":{"v":3318,"d":"3,318"}},{"$f":"France!B30","v":{"v":6468,"d":"6,468"}},{"$f":"Italy!B30","v":{"v":4236,"d":"4,236"}},{"v":3266,"d":"3,266"},{"$f":"Belgium!B30","v":960},{"$f":"UK!B30","v":{"v":3514,"d":"3,514"}},{"$f":"Ireland!B30","v":351},{"$f":"Denmark!B30","v":521},{"$f":"Spain!B30","v":{"v":4260,"d":"4,260"}},{"$f":"Portugal!B30","v":{"v":1221,"d":"1,221"}},{"$f":"SUM(C28:L28)","v":{"v":28115,"d":"28,115"}}]
["broilers",null,{"$f":"Germany!B31","v":":"},{"$f":"France!B31","v":":"},{"$f":"Italy!B31","v":":"},{"$f":"'The Netherlands'!B31","v":":"},{"$f":"Belgium!B31","v":":"},{"$f":"UK!B31","v":":"},{"$f":"Ireland!B31","v":":"},{"$f":"Denmark!B31","v":":"},{"$f":"Spain!B31","v":":"},{"$f":"Portugal!B31","v":":"},":"]
["poulettes & pondeuses/chicks & layers/Jung- & Legehennen",null,{"$f":"Germany!B32","v":":"},{"$f":"France!B32","v":":"},{"$f":"Italy!B32","v":":"},{"$f":"'The Netherlands'!B32","v":":"},{"$f":"Belgium!B32","v":":"},{"$f":"UK!B32","v":":"},{"$f":"Ireland!B32","v":":"},{"$f":"Denmark!B32","v":":"},{"$f":"Spain!B32","v":":"},{"$f":"Portugal!B32","v":":"},":"]
["autres/others/Andere",null,{"$f":"Germany!B33","v":":"},{"$f":"France!B33","v":":"},{"$f":"Italy!B33","v":":"},{"$f":"'The Netherlands'!B33","v":":"},{"$f":"Belgium!B33","v":":"},{"$f":"UK!B33","v":":"},{"$f":"Ireland!B33","v":":"},{"$f":"Denmark!B33","v":":"},{"$f":"Spain!B33","v":":"},{"$f":"Portugal!B33","v":":"},":"]
[]
[]
["Al. d'allait./Milk replacers/Sostit. del latte/Milchaust.",null,{"$f":"Germany!B36","v":230},{"$f":"France!B36","v":721},{"$f":"Italy!B36","v":283},{"$f":"'The Netherlands'!B36","v":638},{"$f":"Belgium!B36","v":42},{"$f":"UK!B36","v":24},{"$f":"Ireland!B36","v":22},{"$f":"Denmark!B36","v":13},{"$f":"Spain!B36","v":84},{"$f":"Portugal!B36","v":0},{"$f":"SUM(C34:L34)","v":{"v":2057,"d":"2,057"}}]
[]
[{"$nulls":4}," "]
["Autres/others/altri/Andere",null,{"$f":"Germany!B39","v":514},{"$f":"France!B39","v":{"v":1454,"d":"1,454"}},{"$f":"Italy!B39","v":852},{"$f":"'The Netherlands'!B39","v":487},{"$f":"Belgium!B39","v":133},{"$f":"UK!B39","v":747},{"$f":"Ireland!B39","v":162},{"$f":"Denmark!B39","v":137},{"$f":"Spain!B39","v":{"v":1161,"d":"1,161"}},{"$f":"Portugal!B39","v":123},{"$f":"SUM(C37:L37)","v":{"v":5770,"d":"5,770"}}]
[]
[]
["TOTAL",null,{"$f":"C37+C34+C28+C21+C13","v":{"v":15945,"d":"15,945"}},{"v":17493,"d":"17,493"},{"v":12060,"d":"12,060"},{"v":16297,"d":"16,297"},{"v":5447,"d":"5,447"},{"v":10620,"d":"10,620"},{"v":2418,"d":"2,418"},{"v":4679,"d":"4,679"},{"v":14605,"d":"14,605"},{"v":3696,"d":"3,696"},{"v":103260,"d":"103,260"}]
[{"$nulls":5}," "]
[]
["* Sans le Luxembourg et la Grèce/ohne Luxemburg und Griechenland/Without Luxemburg and Greece/Senza Lussemburgo e Ella"]
[]
[": non disponible/not available/nicht verfügbar"]

{"sheet":"90-89","index":1,"n_rows":41,"n_cols":24,"rows_kept":41}
["2001-07-04"]
[]
["PRODUCTION INDUSTRIELLE D'ALIMENTS COMPOSES",{"$nulls":22},"INDUSTRIELLE  MISCHFUTTERPRODUKTION"]
["PRODUZIONE INDUSTRIALE DI MANGIMI COMPOSTI",{"$nulls":11},"1989-1990",{"$nulls":10},"INDUSTRIAL COMPOUND PRODUCTION"]
[{"$nulls":12},"definitif/final",{"$nulls":10},"(1 000 t )"]
[]
[]
[]
["PAYS",null,"      BOVINS/RINDER",{"$nulls":3},"    PORCS/SCHWEINE",{"$nulls":3},"     VOLAILLE/GEFLÜGEL",null,"      A. ALLAITEMENT/MILCHAUST.",{"$nulls":5},"     AUTRES/ANDERE",null,null,"       TOTAL/INSGESAMT"]
["LAND",null,"      BOVINI/CATTLE",{"$nulls":3},"    SUINI/PIGS",{"$nulls":3},"     VOLATILI/POULTRY",null,"  SOSTIT. DEL LATTE/MILKREPLACERS",{"$nulls":5},"ALTRI ANIMALI/OTHERS",null,null,"          TOTALE/TOTAL"]
["PAESE"]
["COUNTRY",1989,1990,"%TAV",null,1989,1990,"%TAV",null,1989,1990,"%TAV",null,1989,1990,"%TAV",null,1989,1990,"%TAV",null,1989,1990,"%TAV"]
[]
[]
["D",{"$f":"Germany!B$16","v":{"v":6449,"d":"6,449"}},{"$f":"Germany!C$16","v":{"v":6269,"d":"6,269"}},{"$f":"((C15/B15)-1)*100","v":{"v":-2.7911304078151677,"d":"-2.8"}},null,{"$f":"Germany!B$23","v":{"v":5434,"d":"5,434"}},{"$f":"Germany!C$23","v":{"v":5465,"d":"5,465"}},{"$f":"((G15/F15)-1)*100","v":{"v":0.5704821494295187,"d":"0.6"}},null,{"$f":"Germany!B$30","v":{"v":3318,"d":"3,318"}},{"$f":"Germany!C$30","v":{"v":3454,"d":"3,454"}},{"$f":"((K15/J15)-1)*100","v":{"v":4.098854731766122,"d":"4.1"}},null,{"$f":"Germany!B$36","v":230},{"$f":"Germany!C$36","v":229},{"$f":"((O15/N15)-1)*100","v":{"v":-0.43478260869564966,"d":"-0.4"}},null,{"$f":"Germany!B$39","v":514},{"$f":"Germany!C$39","v":511},{"$f":"((S15/R15)-1)*100","v":{"v":-0.5836575875486361,"d":"-0.6"}},null,{"$f":"R15+N15+J15+F15+B15","v":{"v":15945,"d":"15,945"}},{"v":15928,"d":"15,928"},{"$f":"((W15/V15)-1)*100","v":{"v":-0.10661649419880792,"d":"-0.1"}}]
[]
["F ",{"$f":"France!B$16","v":{"v":3716,"d":"3,716"}},{"$f":"France!C$16","v":{"v":3957,"d":"3,957"}},{"$f":"((C17/B17)-1)*100","v":{"v":6.485468245425197,"d":"6.5"}},null,{"$f":"France!B$23","v":{"v":5134,"d":"5,134"}},{"$f":"France!C$23","v":{"v":5214,"d":"5,214"}},{"$f":"((G17/F17)-1)*100","v":{"v":1.5582391897156267,"d":"1.6"}},null,{"$f":"France!B$30","v":{"v":6468,"d":"6,468"}},{"$f":"France!C$30","v":{"v":6990,"d":"6,990"}},{"$f":"((K17/J17)-1)*100","v":{"v":8.070500927643787,"d":"8.1"}},null,{"$f":"France!B$36","v":721},{"$f":"France!C$36","v":679},{"$f":"((O17/N17)-1)*100","v":{"v":-5.825242718446599,"d":"-5.8"}},null,{"$f":"France!B$39","v":{"v":1454,"d":"1,454"}},{"$f":"France!C$39","v":{"v":1453,"d":"1,453"}},{"$f":"((S17/R17)-1)*100","v":{"v":-0.06877579092159358,"d":"-0.1"}},null,{"$f":"R17+N17+J17+F17+B17","v":{"v":17493,"d":"17,493"}},{"v":18293,"d":"18,293"},{"$f":"((W17/V17)-1)*100","v":{"v":4.573257874578407,"d":"4.6"}}]
[{"$nulls":3}," "]
["I ",{"$f":"Italy!B$16","v":{"v":4262,"d":"4,262"}},{"$f":"Italy!C$16","v":{"v":4292,"d":"4,292"}},{"$f":"((C19/B19)-1)*100","v":{"v":0.7038948850305093,"d":"0.7"}},null,{"$f":"Italy!B$23","v":{"v":2427,"d":"2,427"}},{"$f":"Italy!C$23","v":{"v":2507,"d":"2,507"}},{"$f":"((G19/F19)-1)*100","v":{"v":3.2962505150391452,"d":"3.3"}},null,{"$f":"Italy!B$30","v":{"v":4236,"d":"4,236"}},{"$f":"Italy!C$30","v":{"v":4355,"d":"4,355"}},{"$f":"((K19/J19)-1)*100","v":{"v":2.8092540132200083,"d":"2.8"}},null,{"$f":"Italy!B$36","v":283},{"$f":"Italy!C$36","v":250},{"$f":"((O19/N19)-1)*100","v":{"v":-11.660777385159015,"d":"-11.7"}},null,{"$f":"Italy!B$39","v":852},{"$f":"Italy!C$39","v":948},{"$f":"((S19/R19)-1)*100","v":{"v":11.267605633802823,"d":"11.3"}},null,{"$f":"R19+N19+J19+F19+B19","v":{"v":12060,"d":"12,060"}},{"v":12352,"d":"12,352"},{"$f":"((W19/V19)-1)*100","v":{"v":2.4212271973466093,"d":"2.4"}}]
[]
["NL   ",{"$f":"'The Netherlands'!B$16","v":{"v":4295,"d":"4,295"}},{"$f":"'The Netherlands'!C$16","v":{"v":4053,"d":"4,053"}},{"$f":"((C21/B21)-1)*100","v":{"v":-5.634458672875442,"d":"-5.6"}},null,{"$f":"'The Netherlands'!B$23","v":{"v":7611,"d":"7,611"}},{"$f":"'The Netherlands'!C$23","v":{"v":7690,"d":"7,690"}},{"$f":"((G21/F21)-1)*100","v":{"v":1.0379713572460814,"d":"1.0"}},null,{"$f":"'The Netherlands'!B$30","v":{"v":3266,"d":"3,266"}},{"$f":"'The Netherlands'!C$30","v":{"v":3308,"d":"3,308"}},{"$f":"((K21/J21)-1)*100","v":{"v":1.285976729944882,"d":"1.3"}},null,{"$f":"'The Netherlands'!B$36","v":638},{"$f":"'The Netherlands'!C$36","v":639},{"$f":"((O21/N21)-1)*100","v":{"v":0.15673981191222097,"d":"0.2"}},null,{"$f":"'The Netherlands'!B$39","v":487},{"$f":"'The Netherlands'!C$39","v":520},{"$f":"((S21/R21)-1)*100","v":{"v":6.776180698151957,"d":"6.8"}},null,{"$f":"R21+N21+J21+F21+B21","v":{"v":16297,"d":"16,297"}},{"v":16210,"d":"16,210"},{"$f":"((W21/V21)-1)*100","v":{"v":-0.5338405841565974,"d":"-0.5"}}]
[{"$nulls":3}," "]
["B ",{"$f":"Belgium!B$16","v":{"v":1428,"d":"1,428"}},{"$f":"Belgium!C$16","v":{"v":1371,"d":"1,371"}},{"$f":"((C23/B23)-1)*100","v":{"v":-3.991596638655459,"d":"-4.0"}},null,{"$f":"Belgium!B$23","v":{"v":2884,"d":"2,884"}},{"$f":"Belgium!C$23","v":{"v":2995,"d":"2,995"}},{"$f":"((G23/F23)-1)*100","v":{"v":3.8488210818308,"d":"3.8"}},null,{"$f":"Belgium!B$30","v":960},{"$f":"Belgium!C$30","v":990},{"$f":"((K23/J23)-1)*100","v":{"v":3.125,"d":"3.1"}},null,{"$f":"Belgium!B$36","v":42},{"$f":"Belgium!C$36","v":53},{"$f":"((O23/N23)-1)*100","v":{"v":26.190476190476186,"d":"26.2"}},null,{"$f":"Belgium!B$39","v":133},{"$f":"Belgium!C$39","v":117},{"$f":"((S23/R23)-1)*100","v":{"v":-12.030075187969924,"d":"-12.0"}},null,{"$f":"R23+N23+J23+F23+B23","v":{"v":5447,"d":"5,447"}},{"v":5526,"d":"5,526"},{"$f":"((W23/V23)-1)*100","v":{"v":1.4503396364971444,"d":"1.5"}}]
[{"$nulls":3}," "]
["UK ",{"$f":"UK!B$16","v":{"v":4201,"d":"4,201"}},{"$f":"UK!C$16","v":{"v":4159,"d":"4,159"}},{"$f":"((C25/B25)-1)*100","v":{"v":-0.9997619614377506,"d":"-1.0"}},null,{"$f":"UK!B$23","v":{"v":2134,"d":"2,134"}},{"$f":"UK!C$23","v":{"v":2285,"d":"2,285"}},{"$f":"((G25/F25)-1)*100","v":{"v":7.075913776944698,"d":"7.1"}},null,{"$f":"UK!B$30","v":{"v":3514,"d":"3,514"}},{"$f":"UK!C$30","v":{"v":3851,"d":"3,851"}},{"$f":"((K25/J25)-1)*100","v":{"v":9.590210586226533,"d":"9.6"}},null,{"$f":"UK!B$36","v":24},{"$f":"UK!C$36","v":24},{"$f":"((O25/N25)-1)*100","v":{"v":0,"d":"0.0"}},null,{"$f":"UK!B39","v":747},{"$f":"UK!C39","v":831},{"$f":"((S25/R25)-1)*100","v":{"v":11.244979919678721,"d":"11.2"}},null,{"$f":"R25+J25+F25+B25+N25","v":{"v":10620,"d":"10,620"}},{"v":11150,"d":"11,150"},{"$f":"((W25/V25)-1)*100","v":{"v":4.990583804143123,"d":"5.0"}}]
[{"$nulls":3}," "]
["IRL ",{"$f":"Ireland!B$16","v":{"v":1421,"d":"1,421"}},{"$f":"Ireland!C$16","v":{"v":1319,"d":"1,319"}},{"$f":"((C27/B27)-1)*100","v":{"v":-7.1780436312456,"d":"-7.2"}},null,{"$f":"Ireland!B$23","v":462},{"$f":"Ireland!C$23","v":483},{"$f":"((G27/F27)-1)*100","v":{"v":4.545454545454541,"d":"4.5"}},null,{"$f":"Ireland!B$30","v":351},{"$f":"Ireland!C$30","v":398},{"$f":"((K27/J27)-1)*100","v":{"v":13.39031339031338,"d":"13.4"}},null,{"$f":"Ireland!B$36","v":22},{"$f":"Ireland!C$36","v":13},{"$f":"((O27/N27)-1)*100","v":{"v":-40.90909090909091,"d":"-40.9"}},null,{"$f":"Ireland!B$39","v":162},{"$f":"Ireland!C$39","v":195},{"$f":"((S27/R27)-1)*100","v":{"v":20.370370370370374,"d":"20.4"}},null,{"$f":"R27+N27+J27+F27+B27","v":{"v":2418,"d":"2,418"}},{"v":2408,"d":"2,408"},{"$f":"((W27/V27)-1)*100","v":{"v":-0.41356492969396585,"d":"-0.4"}}]
[{"$nulls":3}," "]
["DK ",{"$f":"Denmark!B$16","v":{"v":1607,"d":"1,607"}},{"$f":"Denmark!C$16","v":{"v":1542,"d":"1,542"}},{"$f":"((C29/B29)-1)*100","v":{"v":-4.044803982576228,"d":"-4.0"}},null,{"$f":"Denmark!B$23","v":{"v":2401,"d":"2,401"}},{"$f":"Denmark!C$23","v":{"v":2493,"d":"2,493"}},{"$f":"((G29/F29)-1)*100","v":{"v":3.8317367763431864,"d":"3.8"}},null,{"$f":"Denmark!B$30","v":521},{"$f":"Denmark!C$30","v":528},{"$f":"((K29/J29)-1)*100","v":{"v":1.3435700575815668,"d":"1.3"}},null,{"$f":"Denmark!B$36","v":13},{"$f":"Denmark!C$36","v":13},{"$f":"((O29/N29)-1)*100","v":{"v":0,"d":"0.0"}},null,{"$f":"Denmark!B$39","v":137},{"$f":"Denmark!C$39","v":137},{"$f":"((S29/R29)-1)*100","v":{"v":0,"d":"0.0"}},null,{"$f":"R29+N29+J29+F29+B29","v":{"v":4679,"d":"4,679"}},{"v":4713,"d":"4,713"},{"$f":"((W29/V29)-1)*100","v":{"v":0.7266509938020915,"d":"0.7"}}]
[]
["ESP ",{"$f":"Spain!B$16","v":{"v":3250,"d":"3,250"}},{"$f":"Spain!C$16","v":{"v":3200,"d":"3,200"}},{"$f":"((C31/B31)-1)*100","v":{"v":-1.538461538461533,"d":"-1.5"}},null,{"$f":"Spain!B$23","v":{"v":5850,"d":"5,850"}},{"$f":"Spain!C$23","v":{"v":5800,"d":"5,800"}},{"$f":"((G31/F31)-1)*100","v":{"v":-0.8547008547008517,"d":"-0.9"}},null,{"$f":"Spain!B$30","v":{"v":4260,"d":"4,260"}},{"$f":"Spain!C$30","v":{"v":4300,"d":"4,300"}},{"$f":"((K31/J31)-1)*100","v":{"v":0.9389671361502261,"d":"0.9"}},null,{"$f":"Spain!B$36","v":84},{"$f":"Spain!C$36","v":74},{"$f":"((O31/N31)-1)*100","v":{"v":-11.904761904761907,"d":"-11.9"}},null,{"$f":"Spain!B$39","v":{"v":1161,"d":"1,161"}},{"$f":"Spain!C$39","v":{"v":1165,"d":"1,165"}},{"$f":"((S31/R31)-1)*100","v":{"v":0.3445305770887197,"d":"0.3"}},null,{"$f":"R31+N31+J31+F31+B31","v":{"v":14605,"d":"14,605"}},{"v":14539,"d":"14,539"},{"$f":"((W31/V31)-1)*100","v":{"v":-0.45190003423485336,"d":"-0.5"}}]
[{"$nulls":3}," ",{"$nulls":17}," "," "]
["P ",{"$f":"Portugal!B$16","v":{"v":1013,"d":"1,013"}},{"$f":"Portugal!C$16","v":{"v":1115,"d":"1,115"}},{"$f":"((C33/B33)-1)*100","v":{"v":10.069101678183623,"d":"10.1"}},null,{"$f":"Portugal!B$23","v":{"v":1339,"d":"1,339"}},{"$f":"Portugal!C$23","v":{"v":1457,"d":"1,457"}},{"$f":"((G33/F33)-1)*100","v":{"v":8.812546676624343,"d":"8.8"}},null,{"$f":"Portugal!B$30","v":{"v":1221,"d":"1,221"}},{"$f":"Portugal!C$30","v":{"v":1230,"d":"1,230"}},{"$f":"((K33/J33)-1)*100","v":{"v":0.7371007371007376,"d":"0.7"}},null,{"$f":"Portugal!B$36","v":0},{"$f":"Portugal!C$36","v":0},{"v":0,"d":"0.0"},null,{"$f":"Portugal!B$39","v":123},{"$f":"Portugal!C$39","v":145},{"$f":"((S33/R33)-1)*100","v":{"v":17.886178861788625,"d":"17.9"}},null,{"$f":"R33+N33+J33+F33+B33","v":{"v":3696,"d":"3,696"}},{"v":3947,"d":"3,947"},{"$f":"((W33/V33)-1)*100","v":{"v":6.791125541125531,"d":"6.8"}}]
[]
[{"$nulls":3}," "]
["EUR 15 *",{"$f":"B33+B31+B29+B27+B25+B23+B21+B19+B17+B15","v":{"v":31642,"d":"31,642"}},{"v":31277,"d":"31,277"},{"$f":"((C36/B36)-1)*100","v":{"v":-1.1535301181973323,"d":"-1.2"}},null,{"$f":"F33+F31+F29+F27+F25+F23+F21+F19+F17+F15","v":{"v":35676,"d":"35,676"}},{"v":36389,"d":"36,389"},{"$f":"((G36/F36)-1)*100","v":{"v":1.9985424374930005,"d":"2.0"}},null,{"$f":"J33+J31+J29+J27+J25+J23+J21+J19+J17+J15","v":{"v":28115,"d":"28,115"}},{"v":29404,"d":"29,404"},{"$f":"((K36/J36)-1)*100","v":{"v":4.584741241330259,"d":"4.6"}},null,{"$f":"N33+N31+N29+N27+N25+N23+N21+N19+N17+N15","v":{"v":2057,"d":"2,057"}},{"v":1974,"d":"1,974"},{"$f":"((O36/N36)-1)*100","v":{"v":-4.035002430724354,"d":"-4.0"}},null,{"$f":"R33+R31+R29+R27+R25+R23+R21+R19+R17+R15","v":{"v":5770,"d":"5,770"}},{"v":6022,"d":"6,022"},{"$f":"((S36/R36)-1)*100","v":{"v":4.367417677642971,"d":"4.4"}},null,{"$f":"V33+V31+V29+V27+V25+V23+V21+V19+V17+V15","v":{"v":103260,"d":"103,260"}},{"v":105066,"d":"105,066"},{"$f":"((W36/V36)-1)*100","v":{"v":1.7489831493317842,"d":"1.7"}}]
[]
[{"$nulls":23}," "]
["* Sans le Luxembourg et la Grèce/Ohne Luxemburg und Griechenland/Without Luxemburg and Greece/Senza Lussemburgo e Ellas"]
[]
[": non disponible/not available"]

{"sheet":"1990","index":2,"n_rows":45,"n_cols":13,"rows_kept":45,"merged":[[4,0,4,12],[5,0,5,12]]}
["2001-07-04"]
[]
["PRODUCTION INDUSTRIELLE D'ALIMENTS COMPOSES ",{"$nulls":11},"INDUSTRIELLE  MISCHFUTTERPRODUKTION"]
["PRODUZIONE INDUSTRIALE DI MANGIMI COMPOSTI",{"$nulls":11},"INDUSTRIAL COMPOUND PRODUCTION"]
[1990]
["definitif/final"]
[{"$nulls":12},"(1 000 t)"]
[]
["Catégories d'aliments composés/Mischfutterarten",null,"D","F","I","NL","B","UK","IRL","DK","ESP","P","EUR-15"]
["Tipi di mangimi compositi/Types of feed",{"$nulls":11},"*"]
[]
[null,null," ",{"$nulls":4}," ",null,null," "]
["Bovins/Cattle/Bovini/Rinder",null,{"$f":"C14+C15+C16","v":{"v":6269,"d":"6,269"}},{"$f":"D15+D18","v":{"v":3957,"d":"3,957"}},{"$f":"E14+E15+E16","v":{"v":4292,"d":"4,292"}},{"$f":"'The Netherlands'!C16","v":{"v":4053,"d":"4,053"}},{"$f":"Belgium!C16","v":{"v":1371,"d":"1,371"}},{"$f":"UK!C16","v":{"v":4159,"d":"4,159"}},{"$f":"I15+I16+I18","v":{"v":1319,"d":"1,319"}},{"$f":"Denmark!C16","v":{"v":1542,"d":"1,542"}},{"$f":"Spain!C16","v":{"v":3200,"d":"3,200"}},{"$f":"L15+L16+L18","v":{"v":1115,"d":"1,115"}},{"$f":"SUM(C13:L13)","v":{"v":31277,"d":"31,277"}}]
["engrais/fattening/Mast  ",null,{"$f":"Germany!C17","v":422},{"$f":"France!C17","v":":"},{"$f":"Italy!C17","v":{"v":1194,"d":"1,194"}},{"$f":"'The Netherlands'!C17","v":":"},{"$f":"Belgium!C17","v":":"},{"$f":"UK!C17","v":":"},{"$f":"Ireland!C17","v":":"},{"$f":"Denmark!C17","v":":"},{"$f":"Spain!C17","v":":"},{"$f":"Portugal!C17","v":":"},":"]
["VL/dairy cow/Milchkühe",null,{"$f":"Germany!C18","v":{"v":5630,"d":"5,630"}},{"$f":"France!C18","v":{"v":2900,"d":"2,900"}},{"$f":"Italy!C18","v":{"v":2799,"d":"2,799"}},{"$f":"'The Netherlands'!C18","v":{"v":3891,"d":"3,891"}},{"$f":"Belgium!C18","v":":"},{"$f":"UK!C18","v":":"},{"$f":"Ireland!C18","v":801},{"$f":"Denmark!C18","v":":"},{"$f":"Spain!C18","v":":"},{"$f":"Portugal!C18","v":495},":"]
["veaux (aliments d'allaitement non compris)/calves ",null,{"$f":"Germany!C19","v":217},{"$f":"France!C19","v":":"},{"$f":"Italy!C19","v":299},{"$f":"'The Netherlands'!C19","v":":"},{"$f":"Belgium!C19","v":":"},{"$f":"UK!C19","v":":"},{"$f":"Ireland!C19","v":159},{"$f":"Denmark!C19","v":":"},{"$f":"Spain!C19","v":":"},{"$f":"Portugal!C19","v":69},":"]
["(excluding milk replacers)/Kälber (exkl. Milchaustauscher)"]
["autres/others/Andere",null,{"$f":"Germany!C20","v":":"},{"$f":"France!C20","v":{"v":1057,"d":"1,057"}},{"$f":"Italy!C20","v":":"},{"$f":"'The Netherlands'!C20","v":162},{"$f":"Belgium!C20","v":":"},{"$f":"UK!C20","v":":"},{"$f":"Ireland!C20","v":359},{"$f":"Denmark!C20","v":":"},{"$f":"Spain!C20","v":":"},{"$f":"Portugal!C20","v":551},":"]
[]
[]
["Porcins/Pigs/Suini/Schweine",null,{"$f":"Germany!C23","v":{"v":5465,"d":"5,465"}},{"$f":"France!C23","v":{"v":5214,"d":"5,214"}},{"$f":"Italy!C23","v":{"v":2507,"d":"2,507"}},{"$f":"'The Netherlands'!C23","v":{"v":7690,"d":"7,690"}},{"$f":"Belgium!C23","v":{"v":2995,"d":"2,995"}},{"$f":"UK!C23","v":{"v":2285,"d":"2,285"}},{"$f":"Ireland!C23","v":483},{"$f":"Denmark!C23","v":{"v":2493,"d":"2,493"}},{"$f":"Spain!C23","v":{"v":5800,"d":"5,800"}},{"$f":"Portugal!C23","v":{"v":1457,"d":"1,457"}},{"$f":"SUM(C21:L21)","v":{"v":36389,"d":"36,389"}}]
["porcelets/piglets/Ferkel",null,{"$f":"Germany!C24","v":":"},{"$f":"France!C24","v":":"},{"$f":"Italy!C24","v":":"},{"$f":"'The Netherlands'!C24","v":":"},{"$f":"Belgium!C24","v":":"},{"$f":"UK!C24","v":":"},{"$f":"Ireland!C24","v":":"},{"$f":"Denmark!C24","v":":"},{"$f":"Spain!C24","v":":"},{"$f":"Portugal!C24","v":":"},":"]
["porcs engrais/pigs for fattening/Mastschweine",null,{"$f":"Germany!C25","v":":"},{"$f":"France!C25","v":":"},{"$f":"Italy!C25","v":":"},{"$f":"'The Netherlands'!C25","v":":"},{"$f":"Belgium!C25","v":":"},{"$f":"UK!C25","v":":"},{"$f":"Ireland!C25","v":":"},{"$f":"Denmark!C25","v":":"},{"$f":"Spain!C25","v":":"},{"$f":"Portugal!C25","v":":"},":"]
["reproducteurs/breeding pigs/Zuchtschweine",null,{"$f":"Germany!C26","v":":"},{"$f":"France!C26","v":":"},{"$f":"Italy!C26","v":":"},{"$f":"'The Netherlands'!C26","v":":"},{"$f":"Belgium!C26","v":":"},{"$f":"UK!C26","v":":"},{"$f":"Ireland!C26","v":":"},{"$f":"Denmark!C26","v":":"},{"$f":"Spain!C26","v":":"},{"$f":"Portugal!C26","v":":"},":"]
["autres/others/Andere",null,{"$f":"Germany!C27","v":":"},{"$f":"France!C27","v":":"},{"$f":"Italy!C27","v":":"},{"$f":"'The Netherlands'!C27","v":":"},{"$f":"Belgium!C27","v":":"},{"$f":"UK!C27","v":":"},{"$f":"Ireland!C27","v":":"},{"$f":"Denmark!C27","v":":"},{"$f":"Spain!C27","v":":"},{"$f":"Portugal!C27","v":":"},":"]
[{"$nulls":4}," "]
[]
["Volaille/Poultry/Volatili/Geflügel",null,{"$f":"C29+C30","v":{"v":3454,"d":"3,454"}},{"$f":"D29+D30+D31","v":{"v":6990,"d":"6,990"}},{"v":4355,"d":"4,355"},{"$f":"'The Netherlands'!C30","v":{"v":3308,"d":"3,308"}},{"$f":"Belgium!C30","v":990},{"$f":"UK!C30","v":{"v":3851,"d":"3,851"}},{"$f":"I29+I30","v":398},{"$f":"Denmark!C30","v":528},{"$f":"Spain!C30","v":{"v":4300,"d":"4,300"}},{"$f":"L29+L30+L31","v":{"v":1230,"d":"1,230"}},{"$f":"SUM(C28:L28)","v":{"v":29404,"d":"29,404"}}]
["broilers",null,{"$f":"Germany!C31","v":{"v":1347,"d":"1,347"}},{"$f":"France!C31","v":{"v":2701,"d":"2,701"}},{"$f":"Italy!C31","v":{"v":2187,"d":"2,187"}},{"$f":"'The Netherlands'!C31","v":{"v":1290,"d":"1,290"}},{"$f":"Belgium!C31","v":":"},{"$f":"UK!C31","v":":"},{"$f":"Ireland!C31","v":305},{"$f":"Denmark!C31","v":":"},{"$f":"Spain!C31","v":":"},{"$f":"Portugal!C31","v":681},":"]
["poulettes & pondeuses/chicks & layers/Jung- & Legehennen",null,{"$f":"Germany!C32","v":{"v":2107,"d":"2,107"}},{"$f":"France!C32","v":{"v":1989,"d":"1,989"}},{"$f":"Italy!C32","v":{"v":1229,"d":"1,229"}},{"$f":"'The Netherlands'!C32","v":{"v":1952,"d":"1,952"}},{"$f":"Belgium!C32","v":":"},{"$f":"UK!C32","v":":"},{"$f":"Ireland!C32","v":93},{"$f":"Denmark!C32","v":":"},{"$f":"Spain!C32","v":":"},{"$f":"Portugal!C32","v":407},":"]
["autres/others/Andere",null,{"$f":"Germany!C33","v":":"},{"$f":"France!C33","v":{"v":2300,"d":"2,300"}},{"$f":"Italy!C33","v":939},{"$f":"'The Netherlands'!C33","v":66},{"$f":"Belgium!C33","v":":"},{"$f":"UK!C33","v":":"},{"$f":"Ireland!C33","v":":"},{"$f":"Denmark!C33","v":":"},{"$f":"Spain!C33","v":":"},{"$f":"Portugal!C33","v":142},":"]
[]
[]
["Al. d'allait./Milk replacers/Sostit. del latte/Milchaust.",null,{"$f":"Germany!C36","v":229},{"$f":"France!C36","v":679},{"$f":"Italy!C36","v":250},{"$f":"'The Netherlands'!C36","v":639},{"$f":"Belgium!C36","v":53},{"$f":"UK!C36","v":24},{"$f":"Ireland!C36","v":13},{"$f":"Denmark!C36","v":13},{"$f":"Spain!C36","v":74},{"$f":"Portugal!C36","v":0},{"$f":"SUM(C34:L34)","v":{"v":1974,"d":"1,974"}}]
[]
[{"$nulls":4}," "]
["Autres/others/altri/Andere",null,{"$f":"Germany!C39","v":511},{"$f":"France!C39","v":{"v":1453,"d":"1,453"}},{"$f":"Italy!C39","v":948},{"$f":"'The Netherlands'!C39","v":520},{"$f":"Belgium!C39","v":117},{"$f":"UK!C39","v":831},{"$f":"Ireland!C39","v":195},{"$f":"Denmark!C39","v":137},{"$f":"Spain!C39","v":{"v":1165,"d":"1,165"}},{"$f":"Portugal!C39","v":145},{"$f":"SUM(C37:L37)","v":{"v":6022,"d":"6,022"}}]
[]
[]
["TOTAL",null,{"$f":"C37+C34+C28+C21+C13","v":{"v":15928,"d":"15,928"}},{"v":18293,"d":"18,293"},{"v":12352,"d":"12,352"},{"v":16210,"d":"16,210"},{"v":5526,"d":"5,526"},{"v":11150,"d":"11,150"},{"v":2408,"d":"2,408"},{"v":4713,"d":"4,713"},{"v":14539,"d":"14,539"},{"v":3947,"d":"3,947"},{"v":105066,"d":"105,066"}]
[{"$nulls":5}," "]
[]
["* Sans le Luxembourg et la Grèce/ohne Luxemburg und Griechenland/Without Luxemburg and Greece/Senza Lussemburgo e Ella"]
[]
[": non disponible/not available/nicht verfügbar"]

{"sheet":"91-90","index":3,"n_rows":41,"n_cols":24,"rows_kept":41}
["2001-07-04"]
[]
["PRODUCTION INDUSTRIELLE D'ALIMENTS COMPOSES",{"$nulls":22},"INDUSTRIELLE  MISCHFUTTERPRODUKTION"]
["PRODUZIONE INDUSTRIALE DI MANGIMI COMPOSTI",{"$nulls":11},"1990-1991",{"$nulls":10},"INDUSTRIAL COMPOUND PRODUCTION"]
[{"$nulls":12},"definitif/final",{"$nulls":10},"(1 000 t )"]
[]
[]
[]
["PAYS",null,"      BOVINS/RINDER",{"$nulls":3},"    PORCS/SCHWEINE",{"$nulls":3},"     VOLAILLE/GEFLÜGEL",null,"      A. ALLAITEMENT/MILCHAUST.",{"$nulls":5},"     AUTRES/ANDERE",null,null,"       TOTAL/INSGESAMT"]
["LAND",null,"      BOVINI/CATTLE",{"$nulls":3},"    SUINI/PIGS",{"$nulls":3},"     VOLATILI/POULTRY",null,"  SOSTIT. DEL LATTE/MILKREPLACERS",{"$nulls":5},"ALTRI ANIMALI/OTHERS",null,null,"          TOTALE/TOTAL"]
["PAESE"]
["COUNTRY",1990,1991,"%TAV",null,1990,1991,"%TAV",null,1990,1991,"%TAV",null,1990,1991,"%TAV",null,1990,1991,"%TAV",null,1990,1991,"%TAV"]
[]
[]
["D",{"$f":"Germany!C$16","v":{"v":6269,"d":"6,269"}},{"$f":"Germany!D$16","v":{"v":7881,"d":"7,881"}},{"$f":"((C15/B15)-1)*100","v":{"v":25.713829956930923,"d":"25.7"}},null,{"$f":"Germany!C$23","v":{"v":5465,"d":"5,465"}},{"$f":"Germany!D$23","v":{"v":7476,"d":"7,476"}},{"$f":"((G15/F15)-1)*100","v":{"v":36.79780420860019,"d":"36.8"}},null,{"$f":"Germany!C$30","v":{"v":3454,"d":"3,454"}},{"$f":"Germany!D$30","v":{"v":4195,"d":"4,195"}},{"$f":"((K15/J15)-1)*100","v":{"v":21.453387376954257,"d":"21.5"}},null,{"$f":"Germany!C$36","v":229},{"$f":"Germany!D$36","v":269},{"$f":"((O15/N15)-1)*100","v":{"v":17.467248908296938,"d":"17.5"}},null,{"$f":"Germany!C$39","v":511},{"$f":"Germany!D$39","v":562},{"$f":"((S15/R15)-1)*100","v":{"v":9.980430528375738,"d":"10.0"}},null,{"$f":"R15+N15+J15+F15+B15","v":{"v":15928,"d":"15,928"}},{"v":20383,"d":"20,383"},{"$f":"((W15/V15)-1)*100","v":{"v":27.969613259668513,"d":"28.0"}}]
[]
["F ",{"$f":"France!C$16","v":{"v":3957,"d":"3,957"}},{"$f":"France!D$16","v":{"v":3997,"d":"3,997"}},{"$f":"((C17/B17)-1)*100","v":{"v":1.0108668182966962,"d":"1.0"}},null,{"$f":"France!C$23","v":{"v":5214,"d":"5,214"}},{"$f":"France!D$23","v":{"v":5493,"d":"5,493"}},{"$f":"((G17/F17)-1)*100","v":{"v":5.350978135788265,"d":"5.4"}},null,{"$f":"France!C$30","v":{"v":6990,"d":"6,990"}},{"$f":"France!D$30","v":{"v":7398,"d":"7,398"}},{"$f":"((K17/J17)-1)*100","v":{"v":5.836909871244633,"d":"5.8"}},null,{"$f":"France!C$36","v":679},{"$f":"France!D$36","v":666},{"$f":"((O17/N17)-1)*100","v":{"v":-1.9145802650957333,"d":"-1.9"}},null,{"$f":"France!C$39","v":{"v":1453,"d":"1,453"}},{"$f":"France!D$39","v":{"v":1465,"d":"1,465"}},{"$f":"((S17/R17)-1)*100","v":{"v":0.8258774948382674,"d":"0.8"}},null,{"$f":"R17+N17+J17+F17+B17","v":{"v":18293,"d":"18,293"}},{"v":19019,"d":"19,019"},{"$f":"((W17/V17)-1)*100","v":{"v":3.96873120865906,"d":"4.0"}}]
[{"$nulls":3}," "]
["I ",{"$f":"Italy!C$16","v":{"v":4292,"d":"4,292"}},{"$f":"Italy!D$16","v":{"v":4332,"d":"4,332"}},{"$f":"((C19/B19)-1)*100","v":{"v":0.9319664492078328,"d":"0.9"}},null,{"$f":"Italy!C$23","v":{"v":2507,"d":"2,507"}},{"$f":"Italy!D$23","v":{"v":2429,"d":"2,429"}},{"$f":"((G19/F19)-1)*100","v":{"v":-3.1112883925009993,"d":"-3.1"}},null,{"$f":"Italy!C$30","v":{"v":4355,"d":"4,355"}},{"$f":"Italy!D$30","v":{"v":4513,"d":"4,513"}},{"$f":"((K19/J19)-1)*100","v":{"v":3.6280137772675136,"d":"3.6"}},null,{"$f":"Italy!C$36","v":250},{"$f":"Italy!D$36","v":258},{"$f":"((O19/N19)-1)*100","v":{"v":3.200000000000003,"d":"3.2"}},null,{"$f":"Italy!C$39","v":948},{"$f":"Italy!D$39","v":{"v":1022,"d":"1,022"}},{"$f":"((S19/R19)-1)*100","v":{"v":7.805907172995785,"d":"7.8"}},null,{"$f":"R19+N19+J19+F19+B19","v":{"v":12352,"d":"12,352"}},{"v":12554,"d":"12,554"},{"$f":"((W19/V19)-1)*100","v":{"v":1.6353626943005128,"d":"1.6"}}]
[]
["NL   ",{"$f":"'The Netherlands'!C$16","v":{"v":4053,"d":"4,053"}},{"$f":"'The Netherlands'!D$16","v":{"v":4155,"d":"4,155"}},{"$f":"((C21/B21)-1)*100","v":{"v":2.5166543301258226,"d":"2.5"}},null,{"$f":"'The Netherlands'!C$23","v":{"v":7690,"d":"7,690"}},{"$f":"'The Netherlands'!D$23","v":{"v":7311,"d":"7,311"}},{"$f":"((G21/F21)-1)*100","v":{"v":-4.928478543563064,"d":"-4.9"}},null,{"$f":"'The Netherlands'!C$30","v":{"v":3308,"d":"3,308"}},{"$f":"'The Netherlands'!D$30","v":{"v":3482,"d":"3,482"}},{"$f":"((K21/J21)-1)*100","v":{"v":5.259975816203144,"d":"5.3"}},null,{"$f":"'The Netherlands'!C$36","v":639},{"$f":"'The Netherlands'!D$36","v":629},{"$f":"((O21/N21)-1)*100","v":{"v":-1.5649452269170583,"d":"-1.6"}},null,{"$f":"'The Netherlands'!C$39","v":520},{"$f":"'The Netherlands'!D$39","v":520},{"$f":"((S21/R21)-1)*100","v":{"v":0,"d":"0.0"}},null,{"$f":"R21+N21+J21+F21+B21","v":{"v":16210,"d":"16,210"}},{"v":16097,"d":"16,097"},{"$f":"((W21/V21)-1)*100","v":{"v":-0.6971005552128262,"d":"-0.7"}}]
[{"$nulls":3}," "]
["B ",{"$f":"Belgium!C$16","v":{"v":1371,"d":"1,371"}},{"$f":"Belgium!D$16","v":{"v":1349,"d":"1,349"}},{"$f":"((C23/B23)-1)*100","v":{"v":-1.604668125455877,"d":"-1.6"}},null,{"$f":"Belgium!C$23","v":{"v":2995,"d":"2,995"}},{"$f":"Belgium!D$23","v":{"v":2813,"d":"2,813"}},{"$f":"((G23/F23)-1)*100","v":{"v":-6.076794657762941,"d":"-6.1"}},null,{"$f":"Belgium!C$30","v":990},{"$f":"Belgium!D$30","v":939},{"$f":"((K23/J23)-1)*100","v":{"v":-5.151515151515151,"d":"-5.2"}},null,{"$f":"Belgium!C$36","v":53},{"$f":"Belgium!D$36","v":56},{"$f":"((O23/N23)-1)*100","v":{"v":5.660377358490565,"d":"5.7"}},null,{"$f":"Belgium!C$39","v":117},{"$f":"Belgium!D$39","v":110},{"$f":"((S23/R23)-1)*100","v":{"v":-5.982905982905984,"d":"-6.0"}},null,{"$f":"R23+N23+J23+F23+B23","v":{"v":5526,"d":"5,526"}},{"v":5267,"d":"5,267"},{"$f":"((W23/V23)-1)*100","v":{"v":-4.686934491494754,"d":"-4.7"}}]
[{"$nulls":3}," "]
["UK ",{"$f":"UK!C$16","v":{"v":4159,"d":"4,159"}},{"$f":"UK!D$16","v":{"v":4034,"d":"4,034"}},{"$f":"((C25/B25)-1)*100","v":{"v":-3.0055301755229635,"d":"-3.0"}},null,{"$f":"UK!C$23","v":{"v":2285,"d":"2,285"}},{"$f":"UK!D$23","v":{"v":2353,"d":"2,353"}},{"$f":"((G25/F25)-1)*100","v":{"v":2.9759299781181525,"d":"3.0"}},null,{"$f":"UK!C$30","v":{"v":3851,"d":"3,851"}},{"$f":"UK!D$30","v":{"v":3866,"d":"3,866"}},{"$f":"((K25/J25)-1)*100","v":{"v":0.38950921838483143,"d":"0.4"}},null,{"$f":"UK!C$36","v":24},{"$f":"UK!D$36","v":24},{"$f":"((O25/N25)-1)*100","v":{"v":0,"d":"0.0"}},null,{"$f":"UK!C39","v":831},{"$f":"UK!D39","v":833},{"$f":"((S25/R25)-1)*100","v":{"v":0.24067388688326918,"d":"0.2"}},null,{"$f":"R25+J25+F25+B25+N25","v":{"v":11150,"d":"11,150"}},{"v":11110,"d":"11,110"},{"$f":"((W25/V25)-1)*100","v":{"v":-0.35874439461883734,"d":"-0.4"}}]
[{"$nulls":3}," "]
["IRL ",{"$f":"Ireland!C$16","v":{"v":1319,"d":"1,319"}},{"$f":"Ireland!D$16","v":{"v":1376,"d":"1,376"}},{"$f":"((C27/B27)-1)*100","v":{"v":4.321455648218353,"d":"4.3"}},null,{"$f":"Ireland!C$23","v":483},{"$f":"Ireland!D$23","v":550},{"$f":"((G27/F27)-1)*100","v":{"v":13.871635610766052,"d":"13.9"}},null,{"$f":"Ireland!C$30","v":398},{"$f":"Ireland!D$30","v":408},{"$f":"((K27/J27)-1)*100","v":{"v":2.5125628140703515,"d":"2.5"}},null,{"$f":"Ireland!C$36","v":13},{"$f":"Ireland!D$36","v":7},{"$f":"((O27/N27)-1)*100","v":{"v":-46.15384615384615,"d":"-46.2"}},null,{"$f":"Ireland!C$39","v":195},{"$f":"Ireland!D$39","v":236},{"$f":"((S27/R27)-1)*100","v":{"v":21.02564102564102,"d":"21.0"}},null,{"$f":"R27+N27+J27+F27+B27","v":{"v":2408,"d":"2,408"}},{"v":2577,"d":"2,577"},{"$f":"((W27/V27)-1)*100","v":{"v":7.018272425249172,"d":"7.0"}}]
[{"$nulls":3}," "]
["DK ",{"$f":"Denmark!C$16","v":{"v":1542,"d":"1,542"}},{"$f":"Denmark!D$16","v":{"v":1562,"d":"1,562"}},{"$f":"((C29/B29)-1)*100","v":{"v":1.2970168612191912,"d":"1.3"}},null,{"$f":"Denmark!C$23","v":{"v":2493,"d":"2,493"}},{"$f":"Denmark!D$23","v":{"v":2799,"d":"2,799"}},{"$f":"((G29/F29)-1)*100","v":{"v":12.274368231046928,"d":"12.3"}},null,{"$f":"Denmark!C$30","v":528},{"$f":"Denmark!D$30","v":564},{"$f":"((K29/J29)-1)*100","v":{"v":6.818181818181812,"d":"6.8"}},null,{"$f":"Denmark!C$36","v":13},{"$f":"Denmark!D$36","v":9},{"$f":"((O29/N29)-1)*100","v":{"v":-30.76923076923077,"d":"-30.8"}},null,{"$f":"Denmark!C$39","v":137},{"$f":"Denmark!D$39","v":124},{"$f":"((S29/R29)-1)*100","v":{"v":-9.48905109489051,"d":"-9.5"}},null,{"$f":"R29+N29+J29+F29+B29","v":{"v":4713,"d":"4,713"}},{"v":5058,"d":"5,058"},{"$f":"((W29/V29)-1)*100","v":{"v":7.320178230426477,"d":"7.3"}}]
[]
["ESP ",{"$f":"Spain!C$16","v":{"v":3200,"d":"3,200"}},{"$f":"Spain!D$16","v":{"v":3084,"d":"3,084"}},{"$f":"((C31/B31)-1)*100","v":{"v":-3.6250000000000004,"d":"-3.6"}},null,{"$f":"Spain!C$23","v":{"v":5800,"d":"5,800"}},{"$f":"Spain!D$23","v":{"v":5431,"d":"5,431"}},{"$f":"((G31/F31)-1)*100","v":{"v":-6.362068965517242,"d":"-6.4"}},null,{"$f":"Spain!C$30","v":{"v":4300,"d":"4,300"}},{"$f":"Spain!D$30","v":{"v":4159,"d":"4,159"}},{"$f":"((K31/J31)-1)*100","v":{"v":-3.2790697674418556,"d":"-3.3"}},null,{"$f":"Spain!C$36","v":74},{"$f":"Spain!D$36","v":70},{"$f":"((O31/N31)-1)*100","v":{"v":-5.405405405405405,"d":"-5.4"}},null,{"$f":"Spain!C$39","v":{"v":1165,"d":"1,165"}},{"$f":"Spain!D$39","v":{"v":1156,"d":"1,156"}},{"$f":"((S31/R31)-1)*100","v":{"v":-0.7725321888412018,"d":"-0.8"}},null,{"$f":"R31+N31+J31+F31+B31","v":{"v":14539,"d":"14,539"}},{"v":13900,"d":"13,900"},{"$f":"((W31/V31)-1)*100","v":{"v":-4.395075314670882,"d":"-4.4"}}]
[{"$nulls":3}," ",{"$nulls":17}," "," "]
["P ",{"$f":"Portugal!C$16","v":{"v":1115,"d":"1,115"}},{"$f":"Portugal!D$16","v":{"v":1145,"d":"1,145"}},{"$f":"((C33/B33)-1)*100","v":{"v":2.6905829596412634,"d":"2.7"}},null,{"$f":"Portugal!C$23","v":{"v":1457,"d":"1,457"}},{"$f":"Portugal!D$23","v":{"v":1422,"d":"1,422"}},{"$f":"((G33/F33)-1)*100","v":{"v":-2.4021962937542884,"d":"-2.4"}},null,{"$f":"Portugal!C$30","v":{"v":1230,"d":"1,230"}},{"$f":"Portugal!D$30","v":{"v":1232,"d":"1,232"}},{"$f":"((K33/J33)-1)*100","v":{"v":0.1626016260162677,"d":"0.2"}},null,{"$f":"Portugal!C$36","v":0},{"$f":"Portugal!D$36","v":0},{"v":0,"d":"0.0"},null,{"$f":"Portugal!C$39","v":145},{"$f":"Portugal!D$39","v":150},{"$f":"((S33/R33)-1)*100","v":{"v":3.4482758620689724,"d":"3.4"}},null,{"$f":"R33+N33+J33+F33+B33","v":{"v":3947,"d":"3,947"}},{"v":3949,"d":"3,949"},{"$f":"((W33/V33)-1)*100","v":{"v":0.05067139599697068,"d":"0.1"}}]
[]
[{"$nulls":3}," "]
["EUR 15 *",{"$f":"B33+B31+B29+B27+B25+B23+B21+B19+B17+B15","v":{"v":31277,"d":"31,277"}},{"v":32915,"d":"32,915"},{"$f":"((C36/B36)-1)*100","v":{"v":5.237075167055671,"d":"5.2"}},null,{"$f":"F33+F31+F29+F27+F25+F23+F21+F19+F17+F15","v":{"v":36389,"d":"36,389"}},{"v":38077,"d":"38,077"},{"$f":"((G36/F36)-1)*100","v":{"v":4.638764461787903,"d":"4.6"}},null,{"$f":"J33+J31+J29+J27+J25+J23+J21+J19+J17+J15","v":{"v":29404,"d":"29,404"}},{"v":30756,"d":"30,756"},{"$f":"((K36/J36)-1)*100","v":{"v":4.598013875663165,"d":"4.6"}},null,{"$f":"N33+N31+N29+N27+N25+N23+N21+N19+N17+N15","v":{"v":1974,"d":"1,974"}},{"v":1988,"d":"1,988"},{"$f":"((O36/N36)-1)*100","v":{"v":0.7092198581560183,"d":"0.7"}},null,{"$f":"R33+R31+R29+R27+R25+R23+R21+R19+R17+R15","v":{"v":6022,"d":"6,022"}},{"v":6178,"d":"6,178"},{"$f":"((S36/R36)-1)*100","v":{"v":2.590501494520092,"d":"2.6"}},null,{"$f":"V33+V31+V29+V27+V25+V23+V21+V19+V17+V15","v":{"v":105066,"d":"105,066"}},{"v":109914,"d":"109,914"},{"$f":"((W36/V36)-1)*100","v":{"v":4.614242476157848,"d":"4.6"}}]
[]
[{"$nulls":23}," "]
["* Sans le Luxembourg et la Grèce/Ohne Luxemburg und Griechenland/Without Luxemburg and Greece/Senza Lussemburgo e Ellas"]
[]
[": non disponible/not available"]

{"sheet":"1991","index":4,"n_rows":45,"n_cols":13,"rows_kept":45,"merged":[[4,0,4,12],[5,0,5,12]]}
["2001-07-04"]
[]
["PRODUCTION INDUSTRIELLE D'ALIMENTS COMPOSES ",{"$nulls":11},"INDUSTRIELLE  MISCHFUTTERPRODUKTION"]
["PRODUZIONE INDUSTRIALE DI MANGIMI COMPOSTI",{"$nulls":11},"INDUSTRIAL COMPOUND PRODUCTION"]
[1991]
["definitif/final"]
[{"$nulls":12},"(1 000 t)"]
[]
["Catégories d'aliments composés/Mischfutterarten",null,"D","F","I","NL","B","UK","IRL","DK","ESP","P","EUR-15"]
["Tipi di mangimi compositi/Types of feed",{"$nulls":11},"*"]
[]
[null,null," ",{"$nulls":4}," ",null,null," "]
["Bovins/Cattle/Bovini/Rinder",null,{"$f":"Germany!D16","v":{"v":7881,"d":"7,881"}},{"$f":"France!D16","v":{"v":3997,"d":"3,997"}},{"$f":"Italy!D16","v":{"v":4332,"d":"4,332"}},{"$f":"'The Netherlands'!D16","v":{"v":4155,"d":"4,155"}},{"$f":"Belgium!D16","v":{"v":1349,"d":"1,349"}},{"$f":"UK!D16","v":{"v":4034,"d":"4,034"}},{"$f":"Ireland!D16","v":{"v":1376,"d":"1,376"}},{"$f":"Denmark!D16","v":{"v":1562,"d":"1,562"}},{"$f":"Spain!D16","v":{"v":3084,"d":"3,084"}},{"$f":"Portugal!D16","v":{"v":1145,"d":"1,145"}},{"$f":"SUM(C13:L13)","v":{"v":32915,"d":"32,915"}}]
["engrais/fattening/Mast  ",null,{"$f":"Germany!D17","v":887},{"$f":"France!D17","v":":"},{"$f":"Italy!D17","v":{"v":1274,"d":"1,274"}},{"$f":"'The Netherlands'!D17","v":":"},{"$f":"Belgium!D17","v":":"},{"$f":"UK!D17","v":":"},{"$f":"Ireland!D17","v":":"},{"$f":"Denmark!D17","v":":"},{"$f":"Spain!D17","v":":"},{"$f":"Portugal!D17","v":":"},":"]
["VL/dairy cow/Milchkühe",null,{"$f":"Germany!D18","v":{"v":6693,"d":"6,693"}},{"$f":"France!D18","v":{"v":2911,"d":"2,911"}},{"$f":"Italy!D18","v":{"v":2780,"d":"2,780"}},{"$f":"'The Netherlands'!D18","v":{"v":3578,"d":"3,578"}},{"$f":"Belgium!D18","v":592},{"$f":"UK!D18","v":":"},{"$f":"Ireland!D18","v":775},{"$f":"Denmark!D18","v":798},{"$f":"Spain!D18","v":":"},{"$f":"Portugal!D18","v":551},":"]
["veaux (aliments d'allaitement non compris)/calves ",null,{"$f":"Germany!D19","v":301},{"$f":"France!D19","v":":"},{"$f":"Italy!D19","v":278},{"$f":"'The Netherlands'!D19","v":":"},{"$f":"Belgium!D19","v":":"},{"$f":"UK!D19","v":":"},{"$f":"Ireland!D19","v":164},{"$f":"Denmark!D19","v":290},{"$f":"Spain!D19","v":":"},{"$f":"Portugal!D19","v":46},":"]
["(excluding milk replacers)/Kälber (exkl. Milchaustauscher)"]
["autres/others/Andere",null,{"$f":"Germany!D20","v":":"},{"$f":"France!D20","v":{"v":1086,"d":"1,086"}},{"$f":"Italy!D20","v":":"},{"$f":"'The Netherlands'!D20","v":577},{"$f":"Belgium!D20","v":757},{"$f":"UK!D20","v":":"},{"$f":"Ireland!D20","v":437},{"$f":"Denmark!D20","v":474},{"$f":"Spain!D20","v":":"},{"$f":"Portugal!D20","v":548},":"]
[]
[]
["Porcins/Pigs/Suini/Schweine",null,{"$f":"Germany!D23","v":{"v":7476,"d":"7,476"}},{"$f":"France!D23","v":{"v":5493,"d":"5,493"}},{"$f":"Italy!D23","v":{"v":2429,"d":"2,429"}},{"$f":"'The Netherlands'!D23","v":{"v":7311,"d":"7,311"}},{"$f":"Belgium!D23","v":{"v":2813,"d":"2,813"}},{"$f":"UK!D23","v":{"v":2353,"d":"2,353"}},{"$f":"Ireland!D23","v":550},{"$f":"Denmark!D23","v":{"v":2799,"d":"2,799"}},{"$f":"Spain!D23","v":{"v":5431,"d":"5,431"}},{"$f":"Portugal!D23","v":{"v":1422,"d":"1,422"}},{"$f":"SUM(C21:L21)","v":{"v":38077,"d":"38,077"}}]
["porcelets/piglets/Ferkel",null,{"$f":"Germany!D24","v":":"},{"$f":"France!D24","v":":"},{"$f":"Italy!D24","v":":"},{"$f":"'The Netherlands'!D24","v":":"},{"$f":"Belgium!D24","v":":"},{"$f":"UK!D24","v":":"},{"$f":"Ireland!D24","v":":"},{"$f":"Denmark!D24","v":":"},{"$f":"Spain!D24","v":":"},{"$f":"Portugal!D24","v":":"},":"]
["porcs engrais/pigs for fattening/Mastschweine",null,{"$f":"Germany!D25","v":":"},{"$f":"France!D25","v":":"},{"$f":"Italy!D25","v":":"},{"$f":"'The Netherlands'!D25","v":":"},{"$f":"Belgium!D25","v":":"},{"$f":"UK!D25","v":":"},{"$f":"Ireland!D25","v":":"},{"$f":"Denmark!D25","v":":"},{"$f":"Spain!D25","v":":"},{"$f":"Portugal!D25","v":":"},":"]
["reproducteurs/breeding pigs/Zuchtschweine",null,{"$f":"Germany!D26","v":":"},{"$f":"France!D26","v":":"},{"$f":"Italy!D26","v":":"},{"$f":"'The Netherlands'!D26","v":":"},{"$f":"Belgium!D26","v":":"},{"$f":"UK!D26","v":":"},{"$f":"Ireland!D26","v":":"},{"$f":"Denmark!D26","v":":"},{"$f":"Spain!D26","v":":"},{"$f":"Portugal!D26","v":":"},":"]
["autres/others/Andere",null,{"$f":"Germany!D27","v":":"},{"$f":"France!D27","v":":"},{"$f":"Italy!D27","v":":"},{"$f":"'The Netherlands'!D27","v":":"},{"$f":"Belgium!D27","v":":"},{"$f":"UK!D27","v":":"},{"$f":"Ireland!D27","v":":"},{"$f":"Denmark!D27","v":":"},{"$f":"Spain!D27","v":":"},{"$f":"Portugal!D27","v":":"},":"]
[{"$nulls":4}," "]
[]
["Volaille/Poultry/Volatili/Geflügel",null,{"$f":"Germany!D30","v":{"v":4195,"d":"4,195"}},{"$f":"France!D30","v":{"v":7398,"d":"7,398"}},{"$f":"Italy!D30","v":{"v":4513,"d":"4,513"}},{"$f":"'The Netherlands'!D30","v":{"v":3482,"d":"3,482"}},{"$f":"Belgium!D30","v":939},{"$f":"UK!D30","v":{"v":3866,"d":"3,866"}},{"$f":"Ireland!D30","v":408},{"$f":"Denmark!D30","v":564},{"$f":"Spain!D30","v":{"v":4159,"d":"4,159"}},{"$f":"Portugal!D30","v":{"v":1232,"d":"1,232"}},{"$f":"SUM(C28:L28)","v":{"v":30756,"d":"30,756"}}]
["broilers",null,{"$f":"Germany!D31","v":{"v":1665,"d":"1,665"}},{"$f":"France!D31","v":{"v":2699,"d":"2,699"}},{"$f":"Italy!D31","v":{"v":2328,"d":"2,328"}},{"$f":"'The Netherlands'!D31","v":{"v":1442,"d":"1,442"}},{"$f":"Belgium!D31","v":":"},{"$f":"UK!D31","v":":"},{"$f":"Ireland!D31","v":313},{"$f":"Denmark!D31","v":486},{"$f":"Spain!D31","v":":"},{"$f":"Portugal!D31","v":686},":"]
["poulettes & pondeuses/chicks & layers/Jung- & Legehennen",null,{"$f":"Germany!D32","v":{"v":2530,"d":"2,530"}},{"$f":"France!D32","v":{"v":2134,"d":"2,134"}},{"$f":"Italy!D32","v":{"v":1205,"d":"1,205"}},{"$f":"'The Netherlands'!D32","v":{"v":2040,"d":"2,040"}},{"$f":"Belgium!D32","v":":"},{"$f":"UK!D32","v":":"},{"$f":"Ireland!D32","v":95},{"$f":"Denmark!D32","v":38},{"$f":"Spain!D32","v":":"},{"$f":"Portugal!D32","v":399},":"]
["autres/others/Andere",null,{"$f":"Germany!D33","v":":"},{"$f":"France!D33","v":{"v":2565,"d":"2,565"}},{"$f":"Italy!D33","v":980},{"$f":"'The Netherlands'!D33","v":":"},{"$f":"Belgium!D33","v":":"},{"$f":"UK!D33","v":":"},{"$f":"Ireland!D33","v":":"},{"$f":"Denmark!D33","v":40},{"$f":"Spain!D33","v":":"},{"$f":"Portugal!D33","v":147},":"]
[]
[]
["Al. d'allait./Milk replacers/Sostit. del latte/Milchaust.",null,{"$f":"Germany!D36","v":269},{"$f":"France!D36","v":666},{"$f":"Italy!D36","v":258},{"$f":"'The Netherlands'!D36","v":629},{"$f":"Belgium!D36","v":56},{"$f":"UK!D36","v":24},{"$f":"Ireland!D36","v":7},{"$f":"Denmark!D36","v":9},{"$f":"Spain!D36","v":70},{"$f":"Portugal!D36","v":0},{"$f":"SUM(C34:L34)","v":{"v":1988,"d":"1,988"}}]
[]
[{"$nulls":4}," "]
["Autres/others/altri/Andere",null,{"$f":"Germany!D39","v":562},{"$f":"France!D39","v":{"v":1465,"d":"1,465"}},{"$f":"Italy!D39","v":{"v":1022,"d":"1,022"}},{"$f":"'The Netherlands'!D39","v":520},{"$f":"Belgium!D39","v":110},{"$f":"UK!D39","v":833},{"$f":"Ireland!D39","v":236},{"$f":"Denmark!D39","v":124},{"$f":"Spain!D39","v":{"v":1156,"d":"1,156"}},{"$f":"Portugal!D39","v":150},{"$f":"SUM(C37:L37)","v":{"v":6178,"d":"6,178"}}]
[]
[]
["TOTAL",null,{"$f":"C37+C34+C28+C21+C13","v":{"v":20383,"d":"20,383"}},{"v":19019,"d":"19,019"},{"v":12554,"d":"12,554"},{"v":16097,"d":"16,097"},{"v":5267,"d":"5,267"},{"v":11110,"d":"11,110"},{"v":2577,"d":"2,577"},{"v":5058,"d":"5,058"},{"v":13900,"d":"13,900"},{"v":3949,"d":"3,949"},{"v":109914,"d":"109,914"}]
[{"$nulls":5}," "]
[]
["* Sans le Luxembourg et la Grèce/ohne Luxemburg und Griechenland/Without Luxemburg and Greece/Senza Lussemburgo e Ella"]
[]
[": non disponible/not available/nicht verfügbar"]

{"sheet":"92-91","index":5,"n_rows":41,"n_cols":24,"rows_kept":41}
["2001-07-04"]
[]
["PRODUCTION INDUSTRIELLE D'ALIMENTS COMPOSES",{"$nulls":22},"INDUSTRIELLE  MISCHFUTTERPRODUKTION"]
["PRODUZIONE INDUSTRIALE DI MANGIMI COMPOSTI",{"$nulls":11},"1991-1992",{"$nulls":10},"INDUSTRIAL COMPOUND PRODUCTION"]
[{"$nulls":12},"definitif/final",{"$nulls":10},"(1 000 t )"]
[]
[]
[]
["PAYS",null,"      BOVINS/RINDER",{"$nulls":3},"    PORCS/SCHWEINE",{"$nulls":3},"     VOLAILLE/GEFLÜGEL",null,"      A. ALLAITEMENT/MILCHAUST.",{"$nulls":5},"     AUTRES/ANDERE",null,null,"       TOTAL/INSGESAMT"]
["LAND",null,"      BOVINI/CATTLE",{"$nulls":3},"    SUINI/PIGS",{"$nulls":3},"     VOLATILI/POULTRY",null,"  SOSTIT. DEL LATTE/MILKREPLACERS",{"$nulls":5},"ALTRI ANIMALI/OTHERS",null,null,"          TOTALE/TOTAL"]
["PAESE"]
["COUNTRY",1991,1992,"%TAV",null,1991,1992,"%TAV",null,1991,1992,"%TAV",null,1991,1992,"%TAV",null,1991,1992,"%TAV",null,1991,1992,"%TAV"]
[]
[]
["D",{"$f":"Germany!D$16","v":{"v":7881,"d":"7,881"}},{"$f":"Germany!E$16","v":{"v":7452,"d":"7,452"}},{"$f":"((C15/B15)-1)*100","v":{"v":-5.4434716406547405,"d":"-5.4"}},null,{"$f":"Germany!D$23","v":{"v":7476,"d":"7,476"}},{"$f":"Germany!E$23","v":{"v":6737,"d":"6,737"}},{"$f":"((G15/F15)-1)*100","v":{"v":-9.884965222043874,"d":"-9.9"}},null,{"$f":"Germany!D$30","v":{"v":4195,"d":"4,195"}},{"$f":"Germany!E$30","v":{"v":4156,"d":"4,156"}},{"$f":"((K15/J15)-1)*100","v":{"v":-0.9296781883194272,"d":"-0.9"}},null,{"$f":"Germany!D$36","v":269},{"$f":"Germany!E$36","v":256},{"$f":"((O15/N15)-1)*100","v":{"v":-4.832713754646845,"d":"-4.8"}},null,{"$f":"Germany!D$39","v":562},{"$f":"Germany!E$39","v":537},{"$f":"((S15/R15)-1)*100","v":{"v":-4.448398576512458,"d":"-4.4"}},null,{"$f":"R15+N15+J15+F15+B15","v":{"v":20383,"d":"20,383"}},{"v":19138,"d":"19,138"},{"$f":"((W15/V15)-1)*100","v":{"v":-6.108031202472652,"d":"-6.1"}}]
[]
["F ",{"$f":"France!D$16","v":{"v":3997,"d":"3,997"}},{"$f":"France!E$16","v":{"v":3738,"d":"3,738"}},{"$f":"((C17/B17)-1)*100","v":{"v":-6.479859894921192,"d":"-6.5"}},null,{"$f":"France!D$23","v":{"v":5493,"d":"5,493"}},{"$f":"France!E$23","v":{"v":5904,"d":"5,904"}},{"$f":"((G17/F17)-1)*100","v":{"v":7.482250136537405,"d":"7.5"}},null,{"$f":"France!D$30","v":{"v":7398,"d":"7,398"}},{"$f":"France!E$30","v":{"v":7675,"d":"7,675"}},{"$f":"((K17/J17)-1)*100","v":{"v":3.7442552041092148,"d":"3.7"}},null,{"$f":"France!D$36","v":666},{"$f":"France!E$36","v":609},{"$f":"((O17/N17)-1)*100","v":{"v":-8.558558558558559,"d":"-8.6"}},null,{"$f":"France!D$39","v":{"v":1465,"d":"1,465"}},{"$f":"France!E$39","v":{"v":1437,"d":"1,437"}},{"$f":"((S17/R17)-1)*100","v":{"v":-1.9112627986348163,"d":"-1.9"}},null,{"$f":"R17+N17+J17+F17+B17","v":{"v":19019,"d":"19,019"}},{"v":19363,"d":"19,363"},{"$f":"((W17/V17)-1)*100","v":{"v":1.8087175981912784,"d":"1.8"}}]
[{"$nulls":3}," "]
["I ",{"$f":"Italy!D$16","v":{"v":4332,"d":"4,332"}},{"$f":"Italy!E$16","v":{"v":4119,"d":"4,119"}},{"$f":"((C19/B19)-1)*100","v":{"v":-4.916897506925211,"d":"-4.9"}},null,{"$f":"Italy!D$23","v":{"v":2429,"d":"2,429"}},{"$f":"Italy!E$23","v":{"v":2446,"d":"2,446"}},{"$f":"((G19/F19)-1)*100","v":{"v":0.6998764923836998,"d":"0.7"}},null,{"$f":"Italy!D$30","v":{"v":4513,"d":"4,513"}},{"$f":"Italy!E$30","v":{"v":4306,"d":"4,306"}},{"$f":"((K19/J19)-1)*100","v":{"v":-4.586749390649237,"d":"-4.6"}},null,{"$f":"Italy!D$36","v":258},{"$f":"Italy!E$36","v":229},{"$f":"((O19/N19)-1)*100","v":{"v":-11.240310077519378,"d":"-11.2"}},null,{"$f":"Italy!D$39","v":{"v":1022,"d":"1,022"}},{"$f":"Italy!E$39","v":{"v":1080,"d":"1,080"}},{"$f":"((S19/R19)-1)*100","v":{"v":5.675146771037176,"d":"5.7"}},null,{"$f":"R19+N19+J19+F19+B19","v":{"v":12554,"d":"12,554"}},{"v":12180,"d":"12,180"},{"$f":"((W19/V19)-1)*100","v":{"v":-2.979130157718657,"d":"-3.0"}}]
[]
["NL   ",{"$f":"'The Netherlands'!D$16","v":{"v":4155,"d":"4,155"}},{"$f":"'The Netherlands'!E$16","v":{"v":4046,"d":"4,046"}},{"$f":"((C21/B21)-1)*100","v":{"v":-2.623345367027674,"d":"-2.6"}},null,{"$f":"'The Netherlands'!D$23","v":{"v":7311,"d":"7,311"}},{"$f":"'The Netherlands'!E$23","v":{"v":7678,"d":"7,678"}},{"$f":"((G21/F21)-1)*100","v":{"v":5.0198331281630315,"d":"5.0"}},null,{"$f":"'The Netherlands'!D$30","v":{"v":3482,"d":"3,482"}},{"$f":"'The Netherlands'!E$30","v":{"v":3536,"d":"3,536"}},{"$f":"((K21/J21)-1)*100","v":{"v":1.5508328546812278,"d":"1.6"}},null,{"$f":"'The Netherlands'!D$36","v":629},{"$f":"'The Netherlands'!E$36","v":693},{"$f":"((O21/N21)-1)*100","v":{"v":10.174880763116057,"d":"10.2"}},null,{"$f":"'The Netherlands'!D$39","v":520},{"$f":"'The Netherlands'!E$39","v":518},{"$f":"((S21/R21)-1)*100","v":{"v":-0.38461538461538325,"d":"-0.4"}},null,{"$f":"R21+N21+J21+F21+B21","v":{"v":16097,"d":"16,097"}},{"v":16471,"d":"16,471"},{"$f":"((W21/V21)-1)*100","v":{"v":2.3234143008013852,"d":"2.3"}}]
[{"$nulls":3}," "]
["B ",{"$f":"Belgium!D$16","v":{"v":1349,"d":"1,349"}},{"$f":"Belgium!E$16","v":{"v":1248,"d":"1,248"}},{"$f":"((C23/B23)-1)*100","v":{"v":-7.487027427724236,"d":"-7.5"}},null,{"$f":"Belgium!D$23","v":{"v":2813,"d":"2,813"}},{"$f":"Belgium!E$23","v":{"v":2919,"d":"2,919"}},{"$f":"((G23/F23)-1)*100","v":{"v":3.768218983291849,"d":"3.8"}},null,{"$f":"Belgium!D$30","v":939},{"$f":"Belgium!E$30","v":939},{"$f":"((K23/J23)-1)*100","v":{"v":0,"d":"0.0"}},null,{"$f":"Belgium!D$36","v":56},{"$f":"Belgium!E$36","v":54},{"$f":"((O23/N23)-1)*100","v":{"v":-3.57142857142857,"d":"-3.6"}},null,{"$f":"Belgium!D$39","v":110},{"$f":"Belgium!E$39","v":130},{"$f":"((S23/R23)-1)*100","v":{"v":18.181818181818187,"d":"18.2"}},null,{"$f":"R23+N23+J23+F23+B23","v":{"v":5267,"d":"5,267"}},{"v":5290,"d":"5,290"},{"$f":"((W23/V23)-1)*100","v":{"v":0.4366812227074135,"d":"0.4"}}]
[{"$nulls":3}," "]
["UK ",{"$f":"UK!D$16","v":{"v":4034,"d":"4,034"}},{"$f":"UK!E$16","v":{"v":4054,"d":"4,054"}},{"$f":"((C25/B25)-1)*100","v":{"v":0.49578582052554054,"d":"0.5"}},null,{"$f":"UK!D$23","v":{"v":2353,"d":"2,353"}},{"$f":"UK!E$23","v":{"v":2434,"d":"2,434"}},{"$f":"((G25/F25)-1)*100","v":{"v":3.4424139396515008,"d":"3.4"}},null,{"$f":"UK!D$30","v":{"v":3866,"d":"3,866"}},{"$f":"UK!E$30","v":{"v":3823,"d":"3,823"}},{"$f":"((K25/J25)-1)*100","v":{"v":-1.112260734609416,"d":"-1.1"}},null,{"$f":"UK!D$36","v":24},{"$f":"UK!E$36","v":19},{"$f":"((O25/N25)-1)*100","v":{"v":-20.833333333333336,"d":"-20.8"}},null,{"$f":"UK!D39","v":833},{"$f":"UK!E39","v":874},{"$f":"((S25/R25)-1)*100","v":{"v":4.9219687875150075,"d":"4.9"}},null,{"$f":"R25+J25+F25+B25+N25","v":{"v":11110,"d":"11,110"}},{"v":11204,"d":"11,204"},{"$f":"((W25/V25)-1)*100","v":{"v":0.8460846084608509,"d":"0.8"}}]
[{"$nulls":3}," "]
["IRL ",{"$f":"Ireland!D$16","v":{"v":1376,"d":"1,376"}},{"$f":"Ireland!E$16","v":{"v":1455,"d":"1,455"}},{"$f":"((C27/B27)-1)*100","v":{"v":5.7412790697674465,"d":"5.7"}},null,{"$f":"Ireland!D$23","v":550},{"$f":"Ireland!E$23","v":589},{"$f":"((G27/F27)-1)*100","v":{"v":7.090909090909081,"d":"7.1"}},null,{"$f":"Ireland!D$30","v":408},{"$f":"Ireland!E$30","v":396},{"$f":"((K27/J27)-1)*100","v":{"v":-2.941176470588236,"d":"-2.9"}},null,{"$f":"Ireland!D$36","v":7},{"$f":"Ireland!E$36","v":5},{"$f":"((O27/N27)-1)*100","v":{"v":-28.57142857142857,"d":"-28.6"}},null,{"$f":"Ireland!D$39","v":236},{"$f":"Ireland!E$39","v":250},{"$f":"((S27/R27)-1)*100","v":{"v":5.932203389830515,"d":"5.9"}},null,{"$f":"R27+N27+J27+F27+B27","v":{"v":2577,"d":"2,577"}},{"v":2695,"d":"2,695"},{"$f":"((W27/V27)-1)*100","v":{"v":4.578967792006217,"d":"4.6"}}]
[{"$nulls":3}," "]
["DK ",{"$f":"Denmark!D$16","v":{"v":1562,"d":"1,562"}},{"$f":"Denmark!E$16","v":{"v":1643,"d":"1,643"}},{"$f":"((C29/B29)-1)*100","v":{"v":5.185659411011523,"d":"5.2"}},null,{"$f":"Denmark!D$23","v":{"v":2799,"d":"2,799"}},{"$f":"Denmark!E$23","v":{"v":3295,"d":"3,295"}},{"$f":"((G29/F29)-1)*100","v":{"v":17.720614505180432,"d":"17.7"}},null,{"$f":"Denmark!D$30","v":564},{"$f":"Denmark!E$30","v":619},{"$f":"((K29/J29)-1)*100","v":{"v":9.751773049645385,"d":"9.8"}},null,{"$f":"Denmark!D$36","v":9},{"$f":"Denmark!E$36","v":6},{"$f":"((O29/N29)-1)*100","v":{"v":-33.333333333333336,"d":"-33.3"}},null,{"$f":"Denmark!D$39","v":124},{"$f":"Denmark!E$39","v":123},{"$f":"((S29/R29)-1)*100","v":{"v":-0.8064516129032251,"d":"-0.8"}},null,{"$f":"R29+N29+J29+F29+B29","v":{"v":5058,"d":"5,058"}},{"v":5686,"d":"5,686"},{"$f":"((W29/V29)-1)*100","v":{"v":12.415974693554755,"d":"12.4"}}]
[]
["ESP ",{"$f":"Spain!D$16","v":{"v":3084,"d":"3,084"}},{"$f":"Spain!E$16","v":{"v":3180,"d":"3,180"}},{"$f":"((C31/B31)-1)*100","v":{"v":3.112840466926059,"d":"3.1"}},null,{"$f":"Spain!D$23","v":{"v":5431,"d":"5,431"}},{"$f":"Spain!E$23","v":{"v":6305,"d":"6,305"}},{"$f":"((G31/F31)-1)*100","v":{"v":16.0928005892101,"d":"16.1"}},null,{"$f":"Spain!D$30","v":{"v":4159,"d":"4,159"}},{"$f":"Spain!E$30","v":{"v":4325,"d":"4,325"}},{"$f":"((K31/J31)-1)*100","v":{"v":3.991344073094494,"d":"4.0"}},null,{"$f":"Spain!D$36","v":70},{"$f":"Spain!E$36","v":63},{"$f":"((O31/N31)-1)*100","v":{"v":-9.999999999999998,"d":"-10.0"}},null,{"$f":"Spain!D$39","v":{"v":1156,"d":"1,156"}},{"$f":"Spain!E$39","v":{"v":1353,"d":"1,353"}},{"$f":"((S31/R31)-1)*100","v":{"v":17.04152249134947,"d":"17.0"}},null,{"$f":"R31+N31+J31+F31+B31","v":{"v":13900,"d":"13,900"}},{"v":15226,"d":"15,226"},{"$f":"((W31/V31)-1)*100","v":{"v":9.539568345323746,"d":"9.5"}}]
[{"$nulls":3}," ",{"$nulls":17}," "," "]
["P ",{"$f":"Portugal!D$16","v":{"v":1145,"d":"1,145"}},{"$f":"Portugal!E$16","v":{"v":1119,"d":"1,119"}},{"$f":"((C33/B33)-1)*100","v":{"v":-2.2707423580786035,"d":"-2.3"}},null,{"$f":"Portugal!D$23","v":{"v":1422,"d":"1,422"}},{"$f":"Portugal!E$23","v":{"v":1356,"d":"1,356"}},{"$f":"((G33/F33)-1)*100","v":{"v":-4.641350210970463,"d":"-4.6"}},null,{"$f":"Portugal!D$30","v":{"v":1232,"d":"1,232"}},{"$f":"Portugal!E$30","v":{"v":1241,"d":"1,241"}},{"$f":"((K33/J33)-1)*100","v":{"v":0.7305194805194759,"d":"0.7"}},null,{"$f":"Portugal!D$36","v":0},{"$f":"Portugal!E$36","v":0},{"v":0,"d":"0.0"},null,{"$f":"Portugal!D$39","v":150},{"$f":"Portugal!E$39","v":187},{"$f":"((S33/R33)-1)*100","v":{"v":24.666666666666657,"d":"24.7"}},null,{"$f":"R33+N33+J33+F33+B33","v":{"v":3949,"d":"3,949"}},{"v":3903,"d":"3,903"},{"$f":"((W33/V33)-1)*100","v":{"v":-1.1648518612306868,"d":"-1.2"}}]
[]
[{"$nulls":3}," "]
["EUR 15 *",{"$f":"B33+B31+B29+B27+B25+B23+B21+B19+B17+B15","v":{"v":32915,"d":"32,915"}},{"v":32054,"d":"32,054"},{"$f":"((C36/B36)-1)*100","v":{"v":-2.6158286495518768,"d":"-2.6"}},null,{"$f":"F33+F31+F29+F27+F25+F23+F21+F19+F17+F15","v":{"v":38077,"d":"38,077"}},{"v":39663,"d":"39,663"},{"$f":"((G36/F36)-1)*100","v":{"v":4.1652441106179605,"d":"4.2"}},null,{"$f":"J33+J31+J29+J27+J25+J23+J21+J19+J17+J15","v":{"v":30756,"d":"30,756"}},{"v":31016,"d":"31,016"},{"$f":"((K36/J36)-1)*100","v":{"v":0.8453635063077058,"d":"0.8"}},null,{"$f":"N33+N31+N29+N27+N25+N23+N21+N19+N17+N15","v":{"v":1988,"d":"1,988"}},{"v":1934,"d":"1,934"},{"$f":"((O36/N36)-1)*100","v":{"v":-2.716297786720323,"d":"-2.7"}},null,{"$f":"R33+R31+R29+R27+R25+R23+R21+R19+R17+R15","v":{"v":6178,"d":"6,178"}},{"v":6489,"d":"6,489"},{"$f":"((S36/R36)-1)*100","v":{"v":5.03399158303659,"d":"5.0"}},null,{"$f":"V33+V31+V29+V27+V25+V23+V21+V19+V17+V15","v":{"v":109914,"d":"109,914"}},{"v":111156,"d":"111,156"},{"$f":"((W36/V36)-1)*100","v":{"v":1.129974343577711,"d":"1.1"}}]
[]
[{"$nulls":23}," "]
["* Sans le Luxembourg et la Grèce/Ohne Luxemburg und Griechenland/Without Luxemburg and Greece/Senza Lussemburgo e Ellas"]
[]
[": non disponible/not available"]

{"sheet":"1992","index":6,"n_rows":45,"n_cols":16,"rows_kept":45,"merged":[[4,0,4,15],[5,0,5,15]]}
["2001-07-04"]
[]
["PRODUCTION INDUSTRIELLE D'ALIMENTS COMPOSES ",{"$nulls":14},"INDUSTRIELLE  MISCHFUTTERPRODUKTION"]
["PRODUZIONE INDUSTRIALE DI MANGIMI COMPOSTI",{"$nulls":14},"INDUSTRIAL COMPOUND PRODUCTION"]
[1992]
["definitif/final"]
[{"$nulls":15},"(1 000 t)"]
[]
["Catégories d'aliments composés/Mischfutterarten",null,"D","F","I","NL","B","UK","IRL","DK","ESP","P","A","S","FIN","EUR-15"]
["Tipi di mangimi compositi/Types of feed",{"$nulls":14},"*"]
[]
[null,null," ",{"$nulls":4}," ",null,null," "]
["Bovins/Cattle/Bovini/Rinder",null,{"$f":"Germany!E16","v":{"v":7452,"d":"7,452"}},{"$f":"France!E16","v":{"v":3738,"d":"3,738"}},{"$f":"Italy!E16","v":{"v":4119,"d":"4,119"}},{"$f":"'The Netherlands'!E16","v":{"v":4046,"d":"4,046"}},{"$f":"Belgium!E16","v":{"v":1248,"d":"1,248"}},{"$f":"UK!E16","v":{"v":4054,"d":"4,054"}},{"$f":"Ireland!E16","v":{"v":1455,"d":"1,455"}},{"$f":"Denmark!E16","v":{"v":1643,"d":"1,643"}},{"$f":"Spain!E16","v":{"v":3180,"d":"3,180"}},{"$f":"Portugal!E16","v":{"v":1119,"d":"1,119"}},{"$f":"Austria!E16","v":157},{"$f":"Sweden!E16","v":960},{"$f":"Finland!E16","v":451},{"$f":"SUM(C13:O13)","v":{"v":33622,"d":"33,622"}}]
["engrais/fattening/Mast  ",null,{"$f":"Germany!E17","v":842},{"$f":"France!E17","v":":"},{"$f":"Italy!E17","v":{"v":1203,"d":"1,203"}},{"$f":"'The Netherlands'!E17","v":341},{"$f":"Belgium!E17","v":479},{"$f":"UK!E17","v":":"},{"$f":"Ireland!E17","v":480},{"$f":"Denmark!E17","v":571},{"$f":"Spain!E17","v":{"v":1500,"d":"1,500"}},{"$f":"Portugal!E17","v":521},":",{"$f":"Sweden!E17","v":":"},{"$f":"Finland!E17","v":":"},":"]
["VL/dairy cow/Milchkühe",null,{"$f":"Germany!E18","v":{"v":6357,"d":"6,357"}},{"$f":"France!E18","v":{"v":2758,"d":"2,758"}},{"$f":"Italy!E18","v":{"v":2666,"d":"2,666"}},{"$f":"'The Netherlands'!E18","v":{"v":3546,"d":"3,546"}},{"$f":"Belgium!E18","v":547},{"$f":"UK!E18","v":{"v":2997,"d":"2,997"}},{"$f":"Ireland!E18","v":787},{"$f":"Denmark!E18","v":732},{"$f":"Spain!E18","v":{"v":1250,"d":"1,250"}},{"$f":"Portugal!E18","v":525},":",{"$f":"Sweden!E18","v":910},{"$f":"Finland!E18","v":":"},":"]
["veaux (aliments d'allaitement non compris)/calves ",null,{"$f":"Germany!E19","v":253},{"$f":"France!E19","v":":"},{"$f":"Italy!E19","v":250},{"$f":"'The Netherlands'!E19","v":":"},{"$f":"Belgium!E19","v":111},{"$f":"UK!E19","v":197},{"$f":"Ireland!E19","v":156},{"$f":"Denmark!E19","v":340},{"$f":"Spain!E19","v":":"},{"$f":"Portugal!E19","v":51},":",{"$f":"Sweden!E19","v":":"},{"$f":"Finland!E19","v":":"},":"]
["(excluding milk replacers)/Kälber (exkl. Milchaustauscher)"]
["autres/others/Andere",null,{"$f":"Germany!E20","v":":"},{"$f":"France!E20","v":980},{"$f":"Italy!E20","v":":"},{"$f":"'The Netherlands'!E20","v":159},{"$f":"Belgium!E20","v":111},{"$f":"UK!E20","v":860},{"$f":"Ireland!E20","v":32},{"$f":"Denmark!E20","v":":"},{"$f":"Spain!E20","v":430},{"$f":"Portugal!E20","v":22},":",{"$f":"Sweden!E20","v":50},{"$f":"Finland!E20","v":":"},":"]
[]
[]
["Porcins/Pigs/Suini/Schweine",null,{"$f":"Germany!E23","v":{"v":6737,"d":"6,737"}},{"$f":"France!E23","v":{"v":5904,"d":"5,904"}},{"$f":"Italy!E23","v":{"v":2446,"d":"2,446"}},{"$f":"'The Netherlands'!E23","v":{"v":7678,"d":"7,678"}},{"$f":"Belgium!E23","v":{"v":2919,"d":"2,919"}},{"$f":"UK!E23","v":{"v":2434,"d":"2,434"}},{"$f":"Ireland!E23","v":589},{"$f":"Denmark!E23","v":{"v":3295,"d":"3,295"}},{"$f":"Spain!E23","v":{"v":6305,"d":"6,305"}},{"$f":"Portugal!E23","v":{"v":1356,"d":"1,356"}},{"$f":"Austria!E23","v":212},{"$f":"Sweden!E23","v":600},{"$f":"Finland!E23","v":311},{"$f":"SUM(C21:O21)","v":{"v":40786,"d":"40,786"}}]
["porcelets/piglets/Ferkel",null,{"$f":"Germany!E24","v":":"},{"$f":"France!E24","v":":"},{"$f":"Italy!E24","v":":"},{"$f":"'The Netherlands'!E24","v":988},{"$f":"Belgium!E24","v":780},{"$f":"UK!E24","v":169},{"$f":"Ireland!E24","v":103},{"$f":"Denmark!E24","v":544},{"$f":"Spain!E24","v":710},{"$f":"Portugal!E24","v":171},":",{"$f":"Sweden!E24","v":80},{"$f":"Finland!E24","v":":"},":"]
["porcs engrais/pigs for fattening/Mastschweine",null,{"$f":"Germany!E25","v":":"},{"$f":"France!E25","v":{"v":3884,"d":"3,884"}},{"$f":"Italy!E25","v":":"},{"$f":"'The Netherlands'!E25","v":{"v":5050,"d":"5,050"}},{"$f":"Belgium!E25","v":":"},{"$f":"UK!E25","v":{"v":1481,"d":"1,481"}},{"$f":"Ireland!E25","v":317},{"$f":"Denmark!E25","v":{"v":2131,"d":"2,131"}},{"$f":"Spain!E25","v":{"v":4550,"d":"4,550"}},{"$f":"Portugal!E25","v":346},":",{"$f":"Sweden!E25","v":340},{"$f":"Finland!E25","v":":"},":"]
["reproducteurs/breeding pigs/Zuchtschweine",null,{"$f":"Germany!E26","v":":"},{"$f":"France!E26","v":":"},{"$f":"Italy!E26","v":":"},{"$f":"'The Netherlands'!E26","v":{"v":1640,"d":"1,640"}},{"$f":"Belgium!E26","v":":"},{"$f":"UK!E26","v":733},{"$f":"Ireland!E26","v":142},{"$f":"Denmark!E26","v":620},{"$f":"Spain!E26","v":975},{"$f":"Portugal!E26","v":204},":",{"$f":"Sweden!E26","v":180},{"$f":"Finland!E26","v":":"},":"]
["autres/others/Andere",null,{"$f":"Germany!E27","v":":"},{"$f":"France!E27","v":{"v":2020,"d":"2,020"}},{"$f":"Italy!E27","v":":"},{"$f":"'The Netherlands'!E27","v":":"},{"$f":"Belgium!E27","v":{"v":2139,"d":"2,139"}},{"$f":"UK!E27","v":51},{"$f":"Ireland!E27","v":27},{"$f":"Denmark!E27","v":":"},{"$f":"Spain!E27","v":70},{"$f":"Portugal!E27","v":635},":",{"$f":"Sweden!E27","v":":"},{"$f":"Finland!E27","v":":"},":"]
[{"$nulls":4}," "]
[]
["Volaille/Poultry/Volatili/Geflügel",null,{"$f":"Germany!E30","v":{"v":4156,"d":"4,156"}},{"$f":"France!E30","v":{"v":7675,"d":"7,675"}},{"$f":"Italy!E30","v":{"v":4306,"d":"4,306"}},{"$f":"'The Netherlands'!E30","v":{"v":3536,"d":"3,536"}},{"$f":"Belgium!E30","v":939},{"$f":"UK!E30","v":{"v":3823,"d":"3,823"}},{"$f":"Ireland!E30","v":396},{"$f":"Denmark!E30","v":619},{"$f":"Spain!E30","v":{"v":4325,"d":"4,325"}},{"$f":"Portugal!E30","v":{"v":1241,"d":"1,241"}},{"$f":"Austria!E30","v":463},{"$f":"Sweden!E30","v":460},{"$f":"Finland!E30","v":204},{"$f":"SUM(C28:O28)","v":{"v":32143,"d":"32,143"}}]
["broilers",null,{"$f":"Germany!E31","v":{"v":1773,"d":"1,773"}},{"$f":"France!E31","v":{"v":2859,"d":"2,859"}},{"$f":"Italy!E31","v":{"v":2231,"d":"2,231"}},{"$f":"'The Netherlands'!E31","v":{"v":1517,"d":"1,517"}},{"$f":"Belgium!E31","v":325},{"$f":"UK!E31","v":{"v":1675,"d":"1,675"}},{"$f":"Ireland!E31","v":177},{"$f":"Denmark!E31","v":504},{"$f":"Spain!E31","v":{"v":2465,"d":"2,465"}},{"$f":"Portugal!E31","v":699},":",{"$f":"Sweden!E31","v":230},{"$f":"Finland!E31","v":":"},":"]
["poulettes & pondeuses/chicks & layers/Jung- & Legehennen",null,{"$f":"Germany!E32","v":{"v":2383,"d":"2,383"}},{"$f":"France!E32","v":{"v":2130,"d":"2,130"}},{"$f":"Italy!E32","v":{"v":1131,"d":"1,131"}},{"$f":"'The Netherlands'!E32","v":{"v":2019,"d":"2,019"}},{"$f":"Belgium!E32","v":391},{"$f":"UK!E32","v":942},{"$f":"Ireland!E32","v":117},{"$f":"Denmark!E32","v":37},{"$f":"Spain!E32","v":{"v":1680,"d":"1,680"}},{"$f":"Portugal!E32","v":429},":",{"$f":"Sweden!E32","v":230},{"$f":"Finland!E32","v":":"},":"]
["autres/others/Andere",null,{"$f":"Germany!E33","v":":"},{"$f":"France!E33","v":{"v":2686,"d":"2,686"}},{"$f":"Italy!E33","v":944},{"$f":"'The Netherlands'!E33","v":":"},{"$f":"Belgium!E33","v":223},{"$f":"UK!E33","v":{"v":1206,"d":"1,206"}},{"$f":"Ireland!E33","v":102},{"$f":"Denmark!E33","v":78},{"$f":"Spain!E33","v":180},{"$f":"Portugal!E33","v":113},":",{"$f":"Sweden!E33","v":":"},{"$f":"Finland!E33","v":":"},":"]
[]
[]
["Al. d'allait./Milk replacers/Sostit. del latte/Milchaust.",null,{"$f":"Germany!E36","v":256},{"$f":"France!E36","v":609},{"$f":"Italy!E36","v":229},{"$f":"'The Netherlands'!E36","v":693},{"$f":"Belgium!E36","v":54},{"$f":"UK!E36","v":19},{"$f":"Ireland!E36","v":5},{"$f":"Denmark!E36","v":6},{"$f":"Spain!E36","v":63},{"$f":"Portugal!E36","v":0},{"$f":"Austria!E36","v":":"},{"$f":"Sweden!E36","v":":"},{"$f":"Finland!E36","v":":"},{"$f":"SUM(C34:O34)","v":{"v":1934,"d":"1,934"}}]
[]
[{"$nulls":4}," "]
["Autres/others/altri/Andere",null,{"$f":"Germany!E39","v":537},{"$f":"France!E39","v":{"v":1437,"d":"1,437"}},{"$f":"Italy!E39","v":{"v":1080,"d":"1,080"}},{"$f":"'The Netherlands'!E39","v":518},{"$f":"Belgium!E39","v":130},{"$f":"UK!E39","v":874},{"$f":"Ireland!E39","v":250},{"$f":"Denmark!E39","v":123},{"$f":"Spain!E39","v":{"v":1353,"d":"1,353"}},{"$f":"Portugal!E39","v":187},{"$f":"Austria!E39","v":237},{"$f":"Sweden!E39","v":48},{"$f":"Finland!E39","v":116},{"$f":"SUM(C37:O37)","v":{"v":6890,"d":"6,890"}}]
[]
[]
["TOTAL",null,{"$f":"C37+C34+C28+C21+C13","v":{"v":19138,"d":"19,138"}},{"v":19363,"d":"19,363"},{"v":12180,"d":"12,180"},{"v":16471,"d":"16,471"},{"v":5290,"d":"5,290"},{"v":11204,"d":"11,204"},{"v":2695,"d":"2,695"},{"v":5686,"d":"5,686"},{"v":15226,"d":"15,226"},{"v":3903,"d":"3,903"},{"$f":"M37+M28+M21+M13","v":{"v":1069,"d":"1,069"}},{"v":2068,"d":"2,068"},{"v":1082,"d":"1,082"},{"$f":"P37+P34+P28+P21+P13","v":{"v":115375,"d":"115,375"}}]
[{"$nulls":5}," "]
[]
["* Sans le Luxembourg et la Grèce/ohne Luxemburg und Griechenland/Without Luxemburg and Greece/Senza Lussemburgo e Ella"]
[]
[": non disponible/not available/nicht verfügbar"]

{"sheet":"93-92","index":7,"n_rows":47,"n_cols":24,"rows_kept":47}
["2001-07-04"]
[]
["PRODUCTION INDUSTRIELLE D'ALIMENTS COMPOSES",{"$nulls":22},"INDUSTRIELLE  MISCHFUTTERPRODUKTION"]
["PRODUZIONE INDUSTRIALE DI MANGIMI COMPOSTI",{"$nulls":11},"1992-1993",{"$nulls":10},"INDUSTRIAL COMPOUND PRODUCTION"]
[{"$nulls":12},"definitif/final",{"$nulls":10},"(1 000 t )"]
[]
[]
[]
["PAYS",null,"      BOVINS/RINDER",{"$nulls":3},"    PORCS/SCHWEINE",{"$nulls":3},"     VOLAILLE/GEFLÜGEL",null,"      A. ALLAITEMENT/MILCHAUST.",{"$nulls":5},"     AUTRES/ANDERE",null,null,"       TOTAL/INSGESAMT"]
["LAND",null,"      BOVINI/CATTLE",{"$nulls":3},"    SUINI/PIGS",{"$nulls":3},"     VOLATILI/POULTRY",null,"  SOSTIT. DEL LATTE/MILKREPLACERS",{"$nulls":5},"ALTRI ANIMALI/OTHERS",null,null,"          TOTALE/TOTAL"]
["PAESE"]
["COUNTRY",1992,1993,"%TAV",null,1992,1993,"%TAV",null,1992,1993,"%TAV",null,1992,1993,"%TAV",null,1992,1993,"%TAV",null,1999,2000,"%TAV"]
[]
[]
["D",{"$f":"Germany!E$16","v":{"v":7452,"d":"7,452"}},{"$f":"Germany!F$16","v":{"v":7792,"d":"7,792"}},{"$f":"((C15/B15)-1)*100","v":{"v":4.5625335480407925,"d":"4.6"}},null,{"$f":"Germany!E$23","v":{"v":6737,"d":"6,737"}},{"$f":"Germany!F$23","v":{"v":6945,"d":"6,945"}},{"$f":"((G15/F15)-1)*100","v":{"v":3.0874276384147192,"d":"3.1"}},null,{"$f":"Germany!E$30","v":{"v":4156,"d":"4,156"}},{"$f":"Germany!F$30","v":{"v":4073,"d":"4,073"}},{"$f":"((K15/J15)-1)*100","v":{"v":-1.997112608277185,"d":"-2.0"}},null,{"$f":"Germany!E$36","v":256},{"$f":"Germany!F$36","v":266},{"$f":"((O15/N15)-1)*100","v":{"v":3.90625,"d":"3.9"}},null,{"$f":"Germany!E$39","v":537},{"$f":"Germany!F$39","v":567},{"$f":"((S15/R15)-1)*100","v":{"v":5.586592178770955,"d":"5.6"}},null,{"$f":"R15+N15+J15+F15+B15","v":{"v":19138,"d":"19,138"}},{"v":19643,"d":"19,643"},{"$f":"((W15/V15)-1)*100","v":{"v":2.6387292298045706,"d":"2.6"}}]
[]
["F ",{"$f":"France!E$16","v":{"v":3738,"d":"3,738"}},{"$f":"France!F$16","v":{"v":3839,"d":"3,839"}},{"$f":"((C17/B17)-1)*100","v":{"v":2.7019796682717923,"d":"2.7"}},null,{"$f":"France!E$23","v":{"v":5904,"d":"5,904"}},{"$f":"France!F$23","v":{"v":6373,"d":"6,373"}},{"$f":"((G17/F17)-1)*100","v":{"v":7.943766937669383,"d":"7.9"}},null,{"$f":"France!E$30","v":{"v":7675,"d":"7,675"}},{"$f":"France!F$30","v":{"v":7999,"d":"7,999"}},{"$f":"((K17/J17)-1)*100","v":{"v":4.221498371335497,"d":"4.2"}},null,{"$f":"France!E$36","v":609},{"$f":"France!F$36","v":584},{"$f":"((O17/N17)-1)*100","v":{"v":-4.105090311986858,"d":"-4.1"}},null,{"$f":"France!E$39","v":{"v":1437,"d":"1,437"}},{"$f":"France!F$39","v":{"v":1454,"d":"1,454"}},{"$f":"((S17/R17)-1)*100","v":{"v":1.1830201809325036,"d":"1.2"}},null,{"$f":"R17+N17+J17+F17+B17","v":{"v":19363,"d":"19,363"}},{"v":20249,"d":"20,249"},{"$f":"((W17/V17)-1)*100","v":{"v":4.5757372308010025,"d":"4.6"}}]
[{"$nulls":3}," "]
["I ",{"$f":"Italy!E$16","v":{"v":4119,"d":"4,119"}},{"$f":"Italy!F$16","v":{"v":3791,"d":"3,791"}},{"$f":"((C19/B19)-1)*100","v":{"v":-7.9630978392813745,"d":"-8.0"}},null,{"$f":"Italy!E$23","v":{"v":2446,"d":"2,446"}},{"$f":"Italy!F$23","v":{"v":2680,"d":"2,680"}},{"$f":"((G19/F19)-1)*100","v":{"v":9.566639411283727,"d":"9.6"}},null,{"$f":"Italy!E$30","v":{"v":4306,"d":"4,306"}},{"$f":"Italy!F$30","v":{"v":4219,"d":"4,219"}},{"$f":"((K19/J19)-1)*100","v":{"v":-2.0204366000928897,"d":"-2.0"}},null,{"$f":"Italy!E$36","v":229},{"$f":"Italy!F$36","v":213},{"$f":"((O19/N19)-1)*100","v":{"v":-6.986899563318783,"d":"-7.0"}},null,{"$f":"Italy!E$39","v":{"v":1080,"d":"1,080"}},{"$f":"Italy!F$39","v":{"v":1035,"d":"1,035"}},{"$f":"((S19/R19)-1)*100","v":{"v":-4.1666666666666625,"d":"-4.2"}},null,{"$f":"R19+N19+J19+F19+B19","v":{"v":12180,"d":"12,180"}},{"v":11938,"d":"11,938"},{"$f":"((W19/V19)-1)*100","v":{"v":-1.9868637110016407,"d":"-2.0"}}]
[]
["NL   ",{"$f":"'The Netherlands'!E$16","v":{"v":4046,"d":"4,046"}},{"$f":"'The Netherlands'!F$16","v":{"v":4121,"d":"4,121"}},{"$f":"((C21/B21)-1)*100","v":{"v":1.8536826495304082,"d":"1.9"}},null,{"$f":"'The Netherlands'!E$23","v":{"v":7678,"d":"7,678"}},{"$f":"'The Netherlands'!F$23","v":{"v":8007,"d":"8,007"}},{"$f":"((G21/F21)-1)*100","v":{"v":4.284970044282366,"d":"4.3"}},null,{"$f":"'The Netherlands'!E$30","v":{"v":3536,"d":"3,536"}},{"$f":"'The Netherlands'!F$30","v":{"v":3465,"d":"3,465"}},{"$f":"((K21/J21)-1)*100","v":{"v":-2.007918552036203,"d":"-2.0"}},null,{"$f":"'The Netherlands'!E$36","v":693},{"$f":"'The Netherlands'!F$36","v":684},{"$f":"((O21/N21)-1)*100","v":{"v":-1.2987012987012991,"d":"-1.3"}},null,{"$f":"'The Netherlands'!E$39","v":518},{"$f":"'The Netherlands'!F$39","v":517},{"$f":"((S21/R21)-1)*100","v":{"v":-0.19305019305019266,"d":"-0.2"}},null,{"$f":"R21+N21+J21+F21+B21","v":{"v":16471,"d":"16,471"}},{"v":16794,"d":"16,794"},{"$f":"((W21/V21)-1)*100","v":{"v":1.9610224030113477,"d":"2.0"}}]
[{"$nulls":3}," "]
["B ",{"$f":"Belgium!E$16","v":{"v":1248,"d":"1,248"}},{"$f":"Belgium!F$16","v":{"v":1106,"d":"1,106"}},{"$f":"((C23/B23)-1)*100","v":{"v":-11.378205128205131,"d":"-11.4"}},null,{"$f":"Belgium!E$23","v":{"v":2919,"d":"2,919"}},{"$f":"Belgium!F$23","v":{"v":3099,"d":"3,099"}},{"$f":"((G23/F23)-1)*100","v":{"v":6.166495375128478,"d":"6.2"}},null,{"$f":"Belgium!E$30","v":939},{"$f":"Belgium!F$30","v":975},{"$f":"((K23/J23)-1)*100","v":{"v":3.833865814696491,"d":"3.8"}},null,{"$f":"Belgium!E$36","v":54},{"$f":"Belgium!F$36","v":54},{"$f":"((O23/N23)-1)*100","v":{"v":0,"d":"0.0"}},null,{"$f":"Belgium!E$39","v":130},{"$f":"Belgium!F$39","v":57},{"$f":"((S23/R23)-1)*100","v":{"v":-56.15384615384615,"d":"-56.2"}},null,{"$f":"R23+N23+J23+F23+B23","v":{"v":5290,"d":"5,290"}},{"v":5291,"d":"5,291"},{"$f":"((W23/V23)-1)*100","v":{"v":0.01890359168241762,"d":"0.0"}}]
[{"$nulls":3}," "]
["UK ",{"$f":"UK!E$16","v":{"v":4054,"d":"4,054"}},{"$f":"UK!F$16","v":{"v":4380,"d":"4,380"}},{"$f":"((C25/B25)-1)*100","v":{"v":8.041440552540703,"d":"8.0"}},null,{"$f":"UK!E$23","v":{"v":2434,"d":"2,434"}},{"$f":"UK!F$23","v":{"v":2522,"d":"2,522"}},{"$f":"((G25/F25)-1)*100","v":{"v":3.6154478225143727,"d":"3.6"}},null,{"$f":"UK!E$30","v":{"v":3823,"d":"3,823"}},{"$f":"UK!F$30","v":{"v":3856,"d":"3,856"}},{"$f":"((K25/J25)-1)*100","v":{"v":0.8631964425843686,"d":"0.9"}},null,{"$f":"UK!E$36","v":19},{"$f":"UK!F$36","v":30},{"$f":"((O25/N25)-1)*100","v":{"v":57.89473684210527,"d":"57.9"}},null,{"$f":"UK!E39","v":874},{"$f":"UK!F39","v":906},{"$f":"((S25/R25)-1)*100","v":{"v":3.661327231121292,"d":"3.7"}},null,{"$f":"R25+J25+F25+B25+N25","v":{"v":11204,"d":"11,204"}},{"v":11694,"d":"11,694"},{"$f":"((W25/V25)-1)*100","v":{"v":4.373438057836476,"d":"4.4"}}]
[{"$nulls":3}," "]
["IRL ",{"$f":"Ireland!E$16","v":{"v":1455,"d":"1,455"}},{"$f":"Ireland!F$16","v":{"v":1676,"d":"1,676"}},{"$f":"((C27/B27)-1)*100","v":{"v":15.189003436426107,"d":"15.2"}},null,{"$f":"Ireland!E$23","v":589},{"$f":"Ireland!F$23","v":636},{"$f":"((G27/F27)-1)*100","v":{"v":7.979626485568758,"d":"8.0"}},null,{"$f":"Ireland!E$30","v":396},{"$f":"Ireland!F$30","v":431},{"$f":"((K27/J27)-1)*100","v":{"v":8.838383838383844,"d":"8.8"}},null,{"$f":"Ireland!E$36","v":5},{"$f":"Ireland!F$36","v":9},{"$f":"((O27/N27)-1)*100","v":{"v":80,"d":"80.0"}},null,{"$f":"Ireland!E$39","v":250},{"$f":"Ireland!F$39","v":259},{"$f":"((S27/R27)-1)*100","v":{"v":3.600000000000003,"d":"3.6"}},null,{"$f":"R27+N27+J27+F27+B27","v":{"v":2695,"d":"2,695"}},{"v":3011,"d":"3,011"},{"$f":"((W27/V27)-1)*100","v":{"v":11.725417439703145,"d":"11.7"}}]
[{"$nulls":3}," "]
["DK ",{"$f":"Denmark!E$16","v":{"v":1643,"d":"1,643"}},{"$f":"Denmark!F$16","v":{"v":1700,"d":"1,700"}},{"$f":"((C29/B29)-1)*100","v":{"v":3.46926354230066,"d":"3.5"}},null,{"$f":"Denmark!E$23","v":{"v":3295,"d":"3,295"}},{"$f":"Denmark!F$23","v":{"v":3621,"d":"3,621"}},{"$f":"((G29/F29)-1)*100","v":{"v":9.893778452200298,"d":"9.9"}},null,{"$f":"Denmark!E$30","v":619},{"$f":"Denmark!F$30","v":622},{"$f":"((K29/J29)-1)*100","v":{"v":0.4846526655896577,"d":"0.5"}},null,{"$f":"Denmark!E$36","v":6},{"$f":"Denmark!F$36","v":6},{"$f":"((O29/N29)-1)*100","v":{"v":0,"d":"0.0"}},null,{"$f":"Denmark!E$39","v":123},{"$f":"Denmark!F$39","v":110},{"$f":"((S29/R29)-1)*100","v":{"v":-10.569105691056912,"d":"-10.6"}},null,{"$f":"R29+N29+J29+F29+B29","v":{"v":5686,"d":"5,686"}},{"v":6059,"d":"6,059"},{"$f":"((W29/V29)-1)*100","v":{"v":6.559971860710512,"d":"6.6"}}]
[]
["ESP ",{"$f":"Spain!E$16","v":{"v":3180,"d":"3,180"}},{"$f":"Spain!F$16","v":{"v":3100,"d":"3,100"}},{"$f":"((C31/B31)-1)*100","v":{"v":-2.515723270440251,"d":"-2.5"}},null,{"$f":"Spain!E$23","v":{"v":6305,"d":"6,305"}},{"$f":"Spain!F$23","v":{"v":5998,"d":"5,998"}},{"$f":"((G31/F31)-1)*100","v":{"v":-4.869151467089616,"d":"-4.9"}},null,{"$f":"Spain!E$30","v":{"v":4325,"d":"4,325"}},{"$f":"Spain!F$30","v":{"v":4435,"d":"4,435"}},{"$f":"((K31/J31)-1)*100","v":{"v":2.543352601156079,"d":"2.5"}},null,{"$f":"Spain!E$36","v":63},{"$f":"Spain!F$36","v":64},{"$f":"((O31/N31)-1)*100","v":{"v":1.5873015873015817,"d":"1.6"}},null,{"$f":"Spain!E$39","v":{"v":1353,"d":"1,353"}},{"$f":"Spain!F$39","v":{"v":1453,"d":"1,453"}},{"$f":"((S31/R31)-1)*100","v":{"v":7.390983000739104,"d":"7.4"}},null,{"$f":"R31+N31+J31+F31+B31","v":{"v":15226,"d":"15,226"}},{"v":15050,"d":"15,050"},{"$f":"((W31/V31)-1)*100","v":{"v":-1.1559175095231855,"d":"-1.2"}}]
[{"$nulls":3}," ",{"$nulls":17}," "," "]
["P ",{"$f":"Portugal!E$16","v":{"v":1119,"d":"1,119"}},{"$f":"Portugal!F$16","v":{"v":1012,"d":"1,012"}},{"$f":"((C33/B33)-1)*100","v":{"v":-9.562109025916,"d":"-9.6"}},null,{"$f":"Portugal!E$23","v":{"v":1356,"d":"1,356"}},{"$f":"Portugal!F$23","v":{"v":1537,"d":"1,537"}},{"$f":"((G33/F33)-1)*100","v":{"v":13.348082595870213,"d":"13.3"}},null,{"$f":"Portugal!E$30","v":{"v":1241,"d":"1,241"}},{"$f":"Portugal!F$30","v":{"v":1237,"d":"1,237"}},{"$f":"((K33/J33)-1)*100","v":{"v":-0.3223207091055613,"d":"-0.3"}},null,{"$f":"Portugal!E$36","v":0},{"$f":"Portugal!F$36","v":0},{"v":0,"d":"0.0"},null,{"$f":"Portugal!E$39","v":187},{"$f":"Portugal!F$39","v":213},{"$f":"((S33/R33)-1)*100","v":{"v":13.90374331550801,"d":"13.9"}},null,{"$f":"R33+N33+J33+F33+B33","v":{"v":3903,"d":"3,903"}},{"v":3999,"d":"3,999"},{"$f":"((W33/V33)-1)*100","v":{"v":2.4596464258262785,"d":"2.5"}}]
[]
["A",{"$f":"Austria!E$16","v":157},{"$f":"Austria!F$16","v":173},{"$f":"((C35/B35)-1)*100","v":{"v":10.191082802547768,"d":"10.2"}},null,{"$f":"Austria!E$23","v":212},{"$f":"Austria!F$23","v":233},{"$f":"((G35/F35)-1)*100","v":{"v":9.905660377358494,"d":"9.9"}},null,{"$f":"Austria!E$30","v":463},{"$f":"Austria!F$30","v":459},{"$f":"((K35/J35)-1)*100","v":{"v":-0.8639308855291628,"d":"-0.9"}},null,{"$f":"Austria!E$36","v":":"},{"$f":"Austria!F$36","v":":"},"nr",null,{"$f":"Austria!E$39","v":237},{"$f":"Austria!F$39","v":239},{"$f":"((S35/R35)-1)*100","v":{"v":0.8438818565400741,"d":"0.8"}},null,{"$f":"R35+J35+F35+B35","v":{"v":1069,"d":"1,069"}},{"v":1104,"d":"1,104"},{"$f":"((W35/V35)-1)*100","v":{"v":3.2740879326473404,"d":"3.3"}}]
[]
["S",{"$f":"Sweden!E$16","v":960},{"$f":"Sweden!F$16","v":{"v":1110,"d":"1,110"}},{"$f":"((C37/B37)-1)*100","v":{"v":15.625,"d":"15.6"}},null,{"$f":"Sweden!E$23","v":600},{"$f":"Sweden!F$23","v":670},{"$f":"((G37/F37)-1)*100","v":{"v":11.66666666666667,"d":"11.7"}},null,{"$f":"Sweden!E$30","v":460},{"$f":"Sweden!F$30","v":470},{"$f":"((K37/J37)-1)*100","v":{"v":2.1739130434782705,"d":"2.2"}},null,{"$f":"Sweden!E$36","v":":"},{"$f":"Sweden!F$36","v":":"},"nr",null,{"$f":"Sweden!E$39","v":48},{"$f":"Sweden!F$39","v":50},{"$f":"((S37/R37)-1)*100","v":{"v":4.166666666666674,"d":"4.2"}},null,{"$f":"R37+J37+F37+B37","v":{"v":2068,"d":"2,068"}},{"v":2300,"d":"2,300"},{"$f":"((W37/V37)-1)*100","v":{"v":11.218568665377182,"d":"11.2"}}]
[]
["FIN",{"$f":"Finland!E$16","v":451},{"$f":"Finland!F$16","v":399},{"$f":"((C39/B39)-1)*100","v":{"v":-11.529933481152998,"d":"-11.5"}},null,{"$f":"Finland!E$23","v":311},{"$f":"Finland!F$23","v":293},{"$f":"((G39/F39)-1)*100","v":{"v":-5.787781350482312,"d":"-5.8"}},null,{"$f":"Finland!E$30","v":204},{"$f":"Finland!F$30","v":189},{"$f":"((K39/J39)-1)*100","v":{"v":-7.352941176470584,"d":"-7.4"}},null,{"$f":"Finland!E$36","v":":"},{"$f":"Finland!F$36","v":":"},"nr",null,{"$f":"Finland!E$39","v":116},{"$f":"Finland!F$39","v":81},{"$f":"((S39/R39)-1)*100","v":{"v":-30.17241379310345,"d":"-30.2"}},null,{"$f":"R39+J39+F39+B39","v":{"v":1082,"d":"1,082"}},962,{"$f":"((W39/V39)-1)*100","v":{"v":-11.090573012938998,"d":"-11.1"}}]
[]
[{"$nulls":3}," "]
["EUR 15 *",{"$f":"B39+B37+B35+B33+B31+B29+B27+B25+B23+B21+B19+B17+B15","v":{"v":33622,"d":"33,622"}},{"v":34199,"d":"34,199"},{"$f":"((C42/B42)-1)*100","v":{"v":1.7161382428172,"d":"1.7"}},null,{"$f":"F39+F37+F35+F33+F31+F29+F27+F25+F23+F21+F19+F17+F15","v":{"v":40786,"d":"40,786"}},{"v":42614,"d":"42,614"},{"$f":"((G42/F42)-1)*100","v":{"v":4.481930074045026,"d":"4.5"}},null,{"$f":"J39+J37+J35+J33+J31+J29+J27+J25+J23+J21+J19+J17+J15","v":{"v":32143,"d":"32,143"}},{"v":32430,"d":"32,430"},{"$f":"((K42/J42)-1)*100","v":{"v":0.892884920511472,"d":"0.9"}},null,{"$f":"N33+N31+N29+N27+N23+N21+N19+N17+N15+N25","v":{"v":1934,"d":"1,934"}},{"v":1910,"d":"1,910"},{"$f":"((O42/N42)-1)*100","v":{"v":-1.2409513960703222,"d":"-1.2"}},null,{"$f":"R39+R37+R35+R33+R31+R29+R27+R25+R23+R21+R19+R17+R15","v":{"v":6890,"d":"6,890"}},{"v":6941,"d":"6,941"},{"$f":"((S42/R42)-1)*100","v":{"v":0.7402031930333841,"d":"0.7"}},null,{"$f":"V39+V37+V35+V33+V31+V29+V27+V25+V23+V21+V19+V17+V15","v":{"v":115375,"d":"115,375"}},{"v":118094,"d":"118,094"},{"$f":"((W42/V42)-1)*100","v":{"v":2.3566630552546153,"d":"2.4"}}]
[]
[{"$nulls":23}," "]
["* Sans le Luxembourg et la Grèce/Ohne Luxemburg und Griechenland/Without Luxemburg and Greece/Senza Lussemburgo e Ellas"]
[]
[": non disponible/not available"]

{"sheet":"1993","index":8,"n_rows":45,"n_cols":16,"rows_kept":45,"merged":[[4,0,4,15],[5,0,5,15]]}
["2001-07-04"]
[]
["PRODUCTION INDUSTRIELLE D'ALIMENTS COMPOSES ",{"$nulls":14},"INDUSTRIELLE  MISCHFUTTERPRODUKTION"]
["PRODUZIONE INDUSTRIALE DI MANGIMI COMPOSTI",{"$nulls":14},"INDUSTRIAL COMPOUND PRODUCTION"]
[1993]
["definitif/final"]
[{"$nulls":15},"(1 000 t)"]
[]
["Catégories d'aliments composés/Mischfutterarten",null,"D","F","I","NL","B","UK","IRL","DK","ESP","P","A","S","FIN","EUR-15"]
["Tipi di mangimi compositi/Types of feed",{"$nulls":14},"*"]
[]
[null,null," ",{"$nulls":4}," ",null,null," "]
["Bovins/Cattle/Bovini/Rinder",null,{"$f":"C14+C15+C16+C18","v":{"v":7792,"d":"7,792"}},{"$f":"D14+D15","v":{"v":3839,"d":"3,839"}},{"$f":"E14+E15+E16","v":{"v":3791,"d":"3,791"}},{"$f":"'The Netherlands'!F16","v":{"v":4121,"d":"4,121"}},{"$f":"G14+G15+G16+G18","v":{"v":1106,"d":"1,106"}},{"v":4380,"d":"4,380"},{"v":1676,"d":"1,676"},{"$f":"J14+J15+J16","v":{"v":1700,"d":"1,700"}},{"$f":"K14+K15+K18","v":{"v":3100,"d":"3,100"}},{"$f":"L14+L15+L16+L18","v":{"v":1012,"d":"1,012"}},{"$f":"Austria!F16","v":173},{"$f":"N15+N18","v":{"v":1110,"d":"1,110"}},{"$f":"Finland!F16","v":399},{"$f":"SUM(C13:O13)","v":{"v":34199,"d":"34,199"}}]
["engrais/fattening/Mast  ",null,{"$f":"Germany!F17","v":656},{"$f":"France!F17","v":993},{"$f":"Italy!F17","v":{"v":1151,"d":"1,151"}},{"$f":"'The Netherlands'!F17","v":383},{"$f":"Belgium!F17","v":436},{"$f":"UK!F17","v":94},{"$f":"Ireland!F17","v":592},{"$f":"Denmark!F17","v":677},{"$f":"Spain!F17","v":{"v":1500,"d":"1,500"}},{"$f":"Portugal!F17","v":434},":",{"$f":"Sweden!F17","v":":"},{"$f":"Finland!F17","v":":"},":"]
["VL/dairy cow/Milchkühe",null,{"$f":"Germany!F18","v":{"v":6252,"d":"6,252"}},{"$f":"France!F18","v":{"v":2846,"d":"2,846"}},{"$f":"Italy!F18","v":{"v":2434,"d":"2,434"}},{"$f":"'The Netherlands'!F18","v":{"v":3562,"d":"3,562"}},{"$f":"Belgium!F18","v":499},{"$f":"UK!F18","v":{"v":3199,"d":"3,199"}},{"$f":"Ireland!F18","v":890},{"$f":"Denmark!F18","v":650},{"$f":"Spain!F18","v":{"v":1200,"d":"1,200"}},{"$f":"Portugal!F18","v":512},":",{"$f":"Sweden!F18","v":{"v":1010,"d":"1,010"}},{"$f":"Finland!F18","v":":"},":"]
["veaux (aliments d'allaitement non compris)/calves ",null,{"$f":"Germany!F19","v":371},{"$f":"France!F19","v":":"},{"$f":"Italy!F19","v":206},{"$f":"'The Netherlands'!F19","v":":"},{"$f":"Belgium!F19","v":90},{"$f":"UK!F19","v":222},{"$f":"Ireland!F19","v":172},{"$f":"Denmark!F19","v":373},{"$f":"Spain!F19","v":":"},{"$f":"Portugal!F19","v":50},":",{"$f":"Sweden!F19","v":":"},{"$f":"Finland!F19","v":":"},":"]
["(excluding milk replacers)/Kälber (exkl. Milchaustauscher)"]
["autres/others/Andere",null,{"$f":"Germany!F20","v":513},{"$f":"France!F20","v":":"},{"$f":"Italy!F20","v":":"},{"$f":"'The Netherlands'!F20","v":176},{"$f":"Belgium!F20","v":81},{"$f":"UK!F20","v":865},{"$f":"Ireland!F20","v":22},{"$f":"Denmark!F20","v":":"},{"$f":"Spain!F20","v":400},{"$f":"Portugal!F20","v":16},":",{"$f":"Sweden!F20","v":100},{"$f":"Finland!F20","v":":"},":"]
[]
[]
["Porcins/Pigs/Suini/Schweine",null,{"$f":"C22+C23+C24+C25","v":{"v":6945,"d":"6,945"}},{"$f":"D22+D23+D24","v":{"v":6373,"d":"6,373"}},{"$f":"Italy!F23","v":{"v":2680,"d":"2,680"}},{"$f":"'The Netherlands'!F23","v":{"v":8007,"d":"8,007"}},{"$f":"G22+G25","v":{"v":3099,"d":"3,099"}},{"$f":"H22+H23+H24+H25","v":{"v":2522,"d":"2,522"}},636,{"$f":"J22+J23+J24","v":{"v":3621,"d":"3,621"}},{"$f":"K22+K23+K24+K25","v":{"v":5998,"d":"5,998"}},{"v":1537,"d":"1,537"},{"$f":"Austria!F23","v":233},{"$f":"N22+N23+N24","v":670},{"$f":"Finland!F23","v":293},{"$f":"SUM(C21:O21)","v":{"v":42614,"d":"42,614"}}]
["porcelets/piglets/Ferkel",null,{"$f":"Germany!F24","v":{"v":1595,"d":"1,595"}},{"$f":"France!F24","v":840},{"$f":"Italy!F24","v":":"},{"$f":"'The Netherlands'!F24","v":{"v":1002,"d":"1,002"}},{"$f":"Belgium!F24","v":805},{"$f":"UK!F24","v":164},{"$f":"Ireland!F24","v":113},{"$f":"Denmark!F24","v":585},{"$f":"Spain!F24","v":670},{"$f":"Portugal!F24","v":212},":",{"$f":"Sweden!F24","v":90},{"$f":"Finland!F24","v":":"},":"]
["porcs engrais/pigs for fattening/Mastschweine",null,{"$f":"Germany!F25","v":{"v":3179,"d":"3,179"}},{"$f":"France!F25","v":{"v":4211,"d":"4,211"}},{"$f":"Italy!F25","v":":"},{"$f":"'The Netherlands'!F25","v":{"v":5354,"d":"5,354"}},{"$f":"Belgium!F25","v":":"},{"$f":"UK!F25","v":649},{"$f":"Ireland!F25","v":354},{"$f":"Denmark!F25","v":{"v":2384,"d":"2,384"}},{"$f":"Spain!F25","v":{"v":4350,"d":"4,350"}},{"$f":"Portugal!F25","v":953},":",{"$f":"Sweden!F25","v":390},{"$f":"Finland!F25","v":":"},":"]
["reproducteurs/breeding pigs/Zuchtschweine",null,{"$f":"Germany!F26","v":{"v":1266,"d":"1,266"}},{"$f":"France!F26","v":{"v":1322,"d":"1,322"}},{"$f":"Italy!F26","v":":"},{"$f":"'The Netherlands'!F26","v":{"v":1651,"d":"1,651"}},{"$f":"Belgium!F26","v":":"},{"$f":"UK!F26","v":777},{"$f":"Ireland!F26","v":155},{"$f":"Denmark!F26","v":652},{"$f":"Spain!F26","v":908},{"$f":"Portugal!F26","v":238},":",{"$f":"Sweden!F26","v":190},{"$f":"Finland!F26","v":":"},":"]
["autres/others/Andere",null,{"$f":"Germany!F27","v":905},{"$f":"France!F27","v":":"},{"$f":"Italy!F27","v":":"},{"$f":"'The Netherlands'!F27","v":":"},{"$f":"Belgium!F27","v":{"v":2294,"d":"2,294"}},{"$f":"UK!F27","v":932},{"$f":"Ireland!F27","v":14},{"$f":"Denmark!F27","v":":"},{"$f":"Spain!F27","v":70},{"$f":"Portugal!F27","v":134},":",{"$f":"Sweden!F27","v":":"},{"$f":"Finland!F27","v":":"},":"]
[{"$nulls":4}," "]
[]
["Volaille/Poultry/Volatili/Geflügel",null,{"$f":"C29+C30+C31","v":{"v":4073,"d":"4,073"}},{"v":7999,"d":"7,999"},{"v":4219,"d":"4,219"},{"$f":"'The Netherlands'!F30","v":{"v":3465,"d":"3,465"}},{"$f":"G29+G30+G31","v":975},{"v":3856,"d":"3,856"},431,622,{"v":4435,"d":"4,435"},{"v":1237,"d":"1,237"},{"$f":"Austria!F30","v":459},{"$f":"N29+N30","v":470},{"$f":"Finland!F30","v":189},{"$f":"SUM(C28:O28)","v":{"v":32430,"d":"32,430"}}]
["broilers",null,{"$f":"Germany!F31","v":{"v":1750,"d":"1,750"}},{"$f":"France!F31","v":{"v":3011,"d":"3,011"}},{"$f":"Italy!F31","v":{"v":2092,"d":"2,092"}},{"$f":"'The Netherlands'!F31","v":{"v":1514,"d":"1,514"}},{"$f":"Belgium!F31","v":353},{"$f":"UK!F31","v":{"v":1652,"d":"1,652"}},{"$f":"Ireland!F31","v":214},{"$f":"Denmark!F31","v":507},{"$f":"Spain!F31","v":{"v":2535,"d":"2,535"}},{"$f":"Portugal!F31","v":630},":",{"$f":"Sweden!F31","v":230},{"$f":"Finland!F31","v":":"},":"]
["poulettes & pondeuses/chicks & layers/Jung- & Legehennen",null,{"$f":"Germany!F32","v":{"v":1912,"d":"1,912"}},{"$f":"France!F32","v":{"v":2175,"d":"2,175"}},{"$f":"Italy!F32","v":{"v":1091,"d":"1,091"}},{"$f":"'The Netherlands'!F32","v":{"v":1951,"d":"1,951"}},{"$f":"Belgium!F32","v":405},{"$f":"UK!F32","v":949},{"$f":"Ireland!F32","v":127},{"$f":"Denmark!F32","v":39},{"$f":"Spain!F32","v":{"v":1700,"d":"1,700"}},{"$f":"Portugal!F32","v":404},":",{"$f":"Sweden!F32","v":240},{"$f":"Finland!F32","v":":"},":"]
["autres/others/Andere",null,{"$f":"Germany!F33","v":411},{"$f":"France!F33","v":{"v":2813,"d":"2,813"}},{"$f":"Italy!F33","v":{"v":1036,"d":"1,036"}},{"$f":"'The Netherlands'!F33","v":":"},{"$f":"Belgium!F33","v":217},{"$f":"UK!F33","v":{"v":1255,"d":"1,255"}},{"$f":"Ireland!F33","v":90},{"$f":"Denmark!F33","v":76},{"$f":"Spain!F33","v":200},{"$f":"Portugal!F33","v":203},":",{"$f":"Sweden!F33","v":":"},{"$f":"Finland!F33","v":":"},":"]
[]
[]
["Al. d'allait./Milk replacers/Sostit. del latte/Milchaust.",null,{"$f":"Germany!F36","v":266},{"$f":"France!F36","v":584},{"$f":"Italy!F36","v":213},{"$f":"'The Netherlands'!F36","v":684},{"$f":"Belgium!F36","v":54},{"$f":"UK!F36","v":30},{"$f":"Ireland!F36","v":9},{"$f":"Denmark!F36","v":6},{"$f":"Spain!F36","v":64},{"$f":"Portugal!F36","v":0},{"$f":"Austria!F36","v":":"},{"$f":"Sweden!F36","v":":"},{"$f":"Finland!F36","v":":"},{"$f":"SUM(C34:O34)","v":{"v":1910,"d":"1,910"}}]
[]
[{"$nulls":4}," "]
["Autres/others/altri/Andere",null,{"$f":"Germany!F39","v":567},{"$f":"France!F39","v":{"v":1454,"d":"1,454"}},{"$f":"Italy!F39","v":{"v":1035,"d":"1,035"}},{"$f":"'The Netherlands'!F39","v":517},{"$f":"Belgium!F39","v":57},{"$f":"UK!F39","v":906},{"$f":"Ireland!F39","v":259},{"$f":"Denmark!F39","v":110},{"$f":"Spain!F39","v":{"v":1453,"d":"1,453"}},{"$f":"Portugal!F39","v":213},{"$f":"Austria!F39","v":239},{"$f":"Sweden!F39","v":50},{"$f":"Finland!F39","v":81},{"$f":"SUM(C37:O37)","v":{"v":6941,"d":"6,941"}}]
[]
[]
["TOTAL",null,{"$f":"C37+C34+C28+C21+C13","v":{"v":19643,"d":"19,643"}},{"v":20249,"d":"20,249"},{"v":11938,"d":"11,938"},{"v":16794,"d":"16,794"},{"v":5291,"d":"5,291"},{"v":11694,"d":"11,694"},{"v":3011,"d":"3,011"},{"v":6059,"d":"6,059"},{"v":15050,"d":"15,050"},{"v":3999,"d":"3,999"},{"$f":"M37+M28+M21+M13","v":{"v":1104,"d":"1,104"}},{"v":2300,"d":"2,300"},962,{"$f":"P37+P34+P28+P21+P13","v":{"v":118094,"d":"118,094"}}]
[{"$nulls":5}," "]
[]
["* Sans le Luxembourg et la Grèce/ohne Luxemburg und Griechenland/Without Luxemburg and Greece/Senza Lussemburgo e Ella"]
[]
[": non disponible/not available/nicht verfügbar"]

{"sheet":"94-93","index":9,"n_rows":47,"n_cols":24,"rows_kept":47}
["2001-07-04"]
[]
["PRODUCTION INDUSTRIELLE D'ALIMENTS COMPOSES",{"$nulls":22},"INDUSTRIELLE  MISCHFUTTERPRODUKTION"]
["PRODUZIONE INDUSTRIALE DI MANGIMI COMPOSTI",{"$nulls":11},"1993-1994",{"$nulls":10},"INDUSTRIAL COMPOUND PRODUCTION"]
[{"$nulls":12},"definitif/final",{"$nulls":10},"(1 000 t )"]
[]
[]
[]
["PAYS",null,"      BOVINS/RINDER",{"$nulls":3},"    PORCS/SCHWEINE",{"$nulls":3},"     VOLAILLE/GEFLÜGEL",null,"      A. ALLAITEMENT/MILCHAUST.",{"$nulls":5},"     AUTRES/ANDERE",null,null,"       TOTAL/INSGESAMT"]
["LAND",null,"      BOVINI/CATTLE",{"$nulls":3},"    SUINI/PIGS",{"$nulls":3},"     VOLATILI/POULTRY",null,"  SOSTIT. DEL LATTE/MILKREPLACERS",{"$nulls":5},"ALTRI ANIMALI/OTHERS",null,null,"          TOTALE/TOTAL"]
["PAESE"]
["COUNTRY",1993,1994,"%TAV",null,1993,1994,"%TAV",null,1993,1994,"%TAV",null,1993,1994,"%TAV",null,1993,1994,"%TAV",null,1993,1994,"%TAV"]
[]
[]
["D",{"$f":"Germany!F$16","v":{"v":7792,"d":"7,792"}},{"$f":"Germany!G$16","v":{"v":7919,"d":"7,919"}},{"$f":"((C15/B15)-1)*100","v":{"v":1.62987679671458,"d":"1.6"}},null,{"$f":"Germany!F$23","v":{"v":6945,"d":"6,945"}},{"$f":"Germany!G$23","v":{"v":6280,"d":"6,280"}},{"$f":"((G15/F15)-1)*100","v":{"v":-9.575233981281494,"d":"-9.6"}},null,{"$f":"Germany!F$30","v":{"v":4073,"d":"4,073"}},{"$f":"Germany!G$30","v":{"v":4080,"d":"4,080"}},{"$f":"((K15/J15)-1)*100","v":{"v":0.1718634912840633,"d":"0.2"}},null,{"$f":"Germany!F$36","v":266},{"$f":"Germany!G$36","v":256},{"$f":"((O15/N15)-1)*100","v":{"v":-3.759398496240607,"d":"-3.8"}},null,{"$f":"Germany!F$39","v":567},{"$f":"Germany!G$39","v":582},{"$f":"((S15/R15)-1)*100","v":{"v":2.645502645502651,"d":"2.6"}},null,{"$f":"R15+N15+J15+F15+B15","v":{"v":19643,"d":"19,643"}},{"v":19117,"d":"19,117"},{"$f":"((W15/V15)-1)*100","v":{"v":-2.6777987069184994,"d":"-2.7"}}]
[]
["F ",{"$f":"France!F$16","v":{"v":3839,"d":"3,839"}},{"$f":"France!G$16","v":{"v":3980,"d":"3,980"}},{"$f":"((C17/B17)-1)*100","v":{"v":3.6728314665277484,"d":"3.7"}},null,{"$f":"France!F$23","v":{"v":6373,"d":"6,373"}},{"$f":"France!G$23","v":{"v":6417,"d":"6,417"}},{"$f":"((G17/F17)-1)*100","v":{"v":0.6904126784873732,"d":"0.7"}},null,{"$f":"France!F$30","v":{"v":7999,"d":"7,999"}},{"$f":"France!G$30","v":{"v":8354,"d":"8,354"}},{"$f":"((K17/J17)-1)*100","v":{"v":4.4380547568446005,"d":"4.4"}},null,{"$f":"France!F$36","v":584},{"$f":"France!G$36","v":569},{"$f":"((O17/N17)-1)*100","v":{"v":-2.568493150684936,"d":"-2.6"}},null,{"$f":"France!F$39","v":{"v":1454,"d":"1,454"}},{"$f":"France!G$39","v":{"v":1428,"d":"1,428"}},{"$f":"((S17/R17)-1)*100","v":{"v":-1.7881705639614887,"d":"-1.8"}},null,{"$f":"R17+N17+J17+F17+B17","v":{"v":20249,"d":"20,249"}},{"v":20748,"d":"20,748"},{"$f":"((W17/V17)-1)*100","v":{"v":2.4643192256407653,"d":"2.5"}}]
[{"$nulls":3}," "]
["I ",{"$f":"Italy!F$16","v":{"v":3791,"d":"3,791"}},{"$f":"Italy!G$16","v":{"v":3657,"d":"3,657"}},{"$f":"((C19/B19)-1)*100","v":{"v":-3.5346874175679277,"d":"-3.5"}},null,{"$f":"Italy!F$23","v":{"v":2680,"d":"2,680"}},{"$f":"Italy!G$23","v":{"v":2464,"d":"2,464"}},{"$f":"((G19/F19)-1)*100","v":{"v":-8.059701492537318,"d":"-8.1"}},null,{"$f":"Italy!F$30","v":{"v":4219,"d":"4,219"}},{"$f":"Italy!G$30","v":{"v":4239,"d":"4,239"}},{"$f":"((K19/J19)-1)*100","v":{"v":0.4740459824603027,"d":"0.5"}},null,{"$f":"Italy!F$36","v":213},{"$f":"Italy!G$36","v":196},{"$f":"((O19/N19)-1)*100","v":{"v":-7.9812206572769995,"d":"-8.0"}},null,{"$f":"Italy!F$39","v":{"v":1035,"d":"1,035"}},{"$f":"Italy!G$39","v":{"v":1035,"d":"1,035"}},{"$f":"((S19/R19)-1)*100","v":{"v":0,"d":"0.0"}},null,{"$f":"R19+N19+J19+F19+B19","v":{"v":11938,"d":"11,938"}},{"v":11591,"d":"11,591"},{"$f":"((W19/V19)-1)*100","v":{"v":-2.9066845367733296,"d":"-2.9"}}]
[]
["NL   ",{"$f":"'The Netherlands'!F$16","v":{"v":4121,"d":"4,121"}},{"$f":"'The Netherlands'!G$16","v":{"v":4124,"d":"4,124"}},{"$f":"((C21/B21)-1)*100","v":{"v":0.07279786459597481,"d":"0.1"}},null,{"$f":"'The Netherlands'!F$23","v":{"v":8007,"d":"8,007"}},{"$f":"'The Netherlands'!G$23","v":{"v":7763,"d":"7,763"}},{"$f":"((G21/F21)-1)*100","v":{"v":-3.047333583114775,"d":"-3.0"}},null,{"$f":"'The Netherlands'!F$30","v":{"v":3465,"d":"3,465"}},{"$f":"'The Netherlands'!G$30","v":{"v":3423,"d":"3,423"}},{"$f":"((K21/J21)-1)*100","v":{"v":-1.2121212121212088,"d":"-1.2"}},null,{"$f":"'The Netherlands'!F$36","v":684},{"$f":"'The Netherlands'!G$36","v":745},{"$f":"((O21/N21)-1)*100","v":{"v":8.918128654970769,"d":"8.9"}},null,{"$f":"'The Netherlands'!F$39","v":517},{"$f":"'The Netherlands'!G$39","v":713},{"$f":"((S21/R21)-1)*100","v":{"v":37.9110251450677,"d":"37.9"}},null,{"$f":"R21+N21+J21+F21+B21","v":{"v":16794,"d":"16,794"}},{"v":16768,"d":"16,768"},{"$f":"((W21/V21)-1)*100","v":{"v":-0.1548171966178402,"d":"-0.2"}}]
[{"$nulls":3}," "]
["B ",{"$f":"Belgium!F$16","v":{"v":1106,"d":"1,106"}},{"$f":"Belgium!G$16","v":{"v":1145,"d":"1,145"}},{"$f":"((C23/B23)-1)*100","v":{"v":3.5262206148282127,"d":"3.5"}},null,{"$f":"Belgium!F$23","v":{"v":3099,"d":"3,099"}},{"$f":"Belgium!G$23","v":{"v":3088,"d":"3,088"}},{"$f":"((G23/F23)-1)*100","v":{"v":-0.3549532107131381,"d":"-0.4"}},null,{"$f":"Belgium!F$30","v":975},{"$f":"Belgium!G$30","v":{"v":1014,"d":"1,014"}},{"$f":"((K23/J23)-1)*100","v":{"v":4.0000000000000036,"d":"4.0"}},null,{"$f":"Belgium!F$36","v":54},{"$f":"Belgium!G$36","v":62},{"$f":"((O23/N23)-1)*100","v":{"v":14.814814814814813,"d":"14.8"}},null,{"$f":"Belgium!F$39","v":57},{"$f":"Belgium!G$39","v":55},{"$f":"((S23/R23)-1)*100","v":{"v":-3.508771929824561,"d":"-3.5"}},null,{"$f":"R23+N23+J23+F23+B23","v":{"v":5291,"d":"5,291"}},{"v":5364,"d":"5,364"},{"$f":"((W23/V23)-1)*100","v":{"v":1.3797013797013813,"d":"1.4"}}]
[{"$nulls":3}," "]
["UK ",{"$f":"UK!F$16","v":{"v":4380,"d":"4,380"}},{"$f":"UK!G$16","v":{"v":4491,"d":"4,491"}},{"$f":"((C25/B25)-1)*100","v":{"v":2.534246575342469,"d":"2.5"}},null,{"$f":"UK!F$23","v":{"v":2522,"d":"2,522"}},{"$f":"UK!G$23","v":{"v":2504,"d":"2,504"}},{"$f":"((G25/F25)-1)*100","v":{"v":-0.7137192704202988,"d":"-0.7"}},null,{"$f":"UK!F$30","v":{"v":3856,"d":"3,856"}},{"$f":"UK!G$30","v":{"v":3953,"d":"3,953"}},{"$f":"((K25/J25)-1)*100","v":{"v":2.515560165975095,"d":"2.5"}},null,{"$f":"UK!F$36","v":30},{"$f":"UK!G$36","v":34},{"$f":"((O25/N25)-1)*100","v":{"v":13.33333333333333,"d":"13.3"}},null,{"$f":"UK!F39","v":906},{"$f":"UK!G39","v":{"v":1019,"d":"1,019"}},{"$f":"((S25/R25)-1)*100","v":{"v":12.472406181015462,"d":"12.5"}},null,{"$f":"R25+J25+F25+B25+N25","v":{"v":11694,"d":"11,694"}},{"v":12001,"d":"12,001"},{"$f":"((W25/V25)-1)*100","v":{"v":2.6252779203010057,"d":"2.6"}}]
[{"$nulls":3}," "]
["IRL ",{"$f":"Ireland!F$16","v":{"v":1676,"d":"1,676"}},{"$f":"Ireland!G$16","v":{"v":1972,"d":"1,972"}},{"$f":"((C27/B27)-1)*100","v":{"v":17.66109785202863,"d":"17.7"}},null,{"$f":"Ireland!F$23","v":636},{"$f":"Ireland!G$23","v":644},{"$f":"((G27/F27)-1)*100","v":{"v":1.2578616352201255,"d":"1.3"}},null,{"$f":"Ireland!F$30","v":431},{"$f":"Ireland!G$30","v":463},{"$f":"((K27/J27)-1)*100","v":{"v":7.424593967517401,"d":"7.4"}},null,{"$f":"Ireland!F$36","v":9},{"$f":"Ireland!G$36","v":9},{"$f":"((O27/N27)-1)*100","v":{"v":0,"d":"0.0"}},null,{"$f":"Ireland!F$39","v":259},{"$f":"Ireland!G$39","v":315},{"$f":"((S27/R27)-1)*100","v":{"v":21.62162162162162,"d":"21.6"}},null,{"$f":"R27+N27+J27+F27+B27","v":{"v":3011,"d":"3,011"}},{"v":3403,"d":"3,403"},{"$f":"((W27/V27)-1)*100","v":{"v":13.01893058784458,"d":"13.0"}}]
[{"$nulls":3}," "]
["DK ",{"$f":"Denmark!F$16","v":{"v":1700,"d":"1,700"}},{"$f":"Denmark!G$16","v":{"v":1571,"d":"1,571"}},{"$f":"((C29/B29)-1)*100","v":{"v":-7.588235294117651,"d":"-7.6"}},null,{"$f":"Denmark!F$23","v":{"v":3621,"d":"3,621"}},{"$f":"Denmark!G$23","v":{"v":3426,"d":"3,426"}},{"$f":"((G29/F29)-1)*100","v":{"v":-5.3852526926263415,"d":"-5.4"}},null,{"$f":"Denmark!F$30","v":622},{"$f":"Denmark!G$30","v":635},{"$f":"((K29/J29)-1)*100","v":{"v":2.0900321543408262,"d":"2.1"}},null,{"$f":"Denmark!F$36","v":6},{"$f":"Denmark!G$36","v":6},{"$f":"((O29/N29)-1)*100","v":{"v":0,"d":"0.0"}},null,{"$f":"Denmark!F$39","v":110},{"$f":"Denmark!G$39","v":150},{"$f":"((S29/R29)-1)*100","v":{"v":36.36363636363635,"d":"36.4"}},null,{"$f":"R29+N29+J29+F29+B29","v":{"v":6059,"d":"6,059"}},{"v":5788,"d":"5,788"},{"$f":"((W29/V29)-1)*100","v":{"v":-4.4726852615943224,"d":"-4.5"}}]
[]
["ESP ",{"$f":"Spain!F$16","v":{"v":3100,"d":"3,100"}},{"$f":"Spain!G$16","v":{"v":3150,"d":"3,150"}},{"$f":"((C31/B31)-1)*100","v":{"v":1.6129032258064502,"d":"1.6"}},null,{"$f":"Spain!F$23","v":{"v":5998,"d":"5,998"}},{"$f":"Spain!G$23","v":{"v":5850,"d":"5,850"}},{"$f":"((G31/F31)-1)*100","v":{"v":-2.4674891630543483,"d":"-2.5"}},null,{"$f":"Spain!F$30","v":{"v":4435,"d":"4,435"}},{"$f":"Spain!G$30","v":{"v":4350,"d":"4,350"}},{"$f":"((K31/J31)-1)*100","v":{"v":-1.916572717023679,"d":"-1.9"}},null,{"$f":"Spain!F$36","v":64},{"$f":"Spain!G$36","v":65},{"$f":"((O31/N31)-1)*100","v":{"v":1.5625,"d":"1.6"}},null,{"$f":"Spain!F$39","v":{"v":1453,"d":"1,453"}},{"$f":"Spain!G$39","v":{"v":1212,"d":"1,212"}},{"$f":"((S31/R31)-1)*100","v":{"v":-16.586373021335167,"d":"-16.6"}},null,{"$f":"R31+N31+J31+F31+B31","v":{"v":15050,"d":"15,050"}},{"v":14627,"d":"14,627"},{"$f":"((W31/V31)-1)*100","v":{"v":-2.8106312292358826,"d":"-2.8"}}]
[{"$nulls":3}," ",{"$nulls":17}," "," "]
["P ",{"$f":"Portugal!F$16","v":{"v":1012,"d":"1,012"}},{"$f":"Portugal!G$16","v":{"v":1007,"d":"1,007"}},{"$f":"((C33/B33)-1)*100","v":{"v":-0.49407114624505644,"d":"-0.5"}},null,{"$f":"Portugal!F$23","v":{"v":1537,"d":"1,537"}},{"$f":"Portugal!G$23","v":{"v":1485,"d":"1,485"}},{"$f":"((G33/F33)-1)*100","v":{"v":-3.3832140533506805,"d":"-3.4"}},null,{"$f":"Portugal!F$30","v":{"v":1237,"d":"1,237"}},{"$f":"Portugal!G$30","v":{"v":1274,"d":"1,274"}},{"$f":"((K33/J33)-1)*100","v":{"v":2.991107518189162,"d":"3.0"}},null,{"$f":"Portugal!F$36","v":0},{"$f":"Portugal!G$36","v":0},{"v":0,"d":"0.0"},null,{"$f":"Portugal!F$39","v":213},{"$f":"Portugal!G$39","v":204},{"$f":"((S33/R33)-1)*100","v":{"v":-4.225352112676061,"d":"-4.2"}},null,{"$f":"R33+N33+J33+F33+B33","v":{"v":3999,"d":"3,999"}},{"v":3970,"d":"3,970"},{"$f":"((W33/V33)-1)*100","v":{"v":-0.725181295323829,"d":"-0.7"}}]
[]
["A",{"$f":"Austria!F$16","v":173},{"$f":"Austria!G$16","v":163},{"$f":"((C35/B35)-1)*100","v":{"v":-5.780346820809246,"d":"-5.8"}},null,{"$f":"Austria!F$23","v":233},{"$f":"Austria!G$23","v":235},{"$f":"((G35/F35)-1)*100","v":{"v":0.8583690987124415,"d":"0.9"}},null,{"$f":"Austria!F$30","v":459},{"$f":"Austria!G$30","v":443},{"$f":"((K35/J35)-1)*100","v":{"v":-3.4858387799564294,"d":"-3.5"}},null,{"$f":"Austria!F$36","v":":"},{"$f":"Austria!G$36","v":16},"nr",null,{"$f":"Austria!F$39","v":239},{"$f":"Austria!G$39","v":83},{"$f":"((S35/R35)-1)*100","v":{"v":-65.27196652719664,"d":"-65.3"}},null,{"$f":"R35+J35+F35+B35","v":{"v":1104,"d":"1,104"}},{"$f":"S35+O35+K35+G35+C35","v":940},{"$f":"((W35/V35)-1)*100","v":{"v":-14.855072463768115,"d":"-14.9"}}]
[]
["S",{"$f":"Sweden!F$16","v":{"v":1110,"d":"1,110"}},{"$f":"Sweden!G$16","v":{"v":1130,"d":"1,130"}},{"$f":"((C37/B37)-1)*100","v":{"v":1.8018018018018056,"d":"1.8"}},null,{"$f":"Sweden!F$23","v":670},{"$f":"Sweden!G$23","v":660},{"$f":"((G37/F37)-1)*100","v":{"v":-1.4925373134328401,"d":"-1.5"}},null,{"$f":"Sweden!F$30","v":470},{"$f":"Sweden!G$30","v":490},{"$f":"((K37/J37)-1)*100","v":{"v":4.255319148936176,"d":"4.3"}},null,{"$f":"Sweden!F$36","v":":"},{"$f":"Sweden!G$36","v":":"},"nr",null,{"$f":"Sweden!F$39","v":50},{"$f":"Sweden!G$39","v":50},{"$f":"((S37/R37)-1)*100","v":{"v":0,"d":"0.0"}},null,{"$f":"R37+J37+F37+B37","v":{"v":2300,"d":"2,300"}},{"v":2330,"d":"2,330"},{"$f":"((W37/V37)-1)*100","v":{"v":1.304347826086949,"d":"1.3"}}]
[]
["FIN",{"$f":"Finland!F$16","v":399},{"$f":"Finland!G$16","v":460},{"$f":"((C39/B39)-1)*100","v":{"v":15.28822055137844,"d":"15.3"}},null,{"$f":"Finland!F$23","v":293},{"$f":"Finland!G$23","v":294},{"$f":"((G39/F39)-1)*100","v":{"v":0.34129692832765013,"d":"0.3"}},null,{"$f":"Finland!F$30","v":189},{"$f":"Finland!G$30","v":196},{"$f":"((K39/J39)-1)*100","v":{"v":3.703703703703698,"d":"3.7"}},null,{"$f":"Finland!F$36","v":":"},{"$f":"Finland!G$36","v":":"},"nr",null,{"$f":"Finland!F$39","v":81},{"$f":"Finland!G$39","v":109},{"$f":"((S39/R39)-1)*100","v":{"v":34.5679012345679,"d":"34.6"}},null,{"$f":"R39+J39+F39+B39","v":962},{"v":1059,"d":"1,059"},{"$f":"((W39/V39)-1)*100","v":{"v":10.083160083160081,"d":"10.1"}}]
[]
[{"$nulls":3}," "]
["EUR 15 *",{"$f":"B39+B37+B35+B33+B31+B29+B27+B25+B23+B21+B19+B17+B15","v":{"v":34199,"d":"34,199"}},{"v":34769,"d":"34,769"},{"$f":"((C42/B42)-1)*100","v":{"v":1.6667154010351126,"d":"1.7"}},null,{"$f":"F39+F37+F35+F33+F31+F29+F27+F25+F23+F21+F19+F17+F15","v":{"v":42614,"d":"42,614"}},{"v":41110,"d":"41,110"},{"$f":"((G42/F42)-1)*100","v":{"v":-3.529356549490781,"d":"-3.5"}},null,{"$f":"J39+J37+J35+J33+J31+J29+J27+J25+J23+J21+J19+J17+J15","v":{"v":32430,"d":"32,430"}},{"v":32914,"d":"32,914"},{"$f":"((K42/J42)-1)*100","v":{"v":1.4924452667283372,"d":"1.5"}},null,{"$f":"N33+N31+N29+N27+N23+N21+N19+N17+N15+N25","v":{"v":1910,"d":"1,910"}},{"$f":"O33+O31+O29+O27+O23+O21+O19+O17+O15+O25+O35","v":{"v":1958,"d":"1,958"}},{"$f":"((O42/N42)-1)*100","v":{"v":2.5130890052355914,"d":"2.5"}},null,{"$f":"R39+R37+R35+R33+R31+R29+R27+R25+R23+R21+R19+R17+R15","v":{"v":6941,"d":"6,941"}},{"v":6955,"d":"6,955"},{"$f":"((S42/R42)-1)*100","v":{"v":0.2017000432214422,"d":"0.2"}},null,{"$f":"V39+V37+V35+V33+V31+V29+V27+V25+V23+V21+V19+V17+V15","v":{"v":118094,"d":"118,094"}},{"v":117706,"d":"117,706"},{"$f":"((W42/V42)-1)*100","v":{"v":-0.32855183159178347,"d":"-0.3"}}]
[]
[{"$nulls":23}," "]
["* Sans le Luxembourg et la Grèce/Ohne Luxemburg und Griechenland/Without Luxemburg and Greece/Senza Lussemburgo e Ellas"]
[]
[": non disponible/not available"]

{"sheet":"1994","index":10,"n_rows":45,"n_cols":16,"rows_kept":45,"merged":[[4,0,4,15],[5,0,5,15]]}
["2001-07-04"]
[]
["PRODUCTION INDUSTRIELLE D'ALIMENTS COMPOSES ",{"$nulls":14},"INDUSTRIELLE  MISCHFUTTERPRODUKTION"]
["PRODUZIONE INDUSTRIALE DI MANGIMI COMPOSTI",{"$nulls":14},"INDUSTRIAL COMPOUND PRODUCTION"]
[1994]
["definitif/final"]
[{"$nulls":15},"(1 000 t)"]
[]
["Catégories d'aliments composés/Mischfutterarten",null,"D","F","I","NL","B","UK","IRL","DK","ESP","P","A","S","FIN","EUR-15"]
["Tipi di mangimi compositi/Types of feed",{"$nulls":14},"*"]
[]
[null,null," ",{"$nulls":4}," ",null,null," "]
["Bovins/Cattle/Bovini/Rinder",null,{"$f":"C14+C15+C16+C18","v":{"v":7919,"d":"7,919"}},{"$f":"D15+D18","v":{"v":3980,"d":"3,980"}},{"$f":"E14+E15+E16","v":{"v":3657,"d":"3,657"}},{"$f":"'The Netherlands'!G16","v":{"v":4124,"d":"4,124"}},{"$f":"Belgium!G16","v":{"v":1145,"d":"1,145"}},{"$f":"H14+H15+H16+H18","v":{"v":4491,"d":"4,491"}},{"v":1972,"d":"1,972"},{"$f":"J14+J15+J16","v":{"v":1571,"d":"1,571"}},{"$f":"K14+K15+K18","v":{"v":3150,"d":"3,150"}},{"$f":"L14+L15+L16+L18","v":{"v":1007,"d":"1,007"}},{"$f":"Austria!G16","v":163},{"$f":"N15+N18","v":{"v":1130,"d":"1,130"}},{"$f":"Finland!G16","v":460},{"$f":"SUM(C13:O13)","v":{"v":34769,"d":"34,769"}}]
["engrais/fattening/Mast  ",null,{"$f":"Germany!G17","v":592},{"$f":"France!G17","v":":"},{"$f":"Italy!G17","v":{"v":1072,"d":"1,072"}},{"$f":"'The Netherlands'!G17","v":428},{"$f":"Belgium!G17","v":":"},{"$f":"UK!G17","v":951},{"$f":"Ireland!G17","v":740},{"$f":"Denmark!G17","v":605},{"$f":"Spain!G17","v":{"v":1500,"d":"1,500"}},{"$f":"Portugal!G17","v":423},":",{"$f":"Sweden!G17","v":":"},{"$f":"Finland!G17","v":":"},":"]
["VL/dairy cow/Milchkühe",null,{"$f":"Germany!G18","v":{"v":6381,"d":"6,381"}},{"$f":"France!G18","v":{"v":2890,"d":"2,890"}},{"$f":"Italy!G18","v":{"v":2385,"d":"2,385"}},{"$f":"'The Netherlands'!G18","v":{"v":3644,"d":"3,644"}},{"$f":"Belgium!G18","v":":"},{"$f":"UK!G18","v":{"v":3176,"d":"3,176"}},{"$f":"Ireland!G18","v":{"v":1019,"d":"1,019"}},{"$f":"Denmark!G18","v":620},{"$f":"Spain!G18","v":{"v":1250,"d":"1,250"}},{"$f":"Portugal!G18","v":514},":",{"$f":"Sweden!G18","v":{"v":1030,"d":"1,030"}},{"$f":"Finland!G18","v":":"},":"]
["veaux (aliments d'allaitement non compris)/calves ",null,{"$f":"Germany!G19","v":242},{"$f":"France!G19","v":":"},{"$f":"Italy!G19","v":200},{"$f":"'The Netherlands'!G19","v":52},{"$f":"Belgium!G19","v":":"},{"$f":"UK!G19","v":254},{"$f":"Ireland!G19","v":181},{"$f":"Denmark!G19","v":346},{"$f":"Spain!G19","v":":"},{"$f":"Portugal!G19","v":50},":",{"$f":"Sweden!G19","v":":"},{"$f":"Finland!G19","v":":"},":"]
["(excluding milk replacers)/Kälber (exkl. Milchaustauscher)"]
["autres/others/Andere",null,{"$f":"Germany!G20","v":704},{"$f":"France!G20","v":{"v":1090,"d":"1,090"}},{"$f":"Italy!G20","v":":"},{"$f":"'The Netherlands'!G20","v":":"},{"$f":"Belgium!G20","v":":"},{"$f":"UK!G20","v":110},{"$f":"Ireland!G20","v":32},{"$f":"Denmark!G20","v":":"},{"$f":"Spain!G20","v":400},{"$f":"Portugal!G20","v":20},":",{"$f":"Sweden!G20","v":100},{"$f":"Finland!G20","v":":"},":"]
[]
[]
["Porcins/Pigs/Suini/Schweine",null,{"$f":"C22+C23+C24+C25","v":{"v":6280,"d":"6,280"}},{"$f":"D22+D23+D24","v":{"v":6417,"d":"6,417"}},{"$f":"Italy!G23","v":{"v":2464,"d":"2,464"}},{"$f":"'The Netherlands'!G23","v":{"v":7763,"d":"7,763"}},{"$f":"Belgium!G23","v":{"v":3088,"d":"3,088"}},{"$f":"H22+H23+H24+H25","v":{"v":2504,"d":"2,504"}},644,{"$f":"J22+J23+J24","v":{"v":3426,"d":"3,426"}},{"$f":"K22+K23+K24+K25","v":{"v":5850,"d":"5,850"}},{"v":1485,"d":"1,485"},{"$f":"Austria!G23","v":235},{"$f":"N22+N23+N24","v":660},{"$f":"Finland!G23","v":294},{"$f":"SUM(C21:O21)","v":{"v":41110,"d":"41,110"}}]
["porcelets/piglets/Ferkel",null,{"$f":"Germany!G24","v":{"v":1345,"d":"1,345"}},{"$f":"France!G24","v":809},{"$f":"Italy!G24","v":":"},{"$f":"'The Netherlands'!G24","v":969},{"$f":"Belgium!G24","v":":"},{"$f":"UK!G24","v":158},{"$f":"Ireland!G24","v":114},{"$f":"Denmark!G24","v":578},{"$f":"Spain!G24","v":650},{"$f":"Portugal!G24","v":267},":",{"$f":"Sweden!G24","v":90},{"$f":"Finland!G24","v":":"},":"]
["porcs engrais/pigs for fattening/Mastschweine",null,{"$f":"Germany!G25","v":{"v":3230,"d":"3,230"}},{"$f":"France!G25","v":{"v":4301,"d":"4,301"}},{"$f":"Italy!G25","v":":"},{"$f":"'The Netherlands'!G25","v":{"v":5079,"d":"5,079"}},{"$f":"Belgium!G25","v":":"},{"$f":"UK!G25","v":{"v":1555,"d":"1,555"}},{"$f":"Ireland!G25","v":353},{"$f":"Denmark!G25","v":{"v":2228,"d":"2,228"}},{"$f":"Spain!G25","v":{"v":4230,"d":"4,230"}},{"$f":"Portugal!G25","v":386},":",{"$f":"Sweden!G25","v":380},{"$f":"Finland!G25","v":":"},":"]
["reproducteurs/breeding pigs/Zuchtschweine",null,{"$f":"Germany!G26","v":{"v":1092,"d":"1,092"}},{"$f":"France!G26","v":{"v":1307,"d":"1,307"}},{"$f":"Italy!G26","v":":"},{"$f":"'The Netherlands'!G26","v":{"v":1715,"d":"1,715"}},{"$f":"Belgium!G26","v":":"},{"$f":"UK!G26","v":742},{"$f":"Ireland!G26","v":155},{"$f":"Denmark!G26","v":620},{"$f":"Spain!G26","v":900},{"$f":"Portugal!G26","v":282},":",{"$f":"Sweden!G26","v":190},{"$f":"Finland!G26","v":":"},":"]
["autres/others/Andere",null,{"$f":"Germany!G27","v":613},{"$f":"France!G27","v":":"},{"$f":"Italy!G27","v":":"},{"$f":"'The Netherlands'!G27","v":":"},{"$f":"Belgium!G27","v":":"},{"$f":"UK!G27","v":49},{"$f":"Ireland!G27","v":22},{"$f":"Denmark!G27","v":":"},{"$f":"Spain!G27","v":70},{"$f":"Portugal!G27","v":550},":",{"$f":"Sweden!G27","v":":"},{"$f":"Finland!G27","v":":"},":"]
[{"$nulls":4}," "]
[]
["Volaille/Poultry/Volatili/Geflügel",null,{"$f":"C29+C30","v":{"v":4080,"d":"4,080"}},{"$f":"D29+D30+D31","v":{"v":8354,"d":"8,354"}},{"v":4239,"d":"4,239"},{"$f":"'The Netherlands'!G30","v":{"v":3423,"d":"3,423"}},{"$f":"Belgium!G30","v":{"v":1014,"d":"1,014"}},{"$f":"H29+H30+H31","v":{"v":3953,"d":"3,953"}},463,635,{"v":4350,"d":"4,350"},{"v":1274,"d":"1,274"},{"$f":"Austria!G30","v":443},{"$f":"N29+N30","v":490},{"$f":"Finland!G30","v":196},{"$f":"SUM(C28:O28)","v":{"v":32914,"d":"32,914"}}]
["broilers",null,{"$f":"Germany!G31","v":{"v":1785,"d":"1,785"}},{"$f":"France!G31","v":{"v":3110,"d":"3,110"}},{"$f":"Italy!G31","v":{"v":2056,"d":"2,056"}},{"$f":"'The Netherlands'!G31","v":{"v":1498,"d":"1,498"}},{"$f":"Belgium!G31","v":":"},{"$f":"UK!G31","v":{"v":1670,"d":"1,670"}},{"$f":"Ireland!G31","v":254},{"$f":"Denmark!G31","v":527},{"$f":"Spain!G31","v":{"v":2450,"d":"2,450"}},{"$f":"Portugal!G31","v":701},":",{"$f":"Sweden!G31","v":240},{"$f":"Finland!G31","v":":"},":"]
["poulettes & pondeuses/chicks & layers/Jung- & Legehennen",null,{"$f":"Germany!G32","v":{"v":2295,"d":"2,295"}},{"$f":"France!G32","v":{"v":2243,"d":"2,243"}},{"$f":"Italy!G32","v":{"v":1098,"d":"1,098"}},{"$f":"'The Netherlands'!G32","v":{"v":1925,"d":"1,925"}},{"$f":"Belgium!G32","v":":"},{"$f":"UK!G32","v":{"v":1067,"d":"1,067"}},{"$f":"Ireland!G32","v":104},{"$f":"Denmark!G32","v":41},{"$f":"Spain!G32","v":{"v":1700,"d":"1,700"}},{"$f":"Portugal!G32","v":370},":",{"$f":"Sweden!G32","v":250},{"$f":"Finland!G32","v":":"},":"]
["autres/others/Andere",null,{"$f":"Germany!G33","v":":"},{"$f":"France!G33","v":{"v":3001,"d":"3,001"}},{"$f":"Italy!G33","v":{"v":1085,"d":"1,085"}},{"$f":"'The Netherlands'!G33","v":":"},{"$f":"Belgium!G33","v":":"},{"$f":"UK!G33","v":{"v":1216,"d":"1,216"}},{"$f":"Ireland!G33","v":105},{"$f":"Denmark!G33","v":67},{"$f":"Spain!G33","v":200},{"$f":"Portugal!G33","v":203},":",{"$f":"Sweden!G33","v":":"},{"$f":"Finland!G33","v":":"},":"]
[]
[]
["Al. d'allait./Milk replacers/Sostit. del latte/Milchaust.",null,{"$f":"Germany!G36","v":256},{"$f":"France!G36","v":569},{"$f":"Italy!G36","v":196},{"$f":"'The Netherlands'!G36","v":745},{"$f":"Belgium!G36","v":62},{"$f":"UK!G36","v":34},{"$f":"Ireland!G36","v":9},{"$f":"Denmark!G36","v":6},{"$f":"Spain!G36","v":65},{"$f":"Portugal!G36","v":0},{"$f":"Austria!G36","v":16},{"$f":"Sweden!G36","v":":"},{"$f":"Finland!G36","v":":"},{"$f":"SUM(C34:O34)","v":{"v":1958,"d":"1,958"}}]
[]
[{"$nulls":4}," "]
["Autres/others/altri/Andere",null,{"$f":"Germany!G39","v":582},{"$f":"France!G39","v":{"v":1428,"d":"1,428"}},{"$f":"Italy!G39","v":{"v":1035,"d":"1,035"}},{"$f":"'The Netherlands'!G39","v":713},{"$f":"Belgium!G39","v":55},{"$f":"UK!G39","v":{"v":1019,"d":"1,019"}},{"$f":"Ireland!G39","v":315},{"$f":"Denmark!G39","v":150},{"$f":"Spain!G39","v":{"v":1212,"d":"1,212"}},{"$f":"Portugal!G39","v":204},{"$f":"Austria!G39","v":83},{"$f":"Sweden!G39","v":50},{"$f":"Finland!G39","v":109},{"$f":"SUM(C37:O37)","v":{"v":6955,"d":"6,955"}}]
[]
[]
["TOTAL",null,{"$f":"C37+C34+C28+C21+C13","v":{"v":19117,"d":"19,117"}},{"v":20748,"d":"20,748"},{"v":11591,"d":"11,591"},{"v":16768,"d":"16,768"},{"v":5364,"d":"5,364"},{"v":12001,"d":"12,001"},{"v":3403,"d":"3,403"},{"v":5788,"d":"5,788"},{"v":14627,"d":"14,627"},{"v":3970,"d":"3,970"},940,{"$f":"N37+N28+N21+N13","v":{"v":2330,"d":"2,330"}},{"v":1059,"d":"1,059"},{"$f":"P37+P34+P28+P21+P13","v":{"v":117706,"d":"117,706"}}]
[{"$nulls":5}," "]
[]
["* Sans le Luxembourg et la Grèce/ohne Luxemburg und Griechenland/Without Luxemburg and Greece/Senza Lussemburgo e Ella"]
[]
[": non disponible/not available/nicht verfügbar"]

{"sheet":"95-94","index":11,"n_rows":47,"n_cols":24,"rows_kept":47}
["2001-07-04"]
[]
["PRODUCTION INDUSTRIELLE D'ALIMENTS COMPOSES",{"$nulls":22},"INDUSTRIELLE  MISCHFUTTERPRODUKTION"]
["PRODUZIONE INDUSTRIALE DI MANGIMI COMPOSTI",{"$nulls":11},"1994-1995",{"$nulls":10},"INDUSTRIAL COMPOUND PRODUCTION"]
[{"$nulls":12},"definitif/final",{"$nulls":10},"(1 000 t )"]
[]
[]
[]
["PAYS",null,"      BOVINS/RINDER",{"$nulls":3},"    PORCS/SCHWEINE",{"$nulls":3},"     VOLAILLE/GEFLÜGEL",null,"      A. ALLAITEMENT/MILCHAUST.",{"$nulls":5},"     AUTRES/ANDERE",null,null,"       TOTAL/INSGESAMT"]
["LAND",null,"      BOVINI/CATTLE",{"$nulls":3},"    SUINI/PIGS",{"$nulls":3},"     VOLATILI/POULTRY",null,"  SOSTIT. DEL LATTE/MILKREPLACERS",{"$nulls":5},"ALTRI ANIMALI/OTHERS",null,null,"          TOTALE/TOTAL"]
["PAESE"]
["COUNTRY",1994,1995,"%TAV",null,1994,1995,"%TAV",null,1994,1995,"%TAV",null,1994,1995,"%TAV",null,1994,1995,"%TAV",null,1994,1995,"%TAV"]
[]
[]
["D",{"$f":"Germany!G$16","v":{"v":7919,"d":"7,919"}},{"$f":"Germany!H$16","v":{"v":7736,"d":"7,736"}},{"$f":"((C15/B15)-1)*100","v":{"v":-2.310897840636439,"d":"-2.3"}},null,{"$f":"Germany!G$23","v":{"v":6280,"d":"6,280"}},{"$f":"Germany!H$23","v":{"v":5958,"d":"5,958"}},{"$f":"((G15/F15)-1)*100","v":{"v":-5.1273885350318515,"d":"-5.1"}},null,{"$f":"Germany!G$30","v":{"v":4080,"d":"4,080"}},{"$f":"Germany!H$30","v":{"v":4002,"d":"4,002"}},{"$f":"((K15/J15)-1)*100","v":{"v":-1.9117647058823573,"d":"-1.9"}},null,{"$f":"Germany!G$36","v":256},{"$f":"Germany!H$36","v":250},{"$f":"((O15/N15)-1)*100","v":{"v":-2.34375,"d":"-2.3"}},null,{"$f":"Germany!G$39","v":582},{"$f":"Germany!H$39","v":929},{"$f":"((S15/R15)-1)*100","v":{"v":59.621993127147775,"d":"59.6"}},null,{"$f":"R15+N15+J15+F15+B15","v":{"v":19117,"d":"19,117"}},{"v":18875,"d":"18,875"},{"$f":"((W15/V15)-1)*100","v":{"v":-1.2658889993199751,"d":"-1.3"}}]
[]
["F ",{"$f":"France!G$16","v":{"v":3980,"d":"3,980"}},{"$f":"France!H$16","v":{"v":4037,"d":"4,037"}},{"$f":"((C17/B17)-1)*100","v":{"v":1.4321608040201106,"d":"1.4"}},null,{"$f":"France!G$23","v":{"v":6417,"d":"6,417"}},{"$f":"France!H$23","v":{"v":6381,"d":"6,381"}},{"$f":"((G17/F17)-1)*100","v":{"v":-0.5610098176718092,"d":"-0.6"}},null,{"$f":"France!G$30","v":{"v":8354,"d":"8,354"}},{"$f":"France!H$30","v":{"v":8774,"d":"8,774"}},{"$f":"((K17/J17)-1)*100","v":{"v":5.027531721331102,"d":"5.0"}},null,{"$f":"France!G$36","v":569},{"$f":"France!H$36","v":555},{"$f":"((O17/N17)-1)*100","v":{"v":-2.4604569420035194,"d":"-2.5"}},null,{"$f":"France!G$39","v":{"v":1428,"d":"1,428"}},{"$f":"France!H$39","v":{"v":1483,"d":"1,483"}},{"$f":"((S17/R17)-1)*100","v":{"v":3.851540616246507,"d":"3.9"}},null,{"$f":"R17+N17+J17+F17+B17","v":{"v":20748,"d":"20,748"}},{"v":21230,"d":"21,230"},{"$f":"((W17/V17)-1)*100","v":{"v":2.3231154810102073,"d":"2.3"}}]
[{"$nulls":3}," "]
["I ",{"$f":"Italy!G$16","v":{"v":3657,"d":"3,657"}},{"$f":"Italy!H$16","v":{"v":3802,"d":"3,802"}},{"$f":"((C19/B19)-1)*100","v":{"v":3.964998632759098,"d":"4.0"}},null,{"$f":"Italy!G$23","v":{"v":2464,"d":"2,464"}},{"$f":"Italy!H$23","v":{"v":2442,"d":"2,442"}},{"$f":"((G19/F19)-1)*100","v":{"v":-0.8928571428571397,"d":"-0.9"}},null,{"$f":"Italy!G$30","v":{"v":4239,"d":"4,239"}},{"$f":"Italy!H$30","v":{"v":4258,"d":"4,258"}},{"$f":"((K19/J19)-1)*100","v":{"v":0.44821891955650894,"d":"0.4"}},null,{"$f":"Italy!G$36","v":196},{"$f":"Italy!H$36","v":187},{"$f":"((O19/N19)-1)*100","v":{"v":-4.591836734693877,"d":"-4.6"}},null,{"$f":"Italy!G$39","v":{"v":1035,"d":"1,035"}},{"$f":"Italy!H$39","v":{"v":1090,"d":"1,090"}},{"$f":"((S19/R19)-1)*100","v":{"v":5.31400966183575,"d":"5.3"}},null,{"$f":"R19+N19+J19+F19+B19","v":{"v":11591,"d":"11,591"}},{"v":11779,"d":"11,779"},{"$f":"((W19/V19)-1)*100","v":{"v":1.6219480631524563,"d":"1.6"}}]
[]
["NL   ",{"$f":"'The Netherlands'!G$16","v":{"v":4124,"d":"4,124"}},{"$f":"'The Netherlands'!H$16","v":{"v":4026,"d":"4,026"}},{"$f":"((C21/B21)-1)*100","v":{"v":-2.3763336566440363,"d":"-2.4"}},null,{"$f":"'The Netherlands'!G$23","v":{"v":7763,"d":"7,763"}},{"$f":"'The Netherlands'!H$23","v":{"v":7405,"d":"7,405"}},{"$f":"((G21/F21)-1)*100","v":{"v":-4.611619219373953,"d":"-4.6"}},null,{"$f":"'The Netherlands'!G$30","v":{"v":3423,"d":"3,423"}},{"$f":"'The Netherlands'!H$30","v":{"v":3409,"d":"3,409"}},{"$f":"((K21/J21)-1)*100","v":{"v":-0.4089979550102263,"d":"-0.4"}},null,{"$f":"'The Netherlands'!G$36","v":745},{"$f":"'The Netherlands'!H$36","v":779},{"$f":"((O21/N21)-1)*100","v":{"v":4.563758389261752,"d":"4.6"}},null,{"$f":"'The Netherlands'!G$39","v":713},{"$f":"'The Netherlands'!H$39","v":753},{"$f":"((S21/R21)-1)*100","v":{"v":5.610098176718092,"d":"5.6"}},null,{"$f":"R21+N21+J21+F21+B21","v":{"v":16768,"d":"16,768"}},{"v":16372,"d":"16,372"},{"$f":"((W21/V21)-1)*100","v":{"v":-2.3616412213740445,"d":"-2.4"}}]
[{"$nulls":3}," "]
["B ",{"$f":"Belgium!G$16","v":{"v":1145,"d":"1,145"}},{"$f":"Belgium!H$16","v":{"v":1217,"d":"1,217"}},{"$f":"((C23/B23)-1)*100","v":{"v":6.288209606986905,"d":"6.3"}},null,{"$f":"Belgium!G$23","v":{"v":3088,"d":"3,088"}},{"$f":"Belgium!H$23","v":{"v":3278,"d":"3,278"}},{"$f":"((G23/F23)-1)*100","v":{"v":6.152849740932642,"d":"6.2"}},null,{"$f":"Belgium!G$30","v":{"v":1014,"d":"1,014"}},{"$f":"Belgium!H$30","v":{"v":1058,"d":"1,058"}},{"$f":"((K23/J23)-1)*100","v":{"v":4.339250493096647,"d":"4.3"}},null,{"$f":"Belgium!G$36","v":62},{"$f":"Belgium!H$36","v":61},{"$f":"((O23/N23)-1)*100","v":{"v":-1.6129032258064502,"d":"-1.6"}},null,{"$f":"Belgium!G$39","v":55},{"$f":"Belgium!H$39","v":132},{"$f":"((S23/R23)-1)*100","v":{"v":140,"d":"140.0"}},null,{"$f":"R23+N23+J23+F23+B23","v":{"v":5364,"d":"5,364"}},{"v":5746,"d":"5,746"},{"$f":"((W23/V23)-1)*100","v":{"v":7.121551081282629,"d":"7.1"}}]
[{"$nulls":3}," "]
["UK ",{"$f":"UK!G$16","v":{"v":4491,"d":"4,491"}},{"$f":"UK!H$16","v":{"v":4761,"d":"4,761"}},{"$f":"((C25/B25)-1)*100","v":{"v":6.012024048096198,"d":"6.0"}},null,{"$f":"UK!G$23","v":{"v":2504,"d":"2,504"}},{"$f":"UK!H$23","v":{"v":2453,"d":"2,453"}},{"$f":"((G25/F25)-1)*100","v":{"v":-2.0367412140575025,"d":"-2.0"}},null,{"$f":"UK!G$30","v":{"v":3953,"d":"3,953"}},{"$f":"UK!H$30","v":{"v":6135,"d":"6,135"}},{"$f":"((K25/J25)-1)*100","v":{"v":55.19858335441437,"d":"55.2"}},null,{"$f":"UK!G$36","v":34},{"$f":"UK!H$36","v":22},{"$f":"((O25/N25)-1)*100","v":{"v":-35.29411764705882,"d":"-35.3"}},null,{"$f":"UK!G39","v":{"v":1019,"d":"1,019"}},{"$f":"UK!H39","v":{"v":1111,"d":"1,111"}},{"$f":"((S25/R25)-1)*100","v":{"v":9.02845927379785,"d":"9.0"}},null,{"$f":"R25+J25+F25+B25+N25","v":{"v":12001,"d":"12,001"}},{"v":14482,"d":"14,482"},{"$f":"((W25/V25)-1)*100","v":{"v":20.673277226897756,"d":"20.7"}}]
[{"$nulls":3}," "]
["IRL ",{"$f":"Ireland!G$16","v":{"v":1972,"d":"1,972"}},{"$f":"Ireland!H$16","v":{"v":1954,"d":"1,954"}},{"$f":"((C27/B27)-1)*100","v":{"v":-0.9127789046653123,"d":"-0.9"}},null,{"$f":"Ireland!G$23","v":644},{"$f":"Ireland!H$23","v":618},{"$f":"((G27/F27)-1)*100","v":{"v":-4.037267080745344,"d":"-4.0"}},null,{"$f":"Ireland!G$30","v":463},{"$f":"Ireland!H$30","v":468},{"$f":"((K27/J27)-1)*100","v":{"v":1.0799136069114423,"d":"1.1"}},null,{"$f":"Ireland!G$36","v":9},{"$f":"Ireland!H$36","v":8},{"$f":"((O27/N27)-1)*100","v":{"v":-11.111111111111116,"d":"-11.1"}},null,{"$f":"Ireland!G$39","v":315},{"$f":"Ireland!H$39","v":323},{"$f":"((S27/R27)-1)*100","v":{"v":2.5396825396825307,"d":"2.5"}},null,{"$f":"R27+N27+J27+F27+B27","v":{"v":3403,"d":"3,403"}},{"v":3371,"d":"3,371"},{"$f":"((W27/V27)-1)*100","v":{"v":-0.9403467528651177,"d":"-0.9"}}]
[{"$nulls":3}," "]
["DK ",{"$f":"Denmark!G$16","v":{"v":1571,"d":"1,571"}},{"$f":"Denmark!H$16","v":{"v":1522,"d":"1,522"}},{"$f":"((C29/B29)-1)*100","v":{"v":-3.1190324633991073,"d":"-3.1"}},null,{"$f":"Denmark!G$23","v":{"v":3426,"d":"3,426"}},{"$f":"Denmark!H$23","v":{"v":3306,"d":"3,306"}},{"$f":"((G29/F29)-1)*100","v":{"v":-3.5026269702276736,"d":"-3.5"}},null,{"$f":"Denmark!G$30","v":635},{"$f":"Denmark!H$30","v":656},{"$f":"((K29/J29)-1)*100","v":{"v":3.307086614173227,"d":"3.3"}},null,{"$f":"Denmark!G$36","v":6},{"$f":"Denmark!H$36","v":5},{"$f":"((O29/N29)-1)*100","v":{"v":-16.666666666666664,"d":"-16.7"}},null,{"$f":"Denmark!G$39","v":150},{"$f":"Denmark!H$39","v":164},{"$f":"((S29/R29)-1)*100","v":{"v":9.333333333333327,"d":"9.3"}},null,{"$f":"R29+N29+J29+F29+B29","v":{"v":5788,"d":"5,788"}},{"v":5653,"d":"5,653"},{"$f":"((W29/V29)-1)*100","v":{"v":-2.332411886662056,"d":"-2.3"}}]
[]
["ESP ",{"$f":"Spain!G$16","v":{"v":3150,"d":"3,150"}},{"$f":"Spain!H$16","v":{"v":3650,"d":"3,650"}},{"$f":"((C31/B31)-1)*100","v":{"v":15.873015873015884,"d":"15.9"}},null,{"$f":"Spain!G$23","v":{"v":5850,"d":"5,850"}},{"$f":"Spain!H$23","v":{"v":6040,"d":"6,040"}},{"$f":"((G31/F31)-1)*100","v":{"v":3.2478632478632585,"d":"3.2"}},null,{"$f":"Spain!G$30","v":{"v":4350,"d":"4,350"}},{"$f":"Spain!H$30","v":{"v":4050,"d":"4,050"}},{"$f":"((K31/J31)-1)*100","v":{"v":-6.896551724137934,"d":"-6.9"}},null,{"$f":"Spain!G$36","v":65},{"$f":"Spain!H$36","v":60},{"$f":"((O31/N31)-1)*100","v":{"v":-7.692307692307687,"d":"-7.7"}},null,{"$f":"Spain!G$39","v":{"v":1212,"d":"1,212"}},{"$f":"Spain!H$39","v":{"v":1312,"d":"1,312"}},{"$f":"((S31/R31)-1)*100","v":{"v":8.25082508250825,"d":"8.3"}},null,{"$f":"R31+N31+J31+F31+B31","v":{"v":14627,"d":"14,627"}},{"v":15112,"d":"15,112"},{"$f":"((W31/V31)-1)*100","v":{"v":3.3157858754358394,"d":"3.3"}}]
[{"$nulls":3}," ",{"$nulls":17}," "," "]
["P ",{"$f":"Portugal!G$16","v":{"v":1007,"d":"1,007"}},{"$f":"Portugal!H$16","v":{"v":1119,"d":"1,119"}},{"$f":"((C33/B33)-1)*100","v":{"v":11.122144985104265,"d":"11.1"}},null,{"$f":"Portugal!G$23","v":{"v":1485,"d":"1,485"}},{"$f":"Portugal!H$23","v":{"v":1311,"d":"1,311"}},{"$f":"((G33/F33)-1)*100","v":{"v":-11.717171717171714,"d":"-11.7"}},null,{"$f":"Portugal!G$30","v":{"v":1274,"d":"1,274"}},{"$f":"Portugal!H$30","v":{"v":1323,"d":"1,323"}},{"$f":"((K33/J33)-1)*100","v":{"v":3.8461538461538547,"d":"3.8"}},null,{"$f":"Portugal!G$36","v":0},{"$f":"Portugal!H$36","v":0},{"v":0,"d":"0.0"},null,{"$f":"Portugal!G$39","v":204},{"$f":"Portugal!H$39","v":244},{"$f":"((S33/R33)-1)*100","v":{"v":19.6078431372549,"d":"19.6"}},null,{"$f":"R33+N33+J33+F33+B33","v":{"v":3970,"d":"3,970"}},{"v":3997,"d":"3,997"},{"$f":"((W33/V33)-1)*100","v":{"v":0.680100755667512,"d":"0.7"}}]
[]
["A",{"$f":"Austria!G$16","v":163},{"$f":"Austria!H$16","v":174},{"$f":"((C35/B35)-1)*100","v":{"v":6.748466257668717,"d":"6.7"}},null,{"$f":"Austria!G$23","v":235},{"$f":"Austria!H$23","v":261},{"$f":"((G35/F35)-1)*100","v":{"v":11.063829787234036,"d":"11.1"}},null,{"$f":"Austria!G$30","v":443},{"$f":"Austria!H$30","v":435},{"$f":"((K35/J35)-1)*100","v":{"v":-1.8058690744920947,"d":"-1.8"}},null,{"$f":"Austria!G$36","v":16},{"$f":"Austria!H$36","v":13},{"$f":"((O35/N35)-1)*100","v":{"v":-18.75,"d":"-18.8"}},null,{"$f":"Austria!G$39","v":83},{"$f":"Austria!H$39","v":37},{"$f":"((S35/R35)-1)*100","v":{"v":-55.42168674698795,"d":"-55.4"}},null,{"$f":"R35+N35+J35+F35+B35","v":940},920,{"$f":"((W35/V35)-1)*100","v":{"v":-2.127659574468088,"d":"-2.1"}}]
[]
["S",{"$f":"Sweden!G$16","v":{"v":1130,"d":"1,130"}},{"$f":"Sweden!H$16","v":{"v":1200,"d":"1,200"}},{"$f":"((C37/B37)-1)*100","v":{"v":6.194690265486735,"d":"6.2"}},null,{"$f":"Sweden!G$23","v":660},{"$f":"Sweden!H$23","v":700},{"$f":"((G37/F37)-1)*100","v":{"v":6.060606060606055,"d":"6.1"}},null,{"$f":"Sweden!G$30","v":490},{"$f":"Sweden!H$30","v":500},{"$f":"((K37/J37)-1)*100","v":{"v":2.0408163265306145,"d":"2.0"}},null,{"$f":"Sweden!G$36","v":":"},{"$f":"Sweden!H$36","v":10},"nr",null,{"$f":"Sweden!G$39","v":50},{"$f":"Sweden!H$39","v":50},{"$f":"((S37/R37)-1)*100","v":{"v":0,"d":"0.0"}},null,{"$f":"R37+J37+F37+B37","v":{"v":2330,"d":"2,330"}},{"$f":"S37+O37+K37+G37+C37","v":{"v":2460,"d":"2,460"}},{"$f":"((W37/V37)-1)*100","v":{"v":5.579399141630903,"d":"5.6"}}]
[]
["FIN",{"$f":"Finland!G$16","v":460},{"$f":"Finland!H$16","v":507},{"$f":"((C39/B39)-1)*100","v":{"v":10.217391304347823,"d":"10.2"}},null,{"$f":"Finland!G$23","v":294},{"$f":"Finland!H$23","v":324},{"$f":"((G39/F39)-1)*100","v":{"v":10.20408163265305,"d":"10.2"}},null,{"$f":"Finland!G$30","v":196},{"$f":"Finland!H$30","v":213},{"$f":"((K39/J39)-1)*100","v":{"v":8.673469387755105,"d":"8.7"}},null,{"$f":"Finland!G$36","v":":"},{"$f":"Finland!H$36","v":":"},"nr",null,{"$f":"Finland!G$39","v":109},{"$f":"Finland!H$39","v":128},{"$f":"((S39/R39)-1)*100","v":{"v":17.431192660550465,"d":"17.4"}},null,{"$f":"R39+J39+F39+B39","v":{"v":1059,"d":"1,059"}},{"v":1172,"d":"1,172"},{"$f":"((W39/V39)-1)*100","v":{"v":10.670443814919729,"d":"10.7"}}]
[]
[{"$nulls":3}," "]
["EUR 15 *",{"$f":"B39+B37+B35+B33+B31+B29+B27+B25+B23+B21+B19+B17+B15","v":{"v":34769,"d":"34,769"}},{"v":35705,"d":"35,705"},{"$f":"((C42/B42)-1)*100","v":{"v":2.692053265840255,"d":"2.7"}},null,{"$f":"F39+F37+F35+F33+F31+F29+F27+F25+F23+F21+F19+F17+F15","v":{"v":41110,"d":"41,110"}},{"v":40477,"d":"40,477"},{"$f":"((G42/F42)-1)*100","v":{"v":-1.5397713451714923,"d":"-1.5"}},null,{"$f":"J39+J37+J35+J33+J31+J29+J27+J25+J23+J21+J19+J17+J15","v":{"v":32914,"d":"32,914"}},{"v":35281,"d":"35,281"},{"$f":"((K42/J42)-1)*100","v":{"v":7.191468675943358,"d":"7.2"}},null,{"$f":"N35+N33+N31+N29+N27+N23+N21+N19+N17+N15+N25","v":{"v":1958,"d":"1,958"}},{"$f":"O37+O35+O33+O31+O29+O27+O23+O21+O19+O17+O15+O25","v":{"v":1950,"d":"1,950"}},{"$f":"((O42/N42)-1)*100","v":{"v":-0.40858018386108474,"d":"-0.4"}},null,{"$f":"R39+R37+R35+R33+R31+R29+R27+R25+R23+R21+R19+R17+R15","v":{"v":6955,"d":"6,955"}},{"v":7756,"d":"7,756"},{"$f":"((S42/R42)-1)*100","v":{"v":11.51689432063263,"d":"11.5"}},null,{"$f":"V39+V37+V35+V33+V31+V29+V27+V25+V23+V21+V19+V17+V15","v":{"v":117706,"d":"117,706"}},{"v":121169,"d":"121,169"},{"$f":"((W42/V42)-1)*100","v":{"v":2.9420760199140306,"d":"2.9"}}]
[]
[{"$nulls":23}," "]
["* Sans le Luxembourg et la Grèce/Ohne Luxemburg und Griechenland/Without Luxemburg and Greece/Senza Lussemburgo e Ellas"]
[]
[": non disponible/not available"]

{"sheet":"1995","index":12,"n_rows":45,"n_cols":16,"rows_kept":45,"merged":[[4,0,4,15],[5,0,5,15]]}
["2001-07-04"]
[]
["PRODUCTION INDUSTRIELLE D'ALIMENTS COMPOSES ",{"$nulls":14},"INDUSTRIELLE  MISCHFUTTERPRODUKTION"]
["PRODUZIONE INDUSTRIALE DI MANGIMI COMPOSTI",{"$nulls":14},"INDUSTRIAL COMPOUND PRODUCTION"]
[1995]
["definitif/final"]
[{"$nulls":15},"(1 000 t)"]
[]
["Catégories d'aliments composés/Mischfutterarten",null,"D","F","I","NL","B","UK","IRL","DK","ESP","P","A","S","FIN","EUR-15"]
["Tipi di mangimi compositi/Types of feed",{"$nulls":14},"*"]
[]
[null,null," ",{"$nulls":4}," ",null,null," "]
["Bovins/Cattle/Bovini/Rinder",null,{"$f":"C14+C15+C16+C18","v":{"v":7736,"d":"7,736"}},{"v":4037,"d":"4,037"},{"$f":"E14+E15+E16","v":{"v":3802,"d":"3,802"}},{"$f":"'The Netherlands'!H16","v":{"v":4026,"d":"4,026"}},{"$f":"G14+G15+G16+G18","v":{"v":1217,"d":"1,217"}},{"v":4761,"d":"4,761"},{"v":1954,"d":"1,954"},{"$f":"J14+J15+J16","v":{"v":1522,"d":"1,522"}},{"$f":"K14+K15+K18","v":{"v":3650,"d":"3,650"}},{"$f":"L14+L15+L16+L18","v":{"v":1119,"d":"1,119"}},{"$f":"Austria!H16","v":174},{"$f":"N15+N18","v":{"v":1200,"d":"1,200"}},{"$f":"O18+O16","v":507},{"$f":"SUM(C13:O13)","v":{"v":35705,"d":"35,705"}}]
["engrais/fattening/Mast  ",null,{"$f":"Germany!H17","v":609},{"$f":"France!H17","v":636},{"$f":"Italy!H17","v":{"v":1099,"d":"1,099"}},{"$f":"'The Netherlands'!H17","v":361},{"$f":"Belgium!H17","v":434},{"$f":"UK!H17","v":{"v":1150,"d":"1,150"}},{"$f":"Ireland!H17","v":804},{"$f":"Denmark!H17","v":594},{"$f":"Spain!H17","v":{"v":1600,"d":"1,600"}},{"$f":"Portugal!H17","v":470},":",{"$f":"Sweden!H17","v":":"},{"$f":"Finland!H17","v":":"},":"]
["VL/dairy cow/Milchkühe",null,{"$f":"Germany!H18","v":{"v":6478,"d":"6,478"}},{"$f":"France!H18","v":{"v":2889,"d":"2,889"}},{"$f":"Italy!H18","v":{"v":2508,"d":"2,508"}},{"$f":"'The Netherlands'!H18","v":{"v":3601,"d":"3,601"}},{"$f":"Belgium!H18","v":570},{"$f":"UK!H18","v":{"v":3213,"d":"3,213"}},{"$f":"Ireland!H18","v":937},{"$f":"Denmark!H18","v":591},{"$f":"Spain!H18","v":{"v":1250,"d":"1,250"}},{"$f":"Portugal!H18","v":576},":",{"$f":"Sweden!H18","v":{"v":1100,"d":"1,100"}},{"$f":"Finland!H18","v":":"},":"]
["veaux (aliments d'allaitement non compris)/calves ",null,{"$f":"Germany!H19","v":219},{"$f":"France!H19","v":238},{"$f":"Italy!H19","v":195},{"$f":"'The Netherlands'!H19","v":64},{"$f":"Belgium!H19","v":115},{"$f":"UK!H19","v":285},{"$f":"Ireland!H19","v":182},{"$f":"Denmark!H19","v":337},{"$f":"Spain!H19","v":":"},{"$f":"Portugal!H19","v":51},":",{"$f":"Sweden!H19","v":":"},{"$f":"Finland!H19","v":41},":"]
["(excluding milk replacers)/Kälber (exkl. Milchaustauscher)"]
["autres/others/Andere",null,{"$f":"Germany!H20","v":430},{"$f":"France!H20","v":274},{"$f":"Italy!H20","v":":"},{"$f":"'The Netherlands'!H20","v":":"},{"$f":"Belgium!H20","v":98},{"$f":"UK!H20","v":113},{"$f":"Ireland!H20","v":31},{"$f":"Denmark!H20","v":":"},{"$f":"Spain!H20","v":800},{"$f":"Portugal!H20","v":22},":",{"$f":"Sweden!H20","v":100},{"$f":"Finland!H20","v":466},":"]
[]
[]
["Porcins/Pigs/Suini/Schweine",null,{"$f":"C22+C23+C24+C25","v":{"v":5958,"d":"5,958"}},{"$f":"D22+D23+D24","v":{"v":6381,"d":"6,381"}},{"$f":"Italy!H23","v":{"v":2442,"d":"2,442"}},{"$f":"'The Netherlands'!H23","v":{"v":7405,"d":"7,405"}},{"$f":"G22+G25","v":{"v":3278,"d":"3,278"}},{"$f":"H22+H23+H24+H25","v":{"v":2453,"d":"2,453"}},618,{"$f":"J22+J23+J24","v":{"v":3306,"d":"3,306"}},{"$f":"K22+K23+K24+K25","v":{"v":6040,"d":"6,040"}},{"v":1311,"d":"1,311"},{"$f":"Austria!H23","v":261},{"$f":"N22+N23+N24","v":700},{"$f":"O22+O23+O24+O25","v":324},{"$f":"SUM(C21:O21)","v":{"v":40477,"d":"40,477"}}]
["porcelets/piglets/Ferkel",null,{"$f":"Germany!H24","v":{"v":1230,"d":"1,230"}},{"$f":"France!H24","v":797},{"$f":"Italy!H24","v":":"},{"$f":"'The Netherlands'!H24","v":930},{"$f":"Belgium!H24","v":774},{"$f":"UK!H24","v":165},{"$f":"Ireland!H24","v":102},{"$f":"Denmark!H24","v":611},{"$f":"Spain!H24","v":640},{"$f":"Portugal!H24","v":158},":",{"$f":"Sweden!H24","v":100},{"$f":"Finland!H24","v":38},":"]
["porcs engrais/pigs for fattening/Mastschweine",null,{"$f":"Germany!H25","v":{"v":2765,"d":"2,765"}},{"$f":"France!H25","v":{"v":4260,"d":"4,260"}},{"$f":"Italy!H25","v":":"},{"$f":"'The Netherlands'!H25","v":{"v":4953,"d":"4,953"}},{"$f":"Belgium!H25","v":":"},{"$f":"UK!H25","v":{"v":1541,"d":"1,541"}},{"$f":"Ireland!H25","v":357},{"$f":"Denmark!H25","v":{"v":2128,"d":"2,128"}},{"$f":"Spain!H25","v":{"v":4500,"d":"4,500"}},{"$f":"Portugal!H25","v":382},":",{"$f":"Sweden!H25","v":400},{"$f":"Finland!H25","v":208},":"]
["reproducteurs/breeding pigs/Zuchtschweine",null,{"$f":"Germany!H26","v":{"v":1070,"d":"1,070"}},{"$f":"France!H26","v":{"v":1324,"d":"1,324"}},{"$f":"Italy!H26","v":":"},{"$f":"'The Netherlands'!H26","v":{"v":1522,"d":"1,522"}},{"$f":"Belgium!H26","v":":"},{"$f":"UK!H26","v":702},{"$f":"Ireland!H26","v":145},{"$f":"Denmark!H26","v":567},{"$f":"Spain!H26","v":830},{"$f":"Portugal!H26","v":198},":",{"$f":"Sweden!H26","v":200},{"$f":"Finland!H26","v":31},":"]
["autres/others/Andere",null,{"$f":"Germany!H27","v":893},{"$f":"France!H27","v":":"},{"$f":"Italy!H27","v":":"},{"$f":"'The Netherlands'!H27","v":":"},{"$f":"Belgium!H27","v":{"v":2504,"d":"2,504"}},{"$f":"UK!H27","v":45},{"$f":"Ireland!H27","v":14},{"$f":"Denmark!H27","v":":"},{"$f":"Spain!H27","v":70},{"$f":"Portugal!H27","v":573},":",{"$f":"Sweden!H27","v":":"},{"$f":"Finland!H27","v":47},":"]
[{"$nulls":4}," "]
[]
["Volaille/Poultry/Volatili/Geflügel",null,{"$f":"C29+C30+C31","v":{"v":4002,"d":"4,002"}},{"v":8774,"d":"8,774"},{"v":4258,"d":"4,258"},{"$f":"'The Netherlands'!H30","v":{"v":3409,"d":"3,409"}},{"$f":"G29+G30+G31","v":{"v":1058,"d":"1,058"}},{"v":6135,"d":"6,135"},468,656,{"v":4050,"d":"4,050"},{"v":1323,"d":"1,323"},{"$f":"Austria!H30","v":435},{"$f":"N29+N30","v":500},{"$f":"O29+O30+O31","v":213},{"$f":"SUM(C28:O28)","v":{"v":35281,"d":"35,281"}}]
["broilers",null,{"$f":"Germany!H31","v":{"v":1525,"d":"1,525"}},{"$f":"France!H31","v":{"v":3297,"d":"3,297"}},{"$f":"Italy!H31","v":{"v":2085,"d":"2,085"}},{"$f":"'The Netherlands'!H31","v":{"v":1552,"d":"1,552"}},{"$f":"Belgium!H31","v":395},{"$f":"UK!H31","v":{"v":3049,"d":"3,049"}},{"$f":"Ireland!H31","v":258},{"$f":"Denmark!H31","v":543},{"$f":"Spain!H31","v":{"v":2100,"d":"2,100"}},{"$f":"Portugal!H31","v":750},":",{"$f":"Sweden!H31","v":250},{"$f":"Finland!H31","v":116},":"]
["poulettes & pondeuses/chicks & layers/Jung- & Legehennen",null,{"$f":"Germany!H32","v":{"v":2194,"d":"2,194"}},{"$f":"France!H32","v":{"v":2222,"d":"2,222"}},{"$f":"Italy!H32","v":{"v":1060,"d":"1,060"}},{"$f":"'The Netherlands'!H32","v":{"v":1857,"d":"1,857"}},{"$f":"Belgium!H32","v":384},{"$f":"UK!H32","v":{"v":1185,"d":"1,185"}},{"$f":"Ireland!H32","v":110},{"$f":"Denmark!H32","v":39},{"$f":"Spain!H32","v":{"v":1750,"d":"1,750"}},{"$f":"Portugal!H32","v":420},":",{"$f":"Sweden!H32","v":250},{"$f":"Finland!H32","v":92},":"]
["autres/others/Andere",null,{"$f":"Germany!H33","v":283},{"$f":"France!H33","v":{"v":3255,"d":"3,255"}},{"$f":"Italy!H33","v":{"v":1113,"d":"1,113"}},{"$f":"'The Netherlands'!H33","v":":"},{"$f":"Belgium!H33","v":279},{"$f":"UK!H33","v":{"v":1901,"d":"1,901"}},{"$f":"Ireland!H33","v":100},{"$f":"Denmark!H33","v":74},{"$f":"Spain!H33","v":200},{"$f":"Portugal!H33","v":153},":",{"$f":"Sweden!H33","v":":"},{"$f":"Finland!H33","v":5},":"]
[]
[]
["Al. d'allait./Milk replacers/Sostit. del latte/Milchaust.",null,{"$f":"Germany!H36","v":250},{"$f":"France!H36","v":555},{"$f":"Italy!H36","v":187},{"$f":"'The Netherlands'!H36","v":779},{"$f":"Belgium!H36","v":61},{"$f":"UK!H36","v":22},{"$f":"Ireland!H36","v":8},{"$f":"Denmark!H36","v":5},{"$f":"Spain!H36","v":60},{"$f":"Portugal!H36","v":0},{"$f":"Austria!H36","v":13},{"$f":"Sweden!H36","v":10},{"$f":"Finland!H36","v":":"},{"$f":"SUM(C34:O34)","v":{"v":1950,"d":"1,950"}}]
[]
[{"$nulls":4}," "]
["Autres/others/altri/Andere",null,{"$f":"Germany!H39","v":929},{"$f":"France!H39","v":{"v":1483,"d":"1,483"}},{"$f":"Italy!H39","v":{"v":1090,"d":"1,090"}},{"$f":"'The Netherlands'!H39","v":753},{"$f":"Belgium!H39","v":132},{"$f":"UK!H39","v":{"v":1111,"d":"1,111"}},{"$f":"Ireland!H39","v":323},{"$f":"Denmark!H39","v":164},{"$f":"Spain!H39","v":{"v":1312,"d":"1,312"}},{"$f":"Portugal!H39","v":244},{"$f":"Austria!H39","v":37},{"$f":"Sweden!H39","v":50},{"$f":"Finland!H39","v":128},{"$f":"SUM(C37:O37)","v":{"v":7756,"d":"7,756"}}]
[]
[]
["TOTAL",null,{"$f":"C37+C34+C28+C21+C13","v":{"v":18875,"d":"18,875"}},{"v":21230,"d":"21,230"},{"v":11779,"d":"11,779"},{"v":16372,"d":"16,372"},{"v":5746,"d":"5,746"},{"v":14482,"d":"14,482"},{"v":3371,"d":"3,371"},{"v":5653,"d":"5,653"},{"v":15112,"d":"15,112"},{"v":3997,"d":"3,997"},920,{"v":2460,"d":"2,460"},{"$f":"O37+O28+O21+O13","v":{"v":1172,"d":"1,172"}},{"$f":"P37+P34+P28+P21+P13","v":{"v":121169,"d":"121,169"}}]
[{"$nulls":5}," "]
[]
["* Sans le Luxembourg et la Grèce/ohne Luxemburg und Griechenland/Without Luxemburg and Greece/Senza Lussemburgo e Ella"]
[]
[": non disponible/not available/nicht verfügbar"]

{"sheet":"96-95","index":13,"n_rows":47,"n_cols":24,"rows_kept":47}
["2001-07-04"]
[]
["PRODUCTION INDUSTRIELLE D'ALIMENTS COMPOSES",{"$nulls":22},"INDUSTRIELLE  MISCHFUTTERPRODUKTION"]
["PRODUZIONE INDUSTRIALE DI MANGIMI COMPOSTI",{"$nulls":11},"1995-1996",{"$nulls":10},"INDUSTRIAL COMPOUND PRODUCTION"]
[{"$nulls":12},"definitif/final",{"$nulls":10},"(1 000 t )"]
[]
[]
[]
["PAYS",null,"      BOVINS/RINDER",{"$nulls":3},"    PORCS/SCHWEINE",{"$nulls":3},"     VOLAILLE/GEFLÜGEL",null,"      A. ALLAITEMENT/MILCHAUST.",{"$nulls":5},"     AUTRES/ANDERE",null,null,"       TOTAL/INSGESAMT"]
["LAND",null,"      BOVINI/CATTLE",{"$nulls":3},"    SUINI/PIGS",{"$nulls":3},"     VOLATILI/POULTRY",null,"  SOSTIT. DEL LATTE/MILKREPLACERS",{"$nulls":5},"ALTRI ANIMALI/OTHERS",null,null,"          TOTALE/TOTAL"]
["PAESE"]
["COUNTRY",1995,1996,"%TAV",null,1995,1996,"%TAV",null,1995,1996,"%TAV",null,1995,1996,"%TAV",null,1995,1996,"%TAV",null,1995,1996,"%TAV"]
[]
[]
["D",{"$f":"Germany!H$16","v":{"v":7736,"d":"7,736"}},{"$f":"Germany!I$16","v":{"v":8108,"d":"8,108"}},{"$f":"((C15/B15)-1)*100","v":{"v":4.808686659772499,"d":"4.8"}},null,{"$f":"Germany!H$23","v":{"v":5958,"d":"5,958"}},{"$f":"Germany!I$23","v":{"v":6245,"d":"6,245"}},{"$f":"((G15/F15)-1)*100","v":{"v":4.8170527022490806,"d":"4.8"}},null,{"$f":"Germany!H$30","v":{"v":4002,"d":"4,002"}},{"$f":"Germany!I$30","v":{"v":4136,"d":"4,136"}},{"$f":"((K15/J15)-1)*100","v":{"v":3.3483258370814672,"d":"3.3"}},null,{"$f":"Germany!H$36","v":250},{"$f":"Germany!I$36","v":246},{"$f":"((O15/N15)-1)*100","v":{"v":-1.6000000000000014,"d":"-1.6"}},null,{"$f":"Germany!H$39","v":929},{"$f":"Germany!I$39","v":599},{"$f":"((S15/R15)-1)*100","v":{"v":-35.522066738428414,"d":"-35.5"}},null,{"$f":"R15+N15+J15+F15+B15","v":{"v":18875,"d":"18,875"}},{"v":19334,"d":"19,334"},{"$f":"((W15/V15)-1)*100","v":{"v":2.4317880794701985,"d":"2.4"}}]
[]
["F ",{"$f":"France!H$16","v":{"v":4037,"d":"4,037"}},{"$f":"France!I$16","v":{"v":4170,"d":"4,170"}},{"$f":"((C17/B17)-1)*100","v":{"v":3.2945256378498877,"d":"3.3"}},null,{"$f":"France!H$23","v":{"v":6381,"d":"6,381"}},{"$f":"France!I$23","v":{"v":6663,"d":"6,663"}},{"$f":"((G17/F17)-1)*100","v":{"v":4.419370004701451,"d":"4.4"}},null,{"$f":"France!H$30","v":{"v":8774,"d":"8,774"}},{"$f":"France!I$30","v":{"v":9136,"d":"9,136"}},{"$f":"((K17/J17)-1)*100","v":{"v":4.125826304992031,"d":"4.1"}},null,{"$f":"France!H$36","v":555},{"$f":"France!I$36","v":534},{"$f":"((O17/N17)-1)*100","v":{"v":-3.7837837837837784,"d":"-3.8"}},null,{"$f":"France!H$39","v":{"v":1483,"d":"1,483"}},{"$f":"France!I$39","v":{"v":1500,"d":"1,500"}},{"$f":"((S17/R17)-1)*100","v":{"v":1.1463250168577188,"d":"1.1"}},null,{"$f":"R17+N17+J17+F17+B17","v":{"v":21230,"d":"21,230"}},{"v":22003,"d":"22,003"},{"$f":"((W17/V17)-1)*100","v":{"v":3.6410739519547874,"d":"3.6"}}]
[{"$nulls":3}," "]
["I ",{"$f":"Italy!H$16","v":{"v":3802,"d":"3,802"}},{"$f":"Italy!I$16","v":{"v":3784,"d":"3,784"}},{"$f":"((C19/B19)-1)*100","v":{"v":-0.4734350341925264,"d":"-0.5"}},null,{"$f":"Italy!H$23","v":{"v":2442,"d":"2,442"}},{"$f":"Italy!I$23","v":{"v":2414,"d":"2,414"}},{"$f":"((G19/F19)-1)*100","v":{"v":-1.146601146601145,"d":"-1.1"}},null,{"$f":"Italy!H$30","v":{"v":4258,"d":"4,258"}},{"$f":"Italy!I$30","v":{"v":4272,"d":"4,272"}},{"$f":"((K19/J19)-1)*100","v":{"v":0.32879286049789513,"d":"0.3"}},null,{"$f":"Italy!H$36","v":187},{"$f":"Italy!I$36","v":175},{"$f":"((O19/N19)-1)*100","v":{"v":-6.417112299465244,"d":"-6.4"}},null,{"$f":"Italy!H$39","v":{"v":1090,"d":"1,090"}},{"$f":"Italy!I$39","v":{"v":1030,"d":"1,030"}},{"$f":"((S19/R19)-1)*100","v":{"v":-5.5045871559633035,"d":"-5.5"}},null,{"$f":"R19+N19+J19+F19+B19","v":{"v":11779,"d":"11,779"}},{"v":11675,"d":"11,675"},{"$f":"((W19/V19)-1)*100","v":{"v":-0.8829272433992674,"d":"-0.9"}}]
[]
["NL   ",{"$f":"'The Netherlands'!H$16","v":{"v":4026,"d":"4,026"}},{"$f":"'The Netherlands'!I$16","v":{"v":3804,"d":"3,804"}},{"$f":"((C21/B21)-1)*100","v":{"v":-5.514157973174372,"d":"-5.5"}},null,{"$f":"'The Netherlands'!H$23","v":{"v":7405,"d":"7,405"}},{"$f":"'The Netherlands'!I$23","v":{"v":7459,"d":"7,459"}},{"$f":"((G21/F21)-1)*100","v":{"v":0.7292370020256511,"d":"0.7"}},null,{"$f":"'The Netherlands'!H$30","v":{"v":3409,"d":"3,409"}},{"$f":"'The Netherlands'!I$30","v":{"v":3581,"d":"3,581"}},{"$f":"((K21/J21)-1)*100","v":{"v":5.045467879143439,"d":"5.0"}},null,{"$f":"'The Netherlands'!H$36","v":779},{"$f":"'The Netherlands'!I$36","v":745},{"$f":"((O21/N21)-1)*100","v":{"v":-4.364569961489084,"d":"-4.4"}},null,{"$f":"'The Netherlands'!H$39","v":753},{"$f":"'The Netherlands'!I$39","v":784},{"$f":"((S21/R21)-1)*100","v":{"v":4.116865869853914,"d":"4.1"}},null,{"$f":"R21+N21+J21+F21+B21","v":{"v":16372,"d":"16,372"}},{"v":16373,"d":"16,373"},{"$f":"((W21/V21)-1)*100","v":{"v":0.006107989249937162,"d":"0.0"}}]
[{"$nulls":3}," "]
["B ",{"$f":"Belgium!H$16","v":{"v":1217,"d":"1,217"}},{"$f":"Belgium!I$16","v":{"v":1142,"d":"1,142"}},{"$f":"((C23/B23)-1)*100","v":{"v":-6.162695152013143,"d":"-6.2"}},null,{"$f":"Belgium!H$23","v":{"v":3278,"d":"3,278"}},{"$f":"Belgium!I$23","v":{"v":3454,"d":"3,454"}},{"$f":"((G23/F23)-1)*100","v":{"v":5.369127516778516,"d":"5.4"}},null,{"$f":"Belgium!H$30","v":{"v":1058,"d":"1,058"}},{"$f":"Belgium!I$30","v":{"v":1055,"d":"1,055"}},{"$f":"((K23/J23)-1)*100","v":{"v":-0.2835538752362976,"d":"-0.3"}},null,{"$f":"Belgium!H$36","v":61},{"$f":"Belgium!I$36","v":55},{"$f":"((O23/N23)-1)*100","v":{"v":-9.836065573770492,"d":"-9.8"}},null,{"$f":"Belgium!H$39","v":132},{"$f":"Belgium!I$39","v":149},{"$f":"((S23/R23)-1)*100","v":{"v":12.87878787878789,"d":"12.9"}},null,{"$f":"R23+N23+J23+F23+B23","v":{"v":5746,"d":"5,746"}},{"v":5855,"d":"5,855"},{"$f":"((W23/V23)-1)*100","v":{"v":1.8969718064740793,"d":"1.9"}}]
[{"$nulls":3}," "]
["UK ",{"$f":"UK!H$16","v":{"v":4761,"d":"4,761"}},{"$f":"UK!I$16","v":{"v":4702,"d":"4,702"}},{"$f":"((C25/B25)-1)*100","v":{"v":-1.2392354547363982,"d":"-1.2"}},null,{"$f":"UK!H$23","v":{"v":2453,"d":"2,453"}},{"$f":"UK!I$23","v":{"v":2566,"d":"2,566"}},{"$f":"((G25/F25)-1)*100","v":{"v":4.606604158173666,"d":"4.6"}},null,{"$f":"UK!H$30","v":{"v":6135,"d":"6,135"}},{"$f":"UK!I$30","v":{"v":6291,"d":"6,291"}},{"$f":"((K25/J25)-1)*100","v":{"v":2.5427872860635636,"d":"2.5"}},null,{"$f":"UK!H$36","v":22},{"$f":"UK!I$36","v":20},{"$f":"((O25/N25)-1)*100","v":{"v":-9.090909090909093,"d":"-9.1"}},null,{"$f":"UK!H39","v":{"v":1111,"d":"1,111"}},{"$f":"UK!I39","v":{"v":1262,"d":"1,262"}},{"$f":"((S25/R25)-1)*100","v":{"v":13.591359135913583,"d":"13.6"}},null,{"$f":"R25+J25+F25+B25+N25","v":{"v":14482,"d":"14,482"}},{"v":14841,"d":"14,841"},{"$f":"((W25/V25)-1)*100","v":{"v":2.478939373014777,"d":"2.5"}}]
[{"$nulls":3}," "]
["IRL ",{"$f":"Ireland!H$16","v":{"v":1954,"d":"1,954"}},{"$f":"Ireland!I$16","v":{"v":1714,"d":"1,714"}},{"$f":"((C27/B27)-1)*100","v":{"v":-12.282497441146367,"d":"-12.3"}},null,{"$f":"Ireland!H$23","v":618},{"$f":"Ireland!I$23","v":685},{"$f":"((G27/F27)-1)*100","v":{"v":10.841423948220076,"d":"10.8"}},null,{"$f":"Ireland!H$30","v":468},{"$f":"Ireland!I$30","v":468},{"$f":"((K27/J27)-1)*100","v":{"v":0,"d":"0.0"}},null,{"$f":"Ireland!H$36","v":8},{"$f":"Ireland!I$36","v":6},{"$f":"((O27/N27)-1)*100","v":{"v":-25,"d":"-25.0"}},null,{"$f":"Ireland!H$39","v":323},{"$f":"Ireland!I$39","v":289},{"$f":"((S27/R27)-1)*100","v":{"v":-10.526315789473683,"d":"-10.5"}},null,{"$f":"R27+N27+J27+F27+B27","v":{"v":3371,"d":"3,371"}},{"v":3162,"d":"3,162"},{"$f":"((W27/V27)-1)*100","v":{"v":-6.199940670424208,"d":"-6.2"}}]
[{"$nulls":3}," "]
["DK ",{"$f":"Denmark!H$16","v":{"v":1522,"d":"1,522"}},{"$f":"Denmark!I$16","v":{"v":1517,"d":"1,517"}},{"$f":"((C29/B29)-1)*100","v":{"v":-0.3285151116951379,"d":"-0.3"}},null,{"$f":"Denmark!H$23","v":{"v":3306,"d":"3,306"}},{"$f":"Denmark!I$23","v":{"v":3429,"d":"3,429"}},{"$f":"((G29/F29)-1)*100","v":{"v":3.7205081669691387,"d":"3.7"}},null,{"$f":"Denmark!H$30","v":656},{"$f":"Denmark!I$30","v":651},{"$f":"((K29/J29)-1)*100","v":{"v":-0.7621951219512146,"d":"-0.8"}},null,{"$f":"Denmark!H$36","v":5},{"$f":"Denmark!I$36","v":5},{"$f":"((O29/N29)-1)*100","v":{"v":0,"d":"0.0"}},null,{"$f":"Denmark!H$39","v":164},{"$f":"Denmark!I$39","v":144},{"$f":"((S29/R29)-1)*100","v":{"v":-12.195121951219512,"d":"-12.2"}},null,{"$f":"R29+N29+J29+F29+B29","v":{"v":5653,"d":"5,653"}},{"v":5746,"d":"5,746"},{"$f":"((W29/V29)-1)*100","v":{"v":1.6451441712365122,"d":"1.6"}}]
[]
["ESP ",{"$f":"Spain!H$16","v":{"v":3650,"d":"3,650"}},{"$f":"Spain!I$16","v":{"v":3150,"d":"3,150"}},{"$f":"((C31/B31)-1)*100","v":{"v":-13.698630136986301,"d":"-13.7"}},null,{"$f":"Spain!H$23","v":{"v":6040,"d":"6,040"}},{"$f":"Spain!I$23","v":{"v":6530,"d":"6,530"}},{"$f":"((G31/F31)-1)*100","v":{"v":8.112582781456945,"d":"8.1"}},null,{"$f":"Spain!H$30","v":{"v":4050,"d":"4,050"}},{"$f":"Spain!I$30","v":{"v":4100,"d":"4,100"}},{"$f":"((K31/J31)-1)*100","v":{"v":1.2345679012345734,"d":"1.2"}},null,{"$f":"Spain!H$36","v":60},{"$f":"Spain!I$36","v":60},{"$f":"((O31/N31)-1)*100","v":{"v":0,"d":"0.0"}},null,{"$f":"Spain!H$39","v":{"v":1312,"d":"1,312"}},{"$f":"Spain!I$39","v":{"v":1200,"d":"1,200"}},{"$f":"((S31/R31)-1)*100","v":{"v":-8.536585365853655,"d":"-8.5"}},null,{"$f":"R31+N31+J31+F31+B31","v":{"v":15112,"d":"15,112"}},{"v":15040,"d":"15,040"},{"$f":"((W31/V31)-1)*100","v":{"v":-0.47644256220222836,"d":"-0.5"}}]
[{"$nulls":3}," ",{"$nulls":17}," "," "]
["P ",{"$f":"Portugal!H$16","v":{"v":1119,"d":"1,119"}},{"$f":"Portugal!I$16","v":{"v":1090,"d":"1,090"}},{"$f":"((C33/B33)-1)*100","v":{"v":-2.5915996425379784,"d":"-2.6"}},null,{"$f":"Portugal!H$23","v":{"v":1311,"d":"1,311"}},{"$f":"Portugal!I$23","v":{"v":1300,"d":"1,300"}},{"$f":"((G33/F33)-1)*100","v":{"v":-0.8390541571319576,"d":"-0.8"}},null,{"$f":"Portugal!H$30","v":{"v":1323,"d":"1,323"}},{"$f":"Portugal!I$30","v":{"v":1330,"d":"1,330"}},{"$f":"((K33/J33)-1)*100","v":{"v":0.5291005291005346,"d":"0.5"}},null,{"$f":"Portugal!H$36","v":0},{"$f":"Portugal!I$36","v":0},{"v":0,"d":"0.0"},null,{"$f":"Portugal!H$39","v":244},{"$f":"Portugal!I$39","v":236},{"$f":"((S33/R33)-1)*100","v":{"v":-3.2786885245901676,"d":"-3.3"}},null,{"$f":"R33+N33+J33+F33+B33","v":{"v":3997,"d":"3,997"}},{"v":3956,"d":"3,956"},{"$f":"((W33/V33)-1)*100","v":{"v":-1.0257693269952517,"d":"-1.0"}}]
[]
["A",{"$f":"Austria!H$16","v":174},{"$f":"Austria!I$16","v":202},{"$f":"((C35/B35)-1)*100","v":{"v":16.09195402298851,"d":"16.1"}},null,{"$f":"Austria!H$23","v":261},{"$f":"Austria!I$23","v":229},{"$f":"((G35/F35)-1)*100","v":{"v":-12.260536398467437,"d":"-12.3"}},null,{"$f":"Austria!H$30","v":435},{"$f":"Austria!I$30","v":399},{"$f":"((K35/J35)-1)*100","v":{"v":-8.275862068965523,"d":"-8.3"}},null,{"$f":"Austria!H$36","v":13},{"$f":"Austria!I$36","v":4},{"$f":"((O35/N35)-1)*100","v":{"v":-69.23076923076923,"d":"-69.2"}},null,{"$f":"Austria!H$39","v":37},{"$f":"Austria!I$39","v":64},{"$f":"((S35/R35)-1)*100","v":{"v":72.97297297297298,"d":"73.0"}},null,{"$f":"R35+N35+J35+F35+B35","v":920},898,{"$f":"((W35/V35)-1)*100","v":{"v":-2.3913043478260843,"d":"-2.4"}}]
[]
["S",{"$f":"Sweden!H$16","v":{"v":1200,"d":"1,200"}},{"$f":"Sweden!I$16","v":{"v":1220,"d":"1,220"}},{"$f":"((C37/B37)-1)*100","v":{"v":1.6666666666666607,"d":"1.7"}},null,{"$f":"Sweden!H$23","v":700},{"$f":"Sweden!I$23","v":700},{"$f":"((G37/F37)-1)*100","v":{"v":0,"d":"0.0"}},null,{"$f":"Sweden!H$30","v":500},{"$f":"Sweden!I$30","v":540},{"$f":"((K37/J37)-1)*100","v":{"v":8.000000000000007,"d":"8.0"}},null,{"$f":"Sweden!H$36","v":10},{"$f":"Sweden!I$36","v":10},{"$f":"((O37/N37)-1)*100","v":{"v":0,"d":"0.0"}},null,{"$f":"Sweden!H$39","v":50},{"$f":"Sweden!I$39","v":50},{"$f":"((S37/R37)-1)*100","v":{"v":0,"d":"0.0"}},null,{"$f":"R37+N37+J37+F37+B37","v":{"v":2460,"d":"2,460"}},{"v":2520,"d":"2,520"},{"$f":"((W37/V37)-1)*100","v":{"v":2.4390243902439046,"d":"2.4"}}]
[]
["FIN",{"$f":"Finland!H$16","v":507},{"$f":"Finland!I$16","v":472},{"$f":"((C39/B39)-1)*100","v":{"v":-6.903353057199213,"d":"-6.9"}},null,{"$f":"Finland!H$23","v":324},{"$f":"Finland!I$23","v":322},{"$f":"((G39/F39)-1)*100","v":{"v":-0.6172839506172867,"d":"-0.6"}},null,{"$f":"Finland!H$30","v":213},{"$f":"Finland!I$30","v":222},{"$f":"((K39/J39)-1)*100","v":{"v":4.225352112676051,"d":"4.2"}},null,{"$f":"Finland!H$36","v":":"},{"$f":"Finland!I$36","v":":"},null,null,{"$f":"Finland!H$39","v":128},{"$f":"Finland!I$39","v":145},{"$f":"((S39/R39)-1)*100","v":{"v":13.28125,"d":"13.3"}},null,{"$f":"R39+J39+F39+B39","v":{"v":1172,"d":"1,172"}},{"v":1161,"d":"1,161"},{"$f":"((W39/V39)-1)*100","v":{"v":-0.9385665529010212,"d":"-0.9"}}]
[]
[{"$nulls":3}," "]
["EUR 15 *",{"$f":"B39+B37+B35+B33+B31+B29+B27+B25+B23+B21+B19+B17+B15","v":{"v":35705,"d":"35,705"}},{"v":35075,"d":"35,075"},{"$f":"((C42/B42)-1)*100","v":{"v":-1.7644587592774097,"d":"-1.8"}},null,{"$f":"F39+F37+F35+F33+F31+F29+F27+F25+F23+F21+F19+F17+F15","v":{"v":40477,"d":"40,477"}},{"v":41996,"d":"41,996"},{"$f":"((G42/F42)-1)*100","v":{"v":3.752748474442269,"d":"3.8"}},null,{"$f":"J39+J37+J35+J33+J31+J29+J27+J25+J23+J21+J19+J17+J15","v":{"v":35281,"d":"35,281"}},{"v":36181,"d":"36,181"},{"$f":"((K42/J42)-1)*100","v":{"v":2.550948102378059,"d":"2.6"}},null,{"$f":"N37+N35+N33+N31+N29+N27+N23+N21+N19+N17+N15+N25","v":{"v":1950,"d":"1,950"}},{"v":1860,"d":"1,860"},{"$f":"((O42/N42)-1)*100","v":{"v":-4.61538461538461,"d":"-4.6"}},null,{"$f":"R39+R37+R35+R33+R31+R29+R27+R25+R23+R21+R19+R17+R15","v":{"v":7756,"d":"7,756"}},{"v":7452,"d":"7,452"},{"$f":"((S42/R42)-1)*100","v":{"v":-3.919546157813303,"d":"-3.9"}},null,{"$f":"V39+V37+V35+V33+V31+V29+V27+V25+V23+V21+V19+V17+V15","v":{"v":121169,"d":"121,169"}},{"v":122564,"d":"122,564"},{"$f":"((W42/V42)-1)*100","v":{"v":1.1512845694855889,"d":"1.2"}}]
[]
[{"$nulls":23}," "]
["* Sans le Luxembourg et la Grèce/Ohne Luxemburg und Griechenland/Without Luxemburg and Greece/Senza Lussemburgo e Ellas"]
[]
[": non disponible/not available"]

{"sheet":"1996","index":14,"n_rows":45,"n_cols":16,"rows_kept":45,"merged":[[4,0,4,15],[5,0,5,15]]}
["2001-07-04"]
[]
["PRODUCTION INDUSTRIELLE D'ALIMENTS COMPOSES ",{"$nulls":14},"INDUSTRIELLE  MISCHFUTTERPRODUKTION"]
["PRODUZIONE INDUSTRIALE DI MANGIMI COMPOSTI",{"$nulls":14},"INDUSTRIAL COMPOUND PRODUCTION"]
[1996]
["definitif/final"]
[{"$nulls":15},"(1 000 t)"]
[]
["Catégories d'aliments composés/Mischfutterarten",null,"D","F","I","NL","B","UK","IRL","DK","ESP","P","A","S","FIN","EUR-15"]
["Tipi di mangimi compositi/Types of feed",{"$nulls":14},"*"]
[]
[null,null," ",{"$nulls":4}," ",null,null," "]
["Bovins/Cattle/Bovini/Rinder",null,{"$f":"C14+C15+C16+C18","v":{"v":8108,"d":"8,108"}},{"v":4170,"d":"4,170"},{"$f":"E14+E15+E16","v":{"v":3784,"d":"3,784"}},{"$f":"'The Netherlands'!I16","v":{"v":3804,"d":"3,804"}},{"$f":"G14+G15+G16+G18","v":{"v":1142,"d":"1,142"}},{"v":4702,"d":"4,702"},{"v":1714,"d":"1,714"},{"$f":"J14+J15+J16","v":{"v":1517,"d":"1,517"}},{"$f":"K14+K15+K18","v":{"v":3150,"d":"3,150"}},{"$f":"L14+L15+L16+L18","v":{"v":1090,"d":"1,090"}},{"$f":"Austria!I16","v":202},{"$f":"N15+N18","v":{"v":1220,"d":"1,220"}},{"$f":"O18+O16","v":472},{"$f":"SUM(C13:O13)","v":{"v":35075,"d":"35,075"}}]
["engrais/fattening/Mast  ",null,{"$f":"Germany!I17","v":566},{"$f":"France!I17","v":618},{"$f":"Italy!I17","v":{"v":1042,"d":"1,042"}},{"$f":"'The Netherlands'!I17","v":318},{"$f":"Belgium!I17","v":387},{"$f":"UK!I17","v":{"v":1220,"d":"1,220"}},{"$f":"Ireland!I17","v":695},{"$f":"Denmark!I17","v":585},{"$f":"Spain!I17","v":{"v":1400,"d":"1,400"}},{"$f":"Portugal!I17","v":425},":",{"$f":"Sweden!I17","v":":"},{"$f":"Finland!I17","v":":"},":"]
["VL/dairy cow/Milchkühe",null,{"$f":"Germany!I18","v":{"v":6563,"d":"6,563"}},{"$f":"France!I18","v":{"v":3042,"d":"3,042"}},{"$f":"Italy!I18","v":{"v":2549,"d":"2,549"}},{"$f":"'The Netherlands'!I18","v":{"v":3418,"d":"3,418"}},{"$f":"Belgium!I18","v":565},{"$f":"UK!I18","v":{"v":3112,"d":"3,112"}},{"$f":"Ireland!I18","v":811},{"$f":"Denmark!I18","v":585},{"$f":"Spain!I18","v":{"v":1250,"d":"1,250"}},{"$f":"Portugal!I18","v":599},":",{"$f":"Sweden!I18","v":{"v":1120,"d":"1,120"}},{"$f":"Finland!I18","v":":"},":"]
["veaux (aliments d'allaitement non compris)/calves ",null,{"$f":"Germany!I19","v":194},{"$f":"France!I19","v":233},{"$f":"Italy!I19","v":193},{"$f":"'The Netherlands'!I19","v":68},{"$f":"Belgium!I19","v":98},{"$f":"UK!I19","v":254},{"$f":"Ireland!I19","v":179},{"$f":"Denmark!I19","v":347},{"$f":"Spain!I19","v":":"},{"$f":"Portugal!I19","v":46},":",{"$f":"Sweden!I19","v":":"},{"$f":"Finland!I19","v":37},":"]
["(excluding milk replacers)/Kälber (exkl. Milchaustauscher)"]
["autres/others/Andere",null,{"$f":"Germany!I20","v":785},{"$f":"France!I20","v":277},{"$f":"Italy!I20","v":":"},{"$f":"'The Netherlands'!I20","v":":"},{"$f":"Belgium!I20","v":92},{"$f":"UK!I20","v":116},{"$f":"Ireland!I20","v":29},{"$f":"Denmark!I20","v":":"},{"$f":"Spain!I20","v":500},{"$f":"Portugal!I20","v":20},":",{"$f":"Sweden!I20","v":100},{"$f":"Finland!I20","v":435},":"]
[]
[]
["Porcins/Pigs/Suini/Schweine",null,{"$f":"C22+C23+C24+C25","v":{"v":6245,"d":"6,245"}},{"$f":"D22+D23+D24","v":{"v":6663,"d":"6,663"}},{"$f":"Italy!I23","v":{"v":2414,"d":"2,414"}},{"$f":"'The Netherlands'!I23","v":{"v":7459,"d":"7,459"}},{"$f":"G22+G23","v":{"v":3454,"d":"3,454"}},{"$f":"H22+H23+H24+H25","v":{"v":2566,"d":"2,566"}},685,{"$f":"J22+J23+J24","v":{"v":3429,"d":"3,429"}},{"$f":"K22+K23+K24+K25","v":{"v":6530,"d":"6,530"}},{"v":1300,"d":"1,300"},{"$f":"Austria!I23","v":229},{"$f":"N22+N23+N24","v":700},{"$f":"O22+O23+O24+O25","v":322},{"$f":"SUM(C21:O21)","v":{"v":41996,"d":"41,996"}}]
["porcelets/piglets/Ferkel",null,{"$f":"Germany!I24","v":{"v":1179,"d":"1,179"}},{"$f":"France!I24","v":835},{"$f":"Italy!I24","v":":"},{"$f":"'The Netherlands'!I24","v":819},{"$f":"Belgium!I24","v":757},{"$f":"UK!I24","v":162},{"$f":"Ireland!I24","v":106},{"$f":"Denmark!I24","v":575},{"$f":"Spain!I24","v":700},{"$f":"Portugal!I24","v":156},":",{"$f":"Sweden!I24","v":100},{"$f":"Finland!I24","v":40},":"]
["porcs engrais/pigs for fattening/Mastschweine",null,{"$f":"Germany!I25","v":{"v":2994,"d":"2,994"}},{"$f":"France!I25","v":{"v":4451,"d":"4,451"}},{"$f":"Italy!I25","v":":"},{"$f":"'The Netherlands'!I25","v":{"v":5090,"d":"5,090"}},{"$f":"Belgium!I25","v":{"v":2697,"d":"2,697"}},{"$f":"UK!I25","v":{"v":1610,"d":"1,610"}},{"$f":"Ireland!I25","v":401},{"$f":"Denmark!I25","v":{"v":2186,"d":"2,186"}},{"$f":"Spain!I25","v":{"v":4850,"d":"4,850"}},{"$f":"Portugal!I25","v":380},":",{"$f":"Sweden!I25","v":400},{"$f":"Finland!I25","v":200},":"]
["reproducteurs/breeding pigs/Zuchtschweine",null,{"$f":"Germany!I26","v":{"v":1134,"d":"1,134"}},{"$f":"France!I26","v":{"v":1377,"d":"1,377"}},{"$f":"Italy!I26","v":":"},{"$f":"'The Netherlands'!I26","v":{"v":1550,"d":"1,550"}},{"$f":"Belgium!I26","v":":"},{"$f":"UK!I26","v":751},{"$f":"Ireland!I26","v":161},{"$f":"Denmark!I26","v":668},{"$f":"Spain!I26","v":910},{"$f":"Portugal!I26","v":196},":",{"$f":"Sweden!I26","v":200},{"$f":"Finland!I26","v":31},":"]
["autres/others/Andere",null,{"$f":"Germany!I27","v":938},{"$f":"France!I27","v":":"},{"$f":"Italy!I27","v":":"},{"$f":"'The Netherlands'!I27","v":":"},{"$f":"Belgium!I27","v":":"},{"$f":"UK!I27","v":43},{"$f":"Ireland!I27","v":17},{"$f":"Denmark!I27","v":":"},{"$f":"Spain!I27","v":70},{"$f":"Portugal!I27","v":568},":",{"$f":"Sweden!I27","v":":"},{"$f":"Finland!I27","v":51},":"]
[{"$nulls":4}," "]
[]
["Volaille/Poultry/Volatili/Geflügel",null,{"$f":"C29+C30","v":{"v":4136,"d":"4,136"}},{"$f":"D29+D30+D31","v":{"v":9136,"d":"9,136"}},{"v":4272,"d":"4,272"},{"$f":"'The Netherlands'!I30","v":{"v":3581,"d":"3,581"}},{"$f":"G29+G30+G31","v":{"v":1055,"d":"1,055"}},{"v":6291,"d":"6,291"},468,651,{"v":4100,"d":"4,100"},{"v":1330,"d":"1,330"},{"$f":"Austria!I30","v":399},{"$f":"N29+N30+N31","v":540},222,{"$f":"SUM(C28:O28)","v":{"v":36181,"d":"36,181"}}]
["broilers",null,{"$f":"Germany!I31","v":{"v":1898,"d":"1,898"}},{"$f":"France!I31","v":{"v":3437,"d":"3,437"}},{"$f":"Italy!I31","v":{"v":2090,"d":"2,090"}},{"$f":"'The Netherlands'!I31","v":{"v":1645,"d":"1,645"}},{"$f":"Belgium!I31","v":396},{"$f":"UK!I31","v":{"v":3102,"d":"3,102"}},{"$f":"Ireland!I31","v":269},{"$f":"Denmark!I31","v":541},{"$f":"Spain!I31","v":{"v":2100,"d":"2,100"}},{"$f":"Portugal!I31","v":758},":",{"$f":"Sweden!I31","v":250},{"$f":"Finland!I31","v":131},":"]
["poulettes & pondeuses/chicks & layers/Jung- & Legehennen",null,{"$f":"Germany!I32","v":{"v":2238,"d":"2,238"}},{"$f":"France!I32","v":{"v":2313,"d":"2,313"}},{"$f":"Italy!I32","v":{"v":1075,"d":"1,075"}},{"$f":"'The Netherlands'!I32","v":{"v":1936,"d":"1,936"}},{"$f":"Belgium!I32","v":369},{"$f":"UK!I32","v":{"v":1285,"d":"1,285"}},{"$f":"Ireland!I32","v":104},{"$f":"Denmark!I32","v":38},{"$f":"Spain!I32","v":{"v":1800,"d":"1,800"}},{"$f":"Portugal!I32","v":418},":",{"$f":"Sweden!I32","v":250},{"$f":"Finland!I32","v":85},":"]
["autres/others/Andere",null,{"$f":"Germany!I33","v":":"},{"$f":"France!I33","v":{"v":3386,"d":"3,386"}},{"$f":"Italy!I33","v":{"v":1107,"d":"1,107"}},{"$f":"'The Netherlands'!I33","v":":"},{"$f":"Belgium!I33","v":290},{"$f":"UK!I33","v":{"v":1904,"d":"1,904"}},{"$f":"Ireland!I33","v":95},{"$f":"Denmark!I33","v":72},{"$f":"Spain!I33","v":200},{"$f":"Portugal!I33","v":154},":",{"$f":"Sweden!I33","v":40},{"$f":"Finland!I33","v":6},":"]
[]
[]
["Al. d'allait./Milk replacers/Sostit. del latte/Milchaust.",null,{"$f":"Germany!I36","v":246},{"$f":"France!I36","v":534},{"$f":"Italy!I36","v":175},{"$f":"'The Netherlands'!I36","v":745},{"$f":"Belgium!I36","v":55},{"$f":"UK!I36","v":20},{"$f":"Ireland!I36","v":6},{"$f":"Denmark!I36","v":5},{"$f":"Spain!I36","v":60},{"$f":"Portugal!I36","v":0},{"$f":"Austria!I36","v":4},{"$f":"Sweden!I36","v":10},{"$f":"Finland!I36","v":":"},{"$f":"SUM(C34:O34)","v":{"v":1860,"d":"1,860"}}]
[]
[{"$nulls":4}," "]
["Autres/others/altri/Andere",null,{"$f":"Germany!I39","v":599},{"$f":"France!I39","v":{"v":1500,"d":"1,500"}},{"$f":"Italy!I39","v":{"v":1030,"d":"1,030"}},{"$f":"'The Netherlands'!I39","v":784},{"$f":"Belgium!I39","v":149},{"$f":"UK!I39","v":{"v":1262,"d":"1,262"}},{"$f":"Ireland!I39","v":289},{"$f":"Denmark!I39","v":144},{"$f":"Spain!I39","v":{"v":1200,"d":"1,200"}},{"$f":"Portugal!I39","v":236},{"$f":"Austria!I39","v":64},{"$f":"Sweden!I39","v":50},{"$f":"Finland!I39","v":145},{"$f":"SUM(C37:O37)","v":{"v":7452,"d":"7,452"}}]
[]
[]
["TOTAL",null,{"$f":"C37+C34+C28+C21+C13","v":{"v":19334,"d":"19,334"}},{"v":22003,"d":"22,003"},{"v":11675,"d":"11,675"},{"v":16373,"d":"16,373"},{"v":5855,"d":"5,855"},{"v":14841,"d":"14,841"},{"v":3162,"d":"3,162"},{"v":5746,"d":"5,746"},{"v":15040,"d":"15,040"},{"v":3956,"d":"3,956"},898,{"v":2520,"d":"2,520"},{"$f":"O37+O28+O21+O13","v":{"v":1161,"d":"1,161"}},{"$f":"P37+P34+P28+P21+P13","v":{"v":122564,"d":"122,564"}}]
[{"$nulls":5}," "]
[]
["* Sans le Luxembourg et la Grèce/ohne Luxemburg und Griechenland/Without Luxemburg and Greece/Senza Lussemburgo e Ella"]
[]
[": non disponible/not available/nicht verfügbar"]

{"sheet":"97-96","index":15,"n_rows":47,"n_cols":24,"rows_kept":47}
["2001-07-04"]
[]
["PRODUCTION INDUSTRIELLE D'ALIMENTS COMPOSES",{"$nulls":22},"INDUSTRIELLE  MISCHFUTTERPRODUKTION"]
["PRODUZIONE INDUSTRIALE DI MANGIMI COMPOSTI",{"$nulls":11},"1996-1997",{"$nulls":10},"INDUSTRIAL COMPOUND PRODUCTION"]
[{"$nulls":12},"definitif/final",{"$nulls":10},"(1 000 t )"]
[]
[]
[]
["PAYS",null,"      BOVINS/RINDER",{"$nulls":3},"    PORCS/SCHWEINE",{"$nulls":3},"     VOLAILLE/GEFLÜGEL",null,"      A. ALLAITEMENT/MILCHAUST.",{"$nulls":5},"     AUTRES/ANDERE",null,null,"       TOTAL/INSGESAMT"]
["LAND",null,"      BOVINI/CATTLE",{"$nulls":3},"    SUINI/PIGS",{"$nulls":3},"     VOLATILI/POULTRY",null,"  SOSTIT. DEL LATTE/MILKREPLACERS",{"$nulls":5},"ALTRI ANIMALI/OTHERS",null,null,"          TOTALE/TOTAL"]
["PAESE"]
["COUNTRY",1996,1997,"%TAV",null,1996,1997,"%TAV",null,1996,1997,"%TAV",null,1996,1997,"%TAV",null,1996,1997,"%TAV",null,1996,1997,"%TAV"]
[]
[]
["D",{"$f":"Germany!I$16","v":{"v":8108,"d":"8,108"}},{"$f":"Germany!J$16","v":{"v":7517,"d":"7,517"}},{"$f":"((C15/B15)-1)*100","v":{"v":-7.289097187962501,"d":"-7.3"}},null,{"$f":"Germany!I$23","v":{"v":6245,"d":"6,245"}},{"$f":"Germany!J$23","v":{"v":6274,"d":"6,274"}},{"$f":"((G15/F15)-1)*100","v":{"v":0.4643714971977575,"d":"0.5"}},null,{"$f":"Germany!I$30","v":{"v":4136,"d":"4,136"}},{"$f":"Germany!J$30","v":{"v":4255,"d":"4,255"}},{"$f":"((K15/J15)-1)*100","v":{"v":2.8771760154738812,"d":"2.9"}},null,{"$f":"Germany!I$36","v":246},{"$f":"Germany!J$36","v":201},{"$f":"((O15/N15)-1)*100","v":{"v":-18.292682926829272,"d":"-18.3"}},null,{"$f":"Germany!I$39","v":599},{"$f":"Germany!J$39","v":551},{"$f":"((S15/R15)-1)*100","v":{"v":-8.013355592654426,"d":"-8.0"}},null,{"$f":"R15+N15+J15+F15+B15","v":{"v":19334,"d":"19,334"}},{"v":18798,"d":"18,798"},{"$f":"((W15/V15)-1)*100","v":{"v":-2.7723181959242837,"d":"-2.8"}}]
[]
["F ",{"$f":"France!I$16","v":{"v":4170,"d":"4,170"}},{"$f":"France!J$16","v":{"v":4207,"d":"4,207"}},{"$f":"((C17/B17)-1)*100","v":{"v":0.8872901678657064,"d":"0.9"}},null,{"$f":"France!I$23","v":{"v":6663,"d":"6,663"}},{"$f":"France!J$23","v":{"v":6945,"d":"6,945"}},{"$f":"((G17/F17)-1)*100","v":{"v":4.232327780279155,"d":"4.2"}},null,{"$f":"France!I$30","v":{"v":9136,"d":"9,136"}},{"$f":"France!J$30","v":{"v":9447,"d":"9,447"}},{"$f":"((K17/J17)-1)*100","v":{"v":3.4041155866900263,"d":"3.4"}},null,{"$f":"France!I$36","v":534},{"$f":"France!J$36","v":513},{"$f":"((O17/N17)-1)*100","v":{"v":-3.93258426966292,"d":"-3.9"}},null,{"$f":"France!I$39","v":{"v":1500,"d":"1,500"}},{"$f":"France!J$39","v":{"v":1517,"d":"1,517"}},{"$f":"((S17/R17)-1)*100","v":{"v":1.1333333333333417,"d":"1.1"}},null,{"$f":"R17+N17+J17+F17+B17","v":{"v":22003,"d":"22,003"}},{"v":22629,"d":"22,629"},{"$f":"((W17/V17)-1)*100","v":{"v":2.845066581829747,"d":"2.8"}}]
[{"$nulls":3}," "]
["I ",{"$f":"Italy!I$16","v":{"v":3784,"d":"3,784"}},{"$f":"Italy!J$16","v":{"v":3503,"d":"3,503"}},{"$f":"((C19/B19)-1)*100","v":{"v":-7.426004228329807,"d":"-7.4"}},null,{"$f":"Italy!I$23","v":{"v":2414,"d":"2,414"}},{"$f":"Italy!J$23","v":{"v":2394,"d":"2,394"}},{"$f":"((G19/F19)-1)*100","v":{"v":-0.8285004142502106,"d":"-0.8"}},null,{"$f":"Italy!I$30","v":{"v":4272,"d":"4,272"}},{"$f":"Italy!J$30","v":{"v":4271,"d":"4,271"}},{"$f":"((K19/J19)-1)*100","v":{"v":-0.0234082397003732,"d":"-0.0"}},null,{"$f":"Italy!I$36","v":175},{"$f":"Italy!J$36","v":169},{"$f":"((O19/N19)-1)*100","v":{"v":-3.4285714285714253,"d":"-3.4"}},null,{"$f":"Italy!I$39","v":{"v":1030,"d":"1,030"}},{"$f":"Italy!J$39","v":{"v":1022,"d":"1,022"}},{"$f":"((S19/R19)-1)*100","v":{"v":-0.7766990291262155,"d":"-0.8"}},null,{"$f":"R19+N19+J19+F19+B19","v":{"v":11675,"d":"11,675"}},{"v":11359,"d":"11,359"},{"$f":"((W19/V19)-1)*100","v":{"v":-2.7066381156316877,"d":"-2.7"}}]
[]
["NL   ",{"$f":"'The Netherlands'!I$16","v":{"v":3804,"d":"3,804"}},{"$f":"'The Netherlands'!J$16","v":{"v":3654,"d":"3,654"}},{"$f":"((C21/B21)-1)*100","v":{"v":-3.9432176656151396,"d":"-3.9"}},null,{"$f":"'The Netherlands'!I$23","v":{"v":7459,"d":"7,459"}},{"$f":"'The Netherlands'!J$23","v":{"v":7052,"d":"7,052"}},{"$f":"((G21/F21)-1)*100","v":{"v":-5.456495508781334,"d":"-5.5"}},null,{"$f":"'The Netherlands'!I$30","v":{"v":3581,"d":"3,581"}},{"$f":"'The Netherlands'!J$30","v":{"v":3740,"d":"3,740"}},{"$f":"((K21/J21)-1)*100","v":{"v":4.440100530578062,"d":"4.4"}},null,{"$f":"'The Netherlands'!I$36","v":745},{"$f":"'The Netherlands'!J$36","v":716},{"$f":"((O21/N21)-1)*100","v":{"v":-3.892617449664426,"d":"-3.9"}},null,{"$f":"'The Netherlands'!I$39","v":784},{"$f":"'The Netherlands'!J$39","v":795},{"$f":"((S21/R21)-1)*100","v":{"v":1.4030612244897878,"d":"1.4"}},null,{"$f":"R21+N21+J21+F21+B21","v":{"v":16373,"d":"16,373"}},{"v":15957,"d":"15,957"},{"$f":"((W21/V21)-1)*100","v":{"v":-2.540768338117627,"d":"-2.5"}}]
[{"$nulls":3}," "]
["B ",{"$f":"Belgium!I$16","v":{"v":1142,"d":"1,142"}},{"$f":"Belgium!J$16","v":934},{"$f":"((C23/B23)-1)*100","v":{"v":-18.21366024518388,"d":"-18.2"}},null,{"$f":"Belgium!I$23","v":{"v":3454,"d":"3,454"}},{"$f":"Belgium!J$23","v":{"v":3577,"d":"3,577"}},{"$f":"((G23/F23)-1)*100","v":{"v":3.561088592935735,"d":"3.6"}},null,{"$f":"Belgium!I$30","v":{"v":1055,"d":"1,055"}},{"$f":"Belgium!J$30","v":{"v":1122,"d":"1,122"}},{"$f":"((K23/J23)-1)*100","v":{"v":6.350710900473944,"d":"6.4"}},null,{"$f":"Belgium!I$36","v":55},{"$f":"Belgium!J$36","v":57},{"$f":"((O23/N23)-1)*100","v":{"v":3.6363636363636376,"d":"3.6"}},null,{"$f":"Belgium!I$39","v":149},{"$f":"Belgium!J$39","v":140},{"$f":"((S23/R23)-1)*100","v":{"v":-6.040268456375841,"d":"-6.0"}},null,{"$f":"R23+N23+J23+F23+B23","v":{"v":5855,"d":"5,855"}},{"v":5830,"d":"5,830"},{"$f":"((W23/V23)-1)*100","v":{"v":-0.4269854824935915,"d":"-0.4"}}]
[{"$nulls":3}," "]
["UK ",{"$f":"UK!I$16","v":{"v":4702,"d":"4,702"}},{"$f":"UK!J$16","v":{"v":4132,"d":"4,132"}},{"$f":"((C25/B25)-1)*100","v":{"v":-12.122501063377289,"d":"-12.1"}},null,{"$f":"UK!I$23","v":{"v":2566,"d":"2,566"}},{"$f":"UK!J$23","v":{"v":2723,"d":"2,723"}},{"$f":"((G25/F25)-1)*100","v":{"v":6.118472330475444,"d":"6.1"}},null,{"$f":"UK!I$30","v":{"v":6291,"d":"6,291"}},{"$f":"UK!J$30","v":{"v":6396,"d":"6,396"}},{"$f":"((K25/J25)-1)*100","v":{"v":1.669051025274193,"d":"1.7"}},null,{"$f":"UK!I$36","v":20},{"$f":"UK!J$36","v":21},{"$f":"((O25/N25)-1)*100","v":{"v":5.000000000000004,"d":"5.0"}},null,{"$f":"UK!I39","v":{"v":1262,"d":"1,262"}},{"$f":"UK!J39","v":{"v":1194,"d":"1,194"}},{"$f":"((S25/R25)-1)*100","v":{"v":-5.38827258320127,"d":"-5.4"}},null,{"$f":"R25+J25+F25+B25+N25","v":{"v":14841,"d":"14,841"}},{"v":14466,"d":"14,466"},{"$f":"((W25/V25)-1)*100","v":{"v":-2.526783909440067,"d":"-2.5"}}]
[{"$nulls":3}," "]
["IRL ",{"$f":"Ireland!I$16","v":{"v":1714,"d":"1,714"}},{"$f":"Ireland!J$16","v":{"v":1452,"d":"1,452"}},{"$f":"((C27/B27)-1)*100","v":{"v":-15.285880980163357,"d":"-15.3"}},null,{"$f":"Ireland!I$23","v":685},{"$f":"Ireland!J$23","v":705},{"$f":"((G27/F27)-1)*100","v":{"v":2.9197080291970767,"d":"2.9"}},null,{"$f":"Ireland!I$30","v":468},{"$f":"Ireland!J$30","v":487},{"$f":"((K27/J27)-1)*100","v":{"v":4.059829059829068,"d":"4.1"}},null,{"$f":"Ireland!I$36","v":6},{"$f":"Ireland!J$36","v":5},{"$f":"((O27/N27)-1)*100","v":{"v":-16.666666666666664,"d":"-16.7"}},null,{"$f":"Ireland!I$39","v":289},{"$f":"Ireland!J$39","v":287},{"$f":"((S27/R27)-1)*100","v":{"v":-0.692041522491349,"d":"-0.7"}},null,{"$f":"R27+N27+J27+F27+B27","v":{"v":3162,"d":"3,162"}},{"v":2936,"d":"2,936"},{"$f":"((W27/V27)-1)*100","v":{"v":-7.147375079063889,"d":"-7.1"}}]
[{"$nulls":3}," "]
["DK ",{"$f":"Denmark!I$16","v":{"v":1517,"d":"1,517"}},{"$f":"Denmark!J$16","v":{"v":1408,"d":"1,408"}},{"$f":"((C29/B29)-1)*100","v":{"v":-7.185234014502306,"d":"-7.2"}},null,{"$f":"Denmark!I$23","v":{"v":3429,"d":"3,429"}},{"$f":"Denmark!J$23","v":{"v":3546,"d":"3,546"}},{"$f":"((G29/F29)-1)*100","v":{"v":3.4120734908136496,"d":"3.4"}},null,{"$f":"Denmark!I$30","v":651},{"$f":"Denmark!J$30","v":654},{"$f":"((K29/J29)-1)*100","v":{"v":0.4608294930875667,"d":"0.5"}},null,{"$f":"Denmark!I$36","v":5},{"$f":"Denmark!J$36","v":5},{"$f":"((O29/N29)-1)*100","v":{"v":0,"d":"0.0"}},null,{"$f":"Denmark!I$39","v":144},{"$f":"Denmark!J$39","v":164},{"$f":"((S29/R29)-1)*100","v":{"v":13.888888888888884,"d":"13.9"}},null,{"$f":"R29+N29+J29+F29+B29","v":{"v":5746,"d":"5,746"}},{"v":5777,"d":"5,777"},{"$f":"((W29/V29)-1)*100","v":{"v":0.5395057431256456,"d":"0.5"}}]
[]
["ESP ",{"$f":"Spain!I$16","v":{"v":3150,"d":"3,150"}},{"$f":"Spain!J$16","v":{"v":3350,"d":"3,350"}},{"$f":"((C31/B31)-1)*100","v":{"v":6.349206349206349,"d":"6.3"}},null,{"$f":"Spain!I$23","v":{"v":6530,"d":"6,530"}},{"$f":"Spain!J$23","v":{"v":6450,"d":"6,450"}},{"$f":"((G31/F31)-1)*100","v":{"v":-1.225114854517606,"d":"-1.2"}},null,{"$f":"Spain!I$30","v":{"v":4100,"d":"4,100"}},{"$f":"Spain!J$30","v":{"v":4150,"d":"4,150"}},{"$f":"((K31/J31)-1)*100","v":{"v":1.2195121951219523,"d":"1.2"}},null,{"$f":"Spain!I$36","v":60},{"$f":"Spain!J$36","v":60},{"$f":"((O31/N31)-1)*100","v":{"v":0,"d":"0.0"}},null,{"$f":"Spain!I$39","v":{"v":1200,"d":"1,200"}},{"$f":"Spain!J$39","v":{"v":1050,"d":"1,050"}},{"$f":"((S31/R31)-1)*100","v":-12.5},null,{"$f":"R31+N31+J31+F31+B31","v":{"v":15040,"d":"15,040"}},{"v":15060,"d":"15,060"},{"$f":"((W31/V31)-1)*100","v":{"v":0.13297872340425343,"d":"0.1"}}]
[{"$nulls":3}," ",{"$nulls":17}," "," "]
["P ",{"$f":"Portugal!I$16","v":{"v":1090,"d":"1,090"}},{"$f":"Portugal!J$16","v":{"v":1010,"d":"1,010"}},{"$f":"((C33/B33)-1)*100","v":{"v":-7.339449541284404,"d":"-7.3"}},null,{"$f":"Portugal!I$23","v":{"v":1300,"d":"1,300"}},{"$f":"Portugal!J$23","v":{"v":1320,"d":"1,320"}},{"$f":"((G33/F33)-1)*100","v":{"v":1.538461538461533,"d":"1.5"}},null,{"$f":"Portugal!I$30","v":{"v":1330,"d":"1,330"}},{"$f":"Portugal!J$30","v":{"v":1340,"d":"1,340"}},{"$f":"((K33/J33)-1)*100","v":{"v":0.7518796992481258,"d":"0.8"}},null,{"$f":"Portugal!I$36","v":0},{"$f":"Portugal!J$36","v":0},{"v":0,"d":"0.0"},null,{"$f":"Portugal!I$39","v":236},{"$f":"Portugal!J$39","v":235},{"$f":"((S33/R33)-1)*100","v":{"v":-0.4237288135593209,"d":"-0.4"}},null,{"$f":"R33+N33+J33+F33+B33","v":{"v":3956,"d":"3,956"}},{"v":3905,"d":"3,905"},{"$f":"((W33/V33)-1)*100","v":{"v":-1.2891809908998964,"d":"-1.3"}}]
[]
["A",{"$f":"Austria!I$16","v":202},{"$f":"Austria!J$16","v":195},{"$f":"((C35/B35)-1)*100","v":{"v":-3.4653465346534684,"d":"-3.5"}},null,{"$f":"Austria!I$23","v":229},{"$f":"Austria!J$23","v":227},{"$f":"((G35/F35)-1)*100","v":{"v":-0.8733624454148492,"d":"-0.9"}},null,{"$f":"Austria!I$30","v":399},{"$f":"Austria!J$30","v":380},{"$f":"((K35/J35)-1)*100","v":{"v":-4.761904761904767,"d":"-4.8"}},null,{"$f":"Austria!I$36","v":4},{"$f":"Austria!J$36","v":4},{"$f":"((O35/N35)-1)*100","v":{"v":0,"d":"0.0"}},null,{"$f":"Austria!I$39","v":64},{"$f":"Austria!J$39","v":82},{"$f":"((S35/R35)-1)*100","v":{"v":28.125,"d":"28.1"}},null,{"$f":"R35+N35+J35+F35+B35","v":898},888,{"$f":"((W35/V35)-1)*100","v":{"v":-1.1135857461024523,"d":"-1.1"}}]
[]
["S",{"$f":"Sweden!I$16","v":{"v":1220,"d":"1,220"}},{"$f":"Sweden!J$16","v":{"v":1160,"d":"1,160"}},{"$f":"((C37/B37)-1)*100","v":{"v":-4.918032786885251,"d":"-4.9"}},null,{"$f":"Sweden!I$23","v":700},{"$f":"Sweden!J$23","v":700},{"$f":"((G37/F37)-1)*100","v":{"v":0,"d":"0.0"}},null,{"$f":"Sweden!I$30","v":540},{"$f":"Sweden!J$30","v":520},{"$f":"((K37/J37)-1)*100","v":{"v":-3.703703703703709,"d":"-3.7"}},null,{"$f":"Sweden!I$36","v":10},{"$f":"Sweden!J$36","v":10},{"$f":"((O37/N37)-1)*100","v":{"v":0,"d":"0.0"}},null,{"$f":"Sweden!I$39","v":50},{"$f":"Sweden!J$39","v":50},{"$f":"((S37/R37)-1)*100","v":{"v":0,"d":"0.0"}},null,{"$f":"R37+N37+J37+F37+B37","v":{"v":2520,"d":"2,520"}},{"v":2440,"d":"2,440"},{"$f":"((W37/V37)-1)*100","v":{"v":-3.1746031746031744,"d":"-3.2"}}]
[]
["FIN",{"$f":"Finland!I$16","v":472},{"$f":"Finland!J$16","v":471},{"$f":"((C39/B39)-1)*100","v":{"v":-0.21186440677966045,"d":"-0.2"}},null,{"$f":"Finland!I$23","v":322},{"$f":"Finland!J$23","v":323},{"$f":"((G39/F39)-1)*100","v":{"v":0.31055900621117516,"d":"0.3"}},null,{"$f":"Finland!I$30","v":222},{"$f":"Finland!J$30","v":221},{"$f":"((K39/J39)-1)*100","v":{"v":-0.45045045045044585,"d":"-0.5"}},null,{"$f":"Finland!I$36","v":":"},{"$f":"Finland!J$36","v":":"},null,null,{"$f":"Finland!I$39","v":145},{"$f":"Finland!J$39","v":141},{"$f":"((S39/R39)-1)*100","v":{"v":-2.758620689655178,"d":"-2.8"}},null,{"$f":"R39+J39+F39+B39","v":{"v":1161,"d":"1,161"}},{"v":1156,"d":"1,156"},{"$f":"((W39/V39)-1)*100","v":{"v":-0.4306632213608941,"d":"-0.4"}}]
[]
[{"$nulls":3}," "]
["EUR 15 *",{"$f":"B39+B37+B35+B33+B31+B29+B27+B25+B23+B21+B19+B17+B15","v":{"v":35075,"d":"35,075"}},{"v":32993,"d":"32,993"},{"$f":"((C42/B42)-1)*100","v":{"v":-5.935851746258014,"d":"-5.9"}},null,{"$f":"F39+F37+F35+F33+F31+F29+F27+F25+F23+F21+F19+F17+F15","v":{"v":41996,"d":"41,996"}},{"v":42236,"d":"42,236"},{"$f":"((G42/F42)-1)*100","v":{"v":0.5714829983807901,"d":"0.6"}},null,{"$f":"J39+J37+J35+J33+J31+J29+J27+J25+J23+J21+J19+J17+J15","v":{"v":36181,"d":"36,181"}},{"v":36983,"d":"36,983"},{"$f":"((K42/J42)-1)*100","v":{"v":2.2166330394405964,"d":"2.2"}},null,{"$f":"N37+N35+N33+N31+N29+N27+N23+N21+N19+N17+N15+N25","v":{"v":1860,"d":"1,860"}},{"v":1761,"d":"1,761"},{"$f":"((O42/N42)-1)*100","v":{"v":-5.32258064516129,"d":"-5.3"}},null,{"$f":"R39+R37+R35+R33+R31+R29+R27+R25+R23+R21+R19+R17+R15","v":{"v":7452,"d":"7,452"}},{"v":7228,"d":"7,228"},{"$f":"((S42/R42)-1)*100","v":{"v":-3.0059044551798197,"d":"-3.0"}},null,{"$f":"V39+V37+V35+V33+V31+V29+V27+V25+V23+V21+V19+V17+V15","v":{"v":122564,"d":"122,564"}},{"v":121201,"d":"121,201"},{"$f":"((W42/V42)-1)*100","v":{"v":-1.112072060311342,"d":"-1.1"}}]
[]
[{"$nulls":23}," "]
["* Sans le Luxembourg et la Grèce/Ohne Luxemburg und Griechenland/Without Luxemburg and Greece/Senza Lussemburgo e Ellas"]
[]
[": non disponible/not available"]

{"sheet":"1997","index":16,"n_rows":45,"n_cols":16,"rows_kept":45,"merged":[[4,0,4,15],[5,0,5,15]]}
["2001-07-04"]
[]
["PRODUCTION INDUSTRIELLE D'ALIMENTS COMPOSES ",{"$nulls":14},"INDUSTRIELLE  MISCHFUTTERPRODUKTION"]
["PRODUZIONE INDUSTRIALE DI MANGIMI COMPOSTI",{"$nulls":14},"INDUSTRIAL COMPOUND PRODUCTION"]
[1997]
["definitif/final"]
[{"$nulls":15},"(1 000 t)"]
[]
["Catégories d'aliments composés/Mischfutterarten",null,"D","F","I","NL","B","UK","IRL","DK","ESP","P","A","S","FIN","EUR-15"]
["Tipi di mangimi compositi/Types of feed",{"$nulls":14},"*"]
[]
[null,null," ",{"$nulls":4}," ",null,null," "]
["Bovins/Cattle/Bovini/Rinder",null,{"$f":"C14+C15+C16+C18","v":{"v":7517,"d":"7,517"}},{"v":4207,"d":"4,207"},{"$f":"E14+E15+E16","v":{"v":3503,"d":"3,503"}},{"$f":"'The Netherlands'!J16","v":{"v":3654,"d":"3,654"}},{"$f":"G14+G15+G16+G18","v":934},{"v":4132,"d":"4,132"},{"v":1452,"d":"1,452"},{"$f":"J14+J15+J16","v":{"v":1408,"d":"1,408"}},{"$f":"K14+K15+K18","v":{"v":3350,"d":"3,350"}},{"$f":"L14+L15+L16+L18","v":{"v":1010,"d":"1,010"}},{"$f":"Austria!J16","v":195},{"$f":"N15+N18","v":{"v":1160,"d":"1,160"}},{"$f":"O18+O16","v":471},{"$f":"SUM(C13:O13)","v":{"v":32993,"d":"32,993"}}]
["engrais/fattening/Mast  ",null,{"$f":"Germany!J17","v":511},{"$f":"France!J17","v":658},{"$f":"Italy!J17","v":{"v":1018,"d":"1,018"}},{"$f":"'The Netherlands'!J17","v":284},{"$f":"Belgium!J17","v":317},{"$f":"UK!J17","v":992},{"$f":"Ireland!J17","v":607},{"$f":"Denmark!J17","v":552},{"$f":"Spain!J17","v":{"v":1600,"d":"1,600"}},{"$f":"Portugal!J17","v":384},":",{"$f":"Sweden!J17","v":":"},{"$f":"Finland!J17","v":":"},":"]
["VL/dairy cow/Milchkühe",null,{"$f":"Germany!J18","v":{"v":6040,"d":"6,040"}},{"$f":"France!J18","v":{"v":3040,"d":"3,040"}},{"$f":"Italy!J18","v":{"v":2307,"d":"2,307"}},{"$f":"'The Netherlands'!J18","v":{"v":3327,"d":"3,327"}},{"$f":"Belgium!J18","v":458},{"$f":"UK!J18","v":{"v":2826,"d":"2,826"}},{"$f":"Ireland!J18","v":657},{"$f":"Denmark!J18","v":552},{"$f":"Spain!J18","v":{"v":1250,"d":"1,250"}},{"$f":"Portugal!J18","v":565},":",{"$f":"Sweden!J18","v":{"v":1065,"d":"1,065"}},{"$f":"Finland!J18","v":":"},":"]
["veaux (aliments d'allaitement non compris)/calves ",null,{"$f":"Germany!J19","v":168},{"$f":"France!J19","v":226},{"$f":"Italy!J19","v":178},{"$f":"'The Netherlands'!J19","v":43},{"$f":"Belgium!J19","v":84},{"$f":"UK!J19","v":206},{"$f":"Ireland!J19","v":147},{"$f":"Denmark!J19","v":304},{"$f":"Spain!J19","v":":"},{"$f":"Portugal!J19","v":41},":",{"$f":"Sweden!J19","v":":"},{"$f":"Finland!J19","v":37},":"]
["(excluding milk replacers)/Kälber (exkl. Milchaustauscher)"]
["autres/others/Andere",null,{"$f":"Germany!J20","v":798},{"$f":"France!J20","v":283},{"$f":"Italy!J20","v":":"},{"$f":"'The Netherlands'!J20","v":":"},{"$f":"Belgium!J20","v":75},{"$f":"UK!J20","v":108},{"$f":"Ireland!J20","v":41},{"$f":"Denmark!J20","v":":"},{"$f":"Spain!J20","v":500},{"$f":"Portugal!J20","v":20},":",{"$f":"Sweden!J20","v":95},{"$f":"Finland!J20","v":434},":"]
[]
[]
["Porcins/Pigs/Suini/Schweine",null,{"$f":"C22+C23+C24+C25","v":{"v":6274,"d":"6,274"}},{"$f":"D22+D23+D24","v":{"v":6945,"d":"6,945"}},{"$f":"Italy!J23","v":{"v":2394,"d":"2,394"}},{"$f":"'The Netherlands'!J23","v":{"v":7052,"d":"7,052"}},{"$f":"G22+G23","v":{"v":3577,"d":"3,577"}},{"$f":"H22+H23+H24+H25","v":{"v":2723,"d":"2,723"}},705,{"$f":"J22+J23+J24","v":{"v":3546,"d":"3,546"}},{"$f":"K22+K23+K24+K25","v":{"v":6450,"d":"6,450"}},{"v":1320,"d":"1,320"},{"$f":"Austria!J23","v":227},{"$f":"N22+N23+N24","v":700},{"$f":"O22+O23+O24+O25","v":323},{"$f":"SUM(C21:O21)","v":{"v":42236,"d":"42,236"}}]
["porcelets/piglets/Ferkel",null,{"$f":"Germany!J24","v":{"v":1203,"d":"1,203"}},{"$f":"France!J24","v":874},{"$f":"Italy!J24","v":":"},{"$f":"'The Netherlands'!J24","v":734},{"$f":"Belgium!J24","v":787},{"$f":"UK!J24","v":160},{"$f":"Ireland!J24","v":117},{"$f":"Denmark!J24","v":617},{"$f":"Spain!J24","v":800},{"$f":"Portugal!J24","v":208},":",{"$f":"Sweden!J24","v":100},{"$f":"Finland!J24","v":42},":"]
["porcs engrais/pigs for fattening/Mastschweine",null,{"$f":"Germany!J25","v":{"v":2951,"d":"2,951"}},{"$f":"France!J25","v":{"v":4661,"d":"4,661"}},{"$f":"Italy!J25","v":":"},{"$f":"'The Netherlands'!J25","v":{"v":4824,"d":"4,824"}},{"$f":"Belgium!J25","v":{"v":2790,"d":"2,790"}},{"$f":"UK!J25","v":{"v":1724,"d":"1,724"}},{"$f":"Ireland!J25","v":402},{"$f":"Denmark!J25","v":{"v":2234,"d":"2,234"}},{"$f":"Spain!J25","v":{"v":4580,"d":"4,580"}},{"$f":"Portugal!J25","v":375},":",{"$f":"Sweden!J25","v":400},{"$f":"Finland!J25","v":195},":"]
["reproducteurs/breeding pigs/Zuchtschweine",null,{"$f":"Germany!J26","v":{"v":1110,"d":"1,110"}},{"$f":"France!J26","v":{"v":1410,"d":"1,410"}},{"$f":"Italy!J26","v":":"},{"$f":"'The Netherlands'!J26","v":{"v":1494,"d":"1,494"}},{"$f":"Belgium!J26","v":":"},{"$f":"UK!J26","v":795},{"$f":"Ireland!J26","v":167},{"$f":"Denmark!J26","v":695},{"$f":"Spain!J26","v":{"v":1000,"d":"1,000"}},{"$f":"Portugal!J26","v":270},":",{"$f":"Sweden!J26","v":200},{"$f":"Finland!J26","v":33},":"]
["autres/others/Andere",null,{"$f":"Germany!J27","v":{"v":1010,"d":"1,010"}},{"$f":"France!J27","v":":"},{"$f":"Italy!J27","v":":"},{"$f":"'The Netherlands'!J27","v":":"},{"$f":"Belgium!J27","v":":"},{"$f":"UK!J27","v":44},{"$f":"Ireland!J27","v":19},{"$f":"Denmark!J27","v":":"},{"$f":"Spain!J27","v":70},{"$f":"Portugal!J27","v":467},":",{"$f":"Sweden!J27","v":":"},{"$f":"Finland!J27","v":53},":"]
[{"$nulls":4}," "]
[]
["Volaille/Poultry/Volatili/Geflügel",null,{"$f":"C29+C30","v":{"v":4255,"d":"4,255"}},{"$f":"D29+D30+D31","v":{"v":9447,"d":"9,447"}},{"v":4271,"d":"4,271"},{"$f":"'The Netherlands'!J30","v":{"v":3740,"d":"3,740"}},{"$f":"G29+G30+G31","v":{"v":1122,"d":"1,122"}},{"v":6396,"d":"6,396"},487,654,{"v":4150,"d":"4,150"},{"v":1340,"d":"1,340"},{"$f":"Austria!J30","v":380},{"$f":"N29+N30","v":520},{"$f":"O29+O30+O31","v":221},{"$f":"SUM(C28:O28)","v":{"v":36983,"d":"36,983"}}]
["broilers",null,{"$f":"Germany!J31","v":{"v":1924,"d":"1,924"}},{"$f":"France!J31","v":{"v":3448,"d":"3,448"}},{"$f":"Italy!J31","v":{"v":2074,"d":"2,074"}},{"$f":"'The Netherlands'!J31","v":{"v":1769,"d":"1,769"}},{"$f":"Belgium!J31","v":423},{"$f":"UK!J31","v":{"v":3108,"d":"3,108"}},{"$f":"Ireland!J31","v":279},{"$f":"Denmark!J31","v":529},{"$f":"Spain!J31","v":{"v":2200,"d":"2,200"}},{"$f":"Portugal!J31","v":750},":",{"$f":"Sweden!J31","v":280},{"$f":"Finland!J31","v":139},":"]
["poulettes & pondeuses/chicks & layers/Jung- & Legehennen",null,{"$f":"Germany!J32","v":{"v":2331,"d":"2,331"}},{"$f":"France!J32","v":{"v":2381,"d":"2,381"}},{"$f":"Italy!J32","v":{"v":1144,"d":"1,144"}},{"$f":"'The Netherlands'!J32","v":{"v":1971,"d":"1,971"}},{"$f":"Belgium!J32","v":401},{"$f":"UK!J32","v":{"v":1307,"d":"1,307"}},{"$f":"Ireland!J32","v":99},{"$f":"Denmark!J32","v":36},{"$f":"Spain!J32","v":{"v":1700,"d":"1,700"}},{"$f":"Portugal!J32","v":325},":",{"$f":"Sweden!J32","v":240},{"$f":"Finland!J32","v":76},":"]
["autres/others/Andere",null,{"$f":"Germany!J33","v":":"},{"$f":"France!J33","v":{"v":3618,"d":"3,618"}},{"$f":"Italy!J33","v":{"v":1053,"d":"1,053"}},{"$f":"'The Netherlands'!J33","v":":"},{"$f":"Belgium!J33","v":298},{"$f":"UK!J33","v":{"v":1981,"d":"1,981"}},{"$f":"Ireland!J33","v":109},{"$f":"Denmark!J33","v":89},{"$f":"Spain!J33","v":250},{"$f":"Portugal!J33","v":265},":",{"$f":"Sweden!J33","v":":"},{"$f":"Finland!J33","v":6},":"]
[]
[]
["Al. d'allait./Milk replacers/Sostit. del latte/Milchaust.",null,{"$f":"Germany!J36","v":201},{"$f":"France!J36","v":513},{"$f":"Italy!J36","v":169},{"$f":"'The Netherlands'!J36","v":716},{"$f":"Belgium!J36","v":57},{"$f":"UK!J36","v":21},{"$f":"Ireland!J36","v":5},{"$f":"Denmark!J36","v":5},{"$f":"Spain!J36","v":60},{"$f":"Portugal!J36","v":0},{"$f":"Austria!J36","v":4},{"$f":"Sweden!J36","v":10},{"$f":"Finland!J36","v":":"},{"$f":"SUM(C34:O34)","v":{"v":1761,"d":"1,761"}}]
[]
[{"$nulls":4}," "]
["Autres/others/altri/Andere",null,{"$f":"Germany!J39","v":551},{"$f":"France!J39","v":{"v":1517,"d":"1,517"}},{"$f":"Italy!J39","v":{"v":1022,"d":"1,022"}},{"$f":"'The Netherlands'!J39","v":795},{"$f":"Belgium!J39","v":140},{"$f":"UK!J39","v":{"v":1194,"d":"1,194"}},{"$f":"Ireland!J39","v":287},{"$f":"Denmark!J39","v":164},{"$f":"Spain!J39","v":{"v":1050,"d":"1,050"}},{"$f":"Portugal!J39","v":235},{"$f":"Austria!J39","v":82},{"$f":"Sweden!J39","v":50},{"$f":"Finland!J39","v":141},{"$f":"SUM(C37:O37)","v":{"v":7228,"d":"7,228"}}]
[]
[]
["TOTAL",null,{"$f":"C37+C34+C28+C21+C13","v":{"v":18798,"d":"18,798"}},{"v":22629,"d":"22,629"},{"v":11359,"d":"11,359"},{"v":15957,"d":"15,957"},{"v":5830,"d":"5,830"},{"v":14466,"d":"14,466"},{"v":2936,"d":"2,936"},{"v":5777,"d":"5,777"},{"v":15060,"d":"15,060"},{"v":3905,"d":"3,905"},888,{"v":2440,"d":"2,440"},{"$f":"O37+O28+O21+O13","v":{"v":1156,"d":"1,156"}},{"$f":"P37+P34+P28+P21+P13","v":{"v":121201,"d":"121,201"}}]
[{"$nulls":5}," "]
[]
["* Sans le Luxembourg et la Grèce/ohne Luxemburg und Griechenland/Without Luxemburg and Greece/Senza Lussemburgo e Ella"]
[]
[": non disponible/not available/nicht verfügbar"]

{"sheet":"98-97","index":17,"n_rows":47,"n_cols":24,"rows_kept":47}
["2001-07-04"]
[]
["PRODUCTION INDUSTRIELLE D'ALIMENTS COMPOSES",{"$nulls":22},"INDUSTRIELLE  MISCHFUTTERPRODUKTION"]
["PRODUZIONE INDUSTRIALE DI MANGIMI COMPOSTI",{"$nulls":11},"1997-1998",{"$nulls":10},"INDUSTRIAL COMPOUND PRODUCTION"]
[{"$nulls":12},"definitif/final",{"$nulls":10},"(1 000 t )"]
[]
[]
[]
["PAYS",null,"      BOVINS/RINDER",{"$nulls":3},"    PORCS/SCHWEINE",{"$nulls":3},"     VOLAILLE/GEFLÜGEL",null,"      A. ALLAITEMENT/MILCHAUST.",{"$nulls":5},"     AUTRES/ANDERE",null,null,"       TOTAL/INSGESAMT"]
["LAND",null,"      BOVINI/CATTLE",{"$nulls":3},"    SUINI/PIGS",{"$nulls":3},"     VOLATILI/POULTRY",null,"  SOSTIT. DEL LATTE/MILKREPLACERS",{"$nulls":5},"ALTRI ANIMALI/OTHERS",null,null,"          TOTALE/TOTAL"]
["PAESE"]
["COUNTRY",1997,1998,"%TAV",null,1997,1998,"%TAV",null,1997,1998,"%TAV",null,1997,1998,"%TAV",null,1997,1998,"%TAV",null,1997,1998,"%TAV"]
[]
[]
["D",{"$f":"Germany!J$16","v":{"v":7517,"d":"7,517"}},{"$f":"Germany!K$16","v":{"v":6996,"d":"6,996"}},{"$f":"((C15/B15)-1)*100","v":{"v":-6.9309564986031695,"d":"-6.9"}},null,{"$f":"Germany!J$23","v":{"v":6274,"d":"6,274"}},{"$f":"Germany!K$23","v":{"v":6667,"d":"6,667"}},{"$f":"((G15/F15)-1)*100","v":{"v":6.263946445648716,"d":"6.3"}},null,{"$f":"Germany!J$30","v":{"v":4255,"d":"4,255"}},{"$f":"Germany!K$30","v":{"v":4389,"d":"4,389"}},{"$f":"((K15/J15)-1)*100","v":{"v":3.149236192714455,"d":"3.1"}},null,{"$f":"Germany!J$36","v":201},{"$f":"Germany!K$36","v":183},{"$f":"((O15/N15)-1)*100","v":{"v":-8.955223880597018,"d":"-9.0"}},null,{"$f":"Germany!J$39","v":551},{"$f":"Germany!K$39","v":541},{"$f":"((S15/R15)-1)*100","v":{"v":-1.814882032667875,"d":"-1.8"}},null,{"$f":"R15+N15+J15+F15+B15","v":{"v":18798,"d":"18,798"}},{"v":18776,"d":"18,776"},{"$f":"((W15/V15)-1)*100","v":{"v":-0.1170337269922328,"d":"-0.1"}}]
[]
["F ",{"$f":"France!J$16","v":{"v":4207,"d":"4,207"}},{"$f":"France!K$16","v":{"v":4050,"d":"4,050"}},{"$f":"((C17/B17)-1)*100","v":{"v":-3.7318754456857617,"d":"-3.7"}},null,{"$f":"France!J$23","v":{"v":6945,"d":"6,945"}},{"$f":"France!K$23","v":{"v":6986,"d":"6,986"}},{"$f":"((G17/F17)-1)*100","v":{"v":0.5903527717782575,"d":"0.6"}},null,{"$f":"France!J$30","v":{"v":9447,"d":"9,447"}},{"$f":"France!K$30","v":{"v":9714,"d":"9,714"}},{"$f":"((K17/J17)-1)*100","v":{"v":2.82629406160686,"d":"2.8"}},null,{"$f":"France!J$36","v":513},{"$f":"France!K$36","v":517},{"$f":"((O17/N17)-1)*100","v":{"v":0.7797270955165692,"d":"0.8"}},null,{"$f":"France!J$39","v":{"v":1517,"d":"1,517"}},{"$f":"France!K$39","v":{"v":1643,"d":"1,643"}},{"$f":"((S17/R17)-1)*100","v":{"v":8.305866842452204,"d":"8.3"}},null,{"$f":"R17+N17+J17+F17+B17","v":{"v":22629,"d":"22,629"}},{"v":22910,"d":"22,910"},{"$f":"((W17/V17)-1)*100","v":{"v":1.2417694109328803,"d":"1.2"}}]
[{"$nulls":3}," "]
["I ",{"$f":"Italy!J$16","v":{"v":3503,"d":"3,503"}},{"$f":"Italy!K$16","v":{"v":3420,"d":"3,420"}},{"$f":"((C19/B19)-1)*100","v":{"v":-2.369397659149297,"d":"-2.4"}},null,{"$f":"Italy!J$23","v":{"v":2394,"d":"2,394"}},{"$f":"Italy!K$23","v":{"v":2491,"d":"2,491"}},{"$f":"((G19/F19)-1)*100","v":{"v":4.051796157059306,"d":"4.1"}},null,{"$f":"Italy!J$30","v":{"v":4271,"d":"4,271"}},{"$f":"Italy!K$30","v":{"v":4396,"d":"4,396"}},{"$f":"((K19/J19)-1)*100","v":{"v":2.9267150550222443,"d":"2.9"}},null,{"$f":"Italy!J$36","v":169},{"$f":"Italy!K$36","v":204},{"$f":"((O19/N19)-1)*100","v":{"v":20.710059171597628,"d":"20.7"}},null,{"$f":"Italy!J$39","v":{"v":1022,"d":"1,022"}},{"$f":"Italy!K$39","v":{"v":1090,"d":"1,090"}},{"$f":"((S19/R19)-1)*100","v":{"v":6.6536203522505,"d":"6.7"}},null,{"$f":"R19+N19+J19+F19+B19","v":{"v":11359,"d":"11,359"}},{"v":11601,"d":"11,601"},{"$f":"((W19/V19)-1)*100","v":{"v":2.130469231446419,"d":"2.1"}}]
[]
["NL   ",{"$f":"'The Netherlands'!J$16","v":{"v":3654,"d":"3,654"}},{"$f":"'The Netherlands'!K$16","v":{"v":3597,"d":"3,597"}},{"$f":"((C21/B21)-1)*100","v":{"v":-1.5599343185550119,"d":"-1.6"}},null,{"$f":"'The Netherlands'!J$23","v":{"v":7052,"d":"7,052"}},{"$f":"'The Netherlands'!K$23","v":{"v":6951,"d":"6,951"}},{"$f":"((G21/F21)-1)*100","v":{"v":-1.432217810550196,"d":"-1.4"}},null,{"$f":"'The Netherlands'!J$30","v":{"v":3740,"d":"3,740"}},{"$f":"'The Netherlands'!K$30","v":{"v":3727,"d":"3,727"}},{"$f":"((K21/J21)-1)*100","v":{"v":-0.34759358288769526,"d":"-0.3"}},null,{"$f":"'The Netherlands'!J$36","v":716},{"$f":"'The Netherlands'!K$36","v":732},{"$f":"((O21/N21)-1)*100","v":{"v":2.2346368715083775,"d":"2.2"}},null,{"$f":"'The Netherlands'!J$39","v":795},{"$f":"'The Netherlands'!K$39","v":766},{"$f":"((S21/R21)-1)*100","v":{"v":-3.647798742138364,"d":"-3.6"}},null,{"$f":"R21+N21+J21+F21+B21","v":{"v":15957,"d":"15,957"}},{"v":15773,"d":"15,773"},{"$f":"((W21/V21)-1)*100","v":{"v":-1.1530989534373592,"d":"-1.2"}}]
[{"$nulls":3}," "]
["B ",{"$f":"Belgium!J$16","v":934},{"$f":"Belgium!K$16","v":{"v":1216,"d":"1,216"}},{"$f":"((C23/B23)-1)*100","v":{"v":30.192719486081376,"d":"30.2"}},null,{"$f":"Belgium!J$23","v":{"v":3577,"d":"3,577"}},{"$f":"Belgium!K$23","v":{"v":3592,"d":"3,592"}},{"$f":"((G23/F23)-1)*100","v":{"v":0.4193458205199896,"d":"0.4"}},null,{"$f":"Belgium!J$30","v":{"v":1122,"d":"1,122"}},{"$f":"Belgium!K$30","v":{"v":1403,"d":"1,403"}},{"$f":"((K23/J23)-1)*100","v":{"v":25.0445632798574,"d":"25.0"}},null,{"$f":"Belgium!J$36","v":57},{"$f":"Belgium!K$36","v":53},{"$f":"((O23/N23)-1)*100","v":{"v":-7.017543859649122,"d":"-7.0"}},null,{"$f":"Belgium!J$39","v":140},{"$f":"Belgium!K$39","v":151},{"$f":"((S23/R23)-1)*100","v":{"v":7.857142857142851,"d":"7.9"}},null,{"$f":"R23+N23+J23+F23+B23","v":{"v":5830,"d":"5,830"}},{"v":6415,"d":"6,415"},{"$f":"((W23/V23)-1)*100","v":{"v":10.034305317324188,"d":"10.0"}}]
[{"$nulls":3}," "]
["UK ",{"$f":"UK!J$16","v":{"v":4132,"d":"4,132"}},{"$f":"UK!K$16","v":{"v":4032,"d":"4,032"}},{"$f":"((C25/B25)-1)*100","v":{"v":-2.4201355275895398,"d":"-2.4"}},null,{"$f":"UK!J$23","v":{"v":2723,"d":"2,723"}},{"$f":"UK!K$23","v":{"v":2804,"d":"2,804"}},{"$f":"((G25/F25)-1)*100","v":{"v":2.974660301138443,"d":"3.0"}},null,{"$f":"UK!J$30","v":{"v":6396,"d":"6,396"}},{"$f":"UK!K$30","v":{"v":6318,"d":"6,318"}},{"$f":"((K25/J25)-1)*100","v":{"v":-1.2195121951219523,"d":"-1.2"}},null,{"$f":"UK!J$36","v":21},{"$f":"UK!K$36","v":10},{"$f":"((O25/N25)-1)*100","v":{"v":-52.38095238095239,"d":"-52.4"}},null,{"$f":"UK!J39","v":{"v":1194,"d":"1,194"}},{"$f":"UK!K39","v":{"v":1234,"d":"1,234"}},{"$f":"((S25/R25)-1)*100","v":{"v":3.350083752093802,"d":"3.4"}},null,{"$f":"R25+J25+F25+B25+N25","v":{"v":14466,"d":"14,466"}},{"v":14398,"d":"14,398"},{"$f":"((W25/V25)-1)*100","v":{"v":-0.4700677450573787,"d":"-0.5"}}]
[{"$nulls":3}," "]
["IRL ",{"$f":"Ireland!J$16","v":{"v":1452,"d":"1,452"}},{"$f":"Ireland!K$16","v":{"v":1824,"d":"1,824"}},{"$f":"((C27/B27)-1)*100","v":{"v":25.619834710743806,"d":"25.6"}},null,{"$f":"Ireland!J$23","v":705},{"$f":"Ireland!K$23","v":775},{"$f":"((G27/F27)-1)*100","v":{"v":9.92907801418439,"d":"9.9"}},null,{"$f":"Ireland!J$30","v":487},{"$f":"Ireland!K$30","v":501},{"$f":"((K27/J27)-1)*100","v":{"v":2.8747433264887157,"d":"2.9"}},null,{"$f":"Ireland!J$36","v":5},{"$f":"Ireland!K$36","v":9},{"$f":"((O27/N27)-1)*100","v":{"v":80,"d":"80.0"}},null,{"$f":"Ireland!J$39","v":287},{"$f":"Ireland!K$39","v":346},{"$f":"((S27/R27)-1)*100","v":{"v":20.557491289198616,"d":"20.6"}},null,{"$f":"R27+N27+J27+F27+B27","v":{"v":2936,"d":"2,936"}},{"v":3455,"d":"3,455"},{"$f":"((W27/V27)-1)*100","v":{"v":17.67711171662125,"d":"17.7"}}]
[{"$nulls":3}," "]
["DK ",{"$f":"Denmark!J$16","v":{"v":1408,"d":"1,408"}},{"$f":"Denmark!K$16","v":{"v":1349,"d":"1,349"}},{"$f":"((C29/B29)-1)*100","v":{"v":-4.1903409090909065,"d":"-4.2"}},null,{"$f":"Denmark!J$23","v":{"v":3546,"d":"3,546"}},{"$f":"Denmark!K$23","v":{"v":3669,"d":"3,669"}},{"$f":"((G29/F29)-1)*100","v":{"v":3.4686971235194486,"d":"3.5"}},null,{"$f":"Denmark!J$30","v":654},{"$f":"Denmark!K$30","v":677},{"$f":"((K29/J29)-1)*100","v":{"v":3.5168195718654482,"d":"3.5"}},null,{"$f":"Denmark!J$36","v":5},{"$f":"Denmark!K$36","v":5},{"$f":"((O29/N29)-1)*100","v":{"v":0,"d":"0.0"}},null,{"$f":"Denmark!J$39","v":164},{"$f":"Denmark!K$39","v":140},{"$f":"((S29/R29)-1)*100","v":{"v":-14.634146341463417,"d":"-14.6"}},null,{"$f":"R29+N29+J29+F29+B29","v":{"v":5777,"d":"5,777"}},{"v":5840,"d":"5,840"},{"$f":"((W29/V29)-1)*100","v":{"v":1.0905314176908432,"d":"1.1"}}]
[]
["ESP ",{"$f":"Spain!J$16","v":{"v":3350,"d":"3,350"}},{"$f":"Spain!K$16","v":{"v":3200,"d":"3,200"}},{"$f":"((C31/B31)-1)*100","v":{"v":-4.477611940298509,"d":"-4.5"}},null,{"$f":"Spain!J$23","v":{"v":6450,"d":"6,450"}},{"$f":"Spain!K$23","v":{"v":7000,"d":"7,000"}},{"$f":"((G31/F31)-1)*100","v":{"v":8.52713178294573,"d":"8.5"}},null,{"$f":"Spain!J$30","v":{"v":4150,"d":"4,150"}},{"$f":"Spain!K$30","v":{"v":4100,"d":"4,100"}},{"$f":"((K31/J31)-1)*100","v":{"v":-1.2048192771084376,"d":"-1.2"}},null,{"$f":"Spain!J$36","v":60},{"$f":"Spain!K$36","v":60},{"$f":"((O31/N31)-1)*100","v":{"v":0,"d":"0.0"}},null,{"$f":"Spain!J$39","v":{"v":1050,"d":"1,050"}},{"$f":"Spain!K$39","v":{"v":1000,"d":"1,000"}},{"$f":"((S31/R31)-1)*100","v":{"v":-4.761904761904767,"d":"-4.8"}},null,{"$f":"R31+N31+J31+F31+B31","v":{"v":15060,"d":"15,060"}},{"v":15360,"d":"15,360"},{"$f":"((W31/V31)-1)*100","v":{"v":1.9920318725099584,"d":"2.0"}}]
[{"$nulls":3}," ",{"$nulls":17}," "," "]
["P ",{"$f":"Portugal!J$16","v":{"v":1010,"d":"1,010"}},{"$f":"Portugal!K$16","v":{"v":1020,"d":"1,020"}},{"$f":"((C33/B33)-1)*100","v":{"v":0.990099009900991,"d":"1.0"}},null,{"$f":"Portugal!J$23","v":{"v":1320,"d":"1,320"}},{"$f":"Portugal!K$23","v":{"v":1340,"d":"1,340"}},{"$f":"((G33/F33)-1)*100","v":{"v":1.5151515151515138,"d":"1.5"}},null,{"$f":"Portugal!J$30","v":{"v":1340,"d":"1,340"}},{"$f":"Portugal!K$30","v":{"v":1400,"d":"1,400"}},{"$f":"((K33/J33)-1)*100","v":{"v":4.477611940298498,"d":"4.5"}},null,{"$f":"Portugal!J$36","v":0},{"$f":"Portugal!K$36","v":0},{"v":0,"d":"0.0"},null,{"$f":"Portugal!J$39","v":235},{"$f":"Portugal!K$39","v":218},{"$f":"((S33/R33)-1)*100","v":{"v":-7.234042553191489,"d":"-7.2"}},null,{"$f":"R33+N33+J33+F33+B33","v":{"v":3905,"d":"3,905"}},{"v":3978,"d":"3,978"},{"$f":"((W33/V33)-1)*100","v":{"v":1.869398207426376,"d":"1.9"}}]
[]
["A",{"$f":"Austria!J$16","v":195},{"$f":"Austria!K$16","v":221},{"$f":"((C35/B35)-1)*100","v":{"v":13.33333333333333,"d":"13.3"}},null,{"$f":"Austria!J$23","v":227},{"$f":"Austria!K$23","v":219},{"$f":"((G35/F35)-1)*100","v":{"v":-3.524229074889873,"d":"-3.5"}},null,{"$f":"Austria!J$30","v":380},{"$f":"Austria!K$30","v":411},{"$f":"((K35/J35)-1)*100","v":{"v":8.157894736842097,"d":"8.2"}},null,{"$f":"Austria!J$36","v":4},{"$f":"Austria!K$36","v":4},{"$f":"((O35/N35)-1)*100","v":{"v":0,"d":"0.0"}},null,{"$f":"Austria!J$39","v":82},{"$f":"Austria!K$39","v":62},{"$f":"((S35/R35)-1)*100","v":{"v":-24.390243902439025,"d":"-24.4"}},null,{"$f":"R35+N35+J35+F35+B35","v":888},917,{"$f":"((W35/V35)-1)*100","v":{"v":3.26576576576576,"d":"3.3"}}]
[]
["S",{"$f":"Sweden!J$16","v":{"v":1160,"d":"1,160"}},{"$f":"Sweden!K$16","v":{"v":1170,"d":"1,170"}},{"$f":"((C37/B37)-1)*100","v":{"v":0.8620689655172376,"d":"0.9"}},null,{"$f":"Sweden!J$23","v":700},{"$f":"Sweden!K$23","v":690},{"$f":"((G37/F37)-1)*100","v":{"v":-1.4285714285714235,"d":"-1.4"}},null,{"$f":"Sweden!J$30","v":520},{"$f":"Sweden!K$30","v":500},{"$f":"((K37/J37)-1)*100","v":{"v":-3.8461538461538436,"d":"-3.8"}},null,{"$f":"Sweden!J$36","v":10},{"$f":"Sweden!K$36","v":7},{"$f":"((O37/N37)-1)*100","v":{"v":-30.000000000000004,"d":"-30.0"}},null,{"$f":"Sweden!J$39","v":50},{"$f":"Sweden!K$39","v":50},{"$f":"((S37/R37)-1)*100","v":{"v":0,"d":"0.0"}},null,{"$f":"R37+N37+J37+F37+B37","v":{"v":2440,"d":"2,440"}},{"v":2417,"d":"2,417"},{"$f":"((W37/V37)-1)*100","v":{"v":-0.9426229508196715,"d":"-0.9"}}]
[]
["FIN",{"$f":"Finland!J$16","v":471},{"$f":"Finland!K$16","v":533},{"$f":"((C39/B39)-1)*100","v":{"v":13.163481953290868,"d":"13.2"}},null,{"$f":"Finland!J$23","v":323},{"$f":"Finland!K$23","v":311},{"$f":"((G39/F39)-1)*100","v":{"v":-3.7151702786377694,"d":"-3.7"}},null,{"$f":"Finland!J$30","v":221},{"$f":"Finland!K$30","v":238},{"$f":"((K39/J39)-1)*100","v":{"v":7.692307692307687,"d":"7.7"}},null,{"$f":"Finland!J$36","v":":"},{"$f":"Finland!K$36","v":":"},null,null,{"$f":"Finland!J$39","v":141},{"$f":"Finland!K$39","v":145},{"$f":"((S39/R39)-1)*100","v":{"v":2.8368794326241176,"d":"2.8"}},null,{"$f":"R39+J39+F39+B39","v":{"v":1156,"d":"1,156"}},{"v":1227,"d":"1,227"},{"$f":"((W39/V39)-1)*100","v":{"v":6.1418685121107375,"d":"6.1"}}]
[]
[{"$nulls":3}," "]
["EUR 15 *",{"$f":"B39+B37+B35+B33+B31+B29+B27+B25+B23+B21+B19+B17+B15","v":{"v":32993,"d":"32,993"}},{"v":32628,"d":"32,628"},{"$f":"((C42/B42)-1)*100","v":{"v":-1.1062952747552535,"d":"-1.1"}},null,{"$f":"F39+F37+F35+F33+F31+F29+F27+F25+F23+F21+F19+F17+F15","v":{"v":42236,"d":"42,236"}},{"v":43495,"d":"43,495"},{"$f":"((G42/F42)-1)*100","v":{"v":2.98086940051141,"d":"3.0"}},null,{"$f":"J39+J37+J35+J33+J31+J29+J27+J25+J23+J21+J19+J17+J15","v":{"v":36983,"d":"36,983"}},{"v":37774,"d":"37,774"},{"$f":"((K42/J42)-1)*100","v":{"v":2.1388205391666526,"d":"2.1"}},null,{"$f":"N37+N35+N33+N31+N29+N27+N23+N21+N19+N17+N15+N25","v":{"v":1761,"d":"1,761"}},{"v":1784,"d":"1,784"},{"$f":"((O42/N42)-1)*100","v":{"v":1.306076093128894,"d":"1.3"}},null,{"$f":"R39+R37+R35+R33+R31+R29+R27+R25+R23+R21+R19+R17+R15","v":{"v":7228,"d":"7,228"}},{"v":7386,"d":"7,386"},{"$f":"((S42/R42)-1)*100","v":{"v":2.1859435528500226,"d":"2.2"}},null,{"$f":"V39+V37+V35+V33+V31+V29+V27+V25+V23+V21+V19+V17+V15","v":{"v":121201,"d":"121,201"}},{"v":123067,"d":"123,067"},{"$f":"((W42/V42)-1)*100","v":{"v":1.5395912574978743,"d":"1.5"}}]
[]
[{"$nulls":23}," "]
["* Sans le Luxembourg et la Grèce/Ohne Luxemburg und Griechenland/Without Luxemburg and Greece/Senza Lussemburgo e Ellas"]
[]
[": non disponible/not available"]

{"sheet":"1998","index":18,"n_rows":45,"n_cols":16,"rows_kept":45,"merged":[[4,0,4,15],[5,0,5,15]]}
["2001-07-04"]
[]
["PRODUCTION INDUSTRIELLE D'ALIMENTS COMPOSES ",{"$nulls":14},"INDUSTRIELLE  MISCHFUTTERPRODUKTION"]
["PRODUZIONE INDUSTRIALE DI MANGIMI COMPOSTI",{"$nulls":14},"INDUSTRIAL COMPOUND PRODUCTION"]
[1999]
["definitif/final"]
[{"$nulls":15},"(1 000 t)"]
[]
["Catégories d'aliments composés/Mischfutterarten",null,"D","F","I","NL","B","UK","IRL","DK","ESP","P","A","S","FIN","EUR-15"]
["Tipi di mangimi compositi/Types of feed",{"$nulls":14},"*"]
[]
[null,null," ",{"$nulls":4}," ",null,null," "]
["Bovins/Cattle/Bovini/Rinder",null,{"$f":"C14+C15+C16+C18","v":{"v":6996,"d":"6,996"}},{"v":4050,"d":"4,050"},{"$f":"E14+E15+E16","v":{"v":3420,"d":"3,420"}},{"$f":"'The Netherlands'!K16","v":{"v":3597,"d":"3,597"}},{"$f":"G14+G15+G16+G18","v":{"v":1216,"d":"1,216"}},{"v":4032,"d":"4,032"},{"v":1824,"d":"1,824"},{"$f":"J14+J15+J16","v":{"v":1349,"d":"1,349"}},{"$f":"K14+K15+K18","v":{"v":3200,"d":"3,200"}},{"$f":"L14+L15+L16+L18","v":{"v":1020,"d":"1,020"}},{"$f":"Austria!K16","v":221},{"$f":"Sweden!K16","v":{"v":1170,"d":"1,170"}},{"$f":"O18+O16","v":533},{"$f":"SUM(C13:O13)","v":{"v":32628,"d":"32,628"}}]
["engrais/fattening/Mast  ",null,{"$f":"Germany!K17","v":605},{"$f":"France!K17","v":670},{"$f":"Italy!K17","v":865},{"$f":"'The Netherlands'!K17","v":279},{"$f":"Belgium!K17","v":394},{"$f":"UK!K17","v":958},{"$f":"Ireland!K17","v":797},{"$f":"Denmark!K17","v":525},{"$f":"Spain!K17","v":{"v":1450,"d":"1,450"}},{"$f":"Portugal!K17","v":362},":",{"$f":"Sweden!K17","v":":"},{"$f":"Finland!K17","v":":"},":"]
["VL/dairy cow/Milchkühe",null,{"$f":"Germany!K18","v":{"v":6000,"d":"6,000"}},{"$f":"France!K18","v":{"v":2926,"d":"2,926"}},{"$f":"Italy!K18","v":{"v":2417,"d":"2,417"}},{"$f":"'The Netherlands'!K18","v":{"v":3271,"d":"3,271"}},{"$f":"Belgium!K18","v":601},{"$f":"UK!K18","v":{"v":2783,"d":"2,783"}},{"$f":"Ireland!K18","v":821},{"$f":"Denmark!K18","v":524},{"$f":"Spain!K18","v":{"v":1250,"d":"1,250"}},{"$f":"Portugal!K18","v":583},":",{"$f":"Sweden!K18","v":":"},{"$f":"Finland!K18","v":":"},":"]
["veaux (aliments d'allaitement non compris)/calves ",null,{"$f":"Germany!K19","v":161},{"$f":"France!K19","v":219},{"$f":"Italy!K19","v":138},{"$f":"'The Netherlands'!K19","v":47},{"$f":"Belgium!K19","v":107},{"$f":"UK!K19","v":188},{"$f":"Ireland!K19","v":155},{"$f":"Denmark!K19","v":300},{"$f":"Spain!K19","v":":"},{"$f":"Portugal!K19","v":58},":",{"$f":"Sweden!K19","v":":"},{"$f":"Finland!K19","v":39},":"]
["(excluding milk replacers)/Kälber (exkl. Milchaustauscher)"]
["autres/others/Andere",null,{"$f":"Germany!K20","v":230},{"$f":"France!K20","v":235},{"$f":"Italy!K20","v":":"},{"$f":"'The Netherlands'!K20","v":":"},{"$f":"Belgium!K20","v":114},{"$f":"UK!K20","v":103},{"$f":"Ireland!K20","v":51},{"$f":"Denmark!K20","v":":"},{"$f":"Spain!K20","v":500},{"$f":"Portugal!K20","v":17},":",{"$f":"Sweden!K20","v":":"},{"$f":"Finland!K20","v":494},":"]
[]
[]
["Porcins/Pigs/Suini/Schweine",null,{"$f":"C22+C23+C24+C25","v":{"v":6667,"d":"6,667"}},{"$f":"D22+D23+D24","v":{"v":6986,"d":"6,986"}},{"$f":"Italy!K23","v":{"v":2491,"d":"2,491"}},{"$f":"'The Netherlands'!K23","v":{"v":6951,"d":"6,951"}},{"$f":"G22+G23","v":{"v":3592,"d":"3,592"}},{"$f":"H22+H23+H24+H25","v":{"v":2804,"d":"2,804"}},775,{"$f":"J22+J23+J24","v":{"v":3669,"d":"3,669"}},{"$f":"K22+K23+K24+K25","v":{"v":7000,"d":"7,000"}},{"v":1340,"d":"1,340"},{"$f":"Austria!K23","v":219},{"$f":"Sweden!K23","v":690},{"$f":"O22+O23+O24+O25","v":311},{"$f":"SUM(C21:O21)","v":{"v":43495,"d":"43,495"}}]
["porcelets/piglets/Ferkel",null,{"$f":"Germany!K24","v":{"v":1254,"d":"1,254"}},{"$f":"France!K24","v":879},{"$f":"Italy!K24","v":":"},{"$f":"'The Netherlands'!K24","v":810},{"$f":"Belgium!K24","v":796},{"$f":"UK!K24","v":130},{"$f":"Ireland!K24","v":133},{"$f":"Denmark!K24","v":657},{"$f":"Spain!K24","v":{"v":1025,"d":"1,025"}},{"$f":"Portugal!K24","v":194},":",{"$f":"Sweden!K24","v":":"},{"$f":"Finland!K24","v":42},":"]
["porcs engrais/pigs for fattening/Mastschweine",null,{"$f":"Germany!K25","v":{"v":3207,"d":"3,207"}},{"$f":"France!K25","v":{"v":4679,"d":"4,679"}},{"$f":"Italy!K25","v":":"},{"$f":"'The Netherlands'!K25","v":{"v":4670,"d":"4,670"}},{"$f":"Belgium!K25","v":{"v":2796,"d":"2,796"}},{"$f":"UK!K25","v":{"v":1836,"d":"1,836"}},{"$f":"Ireland!K25","v":433},{"$f":"Denmark!K25","v":{"v":2263,"d":"2,263"}},{"$f":"Spain!K25","v":{"v":4680,"d":"4,680"}},{"$f":"Portugal!K25","v":381},":",{"$f":"Sweden!K25","v":":"},{"$f":"Finland!K25","v":188},":"]
["reproducteurs/breeding pigs/Zuchtschweine",null,{"$f":"Germany!K26","v":{"v":1180,"d":"1,180"}},{"$f":"France!K26","v":{"v":1428,"d":"1,428"}},{"$f":"Italy!K26","v":":"},{"$f":"'The Netherlands'!K26","v":{"v":1471,"d":"1,471"}},{"$f":"Belgium!K26","v":":"},{"$f":"UK!K26","v":793},{"$f":"Ireland!K26","v":175},{"$f":"Denmark!K26","v":749},{"$f":"Spain!K26","v":{"v":1225,"d":"1,225"}},{"$f":"Portugal!K26","v":264},":",{"$f":"Sweden!K26","v":":"},{"$f":"Finland!K26","v":32},":"]
["autres/others/Andere",null,{"$f":"Germany!K27","v":{"v":1026,"d":"1,026"}},{"$f":"France!K27","v":":"},{"$f":"Italy!K27","v":":"},{"$f":"'The Netherlands'!K27","v":":"},{"$f":"Belgium!K27","v":":"},{"$f":"UK!K27","v":45},{"$f":"Ireland!K27","v":34},{"$f":"Denmark!K27","v":":"},{"$f":"Spain!K27","v":70},{"$f":"Portugal!K27","v":501},":",{"$f":"Sweden!K27","v":":"},{"$f":"Finland!K27","v":49},":"]
[{"$nulls":4}," "]
[]
["Volaille/Poultry/Volatili/Geflügel",null,{"$f":"C29+C30","v":{"v":4389,"d":"4,389"}},{"$f":"D29+D30+D31","v":{"v":9714,"d":"9,714"}},{"v":4396,"d":"4,396"},{"$f":"'The Netherlands'!K30","v":{"v":3727,"d":"3,727"}},{"$f":"G29+G30+G31","v":{"v":1403,"d":"1,403"}},{"v":6318,"d":"6,318"},501,677,{"v":4100,"d":"4,100"},{"v":1400,"d":"1,400"},{"$f":"Austria!K30","v":411},{"$f":"Sweden!K30","v":500},{"$f":"O29+O30+O31","v":238},{"$f":"SUM(C28:O28)","v":{"v":37774,"d":"37,774"}}]
["broilers",null,{"$f":"Germany!K31","v":{"v":2069,"d":"2,069"}},{"$f":"France!K31","v":{"v":3509,"d":"3,509"}},{"$f":"Italy!K31","v":{"v":2013,"d":"2,013"}},{"$f":"'The Netherlands'!K31","v":{"v":1717,"d":"1,717"}},{"$f":"Belgium!K31","v":710},{"$f":"UK!K31","v":{"v":3156,"d":"3,156"}},{"$f":"Ireland!K31","v":297},{"$f":"Denmark!K31","v":549},{"$f":"Spain!K31","v":{"v":2190,"d":"2,190"}},{"$f":"Portugal!K31","v":798},":",{"$f":"Sweden!K31","v":":"},{"$f":"Finland!K31","v":158},":"]
["poulettes & pondeuses/chicks & layers/Jung- & Legehennen",null,{"$f":"Germany!K32","v":{"v":2320,"d":"2,320"}},{"$f":"France!K32","v":{"v":2392,"d":"2,392"}},{"$f":"Italy!K32","v":{"v":1124,"d":"1,124"}},{"$f":"'The Netherlands'!K32","v":{"v":2010,"d":"2,010"}},{"$f":"Belgium!K32","v":480},{"$f":"UK!K32","v":{"v":1261,"d":"1,261"}},{"$f":"Ireland!K32","v":89},{"$f":"Denmark!K32","v":48},{"$f":"Spain!K32","v":{"v":1690,"d":"1,690"}},{"$f":"Portugal!K32","v":420},":",{"$f":"Sweden!K32","v":":"},{"$f":"Finland!K32","v":69},":"]
["autres/others/Andere",null,{"$f":"Germany!K33","v":":"},{"$f":"France!K33","v":{"v":3813,"d":"3,813"}},{"$f":"Italy!K33","v":{"v":1259,"d":"1,259"}},{"$f":"'The Netherlands'!K33","v":":"},{"$f":"Belgium!K33","v":213},{"$f":"UK!K33","v":{"v":1901,"d":"1,901"}},{"$f":"Ireland!K33","v":115},{"$f":"Denmark!K33","v":80},{"$f":"Spain!K33","v":220},{"$f":"Portugal!K33","v":182},":",{"$f":"Sweden!K33","v":":"},{"$f":"Finland!K33","v":11},":"]
[]
[]
["Al. d'allait./Milk replacers/Sostit. del latte/Milchaust.",null,{"$f":"Germany!K36","v":183},{"$f":"France!K36","v":517},{"$f":"Italy!K36","v":204},{"$f":"'The Netherlands'!K36","v":732},{"$f":"Belgium!K36","v":53},{"$f":"UK!K36","v":10},{"$f":"Ireland!K36","v":9},{"$f":"Denmark!K36","v":5},{"$f":"Spain!K36","v":60},{"$f":"Portugal!K36","v":0},{"$f":"Austria!K36","v":4},{"$f":"Sweden!K36","v":7},{"$f":"Finland!K36","v":":"},{"$f":"SUM(C34:O34)","v":{"v":1784,"d":"1,784"}}]
[]
[{"$nulls":4}," "]
["Autres/others/altri/Andere",null,{"$f":"Germany!K39","v":541},{"$f":"France!K39","v":{"v":1643,"d":"1,643"}},{"$f":"Italy!K39","v":{"v":1090,"d":"1,090"}},{"$f":"'The Netherlands'!K39","v":766},{"$f":"Belgium!K39","v":151},{"$f":"UK!K39","v":{"v":1234,"d":"1,234"}},{"$f":"Ireland!K39","v":346},{"$f":"Denmark!K39","v":140},{"$f":"Spain!K39","v":{"v":1000,"d":"1,000"}},{"$f":"Portugal!K39","v":218},{"$f":"Austria!K39","v":62},{"$f":"Sweden!K39","v":50},{"$f":"Finland!K39","v":145},{"$f":"SUM(C37:O37)","v":{"v":7386,"d":"7,386"}}]
[]
[]
["TOTAL",null,{"$f":"C37+C34+C28+C21+C13","v":{"v":18776,"d":"18,776"}},{"v":22910,"d":"22,910"},{"v":11601,"d":"11,601"},{"v":15773,"d":"15,773"},{"v":6415,"d":"6,415"},{"v":14398,"d":"14,398"},{"v":3455,"d":"3,455"},{"v":5840,"d":"5,840"},{"v":15360,"d":"15,360"},{"v":3978,"d":"3,978"},917,{"v":2417,"d":"2,417"},{"$f":"O37+O28+O21+O13","v":{"v":1227,"d":"1,227"}},{"$f":"P37+P34+P28+P21+P13","v":{"v":123067,"d":"123,067"}}]
[{"$nulls":5}," "]
[]
["* Sans le Luxembourg et la Grèce/ohne Luxemburg und Griechenland/Without Luxemburg and Greece/Senza Lussemburgo e Ella"]
[]
[": non disponible/not available/nicht verfügbar"]

{"sheet":"99-98","index":19,"n_rows":47,"n_cols":24,"rows_kept":47}
["2001-07-04"]
[]
["PRODUCTION INDUSTRIELLE D'ALIMENTS COMPOSES",{"$nulls":22},"INDUSTRIELLE  MISCHFUTTERPRODUKTION"]
["PRODUZIONE INDUSTRIALE DI MANGIMI COMPOSTI",{"$nulls":11},"1998-1999",{"$nulls":10},"INDUSTRIAL COMPOUND PRODUCTION"]
[{"$nulls":12},"definitif/final",{"$nulls":10},"(1 000 t )"]
[]
[]
[]
["PAYS",null,"      BOVINS/RINDER",{"$nulls":3},"    PORCS/SCHWEINE",{"$nulls":3},"     VOLAILLE/GEFLÜGEL",null,"      A. ALLAITEMENT/MILCHAUST.",{"$nulls":5},"     AUTRES/ANDERE",null,null,"       TOTAL/INSGESAMT"]
["LAND",null,"      BOVINI/CATTLE",{"$nulls":3},"    SUINI/PIGS",{"$nulls":3},"     VOLATILI/POULTRY",null,"  SOSTIT. DEL LATTE/MILKREPLACERS",{"$nulls":5},"ALTRI ANIMALI/OTHERS",null,null,"          TOTALE/TOTAL"]
["PAESE"]
["COUNTRY",1998,1999,"%TAV",null,1998,1999,"%TAV",null,1998,1999,"%TAV",null,1998,1999,"%TAV",null,1998,1999,"%TAV",null,1998,1999,"%TAV"]
[]
[]
["D",{"$f":"Germany!K$16","v":{"v":6996,"d":"6,996"}},{"$f":"Germany!L$16","v":{"v":6985,"d":"6,985"}},{"$f":"((C15/B15)-1)*100","v":{"v":-0.15723270440252124,"d":"-0.2"}},null,{"$f":"Germany!K$23","v":{"v":6667,"d":"6,667"}},{"$f":"Germany!L$23","v":{"v":6968,"d":"6,968"}},{"$f":"((G15/F15)-1)*100","v":{"v":4.514774261286925,"d":"4.5"}},null,{"$f":"Germany!K$30","v":{"v":4389,"d":"4,389"}},{"$f":"Germany!L$30","v":{"v":4361,"d":"4,361"}},{"$f":"((K15/J15)-1)*100","v":{"v":-0.6379585326953707,"d":"-0.6"}},null,{"$f":"Germany!K$36","v":183},{"$f":"Germany!L$36","v":182},{"$f":"((O15/N15)-1)*100","v":{"v":-0.5464480874316946,"d":"-0.5"}},null,{"$f":"Germany!K$39","v":541},{"$f":"Germany!L$39","v":545},{"$f":"((S15/R15)-1)*100","v":{"v":0.7393715341959428,"d":"0.7"}},null,{"$f":"R15+N15+J15+F15+B15","v":{"v":18776,"d":"18,776"}},{"v":19041,"d":"19,041"},{"$f":"((W15/V15)-1)*100","v":{"v":1.4113762249680528,"d":"1.4"}}]
[]
["F ",{"$f":"France!K$16","v":{"v":4050,"d":"4,050"}},{"$f":"France!L$16","v":{"v":4209,"d":"4,209"}},{"$f":"((C17/B17)-1)*100","v":{"v":3.9259259259259327,"d":"3.9"}},null,{"$f":"France!K$23","v":{"v":6986,"d":"6,986"}},{"$f":"France!L$23","v":{"v":6871,"d":"6,871"}},{"$f":"((G17/F17)-1)*100","v":{"v":-1.6461494417406186,"d":"-1.6"}},null,{"$f":"France!K$30","v":{"v":9714,"d":"9,714"}},{"$f":"France!L$30","v":{"v":9592,"d":"9,592"}},{"$f":"((K17/J17)-1)*100","v":{"v":-1.2559192917438788,"d":"-1.3"}},null,{"$f":"France!K$36","v":517},{"$f":"France!L$36","v":523},{"$f":"((O17/N17)-1)*100","v":{"v":1.1605415860735047,"d":"1.2"}},null,{"$f":"France!K$39","v":{"v":1643,"d":"1,643"}},{"$f":"France!L$39","v":{"v":1602,"d":"1,602"}},{"$f":"((S17/R17)-1)*100","v":{"v":-2.49543517954961,"d":"-2.5"}},null,{"$f":"R17+N17+J17+F17+B17","v":{"v":22910,"d":"22,910"}},{"v":22797,"d":"22,797"},{"$f":"((W17/V17)-1)*100","v":{"v":-0.49323439546049563,"d":"-0.5"}}]
[{"$nulls":3}," "]
["I ",{"$f":"Italy!K$16","v":{"v":3420,"d":"3,420"}},{"$f":"Italy!L$16","v":{"v":3665,"d":"3,665"}},{"$f":"((C19/B19)-1)*100","v":{"v":7.163742690058483,"d":"7.2"}},null,{"$f":"Italy!K$23","v":{"v":2491,"d":"2,491"}},{"$f":"Italy!L$23","v":{"v":2578,"d":"2,578"}},{"$f":"((G19/F19)-1)*100","v":{"v":3.492573263749499,"d":"3.5"}},null,{"$f":"Italy!K$30","v":{"v":4396,"d":"4,396"}},{"$f":"Italy!L$30","v":{"v":4458,"d":"4,458"}},{"$f":"((K19/J19)-1)*100","v":{"v":1.41037306642402,"d":"1.4"}},null,{"$f":"Italy!K$36","v":204},{"$f":"Italy!L$36","v":196},{"$f":"((O19/N19)-1)*100","v":{"v":-3.9215686274509776,"d":"-3.9"}},null,{"$f":"Italy!K$39","v":{"v":1090,"d":"1,090"}},{"$f":"Italy!L$39","v":{"v":1161,"d":"1,161"}},{"$f":"((S19/R19)-1)*100","v":{"v":6.513761467889911,"d":"6.5"}},null,{"$f":"R19+N19+J19+F19+B19","v":{"v":11601,"d":"11,601"}},{"v":12058,"d":"12,058"},{"$f":"((W19/V19)-1)*100","v":{"v":3.9393155762434295,"d":"3.9"}}]
[]
["NL   ",{"$f":"'The Netherlands'!K$16","v":{"v":3597,"d":"3,597"}},{"$f":"'The Netherlands'!L$16","v":{"v":3646,"d":"3,646"}},{"$f":"((C21/B21)-1)*100","v":{"v":1.36224631637476,"d":"1.4"}},null,{"$f":"'The Netherlands'!K$23","v":{"v":6951,"d":"6,951"}},{"$f":"'The Netherlands'!L$23","v":{"v":6729,"d":"6,729"}},{"$f":"((G21/F21)-1)*100","v":{"v":-3.193785066896848,"d":"-3.2"}},null,{"$f":"'The Netherlands'!K$30","v":{"v":3727,"d":"3,727"}},{"$f":"'The Netherlands'!L$30","v":{"v":3579,"d":"3,579"}},{"$f":"((K21/J21)-1)*100","v":{"v":-3.9710222699221864,"d":"-4.0"}},null,{"$f":"'The Netherlands'!K$36","v":732},{"$f":"'The Netherlands'!L$36","v":761},{"$f":"((O21/N21)-1)*100","v":{"v":3.9617486338797914,"d":"4.0"}},null,{"$f":"'The Netherlands'!K$39","v":766},{"$f":"'The Netherlands'!L$39","v":754},{"$f":"((S21/R21)-1)*100","v":{"v":-1.5665796344647487,"d":"-1.6"}},null,{"$f":"R21+N21+J21+F21+B21","v":{"v":15773,"d":"15,773"}},{"v":15469,"d":"15,469"},{"$f":"((W21/V21)-1)*100","v":{"v":-1.9273441957775916,"d":"-1.9"}}]
[{"$nulls":3}," "]
["B ",{"$f":"Belgium!K$16","v":{"v":1216,"d":"1,216"}},{"$f":"Belgium!L$16","v":{"v":1168,"d":"1,168"}},{"$f":"((C23/B23)-1)*100","v":{"v":-3.9473684210526327,"d":"-3.9"}},null,{"$f":"Belgium!K$23","v":{"v":3592,"d":"3,592"}},{"$f":"Belgium!L$23","v":{"v":3570,"d":"3,570"}},{"$f":"((G23/F23)-1)*100","v":{"v":-0.6124721603563477,"d":"-0.6"}},null,{"$f":"Belgium!K$30","v":{"v":1403,"d":"1,403"}},{"$f":"Belgium!L$30","v":{"v":1571,"d":"1,571"}},{"$f":"((K23/J23)-1)*100","v":{"v":11.974340698503205,"d":"12.0"}},null,{"$f":"Belgium!K$36","v":53},{"$f":"Belgium!L$36","v":53},{"$f":"((O23/N23)-1)*100","v":{"v":0,"d":"0.0"}},null,{"$f":"Belgium!K$39","v":151},{"$f":"Belgium!L$39","v":165},{"$f":"((S23/R23)-1)*100","v":{"v":9.27152317880795,"d":"9.3"}},null,{"$f":"R23+N23+J23+F23+B23","v":{"v":6415,"d":"6,415"}},{"v":6527,"d":"6,527"},{"$f":"((W23/V23)-1)*100","v":{"v":1.7459080280592287,"d":"1.7"}}]
[{"$nulls":3}," "]
["UK ",{"$f":"UK!K$16","v":{"v":4032,"d":"4,032"}},{"$f":"UK!L$16","v":{"v":4434,"d":"4,434"}},{"$f":"((C25/B25)-1)*100","v":{"v":9.970238095238093,"d":"10.0"}},null,{"$f":"UK!K$23","v":{"v":2804,"d":"2,804"}},{"$f":"UK!L$23","v":{"v":2499,"d":"2,499"}},{"$f":"((G25/F25)-1)*100","v":{"v":-10.877318116975754,"d":"-10.9"}},null,{"$f":"UK!K$30","v":{"v":6318,"d":"6,318"}},{"$f":"UK!L$30","v":{"v":6080,"d":"6,080"}},{"$f":"((K25/J25)-1)*100","v":{"v":-3.767014878125985,"d":"-3.8"}},null,{"$f":"UK!K$36","v":10},{"$f":"UK!L$36","v":13},{"$f":"((O25/N25)-1)*100","v":{"v":30.000000000000004,"d":"30.0"}},null,{"$f":"UK!K39","v":{"v":1234,"d":"1,234"}},{"$f":"UK!L39","v":{"v":1369,"d":"1,369"}},{"$f":"((S25/R25)-1)*100","v":{"v":10.94003241491086,"d":"10.9"}},null,{"$f":"R25+J25+F25+B25+N25","v":{"v":14398,"d":"14,398"}},{"v":14395,"d":"14,395"},{"$f":"((W25/V25)-1)*100","v":{"v":-0.020836227253784312,"d":"-0.0"}}]
[{"$nulls":3}," "]
["IRL ",{"$f":"Ireland!K$16","v":{"v":1824,"d":"1,824"}},{"$f":"Ireland!L$16","v":{"v":2155,"d":"2,155"}},{"$f":"((C27/B27)-1)*100","v":{"v":18.146929824561408,"d":"18.1"}},null,{"$f":"Ireland!K$23","v":775},{"$f":"Ireland!L$23","v":706},{"$f":"((G27/F27)-1)*100","v":{"v":-8.903225806451609,"d":"-8.9"}},null,{"$f":"Ireland!K$30","v":501},{"$f":"Ireland!L$30","v":491},{"$f":"((K27/J27)-1)*100","v":{"v":-1.9960079840319334,"d":"-2.0"}},null,{"$f":"Ireland!K$36","v":9},{"$f":"Ireland!L$36","v":7},{"$f":"((O27/N27)-1)*100","v":{"v":-22.22222222222222,"d":"-22.2"}},null,{"$f":"Ireland!K$39","v":346},{"$f":"Ireland!L$39","v":379},{"$f":"((S27/R27)-1)*100","v":{"v":9.53757225433527,"d":"9.5"}},null,{"$f":"R27+N27+J27+F27+B27","v":{"v":3455,"d":"3,455"}},{"v":3738,"d":"3,738"},{"$f":"((W27/V27)-1)*100","v":{"v":8.191027496382052,"d":"8.2"}}]
[{"$nulls":3}," "]
["DK ",{"$f":"Denmark!K$16","v":{"v":1349,"d":"1,349"}},{"$f":"Denmark!L$16","v":{"v":1335,"d":"1,335"}},{"$f":"((C29/B29)-1)*100","v":{"v":-1.0378057820607856,"d":"-1.0"}},null,{"$f":"Denmark!K$23","v":{"v":3669,"d":"3,669"}},{"$f":"Denmark!L$23","v":{"v":3504,"d":"3,504"}},{"$f":"((G29/F29)-1)*100","v":{"v":-4.497138184791494,"d":"-4.5"}},null,{"$f":"Denmark!K$30","v":677},{"$f":"Denmark!L$30","v":670},{"$f":"((K29/J29)-1)*100","v":{"v":-1.0339734121122546,"d":"-1.0"}},null,{"$f":"Denmark!K$36","v":5},{"$f":"Denmark!L$36","v":6},{"$f":"((O29/N29)-1)*100","v":{"v":19.999999999999996,"d":"20.0"}},null,{"$f":"Denmark!K$39","v":140},{"$f":"Denmark!L$39","v":115},{"$f":"((S29/R29)-1)*100","v":{"v":-17.85714285714286,"d":"-17.9"}},null,{"$f":"R29+N29+J29+F29+B29","v":{"v":5840,"d":"5,840"}},{"v":5630,"d":"5,630"},{"$f":"((W29/V29)-1)*100","v":{"v":-3.595890410958902,"d":"-3.6"}}]
[]
["ESP ",{"$f":"Spain!K$16","v":{"v":3200,"d":"3,200"}},{"$f":"Spain!L$16","v":{"v":3500,"d":"3,500"}},{"$f":"((C31/B31)-1)*100","v":{"v":9.375,"d":"9.4"}},null,{"$f":"Spain!K$23","v":{"v":7000,"d":"7,000"}},{"$f":"Spain!L$23","v":{"v":7700,"d":"7,700"}},{"$f":"((G31/F31)-1)*100","v":{"v":10.000000000000009,"d":"10.0"}},null,{"$f":"Spain!K$30","v":{"v":4100,"d":"4,100"}},{"$f":"Spain!L$30","v":{"v":4100,"d":"4,100"}},{"$f":"((K31/J31)-1)*100","v":{"v":0,"d":"0.0"}},null,{"$f":"Spain!K$36","v":60},{"$f":"Spain!L$36","v":60},{"$f":"((O31/N31)-1)*100","v":{"v":0,"d":"0.0"}},null,{"$f":"Spain!K$39","v":{"v":1000,"d":"1,000"}},{"$f":"Spain!L$39","v":900},{"$f":"((S31/R31)-1)*100","v":{"v":-9.999999999999998,"d":"-10.0"}},null,{"$f":"R31+N31+J31+F31+B31","v":{"v":15360,"d":"15,360"}},{"v":16260,"d":"16,260"},{"$f":"((W31/V31)-1)*100","v":{"v":5.859375,"d":"5.9"}}]
[{"$nulls":3}," ",{"$nulls":17}," "," "]
["P ",{"$f":"Portugal!K$16","v":{"v":1020,"d":"1,020"}},{"$f":"Portugal!L$16","v":{"v":1130,"d":"1,130"}},{"$f":"((C33/B33)-1)*100","v":{"v":10.784313725490202,"d":"10.8"}},null,{"$f":"Portugal!K$23","v":{"v":1340,"d":"1,340"}},{"$f":"Portugal!L$23","v":{"v":1230,"d":"1,230"}},{"$f":"((G33/F33)-1)*100","v":{"v":-8.208955223880599,"d":"-8.2"}},null,{"$f":"Portugal!K$30","v":{"v":1400,"d":"1,400"}},{"$f":"Portugal!L$30","v":{"v":1350,"d":"1,350"}},{"$f":"((K33/J33)-1)*100","v":{"v":-3.57142857142857,"d":"-3.6"}},null,{"$f":"Portugal!K$36","v":0},{"$f":"Portugal!L$36","v":0},{"v":0,"d":"0.0"},null,{"$f":"Portugal!K$39","v":218},{"$f":"Portugal!L$39","v":218},{"$f":"((S33/R33)-1)*100","v":{"v":0,"d":"0.0"}},null,{"$f":"R33+N33+J33+F33+B33","v":{"v":3978,"d":"3,978"}},{"v":3928,"d":"3,928"},{"$f":"((W33/V33)-1)*100","v":{"v":-1.2569130216188995,"d":"-1.3"}}]
[]
["A",{"$f":"Austria!K$16","v":221},{"$f":"Austria!L$16","v":254},{"$f":"((C35/B35)-1)*100","v":{"v":14.93212669683257,"d":"14.9"}},null,{"$f":"Austria!K$23","v":219},{"$f":"Austria!L$23","v":206},{"$f":"((G35/F35)-1)*100","v":{"v":-5.936073059360735,"d":"-5.9"}},null,{"$f":"Austria!K$30","v":411},{"$f":"Austria!L$30","v":387},{"$f":"((K35/J35)-1)*100","v":{"v":-5.839416058394164,"d":"-5.8"}},null,{"$f":"Austria!K$36","v":4},{"$f":"Austria!L$36","v":5},{"$f":"((O35/N35)-1)*100","v":{"v":25,"d":"25.0"}},null,{"$f":"Austria!K$39","v":62},{"$f":"Austria!L$39","v":75},{"$f":"((S35/R35)-1)*100","v":{"v":20.967741935483875,"d":"21.0"}},null,{"$f":"R35+N35+J35+F35+B35","v":917},927,{"$f":"((W35/V35)-1)*100","v":{"v":1.0905125408942284,"d":"1.1"}}]
[]
["S",{"$f":"Sweden!K$16","v":{"v":1170,"d":"1,170"}},{"$f":"Sweden!L$16","v":{"v":1235,"d":"1,235"}},{"$f":"((C37/B37)-1)*100","v":{"v":5.555555555555558,"d":"5.6"}},null,{"$f":"Sweden!K$23","v":690},{"$f":"Sweden!L$23","v":578},{"$f":"((G37/F37)-1)*100","v":{"v":-16.231884057971012,"d":"-16.2"}},null,{"$f":"Sweden!K$30","v":500},{"$f":"Sweden!L$30","v":500},{"$f":"((K37/J37)-1)*100","v":{"v":0,"d":"0.0"}},null,{"$f":"Sweden!K$36","v":7},{"$f":"Sweden!L$36","v":7},{"$f":"((O37/N37)-1)*100","v":{"v":0,"d":"0.0"}},null,{"$f":"Sweden!K$39","v":50},{"$f":"Sweden!L$39","v":50},{"$f":"((S37/R37)-1)*100","v":{"v":0,"d":"0.0"}},null,{"$f":"R37+N37+J37+F37+B37","v":{"v":2417,"d":"2,417"}},{"v":2370,"d":"2,370"},{"$f":"((W37/V37)-1)*100","v":{"v":-1.944559371121224,"d":"-1.9"}}]
[]
["FIN",{"$f":"Finland!K$16","v":533},{"$f":"Finland!L$16","v":627},{"$f":"((C39/B39)-1)*100","v":{"v":17.636022514071303,"d":"17.6"}},null,{"$f":"Finland!K$23","v":311},{"$f":"Finland!L$23","v":303},{"$f":"((G39/F39)-1)*100","v":{"v":-2.5723472668810254,"d":"-2.6"}},null,{"$f":"Finland!K$30","v":238},{"$f":"Finland!L$30","v":251},{"$f":"((K39/J39)-1)*100","v":{"v":5.462184873949583,"d":"5.5"}},null,{"$f":"Finland!K$36","v":":"},{"$f":"Finland!L$36","v":0},null,null,{"$f":"Finland!K$39","v":145},{"$f":"Finland!L$39","v":103},{"$f":"((S39/R39)-1)*100","v":{"v":-28.965517241379313,"d":"-29.0"}},null,{"$f":"R39+J39+F39+B39","v":{"v":1227,"d":"1,227"}},{"v":1284,"d":"1,284"},{"$f":"((W39/V39)-1)*100","v":{"v":4.645476772616131,"d":"4.6"}}]
[]
[{"$nulls":3}," "]
["EUR 15 *",{"$f":"B39+B37+B35+B33+B31+B29+B27+B25+B23+B21+B19+B17+B15","v":{"v":32628,"d":"32,628"}},{"v":34343,"d":"34,343"},{"$f":"((C42/B42)-1)*100","v":{"v":5.256221650116455,"d":"5.3"}},null,{"$f":"F39+F37+F35+F33+F31+F29+F27+F25+F23+F21+F19+F17+F15","v":{"v":43495,"d":"43,495"}},{"v":43442,"d":"43,442"},{"$f":"((G42/F42)-1)*100","v":{"v":-0.12185308656167404,"d":"-0.1"}},null,{"$f":"J39+J37+J35+J33+J31+J29+J27+J25+J23+J21+J19+J17+J15","v":{"v":37774,"d":"37,774"}},{"v":37390,"d":"37,390"},{"$f":"((K42/J42)-1)*100","v":{"v":-1.0165722454598347,"d":"-1.0"}},null,{"$f":"N37+N35+N33+N31+N29+N27+N23+N21+N19+N17+N15+N25","v":{"v":1784,"d":"1,784"}},{"v":1813,"d":"1,813"},{"$f":"((O42/N42)-1)*100","v":{"v":1.6255605381165994,"d":"1.6"}},null,{"$f":"R39+R37+R35+R33+R31+R29+R27+R25+R23+R21+R19+R17+R15","v":{"v":7386,"d":"7,386"}},{"v":7436,"d":"7,436"},{"$f":"((S42/R42)-1)*100","v":{"v":0.6769564040075782,"d":"0.7"}},null,{"$f":"V39+V37+V35+V33+V31+V29+V27+V25+V23+V21+V19+V17+V15","v":{"v":123067,"d":"123,067"}},{"v":124424,"d":"124,424"},{"$f":"((W42/V42)-1)*100","v":{"v":1.1026514012692168,"d":"1.1"}}]
[]
[{"$nulls":23}," "]
["* Sans le Luxembourg et la Grèce/Ohne Luxemburg und Griechenland/Without Luxemburg and Greece/Senza Lussemburgo e Ellas"]
[]
[": non disponible/not available"]

{"sheet":"1999","index":20,"n_rows":45,"n_cols":16,"rows_kept":45,"merged":[[4,0,4,15],[5,0,5,15]]}
["2001-07-04"]
[]
["PRODUCTION INDUSTRIELLE D'ALIMENTS COMPOSES ",{"$nulls":14},"INDUSTRIELLE  MISCHFUTTERPRODUKTION"]
["PRODUZIONE INDUSTRIALE DI MANGIMI COMPOSTI",{"$nulls":14},"INDUSTRIAL COMPOUND PRODUCTION"]
[1999]
["definitif/final"]
[{"$nulls":15},"(1 000 t)"]
[]
["Catégories d'aliments composés/Mischfutterarten",null,"D","F","I","NL","B","UK","IRL","DK","ESP","P","A","S","FIN","EUR-15"]
["Tipi di mangimi compositi/Types of feed",{"$nulls":14},"*"]
[]
[null,null," ",{"$nulls":4}," ",null,null," "]
["Bovins/Cattle/Bovini/Rinder",null,{"$f":"C14+C15+C16+C18","v":{"v":6985,"d":"6,985"}},{"v":4209,"d":"4,209"},{"$f":"E14+E15+E16","v":{"v":3665,"d":"3,665"}},{"$f":"'The Netherlands'!L16","v":{"v":3646,"d":"3,646"}},{"$f":"G14+G15+G16+G18","v":{"v":1168,"d":"1,168"}},{"v":4434,"d":"4,434"},{"v":2155,"d":"2,155"},{"$f":"J14+J15+J16","v":{"v":1335,"d":"1,335"}},{"$f":"K14+K15+K18","v":{"v":3500,"d":"3,500"}},{"$f":"L14+L15+L16+L18","v":{"v":1130,"d":"1,130"}},{"$f":"Austria!L16","v":254},{"$f":"N15+N18","v":{"v":1235,"d":"1,235"}},{"$f":"O15+O16","v":627},{"$f":"SUM(C13:O13)","v":{"v":34343,"d":"34,343"}}]
["engrais/fattening/Mast  ",null,{"$f":"Germany!L17","v":662},{"$f":"France!L17","v":716},{"$f":"Italy!L17","v":914},{"$f":"'The Netherlands'!L17","v":283},{"$f":"Belgium!L17","v":350},{"$f":"UK!L17","v":{"v":1138,"d":"1,138"}},{"$f":"Ireland!L17","v":{"v":1056,"d":"1,056"}},{"$f":"Denmark!L17","v":517},{"$f":"Spain!L17","v":{"v":1600,"d":"1,600"}},{"$f":"Portugal!L17","v":390},":",{"$f":"Sweden!L17","v":":"},{"$f":"Finland!L17","v":":"},":"]
["VL/dairy cow/Milchkühe",null,{"$f":"Germany!L18","v":{"v":5582,"d":"5,582"}},{"$f":"France!L18","v":{"v":2994,"d":"2,994"}},{"$f":"Italy!L18","v":{"v":2608,"d":"2,608"}},{"$f":"'The Netherlands'!L18","v":{"v":3206,"d":"3,206"}},{"$f":"Belgium!L18","v":629},{"$f":"UK!L18","v":{"v":3038,"d":"3,038"}},{"$f":"Ireland!L18","v":882},{"$f":"Denmark!L18","v":517},{"$f":"Spain!L18","v":{"v":1400,"d":"1,400"}},{"$f":"Portugal!L18","v":630},":",{"$f":"Sweden!L18","v":{"v":1065,"d":"1,065"}},{"$f":"Finland!L18","v":584},":"]
["veaux (aliments d'allaitement non compris)/calves ",null,{"$f":"Germany!L19","v":163},{"$f":"France!L19","v":250},{"$f":"Italy!L19","v":143},{"$f":"'The Netherlands'!L19","v":157},{"$f":"Belgium!L19","v":96},{"$f":"UK!L19","v":173},{"$f":"Ireland!L19","v":160},{"$f":"Denmark!L19","v":301},{"$f":"Spain!L19","v":":"},{"$f":"Portugal!L19","v":79},":",{"$f":"Sweden!L19","v":":"},{"$f":"Finland!L19","v":43},":"]
["(excluding milk replacers)/Kälber (exkl. Milchaustauscher)"]
["autres/others/Andere",null,{"$f":"Germany!L20","v":578},{"$f":"France!L20","v":249},{"$f":"Italy!L20","v":":"},{"$f":"'The Netherlands'!L20","v":":"},{"$f":"Belgium!L20","v":93},{"$f":"UK!L20","v":85},{"$f":"Ireland!L20","v":57},{"$f":"Denmark!L20","v":":"},{"$f":"Spain!L20","v":500},{"$f":"Portugal!L20","v":31},":",{"$f":"Sweden!L20","v":170},{"$f":"Finland!L20","v":":"},":"]
[]
[]
["Porcins/Pigs/Suini/Schweine",null,{"$f":"C22+C23+C24+C25","v":{"v":6968,"d":"6,968"}},{"$f":"D22+D23+D24","v":{"v":6871,"d":"6,871"}},{"$f":"Italy!L23","v":{"v":2578,"d":"2,578"}},{"$f":"'The Netherlands'!L23","v":{"v":6729,"d":"6,729"}},{"$f":"G22+G23","v":{"v":3570,"d":"3,570"}},{"$f":"H22+H23+H24+H25","v":{"v":2499,"d":"2,499"}},706,{"$f":"J22+J23+J24","v":{"v":3504,"d":"3,504"}},{"$f":"K22+K23+K24+K25","v":{"v":7700,"d":"7,700"}},{"v":1230,"d":"1,230"},{"$f":"Austria!L23","v":206},{"$f":"N22+N23+N24+N25","v":578},303,{"$f":"SUM(C21:O21)","v":{"v":43442,"d":"43,442"}}]
["porcelets/piglets/Ferkel",null,{"$f":"Germany!L24","v":{"v":1222,"d":"1,222"}},{"$f":"France!L24","v":866},{"$f":"Italy!L24","v":":"},{"$f":"'The Netherlands'!L24","v":841},{"$f":"Belgium!L24","v":769},{"$f":"UK!L24","v":117},{"$f":"Ireland!L24","v":122},{"$f":"Denmark!L24","v":607},{"$f":"Spain!L24","v":{"v":1150,"d":"1,150"}},{"$f":"Portugal!L24","v":180},":",{"$f":"Sweden!L24","v":90},{"$f":"Finland!L24","v":41},":"]
["porcs engrais/pigs for fattening/Mastschweine",null,{"$f":"Germany!L25","v":{"v":3745,"d":"3,745"}},{"$f":"France!L25","v":{"v":4638,"d":"4,638"}},{"$f":"Italy!L25","v":":"},{"$f":"'The Netherlands'!L25","v":{"v":4489,"d":"4,489"}},{"$f":"Belgium!L25","v":{"v":2801,"d":"2,801"}},{"$f":"UK!L25","v":{"v":1659,"d":"1,659"}},{"$f":"Ireland!L25","v":412},{"$f":"Denmark!L25","v":{"v":1948,"d":"1,948"}},{"$f":"Spain!L25","v":{"v":5120,"d":"5,120"}},{"$f":"Portugal!L25","v":336},":",{"$f":"Sweden!L25","v":335},{"$f":"Finland!L25","v":182},":"]
["reproducteurs/breeding pigs/Zuchtschweine",null,{"$f":"Germany!L26","v":{"v":1149,"d":"1,149"}},{"$f":"France!L26","v":{"v":1367,"d":"1,367"}},{"$f":"Italy!L26","v":":"},{"$f":"'The Netherlands'!L26","v":{"v":1399,"d":"1,399"}},{"$f":"Belgium!L26","v":":"},{"$f":"UK!L26","v":694},{"$f":"Ireland!L26","v":143},{"$f":"Denmark!L26","v":949},{"$f":"Spain!L26","v":{"v":1360,"d":"1,360"}},{"$f":"Portugal!L26","v":245},":",{"$f":"Sweden!L26","v":140},{"$f":"Finland!L26","v":30},":"]
["autres/others/Andere",null,{"$f":"Germany!L27","v":852},{"$f":"France!L27","v":":"},{"$f":"Italy!L27","v":":"},{"$f":"'The Netherlands'!L27","v":":"},{"$f":"Belgium!L27","v":":"},{"$f":"UK!L27","v":29},{"$f":"Ireland!L27","v":29},{"$f":"Denmark!L27","v":":"},{"$f":"Spain!L27","v":70},{"$f":"Portugal!L27","v":469},":",{"$f":"Sweden!L27","v":13},{"$f":"Finland!L27","v":50},":"]
[{"$nulls":4}," "]
[]
["Volaille/Poultry/Volatili/Geflügel",null,{"$f":"C29+C30+C31","v":{"v":4361,"d":"4,361"}},{"v":9592,"d":"9,592"},{"v":4458,"d":"4,458"},{"$f":"'The Netherlands'!L30","v":{"v":3579,"d":"3,579"}},{"$f":"G29+G30+G31","v":{"v":1571,"d":"1,571"}},{"v":6080,"d":"6,080"},491,670,{"v":4100,"d":"4,100"},{"v":1350,"d":"1,350"},{"$f":"Austria!L30","v":387},{"$f":"N29+N30+N31","v":500},251,{"$f":"SUM(C28:O28)","v":{"v":37390,"d":"37,390"}}]
["broilers",null,{"$f":"Germany!L31","v":912},{"$f":"France!L31","v":{"v":3380,"d":"3,380"}},{"$f":"Italy!L31","v":{"v":2029,"d":"2,029"}},{"$f":"'The Netherlands'!L31","v":{"v":1701,"d":"1,701"}},{"$f":"Belgium!L31","v":801},{"$f":"UK!L31","v":{"v":3108,"d":"3,108"}},{"$f":"Ireland!L31","v":271},{"$f":"Denmark!L31","v":564},{"$f":"Spain!L31","v":{"v":2190,"d":"2,190"}},{"$f":"Portugal!L31","v":791},":",{"$f":"Sweden!L31","v":190},{"$f":"Finland!L31","v":167},":"]
["poulettes & pondeuses/chicks & layers/Jung- & Legehennen",null,{"$f":"Germany!L32","v":{"v":2264,"d":"2,264"}},{"$f":"France!L32","v":{"v":2410,"d":"2,410"}},{"$f":"Italy!L32","v":{"v":1246,"d":"1,246"}},{"$f":"'The Netherlands'!L32","v":{"v":1878,"d":"1,878"}},{"$f":"Belgium!L32","v":491},{"$f":"UK!L32","v":{"v":1180,"d":"1,180"}},{"$f":"Ireland!L32","v":98},{"$f":"Denmark!L32","v":34},{"$f":"Spain!L32","v":{"v":1690,"d":"1,690"}},{"$f":"Portugal!L32","v":394},":",{"$f":"Sweden!L32","v":205},{"$f":"Finland!L32","v":67},":"]
["autres/others/Andere",null,{"$f":"Germany!L33","v":{"v":1185,"d":"1,185"}},{"$f":"France!L33","v":{"v":3802,"d":"3,802"}},{"$f":"Italy!L33","v":{"v":1183,"d":"1,183"}},{"$f":"'The Netherlands'!L33","v":":"},{"$f":"Belgium!L33","v":279},{"$f":"UK!L33","v":{"v":1792,"d":"1,792"}},{"$f":"Ireland!L33","v":122},{"$f":"Denmark!L33","v":72},{"$f":"Spain!L33","v":220},{"$f":"Portugal!L33","v":165},":",{"$f":"Sweden!L33","v":105},{"$f":"Finland!L33","v":17},":"]
[]
[]
["Al. d'allait./Milk replacers/Sostit. del latte/Milchaust.",null,{"$f":"Germany!L36","v":182},{"$f":"France!L36","v":523},{"$f":"Italy!L36","v":196},{"$f":"'The Netherlands'!L36","v":761},{"$f":"Belgium!L36","v":53},{"$f":"UK!L36","v":13},{"$f":"Ireland!L36","v":7},{"$f":"Denmark!L36","v":6},{"$f":"Spain!L36","v":60},{"$f":"Portugal!L36","v":0},{"$f":"Austria!L36","v":5},{"$f":"Sweden!L36","v":7},{"$f":"Finland!L36","v":0},{"$f":"SUM(C34:O34)","v":{"v":1813,"d":"1,813"}}]
[]
[{"$nulls":4}," "]
["Autres/others/altri/Andere",null,{"$f":"Germany!L39","v":545},{"$f":"France!L39","v":{"v":1602,"d":"1,602"}},{"$f":"Italy!L39","v":{"v":1161,"d":"1,161"}},{"$f":"'The Netherlands'!L39","v":754},{"$f":"Belgium!L39","v":165},{"$f":"UK!L39","v":{"v":1369,"d":"1,369"}},{"$f":"Ireland!L39","v":379},{"$f":"Denmark!L39","v":115},{"$f":"Spain!L39","v":900},{"$f":"Portugal!L39","v":218},{"$f":"Austria!L39","v":75},{"$f":"Sweden!L39","v":50},{"$f":"Finland!L39","v":103},{"$f":"SUM(C37:O37)","v":{"v":7436,"d":"7,436"}}]
[]
[]
["TOTAL",null,{"$f":"C37+C34+C28+C21+C13","v":{"v":19041,"d":"19,041"}},{"v":22797,"d":"22,797"},{"v":12058,"d":"12,058"},{"v":15469,"d":"15,469"},{"v":6527,"d":"6,527"},{"v":14395,"d":"14,395"},{"v":3738,"d":"3,738"},{"v":5630,"d":"5,630"},{"v":16260,"d":"16,260"},{"v":3928,"d":"3,928"},927,{"v":2370,"d":"2,370"},{"v":1284,"d":"1,284"},{"v":124424,"d":"124,424"}]
[{"$nulls":5}," "]
[]
["* Sans le Luxembourg et la Grèce/ohne Luxemburg und Griechenland/Without Luxemburg and Greece/Senza Lussemburgo e Ella"]
[]
[": non disponible/not available/nicht verfügbar"]

{"sheet":"2000-99","index":21,"n_rows":47,"n_cols":24,"rows_kept":47}
["2001-07-04"]
[]
["PRODUCTION INDUSTRIELLE D'ALIMENTS COMPOSES",{"$nulls":22},"INDUSTRIELLE  MISCHFUTTERPRODUKTION"]
["PRODUZIONE INDUSTRIALE DI MANGIMI COMPOSTI",{"$nulls":11},"1999-2000",{"$nulls":10},"INDUSTRIAL COMPOUND PRODUCTION"]
[{"$nulls":12},"definitif/final",{"$nulls":10},"(1 000 t )"]
[]
[]
[]
["PAYS",null,"      BOVINS/RINDER",{"$nulls":3},"    PORCS/SCHWEINE",{"$nulls":3},"     VOLAILLE/GEFLÜGEL",null,"      A. ALLAITEMENT/MILCHAUST.",{"$nulls":5},"     AUTRES/ANDERE",null,null,"       TOTAL/INSGESAMT"]
["LAND",null,"      BOVINI/CATTLE",{"$nulls":3},"    SUINI/PIGS",{"$nulls":3},"     VOLATILI/POULTRY",null,"  SOSTIT. DEL LATTE/MILKREPLACERS",{"$nulls":5},"ALTRI ANIMALI/OTHERS",null,null,"          TOTALE/TOTAL"]
["PAESE"]
["COUNTRY",1999,2000,"%TAV",null,1999,2000,"%TAV",null,1999,2000,"%TAV",null,1999,2000,"%TAV",null,1999,2000,"%TAV",null,1999,2000,"%TAV"]
[]
[]
["D",{"$f":"Germany!L$16","v":{"v":6985,"d":"6,985"}},{"$f":"Germany!M$16","v":{"v":7029,"d":"7,029"}},{"$f":"((C15/B15)-1)*100","v":{"v":0.6299212598425141,"d":"0.6"}},null,{"$f":"Germany!L$23","v":{"v":6968,"d":"6,968"}},{"$f":"Germany!M$23","v":{"v":7075,"d":"7,075"}},{"$f":"((G15/F15)-1)*100","v":{"v":1.535591274397241,"d":"1.5"}},null,{"$f":"Germany!L$30","v":{"v":4361,"d":"4,361"}},{"$f":"Germany!M$30","v":{"v":4791,"d":"4,791"}},{"$f":"((K15/J15)-1)*100","v":{"v":9.86012382481083,"d":"9.9"}},null,{"$f":"Germany!L$36","v":182},{"$f":"Germany!M$36","v":190},{"$f":"((O15/N15)-1)*100","v":{"v":4.395604395604402,"d":"4.4"}},null,{"$f":"Germany!L$39","v":545},{"$f":"Germany!M$39","v":551},{"$f":"((S15/R15)-1)*100","v":{"v":1.1009174311926495,"d":"1.1"}},null,{"$f":"R15+N15+J15+F15+B15","v":{"v":19041,"d":"19,041"}},{"v":19636,"d":"19,636"},{"$f":"((W15/V15)-1)*100","v":{"v":3.1248358804684573,"d":"3.1"}}]
[]
["F ",{"$f":"France!L$16","v":{"v":4209,"d":"4,209"}},{"$f":"France!M$16","v":{"v":4379,"d":"4,379"}},{"$f":"((C17/B17)-1)*100","v":{"v":4.038964124495137,"d":"4.0"}},null,{"$f":"France!L$23","v":{"v":6871,"d":"6,871"}},{"$f":"France!M$23","v":{"v":6872,"d":"6,872"}},{"$f":"((G17/F17)-1)*100","v":{"v":0.014553922282045662,"d":"0.0"}},null,{"$f":"France!L$30","v":{"v":9592,"d":"9,592"}},{"$f":"France!M$30","v":{"v":9759,"d":"9,759"}},{"$f":"((K17/J17)-1)*100","v":{"v":1.7410341951626274,"d":"1.7"}},null,{"$f":"France!L$36","v":523},{"$f":"France!M$36","v":519},{"$f":"((O17/N17)-1)*100","v":{"v":-0.7648183556405397,"d":"-0.8"}},null,{"$f":"France!L$39","v":{"v":1602,"d":"1,602"}},{"$f":"France!M$39","v":{"v":1580,"d":"1,580"}},{"$f":"((S17/R17)-1)*100","v":{"v":-1.3732833957553092,"d":"-1.4"}},null,{"$f":"R17+N17+J17+F17+B17","v":{"v":22797,"d":"22,797"}},{"v":23109,"d":"23,109"},{"$f":"((W17/V17)-1)*100","v":{"v":1.3686011317278535,"d":"1.4"}}]
[{"$nulls":3}," "]
["I ",{"$f":"Italy!L$16","v":{"v":3665,"d":"3,665"}},{"$f":"Italy!M$16","v":{"v":3680,"d":"3,680"}},{"$f":"((C19/B19)-1)*100","v":{"v":0.4092769440654953,"d":"0.4"}},null,{"$f":"Italy!L$23","v":{"v":2578,"d":"2,578"}},{"$f":"Italy!M$23","v":{"v":2470,"d":"2,470"}},{"$f":"((G19/F19)-1)*100","v":{"v":-4.189294026377032,"d":"-4.2"}},null,{"$f":"Italy!L$30","v":{"v":4458,"d":"4,458"}},{"$f":"Italy!M$30","v":{"v":3966,"d":"3,966"}},{"$f":"((K19/J19)-1)*100","v":{"v":-11.036339165545083,"d":"-11.0"}},null,{"$f":"Italy!L$36","v":196},{"$f":"Italy!M$36","v":200},{"$f":"((O19/N19)-1)*100","v":{"v":2.0408163265306145,"d":"2.0"}},null,{"$f":"Italy!L$39","v":{"v":1161,"d":"1,161"}},{"$f":"Italy!M$39","v":{"v":1206,"d":"1,206"}},{"$f":"((S19/R19)-1)*100","v":{"v":3.875968992248069,"d":"3.9"}},null,{"$f":"R19+N19+J19+F19+B19","v":{"v":12058,"d":"12,058"}},{"v":11522,"d":"11,522"},{"$f":"((W19/V19)-1)*100","v":{"v":-4.445181622159566,"d":"-4.4"}}]
[]
["NL   ",{"$f":"'The Netherlands'!L$16","v":{"v":3646,"d":"3,646"}},{"$f":"'The Netherlands'!M$16","v":{"v":3541,"d":"3,541"}},{"$f":"((C21/B21)-1)*100","v":{"v":-2.8798683488754806,"d":"-2.9"}},null,{"$f":"'The Netherlands'!L$23","v":{"v":6729,"d":"6,729"}},{"$f":"'The Netherlands'!M$23","v":{"v":6001,"d":"6,001"}},{"$f":"((G21/F21)-1)*100","v":{"v":-10.818843810373014,"d":"-10.8"}},null,{"$f":"'The Netherlands'!L$30","v":{"v":3579,"d":"3,579"}},{"$f":"'The Netherlands'!M$30","v":{"v":3598,"d":"3,598"}},{"$f":"((K21/J21)-1)*100","v":{"v":0.5308745459625674,"d":"0.5"}},null,{"$f":"'The Netherlands'!L$36","v":761},{"$f":"'The Netherlands'!M$36","v":774},{"$f":"((O21/N21)-1)*100","v":{"v":1.708278580814726,"d":"1.7"}},null,{"$f":"'The Netherlands'!L$39","v":754},{"$f":"'The Netherlands'!M$39","v":741},{"$f":"((S21/R21)-1)*100","v":{"v":-1.7241379310344862,"d":"-1.7"}},null,{"$f":"R21+N21+J21+F21+B21","v":{"v":15469,"d":"15,469"}},{"v":14655,"d":"14,655"},{"$f":"((W21/V21)-1)*100","v":{"v":-5.262137177580972,"d":"-5.3"}}]
[{"$nulls":3}," "]
["B ",{"$f":"Belgium!L$16","v":{"v":1168,"d":"1,168"}},{"$f":"Belgium!M$16","v":{"v":1165,"d":"1,165"}},{"$f":"((C23/B23)-1)*100","v":{"v":-0.25684931506849695,"d":"-0.3"}},null,{"$f":"Belgium!L$23","v":{"v":3570,"d":"3,570"}},{"$f":"Belgium!M$23","v":{"v":3616,"d":"3,616"}},{"$f":"((G23/F23)-1)*100","v":{"v":1.2885154061624604,"d":"1.3"}},null,{"$f":"Belgium!L$30","v":{"v":1571,"d":"1,571"}},{"$f":"Belgium!M$30","v":{"v":1310,"d":"1,310"}},{"$f":"((K23/J23)-1)*100","v":{"v":-16.61362189688097,"d":"-16.6"}},null,{"$f":"Belgium!L$36","v":53},{"$f":"Belgium!M$36","v":53},{"$f":"((O23/N23)-1)*100","v":{"v":0,"d":"0.0"}},null,{"$f":"Belgium!L$39","v":165},{"$f":"Belgium!M$39","v":159},{"$f":"((S23/R23)-1)*100","v":{"v":-3.6363636363636376,"d":"-3.6"}},null,{"$f":"R23+N23+J23+F23+B23","v":{"v":6527,"d":"6,527"}},{"v":6303,"d":"6,303"},{"$f":"((W23/V23)-1)*100","v":{"v":-3.431898268729894,"d":"-3.4"}}]
[{"$nulls":3}," "]
["UK ",{"$f":"UK!L$16","v":{"v":4434,"d":"4,434"}},{"$f":"UK!M$16","v":{"v":4214,"d":"4,214"}},{"$f":"((C25/B25)-1)*100","v":{"v":-4.961659900766802,"d":"-5.0"}},null,{"$f":"UK!L$23","v":{"v":2499,"d":"2,499"}},{"$f":"UK!M$23","v":{"v":2142,"d":"2,142"}},{"$f":"((G25/F25)-1)*100","v":{"v":-14.28571428571429,"d":"-14.3"}},null,{"$f":"UK!L$30","v":{"v":6080,"d":"6,080"}},{"$f":"UK!M$30","v":{"v":6037,"d":"6,037"}},{"$f":"((K25/J25)-1)*100","v":{"v":-0.7072368421052633,"d":"-0.7"}},null,{"$f":"UK!L$36","v":13},{"$f":"UK!M$36","v":15},{"$f":"((O25/N25)-1)*100","v":{"v":15.384615384615374,"d":"15.4"}},null,{"$f":"UK!L39","v":{"v":1369,"d":"1,369"}},{"$f":"UK!M39","v":{"v":1239,"d":"1,239"}},{"$f":"((S25/R25)-1)*100","v":{"v":-9.495982468955443,"d":"-9.5"}},null,{"$f":"R25+J25+F25+B25+N25","v":{"v":14395,"d":"14,395"}},{"v":13647,"d":"13,647"},{"$f":"((W25/V25)-1)*100","v":{"v":-5.196248697464401,"d":"-5.2"}}]
[{"$nulls":3}," "]
["IRL ",{"$f":"Ireland!L$16","v":{"v":2155,"d":"2,155"}},{"$f":"Ireland!M$16","v":{"v":1926,"d":"1,926"}},{"$f":"((C27/B27)-1)*100","v":{"v":-10.626450116009279,"d":"-10.6"}},null,{"$f":"Ireland!L$23","v":706},{"$f":"Ireland!M$23","v":710},{"$f":"((G27/F27)-1)*100","v":{"v":0.56657223796035,"d":"0.6"}},null,{"$f":"Ireland!L$30","v":491},{"$f":"Ireland!M$30","v":493},{"$f":"((K27/J27)-1)*100","v":{"v":0.40733197556008793,"d":"0.4"}},null,{"$f":"Ireland!L$36","v":7},{"$f":"Ireland!M$36","v":7},{"$f":"((O27/N27)-1)*100","v":{"v":0,"d":"0.0"}},null,{"$f":"Ireland!L$39","v":379},{"$f":"Ireland!M$39","v":367},{"$f":"((S27/R27)-1)*100","v":{"v":-3.16622691292876,"d":"-3.2"}},null,{"$f":"R27+N27+J27+F27+B27","v":{"v":3738,"d":"3,738"}},{"v":3503,"d":"3,503"},{"$f":"((W27/V27)-1)*100","v":{"v":-6.286784376672017,"d":"-6.3"}}]
[{"$nulls":3}," "]
["DK ",{"$f":"Denmark!L$16","v":{"v":1335,"d":"1,335"}},{"$f":"Denmark!M$16","v":{"v":1506,"d":"1,506"}},{"$f":"((C29/B29)-1)*100","v":{"v":12.808988764044948,"d":"12.8"}},null,{"$f":"Denmark!L$23","v":{"v":3504,"d":"3,504"}},{"$f":"Denmark!M$23","v":{"v":3804,"d":"3,804"}},{"$f":"((G29/F29)-1)*100","v":{"v":8.56164383561644,"d":"8.6"}},null,{"$f":"Denmark!L$30","v":670},{"$f":"Denmark!M$30","v":696},{"$f":"((K29/J29)-1)*100","v":{"v":3.88059701492538,"d":"3.9"}},null,{"$f":"Denmark!L$36","v":6},{"$f":"Denmark!M$36","v":5},{"$f":"((O29/N29)-1)*100","v":{"v":-16.666666666666664,"d":"-16.7"}},null,{"$f":"Denmark!L$39","v":115},{"$f":"Denmark!M$39","v":117},{"$f":"((S29/R29)-1)*100","v":{"v":1.7391304347825987,"d":"1.7"}},null,{"$f":"R29+N29+J29+F29+B29","v":{"v":5630,"d":"5,630"}},{"v":6128,"d":"6,128"},{"$f":"((W29/V29)-1)*100","v":{"v":8.845470692717594,"d":"8.8"}}]
[]
["ESP ",{"$f":"Spain!L$16","v":{"v":3500,"d":"3,500"}},{"$f":"Spain!M$16","v":{"v":3500,"d":"3,500"}},{"$f":"((C31/B31)-1)*100","v":{"v":0,"d":"0.0"}},null,{"$f":"Spain!L$23","v":{"v":7700,"d":"7,700"}},{"$f":"Spain!M$23","v":{"v":8270,"d":"8,270"}},{"$f":"((G31/F31)-1)*100","v":{"v":7.402597402597411,"d":"7.4"}},null,{"$f":"Spain!L$30","v":{"v":4100,"d":"4,100"}},{"$f":"Spain!M$30","v":{"v":4050,"d":"4,050"}},{"$f":"((K31/J31)-1)*100","v":{"v":-1.2195121951219523,"d":"-1.2"}},null,{"$f":"Spain!L$36","v":60},{"$f":"Spain!M$36","v":65},{"$f":"((O31/N31)-1)*100","v":{"v":8.333333333333325,"d":"8.3"}},null,{"$f":"Spain!L$39","v":900},{"$f":"Spain!M$39","v":{"v":1000,"d":"1,000"}},{"$f":"((S31/R31)-1)*100","v":{"v":11.111111111111116,"d":"11.1"}},null,{"$f":"R31+N31+J31+F31+B31","v":{"v":16260,"d":"16,260"}},{"v":16885,"d":"16,885"},{"$f":"((W31/V31)-1)*100","v":{"v":3.8437884378843767,"d":"3.8"}}]
[{"$nulls":3}," ",{"$nulls":17}," "," "]
["P ",{"$f":"Portugal!L$16","v":{"v":1130,"d":"1,130"}},{"$f":"Portugal!M$16","v":{"v":1130,"d":"1,130"}},{"$f":"((C33/B33)-1)*100","v":{"v":0,"d":"0.0"}},null,{"$f":"Portugal!L$23","v":{"v":1230,"d":"1,230"}},{"$f":"Portugal!M$23","v":{"v":1150,"d":"1,150"}},{"$f":"((G33/F33)-1)*100","v":{"v":-6.504065040650408,"d":"-6.5"}},null,{"$f":"Portugal!L$30","v":{"v":1350,"d":"1,350"}},{"$f":"Portugal!M$30","v":{"v":1340,"d":"1,340"}},{"$f":"((K33/J33)-1)*100","v":{"v":-0.7407407407407418,"d":"-0.7"}},null,{"$f":"Portugal!L$36","v":0},{"$f":"Portugal!M$36","v":0},{"v":0,"d":"0.0"},null,{"$f":"Portugal!L$39","v":218},{"$f":"Portugal!M$39","v":212},{"$f":"((S33/R33)-1)*100","v":{"v":-2.752293577981646,"d":"-2.8"}},null,{"$f":"R33+N33+J33+F33+B33","v":{"v":3928,"d":"3,928"}},{"v":3832,"d":"3,832"},{"$f":"((W33/V33)-1)*100","v":{"v":-2.4439918533604943,"d":"-2.4"}}]
[]
["A",{"$f":"Austria!L$16","v":254},{"$f":"Austria!M$16","v":260},{"$f":"((C35/B35)-1)*100","v":{"v":2.3622047244094446,"d":"2.4"}},null,{"$f":"Austria!L$23","v":206},{"$f":"Austria!M$23","v":204},{"$f":"((G35/F35)-1)*100","v":{"v":-0.9708737864077666,"d":"-1.0"}},null,{"$f":"Austria!L$30","v":387},{"$f":"Austria!M$30","v":370},{"$f":"((K35/J35)-1)*100","v":{"v":-4.392764857881137,"d":"-4.4"}},null,{"$f":"Austria!L$36","v":5},{"$f":"Austria!M$36","v":4},{"$f":"((O35/N35)-1)*100","v":{"v":-19.999999999999996,"d":"-20.0"}},null,{"$f":"Austria!L$39","v":75},{"$f":"Austria!M$39","v":73},{"$f":"((S35/R35)-1)*100","v":{"v":-2.6666666666666616,"d":"-2.7"}},null,{"$f":"R35+N35+J35+F35+B35","v":927},911,{"$f":"((W35/V35)-1)*100","v":{"v":-1.7259978425027023,"d":"-1.7"}}]
[]
["S",{"$f":"Sweden!L$16","v":{"v":1235,"d":"1,235"}},{"$f":"Sweden!M$16","v":{"v":1223,"d":"1,223"}},{"$f":"((C37/B37)-1)*100","v":{"v":-0.9716599190283448,"d":"-1.0"}},null,{"$f":"Sweden!L$23","v":578},{"$f":"Sweden!M$23","v":492},{"$f":"((G37/F37)-1)*100","v":{"v":-14.878892733564008,"d":"-14.9"}},null,{"$f":"Sweden!L$30","v":500},{"$f":"Sweden!M$30","v":500},{"$f":"((K37/J37)-1)*100","v":{"v":0,"d":"0.0"}},null,{"$f":"Sweden!L$36","v":7},{"$f":"Sweden!M$36","v":6},{"$f":"((O37/N37)-1)*100","v":{"v":-14.28571428571429,"d":"-14.3"}},null,{"$f":"Sweden!L$39","v":50},{"$f":"Sweden!M$39","v":50},{"$f":"((S37/R37)-1)*100","v":{"v":0,"d":"0.0"}},null,{"$f":"R37+N37+J37+F37+B37","v":{"v":2370,"d":"2,370"}},{"v":2271,"d":"2,271"},{"$f":"((W37/V37)-1)*100","v":{"v":-4.177215189873418,"d":"-4.2"}}]
[]
["FIN",{"$f":"Finland!L$16","v":627},{"$f":"Finland!M$16","v":651},{"$f":"((C39/B39)-1)*100","v":{"v":3.8277511961722466,"d":"3.8"}},null,{"$f":"Finland!L$23","v":303},{"$f":"Finland!M$23","v":293},{"$f":"((G39/F39)-1)*100","v":{"v":-3.300330033003296,"d":"-3.3"}},null,{"$f":"Finland!L$30","v":251},{"$f":"Finland!M$30","v":248},{"$f":"((K39/J39)-1)*100","v":{"v":-1.195219123505975,"d":"-1.2"}},null,{"$f":"Finland!L$36","v":0},{"$f":"Finland!M$36","v":0},null,null,{"$f":"Finland!L$39","v":103},{"$f":"Finland!M$39","v":103},{"$f":"((S39/R39)-1)*100","v":{"v":0,"d":"0.0"}},null,{"$f":"R39+J39+F39+B39","v":{"v":1284,"d":"1,284"}},{"v":1295,"d":"1,295"},{"$f":"((W39/V39)-1)*100","v":{"v":0.8566978193146335,"d":"0.9"}}]
[]
[{"$nulls":3}," "]
["EUR 15 *",{"$f":"B39+B37+B35+B33+B31+B29+B27+B25+B23+B21+B19+B17+B15","v":{"v":34343,"d":"34,343"}},{"v":34204,"d":"34,204"},{"$f":"((C42/B42)-1)*100","v":{"v":-0.4047404128934562,"d":"-0.4"}},null,{"$f":"F39+F37+F35+F33+F31+F29+F27+F25+F23+F21+F19+F17+F15","v":{"v":43442,"d":"43,442"}},{"v":43099,"d":"43,099"},{"$f":"((G42/F42)-1)*100","v":{"v":-0.7895584917821497,"d":"-0.8"}},null,{"$f":"J39+J37+J35+J33+J31+J29+J27+J25+J23+J21+J19+J17+J15","v":{"v":37390,"d":"37,390"}},{"v":37158,"d":"37,158"},{"$f":"((K42/J42)-1)*100","v":{"v":-0.6204867611660836,"d":"-0.6"}},null,{"$f":"N37+N35+N33+N31+N29+N27+N23+N21+N19+N17+N15+N25","v":{"v":1813,"d":"1,813"}},{"v":1838,"d":"1,838"},{"$f":"((O42/N42)-1)*100","v":{"v":1.3789299503585317,"d":"1.4"}},null,{"$f":"R39+R37+R35+R33+R31+R29+R27+R25+R23+R21+R19+R17+R15","v":{"v":7436,"d":"7,436"}},{"v":7398,"d":"7,398"},{"$f":"((S42/R42)-1)*100","v":{"v":-0.5110274341043608,"d":"-0.5"}},null,{"$f":"V39+V37+V35+V33+V31+V29+V27+V25+V23+V21+V19+V17+V15","v":{"v":124424,"d":"124,424"}},{"v":123697,"d":"123,697"},{"$f":"((W42/V42)-1)*100","v":{"v":-0.5842924194689125,"d":"-0.6"}}]
[]
[{"$nulls":23}," "]
["* Sans le Luxembourg et la Grèce/Ohne Luxemburg und Griechenland/Without Luxemburg and Greece/Senza Lussemburgo e Ellas"]
[]
[": non disponible/not available"]

{"sheet":"2000","index":22,"n_rows":45,"n_cols":16,"rows_kept":45,"merged":[[4,0,4,15],[5,0,5,15]]}
["2001-07-04"]
[]
["PRODUCTION INDUSTRIELLE D'ALIMENTS COMPOSES ",{"$nulls":14},"INDUSTRIELLE  MISCHFUTTERPRODUKTION"]
["PRODUZIONE INDUSTRIALE DI MANGIMI COMPOSTI",{"$nulls":14},"INDUSTRIAL COMPOUND PRODUCTION"]
[2000]
["definitif/final"]
[{"$nulls":15},"(1 000 t)"]
[]
["Catégories d'aliments composés/Mischfutterarten",null,"D","F","I","NL","B","UK","IRL","DK","ESP","P","A","S","FIN","EUR-15"]
["Tipi di mangimi compositi/Types of feed",{"$nulls":14},"*"]
[]
[null,null," ",{"$nulls":4}," ",null,null," "]
["Bovins/Cattle/Bovini/Rinder",null,{"$f":"C14+C15+C16+C18","v":{"v":7029,"d":"7,029"}},{"v":4379,"d":"4,379"},{"$f":"E14+E15+E16","v":{"v":3680,"d":"3,680"}},{"$f":"'The Netherlands'!M16","v":{"v":3541,"d":"3,541"}},{"$f":"G14+G15+G16+G18","v":{"v":1165,"d":"1,165"}},{"v":4214,"d":"4,214"},{"v":1926,"d":"1,926"},{"$f":"J14+J15+J16","v":{"v":1506,"d":"1,506"}},{"$f":"K14+K15+K18","v":{"v":3500,"d":"3,500"}},{"$f":"L14+L15+L16+L18","v":{"v":1130,"d":"1,130"}},{"$f":"Austria!M16","v":260},{"$f":"N15+N18","v":{"v":1223,"d":"1,223"}},{"$f":"O15+O16","v":651},{"$f":"SUM(C13:O13)","v":{"v":34204,"d":"34,204"}}]
["engrais/fattening/Mast  ",null,{"$f":"Germany!M17","v":675},{"$f":"France!M17","v":768},{"$f":"Italy!M17","v":950},{"$f":"'The Netherlands'!M17","v":479},{"$f":"Belgium!M17","v":344},{"$f":"UK!M17","v":{"v":1136,"d":"1,136"}},{"$f":"Ireland!M17","v":902},{"$f":"Denmark!M17","v":580},{"$f":"Spain!M17","v":{"v":1600,"d":"1,600"}},{"$f":"Portugal!M17","v":418},":",{"$f":"Sweden!M17","v":":"},{"$f":"Finland!M17","v":":"},":"]
["VL/dairy cow/Milchkühe",null,{"$f":"Germany!M18","v":{"v":5534,"d":"5,534"}},{"$f":"France!M18","v":{"v":3123,"d":"3,123"}},{"$f":"Italy!M18","v":{"v":2603,"d":"2,603"}},{"$f":"'The Netherlands'!M18","v":{"v":2949,"d":"2,949"}},{"$f":"Belgium!M18","v":613},{"$f":"UK!M18","v":{"v":2803,"d":"2,803"}},{"$f":"Ireland!M18","v":823},{"$f":"Denmark!M18","v":581},{"$f":"Spain!M18","v":{"v":1400,"d":"1,400"}},{"$f":"Portugal!M18","v":610},":",{"$f":"Sweden!M18","v":{"v":1050,"d":"1,050"}},{"$f":"Finland!M18","v":606},":"]
["veaux (aliments d'allaitement non compris)/calves ",null,{"$f":"Germany!M19","v":161},{"$f":"France!M19","v":254},{"$f":"Italy!M19","v":127},{"$f":"'The Netherlands'!M19","v":113},{"$f":"Belgium!M19","v":106},{"$f":"UK!M19","v":176},{"$f":"Ireland!M19","v":150},{"$f":"Denmark!M19","v":345},{"$f":"Spain!M19","v":":"},{"$f":"Portugal!M19","v":79},":",{"$f":"Sweden!M19","v":":"},{"$f":"Finland!M19","v":45},":"]
["(excluding milk replacers)/Kälber (exkl. Milchaustauscher)"]
["autres/others/Andere",null,{"$f":"Germany!M20","v":659},{"$f":"France!M20","v":234},{"$f":"Italy!M20","v":":"},{"$f":"'The Netherlands'!M20","v":":"},{"$f":"Belgium!M20","v":102},{"$f":"UK!M20","v":99},{"$f":"Ireland!M20","v":51},{"$f":"Denmark!M20","v":":"},{"$f":"Spain!M20","v":500},{"$f":"Portugal!M20","v":23},":",{"$f":"Sweden!M20","v":173},{"$f":"Finland!M20","v":":"},":"]
[]
[]
["Porcins/Pigs/Suini/Schweine",null,{"$f":"C22+C23+C24+C25","v":{"v":7075,"d":"7,075"}},{"$f":"D22+D23+D24","v":{"v":6872,"d":"6,872"}},{"$f":"Italy!M23","v":{"v":2470,"d":"2,470"}},{"$f":"'The Netherlands'!M23","v":{"v":6001,"d":"6,001"}},{"$f":"G22+G23","v":{"v":3616,"d":"3,616"}},{"$f":"H22+H23+H24+H25","v":{"v":2142,"d":"2,142"}},710,{"$f":"J22+J23+J24","v":{"v":3804,"d":"3,804"}},{"$f":"K22+K23+K24+K25","v":{"v":8270,"d":"8,270"}},{"v":1150,"d":"1,150"},{"$f":"Austria!M23","v":204},{"$f":"N22+N23+N24+N25","v":492},293,{"$f":"SUM(C21:O21)","v":{"v":43099,"d":"43,099"}}]
["porcelets/piglets/Ferkel",null,{"$f":"Germany!M24","v":{"v":1389,"d":"1,389"}},{"$f":"France!M24","v":866},{"$f":"Italy!M24","v":":"},{"$f":"'The Netherlands'!M24","v":863},{"$f":"Belgium!M24","v":765},{"$f":"UK!M24","v":99},{"$f":"Ireland!M24","v":116},{"$f":"Denmark!M24","v":665},{"$f":"Spain!M24","v":{"v":1230,"d":"1,230"}},{"$f":"Portugal!M24","v":161},":",{"$f":"Sweden!M24","v":80},{"$f":"Finland!M24","v":41},":"]
["porcs engrais/pigs for fattening/Mastschweine",null,{"$f":"Germany!M25","v":{"v":4128,"d":"4,128"}},{"$f":"France!M25","v":{"v":4635,"d":"4,635"}},{"$f":"Italy!M25","v":":"},{"$f":"'The Netherlands'!M25","v":{"v":3688,"d":"3,688"}},{"$f":"Belgium!M25","v":{"v":2851,"d":"2,851"}},{"$f":"UK!M25","v":{"v":1420,"d":"1,420"}},{"$f":"Ireland!M25","v":438},{"$f":"Denmark!M25","v":{"v":2104,"d":"2,104"}},{"$f":"Spain!M25","v":{"v":5520,"d":"5,520"}},{"$f":"Portugal!M25","v":311},":",{"$f":"Sweden!M25","v":280},{"$f":"Finland!M25","v":173},":"]
["reproducteurs/breeding pigs/Zuchtschweine",null,{"$f":"Germany!M26","v":{"v":1057,"d":"1,057"}},{"$f":"France!M26","v":{"v":1371,"d":"1,371"}},{"$f":"Italy!M26","v":":"},{"$f":"'The Netherlands'!M26","v":{"v":1450,"d":"1,450"}},{"$f":"Belgium!M26","v":":"},{"$f":"UK!M26","v":594},{"$f":"Ireland!M26","v":133},{"$f":"Denmark!M26","v":{"v":1035,"d":"1,035"}},{"$f":"Spain!M26","v":{"v":1450,"d":"1,450"}},{"$f":"Portugal!M26","v":230},":",{"$f":"Sweden!M26","v":120},{"$f":"Finland!M26","v":31},":"]
["autres/others/Andere",null,{"$f":"Germany!M27","v":501},{"$f":"France!M27","v":":"},{"$f":"Italy!M27","v":":"},{"$f":"'The Netherlands'!M27","v":":"},{"$f":"Belgium!M27","v":":"},{"$f":"UK!M27","v":29},{"$f":"Ireland!M27","v":23},{"$f":"Denmark!M27","v":":"},{"$f":"Spain!M27","v":70},{"$f":"Portugal!M27","v":448},":",{"$f":"Sweden!M27","v":12},{"$f":"Finland!M27","v":48},":"]
[{"$nulls":4}," "]
[]
["Volaille/Poultry/Volatili/Geflügel",null,{"$f":"C29+C30+C31","v":{"v":4791,"d":"4,791"}},{"v":9759,"d":"9,759"},{"v":3966,"d":"3,966"},{"$f":"'The Netherlands'!M30","v":{"v":3598,"d":"3,598"}},{"$f":"G29+G30+G31","v":{"v":1310,"d":"1,310"}},{"v":6037,"d":"6,037"},493,696,{"v":4050,"d":"4,050"},{"v":1340,"d":"1,340"},{"$f":"Austria!M30","v":370},{"$f":"N29+N30+N31","v":500},248,{"$f":"SUM(C28:O28)","v":{"v":37158,"d":"37,158"}}]
["broilers",null,{"$f":"Germany!M31","v":{"v":1208,"d":"1,208"}},{"$f":"France!M31","v":{"v":3334,"d":"3,334"}},{"$f":"Italy!M31","v":{"v":1835,"d":"1,835"}},{"$f":"'The Netherlands'!M31","v":{"v":1783,"d":"1,783"}},{"$f":"Belgium!M31","v":603},{"$f":"UK!M31","v":{"v":3097,"d":"3,097"}},{"$f":"Ireland!M31","v":296},{"$f":"Denmark!M31","v":593},{"$f":"Spain!M31","v":{"v":2120,"d":"2,120"}},{"$f":"Portugal!M31","v":791},":",{"$f":"Sweden!M31","v":195},{"$f":"Finland!M31","v":156},":"]
["poulettes & pondeuses/chicks & layers/Jung- & Legehennen",null,{"$f":"Germany!M32","v":{"v":2356,"d":"2,356"}},{"$f":"France!M32","v":{"v":2325,"d":"2,325"}},{"$f":"Italy!M32","v":{"v":1168,"d":"1,168"}},{"$f":"'The Netherlands'!M32","v":{"v":1815,"d":"1,815"}},{"$f":"Belgium!M32","v":499},{"$f":"UK!M32","v":{"v":1236,"d":"1,236"}},{"$f":"Ireland!M32","v":100},{"$f":"Denmark!M32","v":33},{"$f":"Spain!M32","v":{"v":1690,"d":"1,690"}},{"$f":"Portugal!M32","v":400},":",{"$f":"Sweden!M32","v":200},{"$f":"Finland!M32","v":70},":"]
["autres/others/Andere",null,{"$f":"Germany!M33","v":{"v":1227,"d":"1,227"}},{"$f":"France!M33","v":{"v":4100,"d":"4,100"}},{"$f":"Italy!M33","v":963},{"$f":"'The Netherlands'!M33","v":":"},{"$f":"Belgium!M33","v":208},{"$f":"UK!M33","v":{"v":1704,"d":"1,704"}},{"$f":"Ireland!M33","v":97},{"$f":"Denmark!M33","v":70},{"$f":"Spain!M33","v":240},{"$f":"Portugal!M33","v":149},":",{"$f":"Sweden!M33","v":105},{"$f":"Finland!M33","v":22},":"]
[]
[]
["Al. d'allait./Milk replacers/Sostit. del latte/Milchaust.",null,{"$f":"Germany!M36","v":190},{"$f":"France!M36","v":519},{"$f":"Italy!M36","v":200},{"$f":"'The Netherlands'!M36","v":774},{"$f":"Belgium!M36","v":53},{"$f":"UK!M36","v":15},{"$f":"Ireland!M36","v":7},{"$f":"Denmark!M36","v":5},{"$f":"Spain!M36","v":65},{"$f":"Portugal!M36","v":0},{"$f":"Austria!M36","v":4},{"$f":"Sweden!M36","v":6},{"$f":"Finland!M36","v":0},{"$f":"SUM(C34:O34)","v":{"v":1838,"d":"1,838"}}]
[]
[{"$nulls":4}," "]
["Autres/others/altri/Andere",null,{"$f":"Germany!M39","v":551},{"$f":"France!M39","v":{"v":1580,"d":"1,580"}},{"$f":"Italy!M39","v":{"v":1206,"d":"1,206"}},{"$f":"'The Netherlands'!M39","v":741},{"$f":"Belgium!M39","v":159},{"$f":"UK!M39","v":{"v":1239,"d":"1,239"}},{"$f":"Ireland!M39","v":367},{"$f":"Denmark!M39","v":117},{"$f":"Spain!M39","v":{"v":1000,"d":"1,000"}},{"$f":"Portugal!M39","v":212},{"$f":"Austria!M39","v":73},{"$f":"Sweden!M39","v":50},{"$f":"Finland!M39","v":103},{"$f":"SUM(C37:O37)","v":{"v":7398,"d":"7,398"}}]
[]
[]
["TOTAL",null,{"$f":"C37+C34+C28+C21+C13","v":{"v":19636,"d":"19,636"}},{"v":23109,"d":"23,109"},{"v":11522,"d":"11,522"},{"v":14655,"d":"14,655"},{"v":6303,"d":"6,303"},{"v":13647,"d":"13,647"},{"v":3503,"d":"3,503"},{"v":6128,"d":"6,128"},{"v":16885,"d":"16,885"},{"v":3832,"d":"3,832"},911,{"v":2271,"d":"2,271"},{"v":1295,"d":"1,295"},{"v":123697,"d":"123,697"}]
[{"$nulls":5}," "]
[]
["* Sans le Luxembourg et la Grèce/ohne Luxemburg und Griechenland/Without Luxemburg and Greece/Senza Lussemburgo e Ella"]
[]
[": non disponible/not available/nicht verfügbar"]

{"sheet":"2000-01","index":23,"n_rows":47,"n_cols":24,"rows_kept":47}
["2003-05-02"]
[]
["PRODUCTION INDUSTRIELLE D'ALIMENTS COMPOSES",{"$nulls":22},"INDUSTRIELLE  MISCHFUTTERPRODUKTION"]
["PRODUZIONE INDUSTRIALE DI MANGIMI COMPOSTI",{"$nulls":11},"2000-2001",{"$nulls":10},"INDUSTRIAL COMPOUND PRODUCTION"]
[{"$nulls":12},"definitif/final",{"$nulls":10},"(1 000 t )"]
[]
[]
[]
["PAYS",null,"      BOVINS/RINDER",{"$nulls":3},"    PORCS/SCHWEINE",{"$nulls":3},"     VOLAILLE/GEFLÜGEL",null,"      A. ALLAITEMENT/MILCHAUST.",{"$nulls":5},"     AUTRES/ANDERE",null,null,"       TOTAL/INSGESAMT"]
["LAND",null,"      BOVINI/CATTLE",{"$nulls":3},"    SUINI/PIGS",{"$nulls":3},"     VOLATILI/POULTRY",null,"  SOSTIT. DEL LATTE/MILKREPLACERS",{"$nulls":5},"ALTRI ANIMALI/OTHERS",null,null,"          TOTALE/TOTAL"]
["PAESE"]
["COUNTRY",2000,2001,"%TAV",null,2000,2001,"%TAV",null,2000,2001,"%TAV",null,2000,2001,"%TAV",null,2000,2001,"%TAV",null,2000,2001,"%TAV"]
[]
[]
["D",{"$f":"Germany!M$16","v":{"v":7029,"d":"7,029"}},{"$f":"Germany!N$16","v":{"v":6656,"d":"6,656"}},{"$f":"((C15/B15)-1)*100","v":{"v":-5.306586996727846,"d":"-5.3"}},null,{"$f":"Germany!M$23","v":{"v":7075,"d":"7,075"}},{"$f":"Germany!N$23","v":{"v":7120,"d":"7,120"}},{"$f":"((G15/F15)-1)*100","v":{"v":0.6360424028268641,"d":"0.6"}},null,{"$f":"Germany!M$30","v":{"v":4791,"d":"4,791"}},{"$f":"Germany!N$30","v":{"v":4995,"d":"4,995"}},{"$f":"((K15/J15)-1)*100","v":{"v":4.257983719474012,"d":"4.3"}},null,{"$f":"Germany!M$36","v":190},{"$f":"Germany!N$36","v":174},{"$f":"((O15/N15)-1)*100","v":{"v":-8.421052631578952,"d":"-8.4"}},null,{"$f":"Germany!M$39","v":551},{"$f":"Germany!N$39","v":529},{"$f":"((S15/R15)-1)*100","v":{"v":-3.992740471869327,"d":"-4.0"}},null,{"$f":"R15+N15+J15+F15+B15","v":{"v":19636,"d":"19,636"}},{"v":19474,"d":"19,474"},{"$f":"((W15/V15)-1)*100","v":{"v":-0.8250152780607034,"d":"-0.8"}}]
[]
["F ",{"$f":"France!M$16","v":{"v":4379,"d":"4,379"}},{"$f":"France!N$16","v":{"v":4470,"d":"4,470"}},{"$f":"((C17/B17)-1)*100","v":{"v":2.07810002283626,"d":"2.1"}},null,{"$f":"France!M$23","v":{"v":6872,"d":"6,872"}},{"$f":"France!N$23","v":{"v":7016,"d":"7,016"}},{"$f":"((G17/F17)-1)*100","v":{"v":2.0954598370197974,"d":"2.1"}},null,{"$f":"France!M$30","v":{"v":9759,"d":"9,759"}},{"$f":"France!N$30","v":{"v":9709,"d":"9,709"}},{"$f":"((K17/J17)-1)*100","v":{"v":-0.5123475765959618,"d":"-0.5"}},null,{"$f":"France!M$36","v":519},{"$f":"France!N$36","v":499},{"$f":"((O17/N17)-1)*100","v":{"v":-3.8535645472061675,"d":"-3.9"}},null,{"$f":"France!M$39","v":{"v":1580,"d":"1,580"}},{"$f":"France!N$39","v":{"v":1591,"d":"1,591"}},{"$f":"((S17/R17)-1)*100","v":{"v":0.6962025316455733,"d":"0.7"}},null,{"$f":"R17+N17+J17+F17+B17","v":{"v":23109,"d":"23,109"}},{"v":23285,"d":"23,285"},{"$f":"((W17/V17)-1)*100","v":{"v":0.7616080315028695,"d":"0.8"}}]
[{"$nulls":3}," "]
["I ",{"$f":"Italy!M$16","v":{"v":3680,"d":"3,680"}},{"$f":"Italy!N$16","v":{"v":3651,"d":"3,651"}},{"$f":"((C19/B19)-1)*100","v":{"v":-0.7880434782608692,"d":"-0.8"}},null,{"$f":"Italy!M$23","v":{"v":2470,"d":"2,470"}},{"$f":"Italy!N$23","v":{"v":2718,"d":"2,718"}},{"$f":"((G19/F19)-1)*100","v":{"v":10.040485829959511,"d":"10.0"}},null,{"$f":"Italy!M$30","v":{"v":3966,"d":"3,966"}},{"$f":"Italy!N$30","v":{"v":4253,"d":"4,253"}},{"$f":"((K19/J19)-1)*100","v":{"v":7.236510337871915,"d":"7.2"}},null,{"$f":"Italy!M$36","v":200},{"$f":"Italy!N$36","v":175},{"$f":"((O19/N19)-1)*100","v":-12.5},null,{"$f":"Italy!M$39","v":{"v":1206,"d":"1,206"}},{"$f":"Italy!N$39","v":{"v":1080,"d":"1,080"}},{"$f":"((S19/R19)-1)*100","v":{"v":-10.447761194029848,"d":"-10.4"}},null,{"$f":"R19+N19+J19+F19+B19","v":{"v":11522,"d":"11,522"}},{"v":11877,"d":"11,877"},{"$f":"((W19/V19)-1)*100","v":{"v":3.0810623155702155,"d":"3.1"}}]
[]
["NL   ",{"$f":"'The Netherlands'!M$16","v":{"v":3541,"d":"3,541"}},{"$f":"'The Netherlands'!N$16","v":{"v":3449,"d":"3,449"}},{"$f":"((C21/B21)-1)*100","v":{"v":-2.598136119740191,"d":"-2.6"}},null,{"$f":"'The Netherlands'!M$23","v":{"v":6001,"d":"6,001"}},{"$f":"'The Netherlands'!N$23","v":{"v":5762,"d":"5,762"}},{"$f":"((G21/F21)-1)*100","v":{"v":-3.9826695550741587,"d":"-4.0"}},null,{"$f":"'The Netherlands'!M$30","v":{"v":3598,"d":"3,598"}},{"$f":"'The Netherlands'!N$30","v":{"v":3466,"d":"3,466"}},{"$f":"((K21/J21)-1)*100","v":{"v":-3.668704836020009,"d":"-3.7"}},null,{"$f":"'The Netherlands'!M$36","v":774},{"$f":"'The Netherlands'!N$36","v":710},{"$f":"((O21/N21)-1)*100","v":{"v":-8.268733850129195,"d":"-8.3"}},null,{"$f":"'The Netherlands'!M$39","v":741},{"$f":"'The Netherlands'!N$39","v":864},{"$f":"((S21/R21)-1)*100","v":{"v":16.5991902834008,"d":"16.6"}},null,{"$f":"R21+N21+J21+F21+B21","v":{"v":14655,"d":"14,655"}},{"v":14251,"d":"14,251"},{"$f":"((W21/V21)-1)*100","v":{"v":-2.7567383145684077,"d":"-2.8"}}]
[{"$nulls":3}," "]
["B ",{"$f":"Belgium!M$16","v":{"v":1165,"d":"1,165"}},{"$f":"Belgium!N$16","v":{"v":1163,"d":"1,163"}},{"$f":"((C23/B23)-1)*100","v":{"v":-0.17167381974249052,"d":"-0.2"}},null,{"$f":"Belgium!M$23","v":{"v":3616,"d":"3,616"}},{"$f":"Belgium!N$23","v":{"v":3456,"d":"3,456"}},{"$f":"((G23/F23)-1)*100","v":{"v":-4.424778761061942,"d":"-4.4"}},null,{"$f":"Belgium!M$30","v":{"v":1310,"d":"1,310"}},{"$f":"Belgium!N$30","v":{"v":1468,"d":"1,468"}},{"$f":"((K23/J23)-1)*100","v":{"v":12.061068702290068,"d":"12.1"}},null,{"$f":"Belgium!M$36","v":53},{"$f":"Belgium!N$36","v":53},{"$f":"((O23/N23)-1)*100","v":{"v":0,"d":"0.0"}},null,{"$f":"Belgium!M$39","v":159},{"$f":"Belgium!N$39","v":225},{"$f":"((S23/R23)-1)*100","v":{"v":41.50943396226414,"d":"41.5"}},null,{"$f":"R23+N23+J23+F23+B23","v":{"v":6303,"d":"6,303"}},{"v":6365,"d":"6,365"},{"$f":"((W23/V23)-1)*100","v":{"v":0.9836585752816207,"d":"1.0"}}]
[{"$nulls":3}," "]
["UK ",{"$f":"UK!M$16","v":{"v":4214,"d":"4,214"}},{"$f":"UK!N$16","v":{"v":4554,"d":"4,554"}},{"$f":"((C25/B25)-1)*100","v":{"v":8.068343616516383,"d":"8.1"}},null,{"$f":"UK!M$23","v":{"v":2142,"d":"2,142"}},{"$f":"UK!N$23","v":{"v":1988,"d":"1,988"}},{"$f":"((G25/F25)-1)*100","v":{"v":-7.189542483660127,"d":"-7.2"}},null,{"$f":"UK!M$30","v":{"v":6037,"d":"6,037"}},{"$f":"UK!N$30","v":{"v":6241,"d":"6,241"}},{"$f":"((K25/J25)-1)*100","v":{"v":3.3791618353486763,"d":"3.4"}},null,{"$f":"UK!M$36","v":15},{"$f":"UK!N$36","v":14},{"$f":"((O25/N25)-1)*100","v":{"v":-6.666666666666665,"d":"-6.7"}},null,{"$f":"UK!M39","v":{"v":1239,"d":"1,239"}},{"$f":"UK!N39","v":{"v":1201,"d":"1,201"}},{"$f":"((S25/R25)-1)*100","v":{"v":-3.0669895076674725,"d":"-3.1"}},null,{"$f":"R25+J25+F25+B25+N25","v":{"v":13647,"d":"13,647"}},{"v":13998,"d":"13,998"},{"$f":"((W25/V25)-1)*100","v":{"v":2.571993844801046,"d":"2.6"}}]
[{"$nulls":3}," "]
["IRL ",{"$f":"Ireland!M$16","v":{"v":1926,"d":"1,926"}},{"$f":"Ireland!N$16","v":{"v":1963,"d":"1,963"}},{"$f":"((C27/B27)-1)*100","v":{"v":1.9210799584631344,"d":"1.9"}},null,{"$f":"Ireland!M$23","v":710},{"$f":"Ireland!N$23","v":736},{"$f":"((G27/F27)-1)*100","v":{"v":3.6619718309859106,"d":"3.7"}},null,{"$f":"Ireland!M$30","v":493},{"$f":"Ireland!N$30","v":479},{"$f":"((K27/J27)-1)*100","v":{"v":-2.8397565922920864,"d":"-2.8"}},null,{"$f":"Ireland!M$36","v":7},{"$f":"Ireland!N$36","v":8},{"$f":"((O27/N27)-1)*100","v":{"v":14.28571428571428,"d":"14.3"}},null,{"$f":"Ireland!M$39","v":367},{"$f":"Ireland!N$39","v":375},{"$f":"((S27/R27)-1)*100","v":{"v":2.1798365122615904,"d":"2.2"}},null,{"$f":"R27+N27+J27+F27+B27","v":{"v":3503,"d":"3,503"}},{"v":3561,"d":"3,561"},{"$f":"((W27/V27)-1)*100","v":{"v":1.6557236654296315,"d":"1.7"}}]
[{"$nulls":3}," "]
["DK ",{"$f":"Denmark!M$16","v":{"v":1506,"d":"1,506"}},{"$f":"Denmark!N$16","v":{"v":1394,"d":"1,394"}},{"$f":"((C29/B29)-1)*100","v":{"v":-7.436918990703855,"d":"-7.4"}},null,{"$f":"Denmark!M$23","v":{"v":3804,"d":"3,804"}},{"$f":"Denmark!N$23","v":{"v":3874,"d":"3,874"}},{"$f":"((G29/F29)-1)*100","v":{"v":1.8401682439537437,"d":"1.8"}},null,{"$f":"Denmark!M$30","v":696},{"$f":"Denmark!N$30","v":670},{"$f":"((K29/J29)-1)*100","v":{"v":-3.735632183908044,"d":"-3.7"}},null,{"$f":"Denmark!M$36","v":5},{"$f":"Denmark!N$36","v":0},{"$f":"((O29/N29)-1)*100","v":{"v":-100,"d":"-100.0"}},null,{"$f":"Denmark!M$39","v":117},{"$f":"Denmark!N$39","v":107},{"$f":"((S29/R29)-1)*100","v":{"v":-8.54700854700855,"d":"-8.5"}},null,{"$f":"R29+N29+J29+F29+B29","v":{"v":6128,"d":"6,128"}},{"v":6045,"d":"6,045"},{"$f":"((W29/V29)-1)*100","v":{"v":-1.3544386422976507,"d":"-1.4"}}]
[]
["ESP ",{"$f":"Spain!M$16","v":{"v":3500,"d":"3,500"}},{"$f":"Spain!N$16","v":{"v":4748,"d":"4,748"}},{"$f":"((C31/B31)-1)*100","v":{"v":35.65714285714285,"d":"35.7"}},null,{"$f":"Spain!M$23","v":{"v":8270,"d":"8,270"}},{"$f":"Spain!N$23","v":{"v":7733,"d":"7,733"}},{"$f":"((G31/F31)-1)*100","v":{"v":-6.493349455864572,"d":"-6.5"}},null,{"$f":"Spain!M$30","v":{"v":4050,"d":"4,050"}},{"$f":"Spain!N$30","v":{"v":4388,"d":"4,388"}},{"$f":"((K31/J31)-1)*100","v":{"v":8.345679012345686,"d":"8.3"}},null,{"$f":"Spain!M$36","v":65},{"$f":"Spain!N$36","v":0},{"$f":"((O31/N31)-1)*100","v":{"v":-100,"d":"-100.0"}},null,{"$f":"Spain!M$39","v":{"v":1000,"d":"1,000"}},{"$f":"Spain!N$39","v":{"v":1617,"d":"1,617"}},{"$f":"((S31/R31)-1)*100","v":61.7},null,{"$f":"R31+N31+J31+F31+B31","v":{"v":16885,"d":"16,885"}},{"v":18486,"d":"18,486"},{"$f":"((W31/V31)-1)*100","v":{"v":9.481788569736448,"d":"9.5"}}]
[{"$nulls":3}," ",{"$nulls":17}," "," "]
["P ",{"$f":"Portugal!M$16","v":{"v":1130,"d":"1,130"}},{"$f":"Portugal!N$16","v":{"v":1080,"d":"1,080"}},{"$f":"((C33/B33)-1)*100","v":{"v":-4.424778761061942,"d":"-4.4"}},null,{"$f":"Portugal!M$23","v":{"v":1150,"d":"1,150"}},{"$f":"Portugal!N$23","v":{"v":1180,"d":"1,180"}},{"$f":"((G33/F33)-1)*100","v":{"v":2.60869565217392,"d":"2.6"}},null,{"$f":"Portugal!M$30","v":{"v":1340,"d":"1,340"}},{"$f":"Portugal!N$30","v":{"v":1390,"d":"1,390"}},{"$f":"((K33/J33)-1)*100","v":{"v":3.731343283582089,"d":"3.7"}},null,{"$f":"Portugal!M$36","v":0},{"$f":"Portugal!N$36","v":0},{"v":0,"d":"0.0"},null,{"$f":"Portugal!M$39","v":212},{"$f":"Portugal!N$39","v":198},{"$f":"((S33/R33)-1)*100","v":{"v":-6.6037735849056585,"d":"-6.6"}},null,{"$f":"R33+N33+J33+F33+B33","v":{"v":3832,"d":"3,832"}},{"v":3848,"d":"3,848"},{"$f":"((W33/V33)-1)*100","v":{"v":0.41753653444676075,"d":"0.4"}}]
[]
["A",{"$f":"Austria!M$16","v":260},{"$f":"Austria!N$16","v":287},{"$f":"((C35/B35)-1)*100","v":{"v":10.384615384615392,"d":"10.4"}},null,{"$f":"Austria!M$23","v":204},{"$f":"Austria!N$23","v":196},{"$f":"((G35/F35)-1)*100","v":{"v":-3.9215686274509776,"d":"-3.9"}},null,{"$f":"Austria!M$30","v":370},{"$f":"Austria!N$30","v":382},{"$f":"((K35/J35)-1)*100","v":{"v":3.2432432432432323,"d":"3.2"}},null,{"$f":"Austria!M$36","v":4},{"$f":"Austria!N$36","v":2},{"$f":"((O35/N35)-1)*100","v":{"v":-50,"d":"-50.0"}},null,{"$f":"Austria!M$39","v":73},{"$f":"Austria!N$39","v":54},{"$f":"((S35/R35)-1)*100","v":{"v":-26.027397260273975,"d":"-26.0"}},null,{"$f":"R35+N35+J35+F35+B35","v":911},921,{"$f":"((W35/V35)-1)*100","v":{"v":1.0976948408342402,"d":"1.1"}}]
[]
["S",{"$f":"Sweden!M$16","v":{"v":1223,"d":"1,223"}},{"$f":"Sweden!N$16","v":{"v":1238,"d":"1,238"}},{"$f":"((C37/B37)-1)*100","v":{"v":1.22649223221587,"d":"1.2"}},null,{"$f":"Sweden!M$23","v":492},{"$f":"Sweden!N$23","v":510},{"$f":"((G37/F37)-1)*100","v":{"v":3.658536585365857,"d":"3.7"}},null,{"$f":"Sweden!M$30","v":500},{"$f":"Sweden!N$30","v":514},{"$f":"((K37/J37)-1)*100","v":{"v":2.8000000000000025,"d":"2.8"}},null,{"$f":"Sweden!M$36","v":6},{"$f":"Sweden!N$36","v":6},{"$f":"((O37/N37)-1)*100","v":{"v":0,"d":"0.0"}},null,{"$f":"Sweden!M$39","v":50},{"$f":"Sweden!N$39","v":50},{"$f":"((S37/R37)-1)*100","v":{"v":0,"d":"0.0"}},null,{"$f":"R37+N37+J37+F37+B37","v":{"v":2271,"d":"2,271"}},{"v":2318,"d":"2,318"},{"$f":"((W37/V37)-1)*100","v":{"v":2.069572875385295,"d":"2.1"}}]
[]
["FIN",{"$f":"Finland!M$16","v":651},{"$f":"Finland!N$16","v":652},{"$f":"((C39/B39)-1)*100","v":{"v":0.1536098310291889,"d":"0.2"}},null,{"$f":"Finland!M$23","v":293},{"$f":"Finland!N$23","v":293},{"$f":"((G39/F39)-1)*100","v":{"v":0,"d":"0.0"}},null,{"$f":"Finland!M$30","v":248},{"$f":"Finland!N$30","v":278},{"$f":"((K39/J39)-1)*100","v":{"v":12.096774193548377,"d":"12.1"}},null,{"$f":"Finland!M$36","v":0},{"$f":"Finland!N$36","v":0},null,null,{"$f":"Finland!M$39","v":103},{"$f":"Finland!N$39","v":97},{"$f":"((S39/R39)-1)*100","v":{"v":-5.825242718446599,"d":"-5.8"}},null,{"$f":"R39+J39+F39+B39","v":{"v":1295,"d":"1,295"}},{"v":1320,"d":"1,320"},{"$f":"((W39/V39)-1)*100","v":{"v":1.9305019305019266,"d":"1.9"}}]
[]
[{"$nulls":3}," "]
["EUR 15 *",{"$f":"B39+B37+B35+B33+B31+B29+B27+B25+B23+B21+B19+B17+B15","v":{"v":34204,"d":"34,204"}},{"v":35305,"d":"35,305"},{"$f":"((C42/B42)-1)*100","v":{"v":3.21892176353642,"d":"3.2"}},null,{"$f":"F39+F37+F35+F33+F31+F29+F27+F25+F23+F21+F19+F17+F15","v":{"v":43099,"d":"43,099"}},{"v":42582,"d":"42,582"},{"$f":"((G42/F42)-1)*100","v":{"v":-1.199563794983638,"d":"-1.2"}},null,{"$f":"J39+J37+J35+J33+J31+J29+J27+J25+J23+J21+J19+J17+J15","v":{"v":37158,"d":"37,158"}},{"v":38233,"d":"38,233"},{"$f":"((K42/J42)-1)*100","v":{"v":2.8930512944722597,"d":"2.9"}},null,{"$f":"N37+N35+N33+N31+N29+N27+N23+N21+N19+N17+N15+N25","v":{"v":1838,"d":"1,838"}},{"v":1641,"d":"1,641"},{"$f":"((O42/N42)-1)*100","v":{"v":-10.718171926006526,"d":"-10.7"}},null,{"$f":"R39+R37+R35+R33+R31+R29+R27+R25+R23+R21+R19+R17+R15","v":{"v":7398,"d":"7,398"}},{"v":7988,"d":"7,988"},{"$f":"((S42/R42)-1)*100","v":{"v":7.975128413084609,"d":"8.0"}},null,{"$f":"V39+V37+V35+V33+V31+V29+V27+V25+V23+V21+V19+V17+V15","v":{"v":123697,"d":"123,697"}},{"v":125749,"d":"125,749"},{"$f":"((W42/V42)-1)*100","v":{"v":1.6588922932649908,"d":"1.7"}}]
[]
[{"$nulls":23}," "]
["* Sans le Luxembourg et la Grèce/Ohne Luxemburg und Griechenland/Without Luxemburg and Greece/Senza Lussemburgo e Ellas"]
[]
[": non disponible/not available"]

{"sheet":"2001","index":24,"n_rows":45,"n_cols":16,"rows_kept":45,"merged":[[4,0,4,15],[5,0,5,15]]}
["2002-12-18"]
[]
["PRODUCTION INDUSTRIELLE D'ALIMENTS COMPOSES ",{"$nulls":14},"INDUSTRIELLE  MISCHFUTTERPRODUKTION"]
["PRODUZIONE INDUSTRIALE DI MANGIMI COMPOSTI",{"$nulls":14},"INDUSTRIAL COMPOUND PRODUCTION"]
[2001]
["definitif/final"]
[{"$nulls":15},"(1 000 t)"]
[]
["Catégories d'aliments composés/Mischfutterarten",null,"D","F","I","NL","B","UK","IRL","DK","ESP","P","A","S","FIN","EUR-15"]
["Tipi di mangimi compositi/Types of feed",{"$nulls":14},"*"]
[]
[null,null," ",{"$nulls":4}," ",null,null," "]
["Bovins/Cattle/Bovini/Rinder",null,{"$f":"Germany!N16","v":{"v":6656,"d":"6,656"}},{"$f":"D14+D15+D16+D18","v":{"v":4470,"d":"4,470"}},{"$f":"E14+E15+E16","v":{"v":3651,"d":"3,651"}},{"$f":"'The Netherlands'!N16","v":{"v":3449,"d":"3,449"}},{"$f":"G14+G15+G16+G18","v":{"v":1163,"d":"1,163"}},{"v":4554,"d":"4,554"},{"$f":"Ireland!N16","v":{"v":1963,"d":"1,963"}},{"$f":"J14+J15+J16","v":{"v":1394,"d":"1,394"}},{"$f":"K14+K15+K18","v":{"v":4748,"d":"4,748"}},{"$f":"Portugal!N16","v":{"v":1080,"d":"1,080"}},{"$f":"Austria!N16","v":287},{"$f":"N15+N18","v":{"v":1238,"d":"1,238"}},{"$f":"O15+O16","v":652},{"$f":"SUM(C13:O13)","v":{"v":35305,"d":"35,305"}}]
["engrais/fattening/Mast  ",null,{"$f":"Germany!N17","v":604},{"$f":"France!N17","v":804},{"$f":"Italy!N17","v":859},{"$f":"'The Netherlands'!N17","v":308},{"$f":"Belgium!N17","v":322},{"$f":"UK!N17","v":{"v":1191,"d":"1,191"}},{"$f":"Ireland!N17","v":854},{"$f":"Denmark!N17","v":522},{"$f":"Spain!N17","v":{"v":2450,"d":"2,450"}},{"$f":"Portugal!N17","v":395},{"$f":"Austria!N17","v":":"},{"$f":"Sweden!N17","v":":"},{"$f":"Finland!N17","v":":"},":"]
["VL/dairy cow/Milchkühe",null,{"$f":"Germany!N18","v":{"v":5526,"d":"5,526"}},{"$f":"France!N18","v":{"v":3216,"d":"3,216"}},{"$f":"Italy!N18","v":{"v":2656,"d":"2,656"}},{"$f":"'The Netherlands'!N18","v":{"v":3013,"d":"3,013"}},{"$f":"Belgium!N18","v":606},{"$f":"UK!N18","v":{"v":3093,"d":"3,093"}},{"$f":"Ireland!N18","v":885},{"$f":"Denmark!N18","v":522},{"$f":"Spain!N18","v":{"v":1748,"d":"1,748"}},{"$f":"Portugal!N18","v":584},{"$f":"Austria!N18","v":":"},{"$f":"Sweden!N18","v":{"v":1063,"d":"1,063"}},{"$f":"Finland!N18","v":612},":"]
["veaux (aliments d'allaitement non compris)/calves ",null,{"$f":"Germany!N19","v":165},{"$f":"France!N19","v":235},{"$f":"Italy!N19","v":136},{"$f":"'The Netherlands'!N19","v":128},{"$f":"Belgium!N19","v":102},{"$f":"UK!N19","v":173},{"$f":"Ireland!N19","v":171},{"$f":"Denmark!N19","v":350},{"$f":"Spain!N19","v":":"},{"$f":"Portugal!N19","v":72},{"$f":"Austria!N19","v":":"},{"$f":"Sweden!N19","v":":"},{"$f":"Finland!N19","v":40},":"]
["(excluding milk replacers)/Kälber (exkl. Milchaustauscher)"]
["autres/others/Andere",null,{"$f":"Germany!N20","v":361},{"$f":"France!N20","v":215},{"$f":"Italy!N20","v":":"},{"$f":"'The Netherlands'!N20","v":":"},{"$f":"Belgium!N20","v":133},{"$f":"UK!N20","v":97},{"$f":"Ireland!N20","v":53},{"$f":"Denmark!N20","v":":"},{"$f":"Spain!N20","v":550},{"$f":"Portugal!N20","v":29},{"$f":"Austria!N20","v":":"},{"$f":"Sweden!N20","v":175},{"$f":"Finland!N20","v":":"},":"]
[]
[]
["Porcins/Pigs/Suini/Schweine",null,{"$f":"Germany!N23","v":{"v":7120,"d":"7,120"}},{"$f":"D22+D23+D24","v":{"v":7016,"d":"7,016"}},{"$f":"Italy!N23","v":{"v":2718,"d":"2,718"}},{"$f":"'The Netherlands'!N23","v":{"v":5762,"d":"5,762"}},{"$f":"G22+G23","v":{"v":3456,"d":"3,456"}},{"$f":"H22+H23+H24+H25","v":{"v":1988,"d":"1,988"}},{"$f":"Ireland!N23","v":736},{"$f":"J22+J23+J24","v":{"v":3874,"d":"3,874"}},{"$f":"K22+K23+K24+K25","v":{"v":7733,"d":"7,733"}},{"$f":"Portugal!N23","v":{"v":1180,"d":"1,180"}},{"$f":"Austria!N23","v":196},{"$f":"N22+N23+N24+N25","v":510},293,{"$f":"SUM(C21:O21)","v":{"v":42582,"d":"42,582"}}]
["porcelets/piglets/Ferkel",null,{"$f":"Germany!N24","v":{"v":1405,"d":"1,405"}},{"$f":"France!N24","v":883},{"$f":"Italy!N24","v":":"},{"$f":"'The Netherlands'!N24","v":815},{"$f":"Belgium!N24","v":697},{"$f":"UK!N24","v":89},{"$f":"Ireland!N24","v":108},{"$f":"Denmark!N24","v":680},{"$f":"Spain!N24","v":{"v":1005,"d":"1,005"}},{"$f":"Portugal!N24","v":169},{"$f":"Austria!N24","v":":"},{"$f":"Sweden!N24","v":80},{"$f":"Finland!N24","v":42},":"]
["porcs engrais/pigs for fattening/Mastschweine",null,{"$f":"Germany!N25","v":{"v":3910,"d":"3,910"}},{"$f":"France!N25","v":{"v":4783,"d":"4,783"}},{"$f":"Italy!N25","v":":"},{"$f":"'The Netherlands'!N25","v":{"v":3693,"d":"3,693"}},{"$f":"Belgium!N25","v":{"v":2759,"d":"2,759"}},{"$f":"UK!N25","v":{"v":1316,"d":"1,316"}},{"$f":"Ireland!N25","v":481},{"$f":"Denmark!N25","v":{"v":2140,"d":"2,140"}},{"$f":"Spain!N25","v":{"v":5460,"d":"5,460"}},{"$f":"Portugal!N25","v":737},{"$f":"Austria!N25","v":":"},{"$f":"Sweden!N25","v":285},{"$f":"Finland!N25","v":170},":"]
["reproducteurs/breeding pigs/Zuchtschweine",null,{"$f":"Germany!N26","v":{"v":1195,"d":"1,195"}},{"$f":"France!N26","v":{"v":1350,"d":"1,350"}},{"$f":"Italy!N26","v":":"},{"$f":"'The Netherlands'!N26","v":{"v":1254,"d":"1,254"}},{"$f":"Belgium!N26","v":":"},{"$f":"UK!N26","v":565},{"$f":"Ireland!N26","v":126},{"$f":"Denmark!N26","v":{"v":1054,"d":"1,054"}},{"$f":"Spain!N26","v":{"v":1198,"d":"1,198"}},{"$f":"Portugal!N26","v":244},{"$f":"Austria!N26","v":":"},{"$f":"Sweden!N26","v":135},{"$f":"Finland!N26","v":34},":"]
["autres/others/Andere",null,{"$f":"Germany!N27","v":610},{"$f":"France!N27","v":":"},{"$f":"Italy!N27","v":":"},{"$f":"'The Netherlands'!N27","v":":"},{"$f":"Belgium!N27","v":":"},{"$f":"UK!N27","v":18},{"$f":"Ireland!N27","v":21},{"$f":"Denmark!N27","v":":"},{"$f":"Spain!N27","v":70},{"$f":"Portugal!N27","v":30},{"$f":"Austria!N27","v":":"},{"$f":"Sweden!N27","v":10},{"$f":"Finland!N27","v":47},":"]
[{"$nulls":4}," "]
[]
["Volaille/Poultry/Volatili/Geflügel",null,{"$f":"Germany!N30","v":{"v":4995,"d":"4,995"}},{"$f":"D29+D30+D31","v":{"v":9709,"d":"9,709"}},{"v":4253,"d":"4,253"},{"$f":"'The Netherlands'!N30","v":{"v":3466,"d":"3,466"}},{"$f":"G29+G30+G31","v":{"v":1468,"d":"1,468"}},{"v":6241,"d":"6,241"},{"$f":"Ireland!N30","v":479},{"$f":"J29+J30+J31","v":670},{"v":4388,"d":"4,388"},{"$f":"Portugal!N30","v":{"v":1390,"d":"1,390"}},{"$f":"Austria!N30","v":382},{"$f":"N29+N30+N31","v":514},278,{"$f":"SUM(C28:O28)","v":{"v":38233,"d":"38,233"}}]
["broilers",null,{"$f":"Germany!N31","v":{"v":1341,"d":"1,341"}},{"$f":"France!N31","v":{"v":3415,"d":"3,415"}},{"$f":"Italy!N31","v":{"v":1926,"d":"1,926"}},{"$f":"'The Netherlands'!N31","v":{"v":1840,"d":"1,840"}},{"$f":"Belgium!N31","v":683},{"$f":"UK!N31","v":{"v":3327,"d":"3,327"}},{"$f":"Ireland!N31","v":273},{"$f":"Denmark!N31","v":567},{"$f":"Spain!N31","v":{"v":2320,"d":"2,320"}},{"$f":"Portugal!N31","v":832},{"$f":"Austria!N31","v":":"},{"$f":"Sweden!N31","v":212},{"$f":"Finland!N31","v":175},":"]
["poulettes & pondeuses/chicks & layers/Jung- & Legehennen",null,{"$f":"Germany!N32","v":{"v":2424,"d":"2,424"}},{"$f":"France!N32","v":{"v":2232,"d":"2,232"}},{"$f":"Italy!N32","v":{"v":1283,"d":"1,283"}},{"$f":"'The Netherlands'!N32","v":{"v":1626,"d":"1,626"}},{"$f":"Belgium!N32","v":617},{"$f":"UK!N32","v":{"v":1249,"d":"1,249"}},{"$f":"Ireland!N32","v":108},{"$f":"Denmark!N32","v":34},{"$f":"Spain!N32","v":{"v":1790,"d":"1,790"}},{"$f":"Portugal!N32","v":374},{"$f":"Austria!N32","v":":"},{"$f":"Sweden!N32","v":197},{"$f":"Finland!N32","v":67},":"]
["autres/others/Andere",null,{"$f":"Germany!N33","v":{"v":1230,"d":"1,230"}},{"$f":"France!N33","v":{"v":4062,"d":"4,062"}},{"$f":"Italy!N33","v":{"v":1044,"d":"1,044"}},{"$f":"'The Netherlands'!N33","v":":"},{"$f":"Belgium!N33","v":168},{"$f":"UK!N33","v":{"v":1665,"d":"1,665"}},{"$f":"Ireland!N33","v":98},{"$f":"Denmark!N33","v":69},{"$f":"Spain!N33","v":278},{"$f":"Portugal!N33","v":184},{"$f":"Austria!N33","v":":"},{"$f":"Sweden!N33","v":105},{"$f":"Finland!N33","v":36},":"]
[]
[]
["Al. d'allait./Milk replacers/Sostit. del latte/Milchaust.",null,{"$f":"Germany!N36","v":174},{"$f":"France!N36","v":499},{"$f":"Italy!N36","v":175},{"$f":"'The Netherlands'!N36","v":710},{"$f":"Belgium!N36","v":53},{"$f":"UK!N36","v":14},{"$f":"Ireland!N36","v":8},{"$f":"Denmark!N36","v":0},{"$f":"Spain!N36","v":0},{"$f":"Portugal!N36","v":0},{"$f":"Austria!N36","v":2},{"$f":"Sweden!N36","v":6},{"$f":"Finland!N36","v":0},{"$f":"SUM(C34:O34)","v":{"v":1641,"d":"1,641"}}]
[]
[{"$nulls":4}," "]
["Autres/others/altri/Andere",null,{"$f":"Germany!N39","v":529},{"$f":"France!N39","v":{"v":1591,"d":"1,591"}},{"$f":"Italy!N39","v":{"v":1080,"d":"1,080"}},{"$f":"'The Netherlands'!N39","v":864},{"$f":"Belgium!N39","v":225},{"$f":"UK!N39","v":{"v":1201,"d":"1,201"}},{"$f":"Ireland!N39","v":375},{"$f":"Denmark!N39","v":107},{"$f":"Spain!N39","v":{"v":1617,"d":"1,617"}},{"$f":"Portugal!N39","v":198},{"$f":"Austria!N39","v":54},{"$f":"Sweden!N39","v":50},{"$f":"Finland!N39","v":97},{"$f":"SUM(C37:O37)","v":{"v":7988,"d":"7,988"}}]
[]
[]
["TOTAL",null,{"$f":"C37+C34+C28+C21+C13","v":{"v":19474,"d":"19,474"}},{"v":23285,"d":"23,285"},{"v":11877,"d":"11,877"},{"v":14251,"d":"14,251"},{"v":6365,"d":"6,365"},{"v":13998,"d":"13,998"},{"v":3561,"d":"3,561"},{"v":6045,"d":"6,045"},{"v":18486,"d":"18,486"},{"v":3848,"d":"3,848"},921,{"v":2318,"d":"2,318"},{"v":1320,"d":"1,320"},{"v":125749,"d":"125,749"}]
[{"$nulls":5}," "]
[]
["* Sans le Luxembourg et la Grèce/ohne Luxemburg und Griechenland/Without Luxemburg and Greece/Senza Lussemburgo e Ella"]
[]
[": non disponible/not available/nicht verfügbar"]

{"sheet":"2001-02","index":25,"n_rows":47,"n_cols":24,"rows_kept":47}
["2003-05-27"]
[]
["PRODUCTION INDUSTRIELLE D'ALIMENTS COMPOSES",{"$nulls":22},"INDUSTRIELLE  MISCHFUTTERPRODUKTION"]
["PRODUZIONE INDUSTRIALE DI MANGIMI COMPOSTI",{"$nulls":11},"2001-2002",{"$nulls":10},"INDUSTRIAL COMPOUND PRODUCTION"]
[{"$nulls":12},"definitif/final",{"$nulls":10},"(1 000 t )"]
[]
[]
[]
["PAYS",null,"      BOVINS/RINDER",{"$nulls":3},"    PORCS/SCHWEINE",{"$nulls":3},"     VOLAILLE/GEFLÜGEL",null,"      A. ALLAITEMENT/MILCHAUST.",{"$nulls":5},"     AUTRES/ANDERE",null,null,"       TOTAL/INSGESAMT"]
["LAND",null,"      BOVINI/CATTLE",{"$nulls":3},"    SUINI/PIGS",{"$nulls":3},"     VOLATILI/POULTRY",null,"  SOSTIT. DEL LATTE/MILKREPLACERS",{"$nulls":5},"ALTRI ANIMALI/OTHERS",null,null,"          TOTALE/TOTAL"]
["PAESE"]
["COUNTRY",2001,2002,"%TAV",null,2001,2002,"%TAV",null,2001,2002,"%TAV",null,2001,2002,"%TAV",null,2001,2002,"%TAV",null,2001,2002,"%TAV"]
[]
[]
["D",{"$f":"Germany!N$16","v":{"v":6656,"d":"6,656"}},{"$f":"Germany!O$16","v":{"v":6620,"d":"6,620"}},{"$f":"((C15/B15)-1)*100","v":{"v":-0.5408653846153855,"d":"-0.5"}},null,{"$f":"Germany!N$23","v":{"v":7120,"d":"7,120"}},{"$f":"Germany!O$23","v":{"v":7291,"d":"7,291"}},{"$f":"((G15/F15)-1)*100","v":{"v":2.4016853932584237,"d":"2.4"}},null,{"$f":"Germany!N$30","v":{"v":4995,"d":"4,995"}},{"$f":"Germany!O$30","v":{"v":5068,"d":"5,068"}},{"$f":"((K15/J15)-1)*100","v":{"v":1.4614614614614663,"d":"1.5"}},null,{"$f":"Germany!N$36","v":174},{"$f":"Germany!O$36","v":167},{"$f":"((O15/N15)-1)*100","v":{"v":-4.0229885057471275,"d":"-4.0"}},null,{"$f":"Germany!N$39","v":529},{"$f":"Germany!O$39","v":549},{"$f":"((S15/R15)-1)*100","v":{"v":3.7807183364839236,"d":"3.8"}},null,{"$f":"R15+N15+J15+F15+B15","v":{"v":19474,"d":"19,474"}},{"v":19695,"d":"19,695"},{"$f":"((W15/V15)-1)*100","v":{"v":1.134846461949257,"d":"1.1"}}]
[]
["F ",{"$f":"France!N$16","v":{"v":4470,"d":"4,470"}},{"$f":"France!O$16","v":{"v":4235,"d":"4,235"}},{"$f":"((C17/B17)-1)*100","v":{"v":-5.2572706935123055,"d":"-5.3"}},null,{"$f":"France!N$23","v":{"v":7016,"d":"7,016"}},{"$f":"France!O$23","v":{"v":6964,"d":"6,964"}},{"$f":"((G17/F17)-1)*100","v":{"v":-0.7411630558722959,"d":"-0.7"}},null,{"$f":"France!N$30","v":{"v":9709,"d":"9,709"}},{"$f":"France!O$30","v":{"v":9443,"d":"9,443"}},{"$f":"((K17/J17)-1)*100","v":{"v":-2.73972602739726,"d":"-2.7"}},null,{"$f":"France!N$36","v":499},{"$f":"France!O$36","v":512},{"$f":"((O17/N17)-1)*100","v":{"v":2.605210420841675,"d":"2.6"}},null,{"$f":"France!N$39","v":{"v":1591,"d":"1,591"}},{"$f":"France!O$39","v":{"v":1604,"d":"1,604"}},{"$f":"((S17/R17)-1)*100","v":{"v":0.8170961659333731,"d":"0.8"}},null,{"$f":"R17+N17+J17+F17+B17","v":{"v":23285,"d":"23,285"}},{"v":22758,"d":"22,758"},{"$f":"((W17/V17)-1)*100","v":{"v":-2.263259609190471,"d":"-2.3"}}]
[{"$nulls":3}," ",{"$nulls":3}," ",{"$nulls":3}," ",{"$nulls":3}," ",{"$nulls":3}," ",{"$nulls":3}," "]
["I ",{"$f":"Italy!N$16","v":{"v":3651,"d":"3,651"}},{"$f":"Italy!O$16","v":{"v":3861,"d":"3,861"}},{"$f":"((C19/B19)-1)*100","v":{"v":5.751848808545601,"d":"5.8"}},null,{"$f":"Italy!N$23","v":{"v":2718,"d":"2,718"}},{"$f":"Italy!O$23","v":{"v":2709,"d":"2,709"}},{"$f":"((G19/F19)-1)*100","v":{"v":-0.3311258278145712,"d":"-0.3"}},null,{"$f":"Italy!N$30","v":{"v":4253,"d":"4,253"}},{"$f":"Italy!O$30","v":{"v":5176,"d":"5,176"}},{"$f":"((K19/J19)-1)*100","v":{"v":21.7023277686339,"d":"21.7"}},null,{"$f":"Italy!N$36","v":175},{"$f":"Italy!O$36","v":186},{"$f":"((O19/N19)-1)*100","v":{"v":6.2857142857142945,"d":"6.3"}},null,{"$f":"Italy!N$39","v":{"v":1080,"d":"1,080"}},{"$f":"Italy!O$39","v":{"v":1214,"d":"1,214"}},{"$f":"((S19/R19)-1)*100","v":{"v":12.407407407407401,"d":"12.4"}},null,{"$f":"R19+N19+J19+F19+B19","v":{"v":11877,"d":"11,877"}},{"v":13146,"d":"13,146"},{"$f":"((W19/V19)-1)*100","v":{"v":10.684516291992917,"d":"10.7"}}]
[]
["NL   ",{"$f":"'The Netherlands'!N16","v":{"v":3449,"d":"3,449"}},{"$f":"'The Netherlands'!O16","v":{"v":3306,"d":"3,306"}},{"$f":"((C21/B21)-1)*100","v":{"v":-4.146129312844304,"d":"-4.1"}},null,{"$f":"'The Netherlands'!N23","v":{"v":5762,"d":"5,762"}},{"$f":"'The Netherlands'!O23","v":{"v":5309,"d":"5,309"}},{"$f":"((G21/F21)-1)*100","v":{"v":-7.861853523082263,"d":"-7.9"}},null,{"$f":"'The Netherlands'!N30","v":{"v":3466,"d":"3,466"}},{"$f":"'The Netherlands'!O30","v":{"v":3296,"d":"3,296"}},{"$f":"((K21/J21)-1)*100","v":{"v":-4.904789382573571,"d":"-4.9"}},null,{"$f":"'The Netherlands'!N$36","v":710},{"$f":"'The Netherlands'!O$36","v":666},{"$f":"((O21/N21)-1)*100","v":{"v":-6.197183098591552,"d":"-6.2"}},null,{"$f":"'The Netherlands'!N$39","v":864},{"$f":"'The Netherlands'!O$39","v":772},{"$f":"((S21/R21)-1)*100","v":{"v":-10.64814814814815,"d":"-10.6"}},null,{"$f":"R21+N21+J21+F21+B21","v":{"v":14251,"d":"14,251"}},{"v":13349,"d":"13,349"},{"$f":"((W21/V21)-1)*100","v":{"v":-6.329380394358286,"d":"-6.3"}}]
[{"$nulls":3}," ",{"$nulls":3}," ",{"$nulls":3}," ",{"$nulls":3}," ",{"$nulls":3}," ",{"$nulls":3}," "]
["B ",{"$f":"Belgium!N$16","v":{"v":1163,"d":"1,163"}},{"$f":"Belgium!O$16","v":{"v":1046,"d":"1,046"}},{"$f":"((C23/B23)-1)*100","v":{"v":-10.060189165950128,"d":"-10.1"}},null,{"$f":"Belgium!N$23","v":{"v":3456,"d":"3,456"}},{"$f":"Belgium!O$23","v":{"v":3509,"d":"3,509"}},{"$f":"((G23/F23)-1)*100","v":{"v":1.533564814814814,"d":"1.5"}},null,{"$f":"Belgium!N$30","v":{"v":1468,"d":"1,468"}},{"$f":"Belgium!O$30","v":{"v":1436,"d":"1,436"}},{"$f":"((K23/J23)-1)*100","v":{"v":-2.1798365122615793,"d":"-2.2"}},null,{"$f":"Belgium!N$36","v":53},{"$f":"Belgium!O$36","v":53},{"$f":"((O23/N23)-1)*100","v":{"v":0,"d":"0.0"}},null,{"$f":"Belgium!N$39","v":225},{"$f":"Belgium!O$39","v":247},{"$f":"((S23/R23)-1)*100","v":{"v":9.777777777777775,"d":"9.8"}},null,{"$f":"R23+N23+J23+F23+B23","v":{"v":6365,"d":"6,365"}},{"v":6291,"d":"6,291"},{"$f":"((W23/V23)-1)*100","v":{"v":-1.1626080125687333,"d":"-1.2"}}]
[{"$nulls":3}," ",{"$nulls":3}," ",{"$nulls":3}," ",{"$nulls":3}," ",{"$nulls":3}," ",{"$nulls":3}," "]
["UK ",{"$f":"UK!N16","v":{"v":4554,"d":"4,554"}},{"$f":"UK!O16","v":{"v":4443,"d":"4,443"}},{"$f":"((C25/B25)-1)*100","v":{"v":-2.43741765480896,"d":"-2.4"}},null,{"$f":"UK!N23","v":{"v":1988,"d":"1,988"}},{"$f":"UK!O23","v":{"v":1836,"d":"1,836"}},{"$f":"((G25/F25)-1)*100","v":{"v":-7.6458752515090485,"d":"-7.6"}},null,{"$f":"UK!N30","v":{"v":6241,"d":"6,241"}},{"$f":"UK!O30","v":{"v":6248,"d":"6,248"}},{"$f":"((K25/J25)-1)*100","v":{"v":0.1121615125781128,"d":"0.1"}},null,{"$f":"UK!N36","v":14},{"$f":"UK!O36","v":14},{"$f":"((O25/N25)-1)*100","v":{"v":0,"d":"0.0"}},null,{"$f":"UK!N39","v":{"v":1201,"d":"1,201"}},{"$f":"UK!O39","v":{"v":1133,"d":"1,133"}},{"$f":"((S25/R25)-1)*100","v":{"v":-5.661948376353044,"d":"-5.7"}},null,{"$f":"R25+J25+F25+B25+N25","v":{"v":13998,"d":"13,998"}},{"v":13674,"d":"13,674"},{"$f":"((W25/V25)-1)*100","v":{"v":-2.314616373767686,"d":"-2.3"}}]
[{"$nulls":3}," ",{"$nulls":3}," ",{"$nulls":3}," ",{"$nulls":3}," ",{"$nulls":3}," ",{"$nulls":3}," "]
["IRL ",{"$f":"Ireland!N$16","v":{"v":1963,"d":"1,963"}},{"$f":"Ireland!O$16","v":{"v":2144,"d":"2,144"}},{"$f":"((C27/B27)-1)*100","v":{"v":9.220580743759555,"d":"9.2"}},null,{"$f":"Ireland!N$23","v":736},{"$f":"Ireland!O$23","v":748},{"$f":"((G27/F27)-1)*100","v":{"v":1.6304347826086918,"d":"1.6"}},null,{"$f":"Ireland!N$30","v":479},{"$f":"Ireland!O$30","v":493},{"$f":"((K27/J27)-1)*100","v":{"v":2.9227557411273475,"d":"2.9"}},null,{"$f":"Ireland!N$36","v":8},{"$f":"Ireland!O$36","v":10},{"$f":"((O27/N27)-1)*100","v":{"v":25,"d":"25.0"}},null,{"$f":"Ireland!N$39","v":375},{"$f":"Ireland!O$39","v":413},{"$f":"((S27/R27)-1)*100","v":{"v":10.133333333333328,"d":"10.1"}},null,{"$f":"R27+N27+J27+F27+B27","v":{"v":3561,"d":"3,561"}},{"v":3808,"d":"3,808"},{"$f":"((W27/V27)-1)*100","v":{"v":6.936253861274921,"d":"6.9"}}]
[{"$nulls":3}," ",{"$nulls":3}," ",{"$nulls":3}," ",{"$nulls":3}," ",{"$nulls":3}," ",{"$nulls":3}," "]
["DK ",{"$f":"Denmark!N$16","v":{"v":1394,"d":"1,394"}},{"$f":"Denmark!O$16","v":{"v":1302,"d":"1,302"}},{"$f":"((C29/B29)-1)*100","v":{"v":-6.599713055954092,"d":"-6.6"}},null,{"$f":"Denmark!N$23","v":{"v":3874,"d":"3,874"}},{"$f":"Denmark!O$23","v":{"v":3702,"d":"3,702"}},{"$f":"((G29/F29)-1)*100","v":{"v":-4.439855446566854,"d":"-4.4"}},null,{"$f":"Denmark!N$30","v":670},{"$f":"Denmark!O$30","v":650},{"$f":"((K29/J29)-1)*100","v":{"v":-2.985074626865669,"d":"-3.0"}},null,{"$f":"Denmark!N$36","v":0},{"$f":"Denmark!O$36","v":0},{"v":0,"d":"0.0"},null,{"$f":"Denmark!N$39","v":107},{"$f":"Denmark!O$39","v":128},{"$f":"((S29/R29)-1)*100","v":{"v":19.626168224299057,"d":"19.6"}},null,{"$f":"R29+N29+J29+F29+B29","v":{"v":6045,"d":"6,045"}},{"v":5782,"d":"5,782"},{"$f":"((W29/V29)-1)*100","v":{"v":-4.350703060380479,"d":"-4.4"}}]
[]
["ESP ",{"$f":"Spain!N$16","v":{"v":4748,"d":"4,748"}},{"$f":"Spain!O$16","v":{"v":5246,"d":"5,246"}},{"$f":"((C31/B31)-1)*100","v":{"v":10.488626790227462,"d":"10.5"}},null,{"$f":"Spain!N$23","v":{"v":7733,"d":"7,733"}},{"$f":"Spain!O$23","v":{"v":8137,"d":"8,137"}},{"$f":"((G31/F31)-1)*100","v":{"v":5.224363119099951,"d":"5.2"}},null,{"$f":"Spain!N$30","v":{"v":4388,"d":"4,388"}},{"$f":"Spain!O$30","v":{"v":4559,"d":"4,559"}},{"$f":"((K31/J31)-1)*100","v":{"v":3.896991795806737,"d":"3.9"}},null,{"$f":"Spain!N$36","v":0},{"$f":"Spain!O$36","v":0},{"v":0,"d":"0.0"},null,{"$f":"Spain!N$39","v":{"v":1617,"d":"1,617"}},{"$f":"Spain!O$39","v":{"v":1706,"d":"1,706"}},{"$f":"((S31/R31)-1)*100","v":{"v":5.5040197897340715,"d":"5.5"}},null,{"$f":"R31+N31+J31+F31+B31","v":{"v":18486,"d":"18,486"}},{"v":19648,"d":"19,648"},{"$f":"((W31/V31)-1)*100","v":{"v":6.285837931407556,"d":"6.3"}}]
[{"$nulls":3}," ",{"$nulls":3}," ",{"$nulls":3}," ",{"$nulls":3}," ",{"$nulls":3}," ",null," "," "," "]
["P ",{"$f":"Portugal!N$16","v":{"v":1080,"d":"1,080"}},{"$f":"Portugal!O$16","v":{"v":1070,"d":"1,070"}},{"$f":"((C33/B33)-1)*100","v":{"v":-0.92592592592593,"d":"-0.9"}},null,{"$f":"Portugal!N$23","v":{"v":1180,"d":"1,180"}},{"$f":"Portugal!O$23","v":{"v":1260,"d":"1,260"}},{"$f":"((G33/F33)-1)*100","v":{"v":6.779661016949157,"d":"6.8"}},null,{"$f":"Portugal!N$30","v":{"v":1390,"d":"1,390"}},{"$f":"Portugal!O$30","v":{"v":1400,"d":"1,400"}},{"$f":"((K33/J33)-1)*100","v":{"v":0.7194244604316502,"d":"0.7"}},null,{"$f":"Portugal!N$36","v":0},{"$f":"Portugal!O$36","v":0},{"v":0,"d":"0.0"},null,{"$f":"Portugal!N$39","v":198},{"$f":"Portugal!O$39","v":208},{"$f":"((S33/R33)-1)*100","v":{"v":5.050505050505061,"d":"5.1"}},null,{"$f":"R33+N33+J33+F33+B33","v":{"v":3848,"d":"3,848"}},{"v":3938,"d":"3,938"},{"$f":"((W33/V33)-1)*100","v":{"v":2.338877338877343,"d":"2.3"}}]
[]
["A",{"$f":"Austria!N$16","v":287},{"$f":"Austria!O$16","v":304},{"$f":"((C35/B35)-1)*100","v":{"v":5.923344947735187,"d":"5.9"}},null,{"$f":"Austria!N$23","v":196},{"$f":"Austria!O$23","v":218},{"$f":"((G35/F35)-1)*100","v":{"v":11.22448979591837,"d":"11.2"}},null,{"$f":"Austria!N$30","v":382},{"$f":"Austria!O$30","v":386},{"$f":"((K35/J35)-1)*100","v":{"v":1.0471204188481575,"d":"1.0"}},null,{"$f":"Austria!N$36","v":2},{"$f":"Austria!O$36","v":0},{"$f":"((O35/N35)-1)*100","v":{"v":-100,"d":"-100.0"}},null,{"$f":"Austria!N$39","v":54},{"$f":"Austria!O$39","v":60},{"$f":"((S35/R35)-1)*100","v":{"v":11.111111111111116,"d":"11.1"}},null,{"$f":"R35+N35+J35+F35+B35","v":921},968,{"$f":"((W35/V35)-1)*100","v":{"v":5.103148751357223,"d":"5.1"}}]
[]
["S",{"$f":"Sweden!N$16","v":{"v":1238,"d":"1,238"}},{"$f":"Sweden!O$16","v":{"v":1224,"d":"1,224"}},{"$f":"((C37/B37)-1)*100","v":{"v":-1.1308562197092087,"d":"-1.1"}},null,{"$f":"Sweden!N$23","v":510},{"$f":"Sweden!O$23","v":500},{"$f":"((G37/F37)-1)*100","v":{"v":-1.9607843137254943,"d":"-2.0"}},null,{"$f":"Sweden!N$30","v":514},{"$f":"Sweden!O$30","v":491},{"$f":"((K37/J37)-1)*100","v":{"v":-4.47470817120622,"d":"-4.5"}},null,{"$f":"Sweden!N$36","v":6},{"$f":"Sweden!O$36","v":6},{"$f":"((O37/N37)-1)*100","v":{"v":0,"d":"0.0"}},null,{"$f":"Sweden!N$39","v":50},{"$f":"Sweden!O$39","v":49},{"$f":"((S37/R37)-1)*100","v":{"v":-2.0000000000000018,"d":"-2.0"}},null,{"$f":"R37+N37+J37+F37+B37","v":{"v":2318,"d":"2,318"}},{"v":2270,"d":"2,270"},{"$f":"((W37/V37)-1)*100","v":{"v":-2.070750647109576,"d":"-2.1"}}]
[]
["FIN",{"$f":"Finland!N$16","v":652},{"$f":"Finland!O$16","v":664},{"$f":"((C39/B39)-1)*100","v":{"v":1.8404907975460016,"d":"1.8"}},null,{"$f":"Finland!N$23","v":293},{"$f":"Finland!O$23","v":318},{"$f":"((G39/F39)-1)*100","v":{"v":8.532423208191119,"d":"8.5"}},null,{"$f":"Finland!N$30","v":278},{"$f":"Finland!O$30","v":295},{"$f":"((K39/J39)-1)*100","v":{"v":6.115107913669071,"d":"6.1"}},null,{"$f":"Finland!N$36","v":0},{"$f":"Finland!O$36","v":0},null,null,{"$f":"Finland!N$39","v":97},{"$f":"Finland!O$39","v":91},{"$f":"((S39/R39)-1)*100","v":{"v":-6.185567010309279,"d":"-6.2"}},null,{"$f":"R39+J39+F39+B39","v":{"v":1320,"d":"1,320"}},{"v":1368,"d":"1,368"},{"$f":"((W39/V39)-1)*100","v":{"v":3.6363636363636376,"d":"3.6"}}]
[]
[{"$nulls":3}," "]
["EUR 15 *",{"$f":"SUM(B15:B39)","v":{"v":35305,"d":"35,305"}},{"v":35465,"d":"35,465"},{"$f":"((C42/B42)-1)*100","v":{"v":0.4531935986404223,"d":"0.5"}},null,{"$f":"SUM(F15:F39)","v":{"v":42582,"d":"42,582"}},{"v":42501,"d":"42,501"},{"$f":"((G42/F42)-1)*100","v":{"v":-0.1902212202338993,"d":"-0.2"}},null,{"$f":"SUM(J15:J39)","v":{"v":38233,"d":"38,233"}},{"v":38941,"d":"38,941"},{"$f":"((K42/J42)-1)*100","v":{"v":1.8518034158972574,"d":"1.9"}},null,{"$f":"SUM(N15:N39)","v":{"v":1641,"d":"1,641"}},{"v":1614,"d":"1,614"},{"$f":"((O42/N42)-1)*100","v":{"v":-1.645338208409508,"d":"-1.6"}},null,{"$f":"SUM(R15:R39)","v":{"v":7988,"d":"7,988"}},{"v":8174,"d":"8,174"},{"$f":"((S42/R42)-1)*100","v":{"v":2.3284927391086674,"d":"2.3"}},null,{"$f":"SUM(V15:V39)","v":{"v":125749,"d":"125,749"}},{"v":126695,"d":"126,695"},{"$f":"((W42/V42)-1)*100","v":{"v":0.7522922647496211,"d":"0.8"}}]
[]
[{"$nulls":23}," "]
["* Sans le Luxembourg et la Grèce/Ohne Luxemburg und Griechenland/Without Luxemburg and Greece/Senza Lussemburgo e Ellas"]
[]
[": non disponible/not available"]

{"sheet":"2002","index":26,"n_rows":45,"n_cols":16,"rows_kept":45,"merged":[[4,0,4,15],[5,0,5,15]]}
["2003-05-27"]
[]
["PRODUCTION INDUSTRIELLE D'ALIMENTS COMPOSES ",{"$nulls":14},"INDUSTRIELLE  MISCHFUTTERPRODUKTION"]
["PRODUZIONE INDUSTRIALE DI MANGIMI COMPOSTI",{"$nulls":14},"INDUSTRIAL COMPOUND PRODUCTION"]
[2002]
["definitif/final"]
[{"$nulls":15},"(1 000 t)"]
[]
["Catégories d'aliments composés/Mischfutterarten",null,"D","F","I","NL","B","UK","IRL","DK","ESP","P","A","S","FIN","EUR-15"]
["Tipi di mangimi compositi/Types of feed",{"$nulls":14},"*"]
[]
[null,null," ",{"$nulls":4}," ",null,null," "]
["Bovins/Cattle/Bovini/Rinder",null,{"$f":"Germany!O16","v":{"v":6620,"d":"6,620"}},{"$f":"France!O16","v":{"v":4235,"d":"4,235"}},{"$f":"Italy!O16","v":{"v":3861,"d":"3,861"}},{"$f":"'The Netherlands'!O16","v":{"v":3306,"d":"3,306"}},{"$f":"Belgium!O16","v":{"v":1046,"d":"1,046"}},{"$f":"UK!O16","v":{"v":4443,"d":"4,443"}},{"$f":"Ireland!O16","v":{"v":2144,"d":"2,144"}},{"$f":"Denmark!O16","v":{"v":1302,"d":"1,302"}},{"$f":"Spain!O16","v":{"v":5246,"d":"5,246"}},{"$f":"Portugal!O16","v":{"v":1070,"d":"1,070"}},{"$f":"Austria!O16","v":304},{"$f":"Sweden!O16","v":{"v":1224,"d":"1,224"}},{"$f":"O15+O16","v":664},{"$f":"SUM(C13:O13)","v":{"v":35465,"d":"35,465"}}]
["engrais/fattening/Mast  ",null,{"$f":"Germany!O17","v":650},{"$f":"France!O17","v":810},{"$f":"Italy!O17","v":917},{"$f":"'The Netherlands'!O17","v":266},{"$f":"Belgium!O17","v":280},{"$f":"UK!O17","v":{"v":1157,"d":"1,157"}},{"$f":"Ireland!O17","v":949},{"$f":"Denmark!O17","v":482},{"$f":"Spain!O17","v":{"v":2611,"d":"2,611"}},{"$f":"Portugal!O17","v":364},{"$f":"Austria!O17","v":":"},{"$f":"Sweden!O17","v":189},{"$f":"Finland!O17","v":":"},":"]
["VL/dairy cow/Milchkühe",null,{"$f":"Germany!O18","v":{"v":5454,"d":"5,454"}},{"$f":"France!O18","v":{"v":2995,"d":"2,995"}},{"$f":"Italy!O18","v":{"v":2797,"d":"2,797"}},{"$f":"'The Netherlands'!O18","v":{"v":2998,"d":"2,998"}},{"$f":"Belgium!O18","v":560},{"$f":"UK!O18","v":{"v":3028,"d":"3,028"}},{"$f":"Ireland!O18","v":948},{"$f":"Denmark!O18","v":482},{"$f":"Spain!O18","v":{"v":2070,"d":"2,070"}},{"$f":"Portugal!O18","v":589},{"$f":"Austria!O18","v":":"},{"$f":"Sweden!O18","v":{"v":1016,"d":"1,016"}},{"$f":"Finland!O18","v":624},":"]
["veaux (aliments d'allaitement non compris)/calves ",null,{"$f":"Germany!O19","v":165},{"$f":"France!O19","v":240},{"$f":"Italy!O19","v":147},{"$f":"'The Netherlands'!O19","v":42},{"$f":"Belgium!O19","v":91},{"$f":"UK!O19","v":171},{"$f":"Ireland!O19","v":179},{"$f":"Denmark!O19","v":338},":",{"$f":"Portugal!O19","v":75},{"$f":"Austria!O19","v":":"},{"$f":"Sweden!O19","v":":"},{"$f":"Finland!O19","v":40},":"]
["(excluding milk replacers)/Kälber (exkl. Milchaustauscher)"]
["autres/others/Andere",null,{"$f":"Germany!O20","v":351},{"$f":"France!O20","v":190},{"$f":"Italy!O20","v":":"},{"$f":"'The Netherlands'!O20","v":":"},{"$f":"Belgium!O20","v":115},{"$f":"UK!O20","v":87},{"$f":"Ireland!O20","v":68},":",{"$f":"Spain!O20","v":565},{"$f":"Portugal!O20","v":42},{"$f":"Austria!O20","v":":"},{"$f":"Sweden!O20","v":19},{"$f":"Finland!O20","v":":"},":"]
[]
[]
["Porcins/Pigs/Suini/Schweine",null,{"$f":"Germany!O23","v":{"v":7291,"d":"7,291"}},{"$f":"France!O23","v":{"v":6964,"d":"6,964"}},{"$f":"Italy!O23","v":{"v":2709,"d":"2,709"}},{"$f":"'The Netherlands'!O23","v":{"v":5309,"d":"5,309"}},{"$f":"Belgium!O23","v":{"v":3509,"d":"3,509"}},{"$f":"UK!O23","v":{"v":1836,"d":"1,836"}},{"$f":"Ireland!O23","v":748},{"$f":"Denmark!O23","v":{"v":3702,"d":"3,702"}},{"$f":"Spain!O23","v":{"v":8137,"d":"8,137"}},{"$f":"Portugal!O23","v":{"v":1260,"d":"1,260"}},{"$f":"Austria!O23","v":218},{"$f":"N22+N23+N24+N25","v":500},318,{"$f":"SUM(C21:O21)","v":{"v":42501,"d":"42,501"}}]
["porcelets/piglets/Ferkel",null,{"$f":"Germany!O24","v":{"v":1419,"d":"1,419"}},{"$f":"France!O24","v":899},{"$f":"Italy!O24","v":":"},{"$f":"'The Netherlands'!O24","v":734},{"$f":"Belgium!O24","v":709},{"$f":"UK!O24","v":94},{"$f":"Ireland!O24","v":95},{"$f":"Denmark!O24","v":725},{"$f":"Spain!O24","v":{"v":1045,"d":"1,045"}},{"$f":"Portugal!O24","v":184},{"$f":"Austria!O24","v":":"},{"$f":"Sweden!O24","v":77},{"$f":"Finland!O24","v":46},":"]
["porcs engrais/pigs for fattening/Mastschweine",null,{"$f":"Germany!O25","v":{"v":4044,"d":"4,044"}},{"$f":"France!O25","v":{"v":4740,"d":"4,740"}},{"$f":"Italy!O25","v":":"},{"$f":"'The Netherlands'!O25","v":{"v":3353,"d":"3,353"}},{"$f":"Belgium!O25","v":{"v":2800,"d":"2,800"}},{"$f":"UK!O25","v":{"v":1210,"d":"1,210"}},{"$f":"Ireland!O25","v":498},{"$f":"Denmark!O25","v":{"v":1962,"d":"1,962"}},{"$f":"Spain!O25","v":{"v":5735,"d":"5,735"}},{"$f":"Portugal!O25","v":792},{"$f":"Austria!O25","v":":"},{"$f":"Sweden!O25","v":273},{"$f":"Finland!O25","v":184},":"]
["reproducteurs/breeding pigs/Zuchtschweine",null,{"$f":"Germany!O26","v":{"v":1208,"d":"1,208"}},{"$f":"France!O26","v":{"v":1325,"d":"1,325"}},{"$f":"Italy!O26","v":":"},{"$f":"'The Netherlands'!O26","v":{"v":1222,"d":"1,222"}},null,{"$f":"UK!O26","v":512},{"$f":"Ireland!O26","v":137},{"$f":"Denmark!O26","v":{"v":1015,"d":"1,015"}},{"$f":"Spain!O26","v":{"v":1277,"d":"1,277"}},{"$f":"Portugal!O26","v":267},{"$f":"Austria!O26","v":":"},{"$f":"Sweden!O26","v":126},{"$f":"Finland!O26","v":37},":"]
["autres/others/Andere",null,{"$f":"Germany!O27","v":620},":",{"$f":"Italy!O27","v":":"},{"$f":"'The Netherlands'!O27","v":":"},null,{"$f":"UK!O27","v":20},{"$f":"Ireland!O27","v":18},":",{"$f":"Spain!O27","v":80},{"$f":"Portugal!O27","v":17},{"$f":"Austria!O27","v":":"},{"$f":"Sweden!O27","v":24},{"$f":"Finland!O27","v":51},":"]
[{"$nulls":4}," "]
[]
["Volaille/Poultry/Volatili/Geflügel",null,{"$f":"Germany!O30","v":{"v":5068,"d":"5,068"}},{"$f":"France!O30","v":{"v":9443,"d":"9,443"}},{"$f":"Italy!O30","v":{"v":5176,"d":"5,176"}},{"$f":"'The Netherlands'!O30","v":{"v":3296,"d":"3,296"}},{"$f":"Belgium!O30","v":{"v":1436,"d":"1,436"}},{"$f":"UK!O30","v":{"v":6248,"d":"6,248"}},{"$f":"Ireland!O30","v":493},{"$f":"Denmark!O30","v":650},{"$f":"Spain!O30","v":{"v":4559,"d":"4,559"}},{"$f":"Portugal!O30","v":{"v":1400,"d":"1,400"}},{"$f":"Austria!O30","v":386},{"$f":"N29+N30+N31","v":491},295,{"$f":"SUM(C28:O28)","v":{"v":38941,"d":"38,941"}}]
["broilers",null,{"$f":"Germany!O31","v":{"v":1549,"d":"1,549"}},{"$f":"France!O31","v":{"v":3301,"d":"3,301"}},{"$f":"Italy!O31","v":{"v":2444,"d":"2,444"}},{"$f":"'The Netherlands'!O31","v":{"v":1596,"d":"1,596"}},{"$f":"Belgium!O31","v":670},{"$f":"UK!O31","v":{"v":3347,"d":"3,347"}},{"$f":"Ireland!O31","v":259},{"$f":"Denmark!O31","v":528},{"$f":"Spain!O31","v":{"v":2430,"d":"2,430"}},{"$f":"Portugal!O31","v":842},{"$f":"Austria!O31","v":":"},{"$f":"Sweden!O31","v":199},{"$f":"Finland!O31","v":185},":"]
["poulettes & pondeuses/chicks & layers/Jung- & Legehennen",null,{"$f":"Germany!O32","v":{"v":2319,"d":"2,319"}},{"$f":"France!O32","v":{"v":2213,"d":"2,213"}},{"$f":"Italy!O32","v":{"v":1461,"d":"1,461"}},{"$f":"'The Netherlands'!O32","v":{"v":1700,"d":"1,700"}},{"$f":"Belgium!O32","v":600},{"$f":"UK!O32","v":{"v":1242,"d":"1,242"}},{"$f":"Ireland!O32","v":119},{"$f":"Denmark!O32","v":46},{"$f":"Spain!O32","v":{"v":1830,"d":"1,830"}},{"$f":"Portugal!O32","v":376},{"$f":"Austria!O32","v":":"},{"$f":"Sweden!O32","v":209},{"$f":"Finland!O32","v":72},":"]
["autres/others/Andere",null,{"$f":"Germany!O33","v":{"v":1200,"d":"1,200"}},{"$f":"France!O33","v":{"v":3929,"d":"3,929"}},{"$f":"Italy!O33","v":{"v":1271,"d":"1,271"}},{"$f":"'The Netherlands'!O33","v":":"},{"$f":"Belgium!O33","v":166},{"$f":"UK!O33","v":{"v":1659,"d":"1,659"}},{"$f":"Ireland!O33","v":115},{"$f":"Denmark!O33","v":76},{"$f":"Spain!O33","v":299},{"$f":"Portugal!O33","v":182},{"$f":"Austria!O33","v":":"},{"$f":"Sweden!O33","v":83},{"$f":"Finland!O33","v":38},":"]
[]
[]
["Al. d'allait./Milk replacers/Sostit. del latte/Milchaust.",null,{"$f":"Germany!O36","v":167},{"$f":"France!O36","v":512},{"$f":"Italy!O36","v":186},{"$f":"'The Netherlands'!O36","v":666},{"$f":"Belgium!O36","v":53},{"$f":"UK!O36","v":14},{"$f":"Ireland!O36","v":10},{"$f":"Denmark!O36","v":0},{"$f":"Spain!O36","v":0},{"$f":"Portugal!O36","v":0},{"$f":"Austria!O36","v":0},{"$f":"Sweden!O36","v":6},{"$f":"Finland!O36","v":0},{"$f":"SUM(C34:O34)","v":{"v":1614,"d":"1,614"}}]
[]
[{"$nulls":4}," "]
["Autres/others/altri/Andere",null,{"$f":"Germany!O39","v":549},{"$f":"France!O39","v":{"v":1604,"d":"1,604"}},{"$f":"Italy!O39","v":{"v":1214,"d":"1,214"}},{"$f":"'The Netherlands'!O39","v":772},{"$f":"Belgium!O39","v":247},{"$f":"UK!O39","v":{"v":1133,"d":"1,133"}},{"$f":"Ireland!O39","v":413},{"$f":"Denmark!O39","v":128},{"$f":"Spain!O39","v":{"v":1706,"d":"1,706"}},{"$f":"Portugal!O39","v":208},{"$f":"Austria!O39","v":60},{"$f":"Sweden!O39","v":49},{"$f":"Finland!O39","v":91},{"$f":"SUM(C37:O37)","v":{"v":8174,"d":"8,174"}}]
[]
[]
["TOTAL",null,{"$f":"C37+C34+C28+C21+C13","v":{"v":19695,"d":"19,695"}},{"v":22758,"d":"22,758"},{"v":13146,"d":"13,146"},{"v":13349,"d":"13,349"},{"v":6291,"d":"6,291"},{"v":13674,"d":"13,674"},{"v":3808,"d":"3,808"},{"v":5782,"d":"5,782"},{"v":19648,"d":"19,648"},{"v":3938,"d":"3,938"},968,{"v":2270,"d":"2,270"},{"v":1368,"d":"1,368"},{"v":126695,"d":"126,695"}]
[{"$nulls":5}," "]
[]
["* Sans le Luxembourg et la Grèce/ohne Luxemburg und Griechenland/Without Luxemburg and Greece/Senza Lussemburgo e Ella"]
[]
[": non disponible/not available/nicht verfügbar"]

{"sheet":"2002-03","index":27,"n_rows":94,"n_cols":24,"rows_kept":94}
["2005-05-04"]
[]
["PRODUCTION INDUSTRIELLE D'ALIMENTS COMPOSES",{"$nulls":22},"INDUSTRIELLE  MISCHFUTTERPRODUKTION"]
["PRODUZIONE INDUSTRIALE DI MANGIMI COMPOSTI",{"$nulls":11},"2002-2003",{"$nulls":10},"INDUSTRIAL COMPOUND PRODUCTION"]
[{"$nulls":12},"definitif/final",{"$nulls":10},"(1 000 t )"]
[]
[]
[]
["PAYS",null,"      BOVINS/RINDER",{"$nulls":3},"    PORCS/SCHWEINE",{"$nulls":3},"     VOLAILLE/GEFLÜGEL",null,"      A. ALLAITEMENT/MILCHAUST.",{"$nulls":5},"     AUTRES/ANDERE",null,null,"       TOTAL/INSGESAMT"]
["LAND",null,"      BOVINI/CATTLE",{"$nulls":3},"    SUINI/PIGS",{"$nulls":3},"     VOLATILI/POULTRY",null,"  SOSTIT. DEL LATTE/MILKREPLACERS",{"$nulls":5},"ALTRI ANIMALI/OTHERS",null,null,"          TOTALE/TOTAL"]
["PAESE"]
["COUNTRY",2002,2003,"%TAV",null,2002,2003,"%TAV",null,2002,2003,"%TAV",null,2002,2003,"%TAV",null,2002,2003,"%TAV",null,2002,2003,"%TAV"]
[]
[]
["D",{"$f":"Germany!O$16","v":{"v":6620,"d":"6,620"}},{"$f":"Germany!P$16","v":{"v":6717,"d":"6,717"}},{"$f":"((C15/B15)-1)*100","v":{"v":1.4652567975830921,"d":"1.5"}},null,{"$f":"Germany!O$23","v":{"v":7291,"d":"7,291"}},{"$f":"Germany!P$23","v":{"v":7444,"d":"7,444"}},{"$f":"((G15/F15)-1)*100","v":{"v":2.0984775750925833,"d":"2.1"}},null,{"$f":"Germany!O$30","v":{"v":5068,"d":"5,068"}},{"$f":"Germany!P$30","v":{"v":5075,"d":"5,075"}},{"$f":"((K15/J15)-1)*100","v":{"v":0.13812154696133394,"d":"0.1"}},null,{"$f":"Germany!O$36","v":167},{"$f":"Germany!P$36","v":167},{"$f":"((O15/N15)-1)*100","v":{"v":0,"d":"0.0"}},null,{"$f":"Germany!O$39","v":549},{"$f":"Germany!P$39","v":606},{"$f":"((S15/R15)-1)*100","v":{"v":10.382513661202175,"d":"10.4"}},null,{"$f":"R15+N15+J15+F15+B15","v":{"v":19695,"d":"19,695"}},{"v":20009,"d":"20,009"},{"$f":"((W15/V15)-1)*100","v":{"v":1.594313277481585,"d":"1.6"}}]
[]
["F ",{"$f":"France!O$16","v":{"v":4235,"d":"4,235"}},{"$f":"France!P$16","v":{"v":4459,"d":"4,459"}},{"$f":"((C17/B17)-1)*100","v":{"v":5.289256198347103,"d":"5.3"}},null,{"$f":"France!O$23","v":{"v":6964,"d":"6,964"}},{"$f":"France!P$23","v":{"v":6814,"d":"6,814"}},{"$f":"((G17/F17)-1)*100","v":{"v":-2.153934520390577,"d":"-2.2"}},null,{"$f":"France!O$30","v":{"v":9443,"d":"9,443"}},{"$f":"France!P$30","v":{"v":9238,"d":"9,238"}},{"$f":"((K17/J17)-1)*100","v":{"v":-2.1709202583924614,"d":"-2.2"}},null,{"$f":"France!O$36","v":512},{"$f":"France!P$36","v":488},{"$f":"((O17/N17)-1)*100","v":{"v":-4.6875,"d":"-4.7"}},null,{"$f":"France!#REF!+France!O$39","v":{"$error":"#REF!"}},{"$f":"France!#REF!+France!P$39","v":{"$error":"#REF!"}},{"$f":"((S17/R17)-1)*100","v":{"$error":"#REF!"}},null,{"$f":"R17+N17+J17+F17+B17","v":{"$error":"#REF!"}},{"$error":"#REF!"},{"$f":"((W17/V17)-1)*100","v":{"$error":"#REF!"}}]
[{"$nulls":3}," ",{"$nulls":3}," ",{"$nulls":3}," ",{"$nulls":3}," ",{"$nulls":3}," ",{"$nulls":3}," "]
["I ",{"$f":"Italy!O$16","v":{"v":3861,"d":"3,861"}},{"$f":"Italy!P$16","v":{"v":3919,"d":"3,919"}},{"$f":"((C19/B19)-1)*100","v":{"v":1.5022015022015056,"d":"1.5"}},null,{"$f":"Italy!O$23","v":{"v":2709,"d":"2,709"}},{"$f":"Italy!P$23","v":{"v":2757,"d":"2,757"}},{"$f":"((G19/F19)-1)*100","v":{"v":1.7718715393133966,"d":"1.8"}},null,{"$f":"Italy!O$30","v":{"v":5176,"d":"5,176"}},{"$f":"Italy!P$30","v":{"v":5043,"d":"5,043"}},{"$f":"((K19/J19)-1)*100","v":{"v":-2.569551777434309,"d":"-2.6"}},null,{"$f":"Italy!O$36","v":186},{"$f":"Italy!P$36","v":172},{"$f":"((O19/N19)-1)*100","v":{"v":-7.5268817204301115,"d":"-7.5"}},null,{"$f":"#REF!+Italy!O$39","v":{"$error":"#REF!"}},{"$f":"#REF!+Italy!P$39","v":{"$error":"#REF!"}},{"$f":"((S19/R19)-1)*100","v":{"$error":"#REF!"}},null,{"$f":"R19+N19+J19+F19+B19","v":{"$error":"#REF!"}},{"$error":"#REF!"},{"$f":"((W19/V19)-1)*100","v":{"$error":"#REF!"}}]
[]
["NL   ",{"$f":"'The Netherlands'!O16","v":{"v":3306,"d":"3,306"}},{"$f":"'The Netherlands'!P16","v":{"v":3388,"d":"3,388"}},{"$f":"((C21/B21)-1)*100","v":{"v":2.4803387779794406,"d":"2.5"}},null,{"$f":"'The Netherlands'!O23","v":{"v":5309,"d":"5,309"}},{"$f":"'The Netherlands'!P23","v":{"v":5227,"d":"5,227"}},{"$f":"((G21/F21)-1)*100","v":{"v":-1.5445469956677393,"d":"-1.5"}},null,{"$f":"'The Netherlands'!O30","v":{"v":3296,"d":"3,296"}},{"$f":"'The Netherlands'!P30","v":{"v":2745,"d":"2,745"}},{"$f":"((K21/J21)-1)*100","v":{"v":-16.717233009708742,"d":"-16.7"}},null,{"$f":"'The Netherlands'!O$36","v":666},{"$f":"'The Netherlands'!P$36","v":690},{"$f":"((O21/N21)-1)*100","v":{"v":3.603603603603611,"d":"3.6"}},null,{"$f":"'The Netherlands'!O$39","v":772},{"$f":"'The Netherlands'!P$39","v":796},{"$f":"((S21/R21)-1)*100","v":{"v":3.1088082901554515,"d":"3.1"}},null,{"$f":"R21+N21+J21+F21+B21","v":{"v":13349,"d":"13,349"}},{"v":12846,"d":"12,846"},{"$f":"((W21/V21)-1)*100","v":{"v":-3.7680725147951177,"d":"-3.8"}}]
[{"$nulls":3}," ",{"$nulls":3}," ",{"$nulls":3}," ",{"$nulls":3}," ",{"$nulls":3}," ",{"$nulls":3}," "]
["B ",{"$f":"Belgium!O$16","v":{"v":1046,"d":"1,046"}},{"$f":"Belgium!P$16","v":{"v":1074,"d":"1,074"}},{"$f":"((C23/B23)-1)*100","v":{"v":2.6768642447418722,"d":"2.7"}},null,{"$f":"Belgium!O$23","v":{"v":3509,"d":"3,509"}},{"$f":"Belgium!P$23","v":{"v":3457,"d":"3,457"}},{"$f":"((G23/F23)-1)*100","v":{"v":-1.4819036762610427,"d":"-1.5"}},null,{"$f":"Belgium!O$30","v":{"v":1436,"d":"1,436"}},{"$f":"Belgium!P$30","v":{"v":1313,"d":"1,313"}},{"$f":"((K23/J23)-1)*100","v":{"v":-8.565459610027858,"d":"-8.6"}},null,{"$f":"Belgium!O$36","v":53},{"$f":"Belgium!P$36","v":52},{"$f":"((O23/N23)-1)*100","v":{"v":-1.8867924528301883,"d":"-1.9"}},null,{"$f":"Belgium!O$39","v":247},{"$f":"Belgium!P$39","v":254},{"$f":"((S23/R23)-1)*100","v":{"v":2.8340080971659853,"d":"2.8"}},null,{"$f":"R23+N23+J23+F23+B23","v":{"v":6291,"d":"6,291"}},{"v":6150,"d":"6,150"},{"$f":"((W23/V23)-1)*100","v":{"v":-2.2412970910824948,"d":"-2.2"}}]
[{"$nulls":3}," ",{"$nulls":3}," ",{"$nulls":3}," ",{"$nulls":3}," ",{"$nulls":3}," ",{"$nulls":3}," "]
["UK ",{"$f":"UK!O16","v":{"v":4443,"d":"4,443"}},{"$f":"UK!P16","v":{"v":4743,"d":"4,743"}},{"$f":"((C25/B25)-1)*100","v":{"v":6.752194463200545,"d":"6.8"}},null,{"$f":"UK!O23","v":{"v":1836,"d":"1,836"}},{"$f":"UK!P23","v":{"v":1593,"d":"1,593"}},{"$f":"((G25/F25)-1)*100","v":{"v":-13.235294117647056,"d":"-13.2"}},null,{"$f":"UK!O30","v":{"v":6248,"d":"6,248"}},{"$f":"UK!P30","v":{"v":6159,"d":"6,159"}},{"$f":"((K25/J25)-1)*100","v":{"v":-1.4244558258642792,"d":"-1.4"}},null,{"$f":"UK!O36","v":14},{"$f":"UK!P36","v":16},{"$f":"((O25/N25)-1)*100","v":{"v":14.28571428571428,"d":"14.3"}},null,{"$f":"UK!O39","v":{"v":1133,"d":"1,133"}},{"$f":"UK!P39","v":{"v":1207,"d":"1,207"}},{"$f":"((S25/R25)-1)*100","v":{"v":6.531332744924967,"d":"6.5"}},null,{"$f":"R25+J25+F25+B25+N25","v":{"v":13674,"d":"13,674"}},{"v":13718,"d":"13,718"},{"$f":"((W25/V25)-1)*100","v":{"v":0.3217785578470078,"d":"0.3"}}]
[{"$nulls":3}," ",{"$nulls":3}," ",{"$nulls":3}," ",{"$nulls":3}," ",{"$nulls":3}," ",{"$nulls":3}," "]
["IRL ",{"$f":"Ireland!O$16","v":{"v":2144,"d":"2,144"}},{"$f":"Ireland!P$16","v":{"v":2101,"d":"2,101"}},{"$f":"((C27/B27)-1)*100","v":{"v":-2.0055970149253755,"d":"-2.0"}},null,{"$f":"Ireland!O$23","v":748},{"$f":"Ireland!P$23","v":687},{"$f":"((G27/F27)-1)*100","v":{"v":-8.155080213903743,"d":"-8.2"}},null,{"$f":"Ireland!O$30","v":493},{"$f":"Ireland!P$30","v":485},{"$f":"((K27/J27)-1)*100","v":{"v":-1.6227180527383367,"d":"-1.6"}},null,{"$f":"Ireland!O$36","v":10},{"$f":"Ireland!P$36","v":9},{"$f":"((O27/N27)-1)*100","v":{"v":-9.999999999999998,"d":"-10.0"}},null,{"$f":"Ireland!#REF!+Ireland!O$39","v":{"$error":"#REF!"}},{"$f":"Ireland!#REF!+Ireland!P$39","v":{"$error":"#REF!"}},{"$f":"((S27/R27)-1)*100","v":{"$error":"#REF!"}},null,{"$f":"R27+N27+J27+F27+B27","v":{"$error":"#REF!"}},{"$error":"#REF!"},{"$f":"((W27/V27)-1)*100","v":{"$error":"#REF!"}}]
[{"$nulls":3}," ",{"$nulls":3}," ",{"$nulls":3}," ",{"$nulls":3}," ",{"$nulls":3}," ",{"$nulls":3}," "]
["DK ",{"$f":"Denmark!O$16","v":{"v":1302,"d":"1,302"}},{"$f":"Denmark!P$16","v":{"v":1274,"d":"1,274"}},{"$f":"((C29/B29)-1)*100","v":{"v":-2.1505376344086002,"d":"-2.2"}},null,{"$f":"Denmark!O$23","v":{"v":3702,"d":"3,702"}},{"$f":"Denmark!P$23","v":{"v":3518,"d":"3,518"}},{"$f":"((G29/F29)-1)*100","v":{"v":-4.970286331712592,"d":"-5.0"}},null,{"$f":"Denmark!O$30","v":650},{"$f":"Denmark!P$30","v":617},{"$f":"((K29/J29)-1)*100","v":{"v":-5.076923076923078,"d":"-5.1"}},null,{"$f":"Denmark!O$36","v":0},{"$f":"Denmark!P$36","v":0},{"v":0,"d":"0.0"},null,{"$f":"Denmark!O$39","v":128},{"$f":"Denmark!P$39","v":153},{"$f":"((S29/R29)-1)*100","v":{"v":19.53125,"d":"19.5"}},null,{"$f":"R29+N29+J29+F29+B29","v":{"v":5782,"d":"5,782"}},{"v":5562,"d":"5,562"},{"$f":"((W29/V29)-1)*100","v":{"v":-3.804911795226562,"d":"-3.8"}}]
[]
["ESP ",{"$f":"Spain!O$16","v":{"v":5246,"d":"5,246"}},{"$f":"Spain!P$16","v":{"v":5050,"d":"5,050"}},{"$f":"((C31/B31)-1)*100","v":{"v":-3.736179946626006,"d":"-3.7"}},null,{"$f":"Spain!O$23","v":{"v":8137,"d":"8,137"}},{"$f":"Spain!P$23","v":{"v":8235,"d":"8,235"}},{"$f":"((G31/F31)-1)*100","v":{"v":1.2043750768096384,"d":"1.2"}},null,{"$f":"Spain!O$30","v":{"v":4559,"d":"4,559"}},{"$f":"Spain!P$30","v":{"v":4425,"d":"4,425"}},{"$f":"((K31/J31)-1)*100","v":{"v":-2.939241061636322,"d":"-2.9"}},null,{"$f":"Spain!O$36","v":0},{"$f":"Spain!P$36","v":0},{"v":0,"d":"0.0"},null,{"$f":"Spain!#REF!+Spain!O$39","v":{"$error":"#REF!"}},{"$f":"Spain!#REF!+Spain!P$39","v":{"$error":"#REF!"}},{"$f":"((S31/R31)-1)*100","v":{"$error":"#REF!"}},null,{"$f":"R31+N31+J31+F31+B31","v":{"$error":"#REF!"}},{"$error":"#REF!"},{"$f":"((W31/V31)-1)*100","v":{"$error":"#REF!"}}]
[{"$nulls":3}," ",{"$nulls":3}," ",{"$nulls":3}," ",{"$nulls":3}," ",{"$nulls":3}," ",null," "," "," "]
["P ",{"$f":"Portugal!O$16","v":{"v":1070,"d":"1,070"}},{"$f":"Portugal!P$16","v":{"v":1060,"d":"1,060"}},{"$f":"((C33/B33)-1)*100","v":{"v":-0.9345794392523366,"d":"-0.9"}},null,{"$f":"Portugal!O$23","v":{"v":1260,"d":"1,260"}},{"$f":"Portugal!P$23","v":{"v":1225,"d":"1,225"}},{"$f":"((G33/F33)-1)*100","v":{"v":-2.777777777777779,"d":"-2.8"}},null,{"$f":"Portugal!O$30","v":{"v":1400,"d":"1,400"}},{"$f":"Portugal!P$30","v":{"v":1280,"d":"1,280"}},{"$f":"((K33/J33)-1)*100","v":{"v":-8.571428571428575,"d":"-8.6"}},null,{"$f":"Portugal!O$36","v":0},{"$f":"Portugal!P$36","v":0},{"v":0,"d":"0.0"},null,{"$f":"Portugal!#REF!+Portugal!O$39","v":{"$error":"#REF!"}},{"$f":"Portugal!#REF!+Portugal!P$39","v":{"$error":"#REF!"}},{"$f":"((S33/R33)-1)*100","v":{"$error":"#REF!"}},null,{"$f":"R33+N33+J33+F33+B33","v":{"$error":"#REF!"}},{"$error":"#REF!"},{"$f":"((W33/V33)-1)*100","v":{"$error":"#REF!"}}]
[]
["A",{"$f":"Austria!O$16","v":304},{"$f":"Austria!P$16","v":327},{"$f":"((C35/B35)-1)*100","v":{"v":7.5657894736842035,"d":"7.6"}},null,{"$f":"Austria!O$23","v":218},{"$f":"Austria!P$23","v":216},{"$f":"((G35/F35)-1)*100","v":{"v":-0.917431192660545,"d":"-0.9"}},null,{"$f":"Austria!O$30","v":386},{"$f":"Austria!P$30","v":394},{"$f":"((K35/J35)-1)*100","v":{"v":2.0725388601036343,"d":"2.1"}},null,{"$f":"Austria!O$36","v":0},{"$f":"Austria!P$36","v":0},null,null,{"$f":"Austria!#REF!+Austria!O$39","v":{"$error":"#REF!"}},{"$f":"Austria!#REF!+Austria!P$39","v":{"$error":"#REF!"}},{"$f":"((S35/R35)-1)*100","v":{"$error":"#REF!"}},null,{"$f":"R35+N35+J35+F35+B35","v":{"$error":"#REF!"}},{"$error":"#REF!"},{"$f":"((W35/V35)-1)*100","v":{"$error":"#REF!"}}]
[]
["S",{"$f":"Sweden!O$16","v":{"v":1224,"d":"1,224"}},{"$f":"Sweden!P$16","v":{"v":1197,"d":"1,197"}},{"$f":"((C37/B37)-1)*100","v":{"v":-2.2058823529411797,"d":"-2.2"}},null,{"$f":"Sweden!O$23","v":500},{"$f":"Sweden!P$23","v":491},{"$f":"((G37/F37)-1)*100","v":{"v":-1.8000000000000016,"d":"-1.8"}},null,{"$f":"Sweden!O$30","v":491},{"$f":"Sweden!P$30","v":480},{"$f":"((K37/J37)-1)*100","v":{"v":-2.2403258655804503,"d":"-2.2"}},null,{"$f":"Sweden!O$36","v":6},{"$f":"Sweden!P$36","v":6},{"$f":"((O37/N37)-1)*100","v":{"v":0,"d":"0.0"}},null,{"$f":"Sweden!#REF!+Sweden!O$39","v":{"$error":"#REF!"}},{"$f":"Sweden!#REF!+Sweden!P$39","v":{"$error":"#REF!"}},{"$f":"((S37/R37)-1)*100","v":{"$error":"#REF!"}},null,{"$f":"R37+N37+J37+F37+B37","v":{"$error":"#REF!"}},{"$error":"#REF!"},{"$f":"((W37/V37)-1)*100","v":{"$error":"#REF!"}}]
[]
["FIN",{"$f":"Finland!O$16","v":664},{"$f":"Finland!P$16","v":654},{"$f":"((C39/B39)-1)*100","v":{"v":-1.5060240963855387,"d":"-1.5"}},null,{"$f":"Finland!O$23","v":318},{"$f":"Finland!P$23","v":349},{"$f":"((G39/F39)-1)*100","v":{"v":9.748427672955984,"d":"9.7"}},null,{"$f":"Finland!O$30","v":295},{"$f":"Finland!P$30","v":307},{"$f":"((K39/J39)-1)*100","v":{"v":4.067796610169494,"d":"4.1"}},null,{"$f":"Finland!O$36","v":0},{"$f":"Finland!P$36","v":0},null,null,{"$f":"Finland!#REF!+Finland!O$39","v":{"$error":"#REF!"}},{"$f":"Finland!#REF!+Finland!P$39","v":{"$error":"#REF!"}},{"$f":"((S39/R39)-1)*100","v":{"$error":"#REF!"}},null,{"$f":"R39+J39+F39+B39","v":{"$error":"#REF!"}},{"$error":"#REF!"},{"$f":"((W39/V39)-1)*100","v":{"$error":"#REF!"}}]
[]
[{"$nulls":3}," "]
["EUR 15 *",{"$f":"SUM(B15:B39)","v":{"v":35465,"d":"35,465"}},{"v":35963,"d":"35,963"},{"$f":"((C42/B42)-1)*100","v":{"v":1.4042013252502539,"d":"1.4"}},null,{"$f":"SUM(F15:F39)","v":{"v":42501,"d":"42,501"}},{"v":42013,"d":"42,013"},{"$f":"((G42/F42)-1)*100","v":{"v":-1.1482082774523006,"d":"-1.1"}},null,{"$f":"SUM(J15:J39)","v":{"v":38941,"d":"38,941"}},{"v":37561,"d":"37,561"},{"$f":"((K42/J42)-1)*100","v":{"v":-3.5438227061451943,"d":"-3.5"}},null,{"$f":"SUM(N15:N39)","v":{"v":1614,"d":"1,614"}},{"v":1600,"d":"1,600"},{"$f":"((O42/N42)-1)*100","v":{"v":-0.8674101610904539,"d":"-0.9"}},null,{"$f":"SUM(R15:R39)","v":{"$error":"#REF!"}},{"$error":"#REF!"},{"$f":"((S42/R42)-1)*100","v":{"$error":"#REF!"}},null,{"$f":"SUM(V15:V39)","v":{"$error":"#REF!"}},{"$error":"#REF!"},{"$f":"((W42/V42)-1)*100","v":{"$error":"#REF!"}}]
[]
[{"$nulls":23}," "]
["* Sans le Luxembourg et la Grèce/Ohne Luxemburg und Griechenland/Without Luxemburg and Greece/Senza Lussemburgo e Ellas"]
[]
[": non disponible/not available"]
[]
[]
[]
["2005-05-04"]
[]
["PRODUCTION INDUSTRIELLE D'ALIMENTS COMPOSES",{"$nulls":22},"INDUSTRIELLE  MISCHFUTTERPRODUKTION"]
["PRODUZIONE INDUSTRIALE DI MANGIMI COMPOSTI",{"$nulls":11},"2002-2003",{"$nulls":10},"INDUSTRIAL COMPOUND PRODUCTION"]
[{"$nulls":12},"definitif/final",{"$nulls":10},"(1 000 t )"]
[]
[]
["PAYS",null,"      BOVINS/RINDER",{"$nulls":3},"    PORCS/SCHWEINE",{"$nulls":3},"     VOLAILLE/GEFLÜGEL",null,"      A. ALLAITEMENT/MILCHAUST.",{"$nulls":5},"     AUTRES/ANDERE",null,null,"       TOTAL/INSGESAMT"]
["LAND",null,"      BOVINI/CATTLE",{"$nulls":3},"    SUINI/PIGS",{"$nulls":3},"     VOLATILI/POULTRY",null,"  SOSTIT. DEL LATTE/MILKREPLACERS",{"$nulls":5},"ALTRI ANIMALI/OTHERS",null,null,"          TOTALE/TOTAL"]
["PAESE"]
["COUNTRY",2002,2003,"%TAV",null,2002,2003,"%TAV",null,2002,2003,"%TAV",null,2002,2003,"%TAV",null,2002,2003,"%TAV",null,2002,2003,"%TAV"]
[]
[]
["D",{"$f":"Germany!O$16","v":{"v":6620,"d":"6,620"}},{"$f":"Germany!P$16","v":{"v":6717,"d":"6,717"}},{"$f":"((C64/B64)-1)*100","v":{"v":1.4652567975830921,"d":"1.5"}},null,{"$f":"Germany!O$23","v":{"v":7291,"d":"7,291"}},{"$f":"Germany!P$23","v":{"v":7444,"d":"7,444"}},{"$f":"((G64/F64)-1)*100","v":{"v":2.0984775750925833,"d":"2.1"}},null,{"$f":"Germany!O$30","v":{"v":5068,"d":"5,068"}},{"$f":"Germany!P$30","v":{"v":5075,"d":"5,075"}},{"$f":"((K64/J64)-1)*100","v":{"v":0.13812154696133394,"d":"0.1"}},null,{"$f":"Germany!O$36","v":167},{"$f":"Germany!P$36","v":167},{"$f":"((O64/N64)-1)*100","v":{"v":0,"d":"0.0"}},null,{"$f":"Germany!O$39","v":549},{"$f":"Germany!P$39","v":606},{"$f":"((S64/R64)-1)*100","v":{"v":10.382513661202175,"d":"10.4"}},null,{"$f":"R64+N64+J64+F64+B64","v":{"v":19695,"d":"19,695"}},{"v":20009,"d":"20,009"},{"$f":"((W64/V64)-1)*100","v":{"v":1.594313277481585,"d":"1.6"}}]
["F ",{"$f":"France!O$16","v":{"v":4235,"d":"4,235"}},{"$f":"France!P$16","v":{"v":4459,"d":"4,459"}},{"v":5.289256198347103,"d":"5.3"},null,{"$f":"France!O$23","v":{"v":6964,"d":"6,964"}},{"$f":"France!P$23","v":{"v":6814,"d":"6,814"}},{"v":-2.153934520390577,"d":"-2.2"},null,{"$f":"France!O$30","v":{"v":9443,"d":"9,443"}},{"$f":"France!P$30","v":{"v":9238,"d":"9,238"}},{"v":-2.1709202583924614,"d":"-2.2"},null,{"$f":"France!O$36","v":512},{"$f":"France!P$36","v":488},{"v":-4.6875,"d":"-4.7"},null,{"$f":"France!O$39","v":{"v":1604,"d":"1,604"}},{"$f":"France!P$39","v":{"v":1578,"d":"1,578"}},{"v":-1.6209476309226978,"d":"-1.6"},null,{"$f":"R65+N65+J65+F65+B65","v":{"v":22758,"d":"22,758"}},{"v":22577,"d":"22,577"},{"v":-0.7953247209772418,"d":"-0.8"}]
["I ",{"$f":"Italy!O$16","v":{"v":3861,"d":"3,861"}},{"$f":"Italy!P$16","v":{"v":3919,"d":"3,919"}},{"v":1.5022015022015056,"d":"1.5"},null,{"$f":"Italy!O$23","v":{"v":2709,"d":"2,709"}},{"$f":"Italy!P$23","v":{"v":2757,"d":"2,757"}},{"v":1.7718715393133966,"d":"1.8"},null,{"$f":"Italy!O$30","v":{"v":5176,"d":"5,176"}},{"$f":"Italy!P$30","v":{"v":5043,"d":"5,043"}},{"v":-2.569551777434309,"d":"-2.6"},null,{"$f":"Italy!O$36","v":186},{"$f":"Italy!P$36","v":172},{"v":-7.5268817204301115,"d":"-7.5"},null,{"$f":"+Italy!O$39","v":{"v":1214,"d":"1,214"}},{"$f":"+Italy!P$39","v":{"v":1314,"d":"1,314"}},{"v":8.237232289950569,"d":"8.2"},null,{"$f":"R66+N66+J66+F66+B66","v":{"v":13146,"d":"13,146"}},{"v":13205,"d":"13,205"},{"v":0.4488057203712259,"d":"0.4"}]
["NL   ",{"$f":"'The Netherlands'!O$16","v":{"v":3306,"d":"3,306"}},{"$f":"'The Netherlands'!P$16","v":{"v":3388,"d":"3,388"}},{"v":2.4803387779794406,"d":"2.5"},null,{"$f":"'The Netherlands'!O$23","v":{"v":5309,"d":"5,309"}},{"$f":"'The Netherlands'!P$23","v":{"v":5227,"d":"5,227"}},{"v":-1.5445469956677393,"d":"-1.5"},null,{"$f":"'The Netherlands'!O$30","v":{"v":3296,"d":"3,296"}},{"$f":"'The Netherlands'!P$30","v":{"v":2745,"d":"2,745"}},{"v":-16.717233009708742,"d":"-16.7"},null,{"$f":"'The Netherlands'!O$36","v":666},{"$f":"'The Netherlands'!P$36","v":690},{"v":3.603603603603611,"d":"3.6"},null,{"$f":"'The Netherlands'!O$39","v":772},{"$f":"'The Netherlands'!P$39","v":796},{"v":3.1088082901554515,"d":"3.1"},null,{"$f":"R67+N67+J67+F67+B67","v":{"v":13349,"d":"13,349"}},{"v":12846,"d":"12,846"},{"v":-3.7680725147951177,"d":"-3.8"}]
["B ",{"$f":"Belgium!O$16","v":{"v":1046,"d":"1,046"}},{"$f":"Belgium!P$16","v":{"v":1074,"d":"1,074"}},{"v":2.6768642447418722,"d":"2.7"},null,{"$f":"Belgium!O$23","v":{"v":3509,"d":"3,509"}},{"$f":"Belgium!P$23","v":{"v":3457,"d":"3,457"}},{"v":-1.4819036762610427,"d":"-1.5"},null,{"$f":"Belgium!O$30","v":{"v":1436,"d":"1,436"}},{"$f":"Belgium!P$30","v":{"v":1313,"d":"1,313"}},{"v":-8.565459610027858,"d":"-8.6"},null,{"$f":"Belgium!O$36","v":53},{"$f":"Belgium!P$36","v":52},{"v":-1.8867924528301883,"d":"-1.9"},null,{"$f":"Belgium!O$39","v":247},{"$f":"Belgium!P$39","v":254},{"v":2.8340080971659853,"d":"2.8"},null,{"$f":"R68+N68+J68+F68+B68","v":{"v":6291,"d":"6,291"}},{"v":6150,"d":"6,150"},{"v":-2.2412970910824948,"d":"-2.2"}]
["UK ",{"$f":"UK!O$16","v":{"v":4443,"d":"4,443"}},{"$f":"UK!P$16","v":{"v":4743,"d":"4,743"}},{"v":6.752194463200545,"d":"6.8"},null,{"$f":"UK!O$23","v":{"v":1836,"d":"1,836"}},{"$f":"UK!P$23","v":{"v":1593,"d":"1,593"}},{"v":-13.235294117647056,"d":"-13.2"},null,{"$f":"UK!O$30","v":{"v":6248,"d":"6,248"}},{"$f":"UK!P$30","v":{"v":6159,"d":"6,159"}},{"v":-1.4244558258642792,"d":"-1.4"},null,{"$f":"UK!O$36","v":14},{"$f":"UK!P$36","v":16},{"v":14.28571428571428,"d":"14.3"},null,{"$f":"UK!O$39","v":{"v":1133,"d":"1,133"}},{"$f":"UK!P$39","v":{"v":1207,"d":"1,207"}},{"v":6.531332744924967,"d":"6.5"},null,{"$f":"R69+N69+J69+F69+B69","v":{"v":13674,"d":"13,674"}},{"v":13718,"d":"13,718"},{"v":0.3217785578470078,"d":"0.3"}]
["IRL ",{"$f":"Ireland!O$16","v":{"v":2144,"d":"2,144"}},{"$f":"Ireland!P$16","v":{"v":2101,"d":"2,101"}},{"v":-2.0055970149253755,"d":"-2.0"},null,{"$f":"Ireland!O$23","v":748},{"$f":"Ireland!P$23","v":687},{"v":-8.155080213903743,"d":"-8.2"},null,{"$f":"Ireland!O$30","v":493},{"$f":"Ireland!P$30","v":485},{"v":-1.6227180527383367,"d":"-1.6"},null,{"$f":"Ireland!O$36","v":10},{"$f":"Ireland!P$36","v":9},{"v":-9.999999999999998,"d":"-10.0"},null,{"$f":"Ireland!O$39","v":413},{"$f":"Ireland!P$39","v":413},{"v":0,"d":"0.0"},null,{"$f":"R70+N70+J70+F70+B70","v":{"v":3808,"d":"3,808"}},{"v":3695,"d":"3,695"},{"v":-2.9674369747899165,"d":"-3.0"}]
["DK ",{"$f":"Denmark!O$16","v":{"v":1302,"d":"1,302"}},{"$f":"Denmark!P$16","v":{"v":1274,"d":"1,274"}},{"v":-2.1505376344086002,"d":"-2.2"},null,{"$f":"Denmark!O$23","v":{"v":3702,"d":"3,702"}},{"$f":"Denmark!P$23","v":{"v":3518,"d":"3,518"}},{"v":-4.970286331712592,"d":"-5.0"},null,{"$f":"Denmark!O$30","v":650},{"$f":"Denmark!P$30","v":617},{"v":-5.076923076923078,"d":"-5.1"},null,{"$f":"Denmark!O$36","v":0},{"$f":"Denmark!P$36","v":0},{"v":0,"d":"0.0"},null,{"$f":"Denmark!O$39","v":128},{"$f":"Denmark!P$39","v":153},{"v":19.53125,"d":"19.5"},null,{"$f":"R71+N71+J71+F71+B71","v":{"v":5782,"d":"5,782"}},{"v":5562,"d":"5,562"},{"v":-3.804911795226562,"d":"-3.8"}]
["ESP ",{"$f":"Spain!O$16","v":{"v":5246,"d":"5,246"}},{"$f":"Spain!P$16","v":{"v":5050,"d":"5,050"}},{"v":-3.736179946626006,"d":"-3.7"},null,{"$f":"Spain!O$23","v":{"v":8137,"d":"8,137"}},{"$f":"Spain!P$23","v":{"v":8235,"d":"8,235"}},{"v":1.2043750768096384,"d":"1.2"},null,{"$f":"Spain!O$30","v":{"v":4559,"d":"4,559"}},{"$f":"Spain!P$30","v":{"v":4425,"d":"4,425"}},{"v":-2.939241061636322,"d":"-2.9"},null,{"$f":"Spain!O$36","v":0},{"$f":"Spain!P$36","v":0},{"v":0,"d":"0.0"},null,{"$f":"Spain!O$39","v":{"v":1706,"d":"1,706"}},{"$f":"Spain!P$39","v":{"v":1715,"d":"1,715"}},{"v":0.5275498241500642,"d":"0.5"},null,{"$f":"R72+N72+J72+F72+B72","v":{"v":19648,"d":"19,648"}},{"v":19425,"d":"19,425"},{"v":-1.1349755700325703,"d":"-1.1"}]
["P ",{"$f":"Portugal!O$16","v":{"v":1070,"d":"1,070"}},{"$f":"Portugal!P$16","v":{"v":1060,"d":"1,060"}},{"v":-0.9345794392523366,"d":"-0.9"},null,{"$f":"Portugal!O$23","v":{"v":1260,"d":"1,260"}},{"$f":"Portugal!P$23","v":{"v":1225,"d":"1,225"}},{"v":-2.777777777777779,"d":"-2.8"},null,{"$f":"Portugal!O$30","v":{"v":1400,"d":"1,400"}},{"$f":"Portugal!P$30","v":{"v":1280,"d":"1,280"}},{"v":-8.571428571428575,"d":"-8.6"},null,{"$f":"Portugal!O$36","v":0},{"$f":"Portugal!P$36","v":0},{"v":0,"d":"0.0"},null,{"$f":"Portugal!O$39","v":208},{"$f":"Portugal!P$39","v":213},{"v":2.4038461538461453,"d":"2.4"},null,{"$f":"R73+N73+J73+F73+B73","v":{"v":3938,"d":"3,938"}},{"v":3778,"d":"3,778"},{"v":-4.0629761300152385,"d":"-4.1"}]
["A",{"$f":"Austria!O$16","v":304},{"$f":"Austria!P$16","v":327},{"v":7.5657894736842035,"d":"7.6"},null,{"$f":"Austria!O$23","v":218},{"$f":"Austria!P$23","v":216},{"v":-0.917431192660545,"d":"-0.9"},null,{"$f":"Austria!O$30","v":386},{"$f":"Austria!P$30","v":394},{"v":2.0725388601036343,"d":"2.1"},null,{"$f":"Austria!O$36","v":0},{"$f":"Austria!P$36","v":0},{"v":0,"d":"0.0"},null,{"$f":"Austria!O$39","v":60},{"$f":"Austria!P$39","v":64},{"v":6.666666666666665,"d":"6.7"},null,{"$f":"R74+N74+J74+F74+B74","v":968},{"v":1001,"d":"1,001"},{"v":3.409090909090917,"d":"3.4"}]
["S",{"$f":"Sweden!O$16","v":{"v":1224,"d":"1,224"}},{"$f":"Sweden!P$16","v":{"v":1197,"d":"1,197"}},{"v":-2.2058823529411797,"d":"-2.2"},null,{"$f":"Sweden!O$23","v":500},{"$f":"Sweden!P$23","v":491},{"v":-1.8000000000000016,"d":"-1.8"},null,{"$f":"Sweden!O$30","v":491},{"$f":"Sweden!P$30","v":480},{"v":-2.2403258655804503,"d":"-2.2"},null,{"$f":"Sweden!O$36","v":6},{"$f":"Sweden!P$36","v":6},{"$f":"((O75/N75)-1)*100","v":{"v":0,"d":"0.0"}},null,{"$f":"Sweden!O$39","v":49},{"$f":"Sweden!P$39","v":50},{"v":2.0408163265306145,"d":"2.0"},null,{"$f":"R75+N75+J75+F75+B75","v":{"v":2270,"d":"2,270"}},{"v":2224,"d":"2,224"},{"v":-2.026431718061672,"d":"-2.0"}]
["FIN",{"$f":"Finland!O$16","v":664},{"$f":"Finland!P$16","v":654},{"v":-1.5060240963855387,"d":"-1.5"},null,{"$f":"Finland!O$23","v":318},{"$f":"Finland!P$23","v":349},{"v":9.748427672955984,"d":"9.7"},null,{"$f":"Finland!O$30","v":295},{"$f":"Finland!P$30","v":307},{"v":4.067796610169494,"d":"4.1"},null,{"$f":"Finland!O$36","v":0},{"$f":"Finland!P$36","v":0},{"v":0,"d":"0.0"},null,{"$f":"Finland!O$39","v":91},{"$f":"Finland!P$39","v":88},{"v":-3.296703296703296,"d":"-3.3"},null,{"$f":"R76+J76+F76+B76","v":{"v":1368,"d":"1,368"}},{"v":1398,"d":"1,398"},{"v":2.1929824561403466,"d":"2.2"}]
[{"$nulls":3}," "]
["EUR 15 *",{"$f":"SUM(B64:B76)","v":{"v":35465,"d":"35,465"}},{"v":35963,"d":"35,963"},{"$f":"((C78/B78)-1)*100","v":{"v":1.4042013252502539,"d":"1.4"}},null,{"$f":"SUM(F64:F76)","v":{"v":42501,"d":"42,501"}},{"v":42013,"d":"42,013"},{"$f":"((G78/F78)-1)*100","v":{"v":-1.1482082774523006,"d":"-1.1"}},null,{"$f":"SUM(J64:J76)","v":{"v":38941,"d":"38,941"}},{"v":37561,"d":"37,561"},{"$f":"((K78/J78)-1)*100","v":{"v":-3.5438227061451943,"d":"-3.5"}},null,{"$f":"SUM(N64:N76)","v":{"v":1614,"d":"1,614"}},{"v":1600,"d":"1,600"},{"$f":"((O78/N78)-1)*100","v":{"v":-0.8674101610904539,"d":"-0.9"}},null,{"$f":"SUM(R64:R76)","v":{"v":8174,"d":"8,174"}},{"v":8451,"d":"8,451"},{"$f":"((S78/R78)-1)*100","v":{"v":3.388793736236839,"d":"3.4"}},null,{"$f":"SUM(V64:V76)","v":{"v":126695,"d":"126,695"}},{"v":125588,"d":"125,588"},{"$f":"((W78/V78)-1)*100","v":{"v":-0.8737519239117586,"d":"-0.9"}}]
[]
["CY",{"$f":"Cyprus!O$16","v":82},{"$f":"Cyprus!P$16","v":83},{"$f":"((C80/B80)-1)*100","v":{"v":1.2195121951219523,"d":"1.2"}},null,{"$f":"Cyprus!O$23","v":12},{"$f":"Cyprus!P$23","v":13},{"$f":"((G80/F80)-1)*100","v":{"v":8.333333333333325,"d":"8.3"}},null,{"$f":"Cyprus!O$30","v":63},{"$f":"Cyprus!P$30","v":64},{"$f":"((K80/J80)-1)*100","v":{"v":1.5873015873015817,"d":"1.6"}},null,{"$f":"Cyprus!O$36","v":0},{"$f":"Cyprus!P$36","v":0},{"v":0,"d":"0.0"},null,{"$f":"Cyprus!O$39","v":73},{"$f":"Cyprus!P$39","v":74},{"$f":"((S80/R80)-1)*100","v":{"v":1.3698630136986356,"d":"1.4"}},null,{"$f":"R80+N80+J80+F80+B80","v":230},234,{"$f":"((W80/V80)-1)*100","v":{"v":1.7391304347825987,"d":"1.7"}}]
["CZ",{"$f":"'Czech Rep'!O$16","v":577},{"$f":"'Czech Rep'!P$16","v":498},{"v":-13.691507798960135,"d":"-13.7"},null,{"$f":"'Czech Rep'!O$23","v":{"v":1411,"d":"1,411"}},{"$f":"'Czech Rep'!P$23","v":{"v":1475,"d":"1,475"}},{"v":4.53579021970234,"d":"4.5"},null,{"$f":"'Czech Rep'!O$30","v":{"v":1090,"d":"1,090"}},{"$f":"'Czech Rep'!P$30","v":{"v":1038,"d":"1,038"}},{"v":-4.770642201834862,"d":"-4.8"},null,{"$f":"'Czech Rep'!O$36","v":0},{"$f":"'Czech Rep'!P$36","v":6},{"v":0,"d":"0.0"},null,{"$f":"'Czech Rep'!O$39","v":128},{"$f":"'Czech Rep'!P$39","v":121},{"v":-5.46875,"d":"-5.5"},null,{"$f":"R81+N81+J81+F81+B81","v":{"v":3206,"d":"3,206"}},{"v":3138,"d":"3,138"},{"v":-2.1210230817217735,"d":"-2.1"}]
["EE",{"$f":"Estonia!O$16","v":31},{"$f":"Estonia!P$16","v":28},{"v":-9.677419354838712,"d":"-9.7"},null,{"$f":"Estonia!O$23","v":130},{"$f":"Estonia!P$23","v":117},{"v":-9.999999999999998,"d":"-10.0"},null,{"$f":"Estonia!O$30","v":56},{"$f":"Estonia!P$30","v":58},{"v":3.571428571428581,"d":"3.6"},null,{"$f":"Estonia!O$36","v":0},{"$f":"Estonia!P$36","v":0},{"v":0,"d":"0.0"},null,{"$f":"Estonia!O$39","v":4},{"$f":"Estonia!P$39","v":3},{"v":-25,"d":"-25.0"},null,{"$f":"R82+N82+J82+F82+B82","v":221},206,{"v":-6.7873303167420795,"d":"-6.8"}]
["HU",{"$f":"Hungary!O$16","v":641},{"$f":"Hungary!P$16","v":686},{"v":7.020280811232449,"d":"7.0"},null,{"$f":"Hungary!O$23","v":{"v":2613,"d":"2,613"}},{"$f":"Hungary!P$23","v":{"v":2275,"d":"2,275"}},{"v":-12.935323383084574,"d":"-12.9"},null,{"$f":"Hungary!O$30","v":{"v":2142,"d":"2,142"}},{"$f":"Hungary!P$30","v":{"v":1980,"d":"1,980"}},{"v":-7.563025210084029,"d":"-7.6"},null,{"$f":"Hungary!O$36","v":0},{"$f":"Hungary!P$36","v":0},{"v":0,"d":"0.0"},null,{"$f":"Hungary!O$39","v":214},{"$f":"Hungary!P$39","v":182},{"v":-14.953271028037385,"d":"-15.0"},null,{"$f":"R83+N83+J83+F83+B83","v":{"v":5610,"d":"5,610"}},{"v":5123,"d":"5,123"},{"v":-8.680926916221033,"d":"-8.7"}]
["LV",{"$f":"Latvia!O$16","v":11},{"$f":"Latvia!P$16","v":15},{"v":36.36363636363635,"d":"36.4"},null,{"$f":"Latvia!O$23","v":88},{"$f":"Latvia!P$23","v":86},{"v":-2.2727272727272707,"d":"-2.3"},null,{"$f":"Latvia!O$30","v":98},{"$f":"Latvia!P$30","v":114},{"v":16.326530612244895,"d":"16.3"},null,{"$f":"Latvia!O$36","v":0},{"$f":"Latvia!P$36","v":0},{"v":0,"d":"0.0"},null,{"$f":"Latvia!O$39","v":3},{"$f":"Latvia!P$39","v":18},{"v":500,"d":"500.0"},null,{"$f":"R84+N84+J84+F84+B84","v":200},233,{"v":16.500000000000004,"d":"16.5"}]
["LT",{"$f":"Lithuania!O$16","v":13},{"$f":"Lithuania!P$16","v":7},{"v":-46.15384615384615,"d":"-46.2"},null,{"$f":"Lithuania!O$23","v":131},{"$f":"Lithuania!P$23","v":105},{"v":-19.84732824427481,"d":"-19.8"},null,{"$f":"Lithuania!O$30","v":96},{"$f":"Lithuania!P$30","v":123},{"v":28.125,"d":"28.1"},null,{"$f":"Lithuania!O$36","v":0},{"$f":"Lithuania!P$36","v":3},{"v":0,"d":"0.0"},null,{"$f":"Lithuania!O$39","v":87},{"$f":"Lithuania!P$39","v":5},{"v":-94.25287356321839,"d":"-94.3"},null,{"$f":"R85+N85+J85+F85+B85","v":327},243,{"v":-25.688073394495415,"d":"-25.7"}]
["PL",{"$f":"Poland!O$16","v":231},{"$f":"Poland!P$16","v":327},{"v":41.55844155844155,"d":"41.6"},null,{"$f":"Poland!O$23","v":999},{"$f":"Poland!P$23","v":{"v":1352,"d":"1,352"}},{"v":35.33533533533533,"d":"35.3"},null,{"$f":"Poland!O$30","v":{"v":3269,"d":"3,269"}},{"$f":"Poland!P$30","v":{"v":3450,"d":"3,450"}},{"v":5.536861425512396,"d":"5.5"},null,{"$f":"Poland!O$36","v":0},{"$f":"Poland!P$36","v":0},{"v":0,"d":"0.0"},null,{"$f":"Poland!O$39","v":242},{"$f":"Poland!P$39","v":430},{"v":100,"d":"100.0"},null,{"$f":"R86+N86+J86+F86+B86","v":{"v":4741,"d":"4,741"}},{"v":5559,"d":"5,559"},{"v":17.253743935878507,"d":"17.3"}]
["SK",{"$f":"Slovakia!O$16","v":291},{"$f":"Slovakia!P$16","v":281},{"v":-3.436426116838487,"d":"-3.4"},null,{"$f":"Slovakia!O$23","v":614},{"$f":"Slovakia!P$23","v":603},{"v":-1.791530944625408,"d":"-1.8"},null,{"$f":"Slovakia!O$30","v":424},{"$f":"Slovakia!P$30","v":377},{"v":-11.084905660377354,"d":"-11.1"},null,{"$f":"Slovakia!O$36","v":0},{"$f":"Slovakia!P$36","v":0},{"v":0,"d":"0.0"},null,{"$f":"+Slovakia!O$39","v":15},{"$f":"+Slovakia!P$39","v":18},{"$f":"((S87/R87)-1)*100","v":{"v":19.999999999999996,"d":"20.0"}},null,{"$f":"R87+N87+J87+F87+B87","v":{"v":1344,"d":"1,344"}},{"v":1279,"d":"1,279"},{"v":-4.836309523809524,"d":"-4.8"}]
["SI",{"$f":"Slovenia!O$16","v":99},{"$f":"Slovenia!P$16","v":106},{"v":7.070707070707072,"d":"7.1"},null,{"$f":"Slovenia!O$23","v":129},{"$f":"Slovenia!P$23","v":136},{"v":5.4263565891472965,"d":"5.4"},null,{"$f":"Slovenia!O$30","v":228},{"$f":"Slovenia!P$30","v":244},{"v":7.017543859649122,"d":"7.0"},null,{"$f":"Slovenia!O$36","v":0},{"$f":"Slovenia!P$36","v":0},{"v":0,"d":"0.0"},null,{"$f":"Slovenia!O$39","v":48},{"$f":"Slovenia!P$39","v":17},{"v":-64.58333333333333,"d":"-64.6"},null,{"$f":"R88+N88+J88+F88+B88","v":504},503,{"v":-0.1984126984126977,"d":"-0.2"}]
[]
["EUR 25 **",{"$f":"SUM(B78:B88)","v":{"v":37441,"d":"37,441"}},{"v":37994,"d":"37,994"},{"$f":"((C90/B90)-1)*100","v":{"v":1.4769904649982735,"d":"1.5"}},null,{"$f":"SUM(F78:F88)","v":{"v":48628,"d":"48,628"}},{"v":48175,"d":"48,175"},{"$f":"((G90/F90)-1)*100","v":{"v":-0.9315620630089616,"d":"-0.9"}},null,{"$f":"SUM(J78:J88)","v":{"v":46407,"d":"46,407"}},{"v":45009,"d":"45,009"},{"$f":"((K90/J90)-1)*100","v":{"v":-3.0124765660352937,"d":"-3.0"}},null,{"$f":"SUM(N78:N88)","v":{"v":1614,"d":"1,614"}},{"v":1609,"d":"1,609"},{"$f":"((O90/N90)-1)*100","v":{"v":-0.30978934324659146,"d":"-0.3"}},null,{"$f":"SUM(R78:R88)","v":{"v":8988,"d":"8,988"}},{"v":9319,"d":"9,319"},{"$f":"((S90/R90)-1)*100","v":{"v":3.682688028482417,"d":"3.7"}},null,{"$f":"SUM(V78:V88)","v":{"v":143078,"d":"143,078"}},{"v":142106,"d":"142,106"},{"$f":"((W90/V90)-1)*100","v":{"v":-0.6793497253246517,"d":"-0.7"}}]
[{"$nulls":23}," "]
["* Sans le Luxembourg et la Grèce/Ohne Luxemburg und Griechenland/Without Luxemburg and Greece/Senza Lussemburgo e Ellas"]
["** Sans le Luxembourg, la Grèce et Malte/Ohne Luxemburg, Griechenland und Maltas/Without Luxemburg, Greece and Malta/Senza Lussemburgo, Ellas e Malta"]
[": non disponible/not available"]

{"sheet":"2003","index":28,"n_rows":100,"n_cols":16,"rows_kept":100,"merged":[[4,0,4,15],[5,0,5,15],[58,0,58,12],[59,0,59,12]]}
["2005-05-04"]
[]
["PRODUCTION INDUSTRIELLE D'ALIMENTS COMPOSES ",{"$nulls":14},"INDUSTRIELLE  MISCHFUTTERPRODUKTION"]
["PRODUZIONE INDUSTRIALE DI MANGIMI COMPOSTI",{"$nulls":14},"INDUSTRIAL COMPOUND PRODUCTION"]
[2003]
["definitif/final"]
[{"$nulls":15},"(1 000 t)"]
[]
["Catégories d'aliments composés/Mischfutterarten",null,"D","F","I","NL","B","UK","IRL","DK","ESP","P","A","S","FIN","EU-15"]
["Tipi di mangimi compositi/Types of feed",{"$nulls":14},"*"]
[]
[null,null," ",{"$nulls":4}," ",null,null," "]
["Bovins/Cattle/Bovini/Rinder",null,{"$f":"Germany!P16","v":{"v":6717,"d":"6,717"}},{"$f":"France!P16","v":{"v":4459,"d":"4,459"}},{"$f":"Italy!P16","v":{"v":3919,"d":"3,919"}},{"$f":"'The Netherlands'!P16","v":{"v":3388,"d":"3,388"}},{"$f":"Belgium!P16","v":{"v":1074,"d":"1,074"}},{"$f":"UK!P16","v":{"v":4743,"d":"4,743"}},{"$f":"Ireland!P16","v":{"v":2101,"d":"2,101"}},{"$f":"Denmark!P16","v":{"v":1274,"d":"1,274"}},{"$f":"Spain!P16","v":{"v":5050,"d":"5,050"}},{"$f":"Portugal!P16","v":{"v":1060,"d":"1,060"}},{"$f":"Austria!P16","v":327},{"$f":"Sweden!P16","v":{"v":1197,"d":"1,197"}},{"$f":"Finland!P16","v":654},{"$f":"SUM(C13:O13)","v":{"v":35963,"d":"35,963"}}]
["engrais/fattening/Mast  ",null,{"$f":"Germany!P17","v":620},{"$f":"France!P17","v":947},{"$f":"Italy!P17","v":933},{"$f":"'The Netherlands'!P17","v":276},{"$f":"Belgium!P17","v":322},{"$f":"UK!P17","v":{"v":1309,"d":"1,309"}},{"$f":"Ireland!P17","v":949},{"$f":"Denmark!P17","v":519},{"$f":"Spain!P17","v":{"v":2510,"d":"2,510"}},{"$f":"Portugal!P17","v":371},{"$f":"Austria!P17","v":":"},{"$f":"Sweden!P17","v":":"},{"$f":"Finland!P17","v":":"},":"]
["VL/dairy cow/Milchkühe",null,{"$f":"Germany!P18","v":{"v":5592,"d":"5,592"}},{"$f":"France!P18","v":{"v":2974,"d":"2,974"}},{"$f":"Italy!P18","v":{"v":2838,"d":"2,838"}},{"$f":"'The Netherlands'!P18","v":{"v":3067,"d":"3,067"}},{"$f":"Belgium!P18","v":534},{"$f":"UK!P18","v":{"v":3166,"d":"3,166"}},{"$f":"Ireland!P18","v":887},{"$f":"Denmark!P18","v":417},{"$f":"Spain!P18","v":{"v":2000,"d":"2,000"}},{"$f":"Portugal!P18","v":556},{"$f":"Austria!P18","v":":"},{"$f":"Sweden!P18","v":{"v":1045,"d":"1,045"}},{"$f":"Finland!P18","v":608},":"]
["veaux (aliments d'allaitement non compris)/calves ",null,{"$f":"Germany!P19","v":160},{"$f":"France!P19","v":290},{"$f":"Italy!P19","v":148},{"$f":"'The Netherlands'!P19","v":45},{"$f":"Belgium!P19","v":85},{"$f":"UK!P19","v":184},{"$f":"Ireland!P19","v":170},{"$f":"Denmark!P19","v":338},{"$f":"Spain!P19","v":0},{"$f":"Portugal!P19","v":85},{"$f":"Austria!P19","v":":"},{"$f":"Sweden!P19","v":":"},{"$f":"Finland!P19","v":46},":"]
["(excluding milk replacers)/Kälber (exkl. Milchaustauscher)"]
["autres/others/Andere",null,{"$f":"Germany!P20","v":345},{"$f":"France!P20","v":248},{"$f":"Italy!P20","v":":"},{"$f":"'The Netherlands'!P20","v":":"},{"$f":"Belgium!P20","v":133},{"$f":"UK!P20","v":84},{"$f":"Ireland!P20","v":95},{"$f":"Denmark!P20","v":":"},{"$f":"Spain!P20","v":540},{"$f":"Portugal!P20","v":48},{"$f":"Austria!P20","v":":"},{"$f":"Sweden!P20","v":152},{"$f":"Finland!P20","v":":"},":"]
[]
[]
["Porcins/Pigs/Suini/Schweine",null,{"$f":"Germany!P23","v":{"v":7444,"d":"7,444"}},{"$f":"France!P23","v":{"v":6814,"d":"6,814"}},{"$f":"Italy!P23","v":{"v":2757,"d":"2,757"}},{"$f":"'The Netherlands'!P23","v":{"v":5227,"d":"5,227"}},{"$f":"Belgium!P23","v":{"v":3457,"d":"3,457"}},{"$f":"UK!P23","v":{"v":1593,"d":"1,593"}},{"$f":"Ireland!P23","v":687},{"$f":"Denmark!P23","v":{"v":3518,"d":"3,518"}},{"$f":"Spain!P23","v":{"v":8235,"d":"8,235"}},{"$f":"Portugal!P23","v":{"v":1225,"d":"1,225"}},{"$f":"Austria!P23","v":216},{"$f":"Sweden!P23","v":491},{"$f":"Finland!P23","v":349},{"$f":"SUM(C21:O21)","v":{"v":42013,"d":"42,013"}}]
["porcelets/piglets/Ferkel",null,{"$f":"Germany!P24","v":{"v":1443,"d":"1,443"}},{"$f":"France!P24","v":870},{"$f":"Italy!P24","v":":"},{"$f":"'The Netherlands'!P24","v":694},{"$f":"Belgium!P24","v":761},{"$f":"UK!P24","v":85},{"$f":"Ireland!P24","v":96},{"$f":"Denmark!P24","v":656},{"$f":"Spain!P24","v":{"v":1060,"d":"1,060"}},{"$f":"Portugal!P24","v":196},{"$f":"Austria!P24","v":":"},{"$f":"Sweden!P24","v":76},{"$f":"Finland!P24","v":47},":"]
["porcs engrais/pigs for fattening/Mastschweine",null,{"$f":"Germany!P25","v":{"v":4161,"d":"4,161"}},{"$f":"France!P25","v":{"v":4666,"d":"4,666"}},{"$f":"Italy!P25","v":":"},{"$f":"'The Netherlands'!P25","v":{"v":3404,"d":"3,404"}},{"$f":"Belgium!P25","v":{"v":2696,"d":"2,696"}},{"$f":"UK!P25","v":{"v":1034,"d":"1,034"}},{"$f":"Ireland!P25","v":441},{"$f":"Denmark!P25","v":{"v":1890,"d":"1,890"}},{"$f":"Spain!P25","v":{"v":5800,"d":"5,800"}},{"$f":"Portugal!P25","v":760},{"$f":"Austria!P25","v":":"},{"$f":"Sweden!P25","v":265},{"$f":"Finland!P25","v":189},":"]
["reproducteurs/breeding pigs/Zuchtschweine",null,{"$f":"Germany!P26","v":{"v":1205,"d":"1,205"}},{"$f":"France!P26","v":{"v":1278,"d":"1,278"}},{"$f":"Italy!P26","v":":"},{"$f":"'The Netherlands'!P26","v":{"v":1129,"d":"1,129"}},{"$f":"Belgium!P26","v":":"},{"$f":"UK!P26","v":454},{"$f":"Ireland!P26","v":128},{"$f":"Denmark!P26","v":972},{"$f":"Spain!P26","v":{"v":1295,"d":"1,295"}},{"$f":"Portugal!P26","v":260},{"$f":"Austria!P26","v":":"},{"$f":"Sweden!P26","v":140},{"$f":"Finland!P26","v":52},":"]
["autres/others/Andere",null,{"$f":"Germany!P27","v":635},{"$f":"France!P27","v":":"},{"$f":"Italy!P27","v":":"},{"$f":"'The Netherlands'!P27","v":":"},{"$f":"Belgium!P27","v":":"},{"$f":"UK!P27","v":20},{"$f":"Ireland!P27","v":22},{"$f":"Denmark!P27","v":":"},{"$f":"Spain!P27","v":80},{"$f":"Portugal!P27","v":9},{"$f":"Austria!P27","v":":"},{"$f":"Sweden!P27","v":10},{"$f":"Finland!P27","v":61},":"]
[{"$nulls":4}," "]
[]
["Volaille/Poultry/Volatili/Geflügel",null,{"$f":"Germany!P30","v":{"v":5075,"d":"5,075"}},{"$f":"France!P30","v":{"v":9238,"d":"9,238"}},{"$f":"Italy!P30","v":{"v":5043,"d":"5,043"}},{"$f":"'The Netherlands'!P30","v":{"v":2745,"d":"2,745"}},{"$f":"Belgium!P30","v":{"v":1313,"d":"1,313"}},{"$f":"UK!P30","v":{"v":6159,"d":"6,159"}},{"$f":"Ireland!P30","v":485},{"$f":"Denmark!P30","v":617},{"$f":"Spain!P30","v":{"v":4425,"d":"4,425"}},{"$f":"Portugal!P30","v":{"v":1280,"d":"1,280"}},{"$f":"Austria!P30","v":394},{"$f":"Sweden!P30","v":480},{"$f":"Finland!P30","v":307},{"$f":"SUM(C28:O28)","v":{"v":37561,"d":"37,561"}}]
["broilers",null,{"$f":"Germany!P31","v":{"v":1600,"d":"1,600"}},{"$f":"France!P31","v":{"v":3369,"d":"3,369"}},{"$f":"Italy!P31","v":{"v":2366,"d":"2,366"}},{"$f":"'The Netherlands'!P31","v":{"v":1334,"d":"1,334"}},{"$f":"Belgium!P31","v":527},{"$f":"UK!P31","v":{"v":3369,"d":"3,369"}},{"$f":"Ireland!P31","v":267},{"$f":"Denmark!P31","v":533},{"$f":"Spain!P31","v":{"v":2355,"d":"2,355"}},{"$f":"Portugal!P31","v":768},{"$f":"Austria!P31","v":":"},{"$f":"Sweden!P31","v":190},{"$f":"Finland!P31","v":184},":"]
["poulettes & pondeuses/chicks & layers/Jung- & Legehennen",null,{"$f":"Germany!P32","v":{"v":2265,"d":"2,265"}},{"$f":"France!P32","v":{"v":2195,"d":"2,195"}},{"$f":"Italy!P32","v":{"v":1480,"d":"1,480"}},{"$f":"'The Netherlands'!P32","v":{"v":1411,"d":"1,411"}},{"$f":"Belgium!P32","v":543},{"$f":"UK!P32","v":{"v":1243,"d":"1,243"}},{"$f":"Ireland!P32","v":128},{"$f":"Denmark!P32","v":35},{"$f":"Spain!P32","v":{"v":1780,"d":"1,780"}},{"$f":"Portugal!P32","v":270},{"$f":"Austria!P32","v":":"},{"$f":"Sweden!P32","v":190},{"$f":"Finland!P32","v":73},":"]
["autres/others/Andere",null,{"$f":"Germany!P33","v":{"v":1210,"d":"1,210"}},{"$f":"France!P33","v":{"v":3674,"d":"3,674"}},{"$f":"Italy!P33","v":{"v":1197,"d":"1,197"}},{"$f":"'The Netherlands'!P33","v":":"},{"$f":"Belgium!P33","v":243},{"$f":"UK!P33","v":{"v":1547,"d":"1,547"}},{"$f":"Ireland!P33","v":90},{"$f":"Denmark!P33","v":49},{"$f":"Spain!P33","v":290},{"$f":"Portugal!P33","v":242},{"$f":"Austria!P33","v":":"},{"$f":"Sweden!P33","v":100},{"$f":"Finland!P33","v":50},":"]
[]
[]
["Al. d'allait./Milk replacers/Sostit. del latte/Milchaust.",null,{"$f":"Germany!P36","v":167},{"$f":"France!P36","v":488},{"$f":"Italy!P36","v":172},{"$f":"'The Netherlands'!P36","v":690},{"$f":"Belgium!P36","v":52},{"$f":"UK!P36","v":16},{"$f":"Ireland!P36","v":9},{"$f":"Denmark!P36","v":0},{"$f":"Spain!P36","v":0},{"$f":"Portugal!P36","v":0},{"$f":"Austria!P36","v":0},{"$f":"Sweden!P36","v":6},{"$f":"Finland!P36","v":0},{"$f":"SUM(C34:O34)","v":{"v":1600,"d":"1,600"}}]
[]
[{"$nulls":4}," "]
["Autres/others/altri/Andere",null,{"$f":"Germany!P39","v":606},{"$f":"France!P39","v":{"v":1578,"d":"1,578"}},{"$f":"Italy!P39","v":{"v":1314,"d":"1,314"}},{"$f":"'The Netherlands'!P39","v":796},{"$f":"Belgium!P39","v":254},{"$f":"UK!P39","v":{"v":1207,"d":"1,207"}},{"$f":"Ireland!P39","v":413},{"$f":"Denmark!P39","v":153},{"$f":"Spain!P39","v":{"v":1715,"d":"1,715"}},{"$f":"Portugal!P39","v":213},{"$f":"Austria!P39","v":64},{"$f":"Sweden!P39","v":50},{"$f":"Finland!P39","v":88},{"$f":"SUM(C37:O37)","v":{"v":8451,"d":"8,451"}}]
[]
[]
["TOTAL",null,{"$f":"C37+C34+C28+C21+C13","v":{"v":20009,"d":"20,009"}},{"v":22577,"d":"22,577"},{"v":13205,"d":"13,205"},{"v":12846,"d":"12,846"},{"v":6150,"d":"6,150"},{"v":13718,"d":"13,718"},{"v":3695,"d":"3,695"},{"v":5562,"d":"5,562"},{"v":19425,"d":"19,425"},{"v":3778,"d":"3,778"},{"v":1001,"d":"1,001"},{"v":2224,"d":"2,224"},{"v":1398,"d":"1,398"},{"v":125588,"d":"125,588"}]
[{"$nulls":5}," "]
[]
["* Sans le Luxembourg et la Grèce/ohne Luxemburg und Griechenland/Without Luxemburg and Greece/Senza Lussemburgo e Ella"]
[]
[": non disponible/not available/nicht verfügbar"]
{"$rows_empty":9}
["2004-07-10"]
[]
["PRODUCTION INDUSTRIELLE D'ALIMENTS COMPOSES ",{"$nulls":11},"INDUSTRIELLE  MISCHFUTTERPRODUKTION"]
["PRODUZIONE INDUSTRIALE DI MANGIMI COMPOSTI",{"$nulls":11},"INDUSTRIAL COMPOUND PRODUCTION"]
[2003]
["definitif/final"]
[{"$nulls":12},"(1 000 t)"]
[]
["Catégories d'aliments composés/Mischfutterarten",null,"CY","CZ","EE","HU","LV","LT","PL","SK","SI","AC-10","EU-25"]
["Tipi di mangimi compositi/Types of feed",{"$nulls":10},"**","***"]
[]
[null,null," ",{"$nulls":4}," ",null," "]
["Bovins/Cattle/Bovini/Rinder",null,{"$f":"Cyprus!P16","v":83},{"$f":"'Czech Rep'!P16","v":498},{"$f":"Estonia!P16","v":28},{"$f":"Hungary!P16","v":686},{"$f":"Latvia!P16","v":15},{"$f":"Lithuania!P16","v":7},{"$f":"Poland!P16","v":327},{"$f":"Slovakia!P16","v":281},{"$f":"Slovenia!P16","v":106},{"$f":"SUM(C67:K67)","v":{"v":2031,"d":"2,031"}},{"$f":"P13+L67","v":{"v":37994,"d":"37,994"}}]
["engrais/fattening/Mast  ",null,{"$f":"Cyprus!P17","v":":"},{"$f":"'Czech Rep'!P17","v":":"},{"$f":"Estonia!P17","v":":"},{"$f":"Hungary!P17","v":":"},{"$f":"Latvia!P17","v":":"},{"$f":"Lithuania!P17","v":1},{"$f":"Poland!P17","v":":"},{"$f":"Slovakia!P17","v":":"},{"$f":"Slovenia!P17","v":":"},":",":"]
["VL/dairy cow/Milchkühe",null,{"$f":"Cyprus!P18","v":":"},{"$f":"'Czech Rep'!P18","v":":"},{"$f":"Estonia!P18","v":":"},{"$f":"Hungary!P18","v":":"},{"$f":"Latvia!P18","v":":"},{"$f":"Lithuania!P18","v":5},{"$f":"Poland!P18","v":":"},{"$f":"Slovakia!P18","v":":"},{"$f":"Slovenia!P18","v":":"},":",":"]
["veaux (aliments d'allaitement non compris)/calves ",null,{"$f":"Cyprus!P19","v":":"},{"$f":"'Czech Rep'!P19","v":":"},{"$f":"Estonia!P19","v":":"},{"$f":"Hungary!P19","v":":"},{"$f":"Latvia!P19","v":":"},{"$f":"Lithuania!P19","v":1},{"$f":"Poland!P19","v":":"},{"$f":"Slovakia!P19","v":":"},{"$f":"Slovenia!P19","v":":"},":",":"]
["(excluding milk replacers)/Kälber (exkl. Milchaustauscher)"]
["autres/others/Andere",null,{"$f":"Cyprus!P20","v":":"},{"$f":"'Czech Rep'!P20","v":":"},{"$f":"Estonia!P20","v":":"},{"$f":"Hungary!P20","v":":"},{"$f":"Latvia!P20","v":":"},{"$f":"Lithuania!P20","v":0},{"$f":"Poland!P20","v":":"},{"$f":"Slovakia!P20","v":":"},{"$f":"Slovenia!P20","v":":"},":",":"]
[]
[]
["Porcins/Pigs/Suini/Schweine",null,{"$f":"Cyprus!P23","v":13},{"$f":"'Czech Rep'!P23","v":{"v":1475,"d":"1,475"}},{"$f":"Estonia!P23","v":117},{"$f":"Hungary!P23","v":{"v":2275,"d":"2,275"}},{"$f":"Latvia!P23","v":86},{"$f":"Lithuania!P23","v":105},{"$f":"Poland!P23","v":{"v":1352,"d":"1,352"}},{"$f":"Slovakia!P23","v":603},{"$f":"Slovenia!P23","v":136},{"$f":"SUM(C75:K75)","v":{"v":6162,"d":"6,162"}},{"$f":"P21+L75","v":{"v":48175,"d":"48,175"}}]
["porcelets/piglets/Ferkel",null,{"$f":"Cyprus!P24","v":":"},{"$f":"'Czech Rep'!P24","v":":"},{"$f":"Estonia!P24","v":":"},{"$f":"Hungary!P24","v":":"},{"$f":"Latvia!P24","v":":"},{"$f":"Lithuania!P24","v":23},{"$f":"Poland!P24","v":":"},{"$f":"Slovakia!P24","v":":"},{"$f":"Slovenia!P24","v":":"},":",":"]
["porcs engrais/pigs for fattening/Mastschweine",null,{"$f":"Cyprus!P25","v":":"},{"$f":"'Czech Rep'!P25","v":":"},{"$f":"Estonia!P25","v":":"},{"$f":"Hungary!P25","v":":"},{"$f":"Latvia!P25","v":":"},{"$f":"Lithuania!P25","v":61},{"$f":"Poland!P25","v":":"},{"$f":"Slovakia!P25","v":":"},{"$f":"Slovenia!P25","v":":"},":",":"]
["reproducteurs/breeding pigs/Zuchtschweine",null,{"$f":"Cyprus!P26","v":":"},{"$f":"'Czech Rep'!P26","v":":"},{"$f":"Estonia!P26","v":":"},{"$f":"Hungary!P26","v":":"},{"$f":"Latvia!P26","v":":"},{"$f":"Lithuania!P26","v":19},{"$f":"Poland!P26","v":":"},{"$f":"Slovakia!P26","v":":"},{"$f":"Slovenia!P26","v":":"},":",":"]
["autres/others/Andere",null,{"$f":"Cyprus!P27","v":":"},{"$f":"'Czech Rep'!P27","v":":"},{"$f":"Estonia!P27","v":":"},{"$f":"Hungary!P27","v":":"},{"$f":"Latvia!P27","v":":"},{"$f":"Lithuania!P27","v":2},{"$f":"Poland!P27","v":":"},{"$f":"Slovakia!P27","v":":"},{"$f":"Slovenia!P27","v":":"},":",":"]
[{"$nulls":4}," "]
[]
["Volaille/Poultry/Volatili/Geflügel",null,{"$f":"Cyprus!P30","v":64},{"$f":"'Czech Rep'!P30","v":{"v":1038,"d":"1,038"}},{"$f":"Estonia!P30","v":58},{"$f":"Hungary!P30","v":{"v":1980,"d":"1,980"}},{"$f":"Latvia!P30","v":114},{"$f":"Lithuania!P30","v":123},{"$f":"Poland!P30","v":{"v":3450,"d":"3,450"}},{"$f":"Slovakia!P30","v":377},{"$f":"Slovenia!P30","v":244},{"$f":"SUM(C82:K82)","v":{"v":7448,"d":"7,448"}},{"$f":"P28+L82","v":{"v":45009,"d":"45,009"}}]
["broilers",null,{"$f":"Cyprus!P31","v":":"},{"$f":"'Czech Rep'!P31","v":":"},{"$f":"Estonia!P31","v":":"},{"$f":"Hungary!P31","v":":"},{"$f":"Latvia!P31","v":":"},{"$f":"Lithuania!P31","v":72},{"$f":"Poland!P31","v":":"},{"$f":"Slovakia!P31","v":":"},{"$f":"Slovenia!P31","v":":"},":",":"]
["poulettes & pondeuses/chicks & layers/Jung- & Legehennen",null,{"$f":"Cyprus!P32","v":":"},{"$f":"'Czech Rep'!P32","v":":"},{"$f":"Estonia!P32","v":":"},{"$f":"Hungary!P32","v":":"},{"$f":"Latvia!P32","v":":"},{"$f":"Lithuania!P32","v":47},{"$f":"Poland!P32","v":":"},{"$f":"Slovakia!P32","v":":"},{"$f":"Slovenia!P32","v":":"},":",":"]
["autres/others/Andere",null,{"$f":"Cyprus!P33","v":":"},{"$f":"'Czech Rep'!P33","v":":"},{"$f":"Estonia!P33","v":":"},{"$f":"Hungary!P33","v":":"},{"$f":"Latvia!P33","v":":"},{"$f":"Lithuania!P33","v":4},{"$f":"Poland!P33","v":":"},{"$f":"Slovakia!P33","v":":"},{"$f":"Slovenia!P33","v":":"},":",":"]
[]
[]
["Al. d'allait./Milk replacers/Sostit. del latte/Milchaust.",null,{"$f":"Cyprus!P36","v":0},{"$f":"'Czech Rep'!P36","v":6},{"$f":"Estonia!P36","v":0},{"$f":"Hungary!P36","v":0},{"$f":"Latvia!P36","v":0},{"$f":"Lithuania!P36","v":3},{"$f":"Poland!P36","v":0},{"$f":"Slovakia!P36","v":0},{"$f":"Slovenia!P36","v":0},{"$f":"SUM(C88:K88)","v":9},{"$f":"P34+L88","v":{"v":1609,"d":"1,609"}}]
[]
[{"$nulls":4}," "]
["Autres/others/altri/Andere",null,{"$f":"Cyprus!P39","v":74},{"$f":"'Czech Rep'!P39","v":121},{"$f":"Estonia!P39","v":3},{"$f":"Hungary!P39","v":182},{"$f":"Latvia!P39","v":18},{"$f":"Lithuania!P39","v":5},{"$f":"Poland!P39","v":430},{"$f":"Slovakia!P39","v":18},{"$f":"Slovenia!P39","v":17},{"$f":"SUM(C91:K91)","v":868},{"$f":"P37+L91","v":{"v":9319,"d":"9,319"}}]
[]
[]
["TOTAL",null,{"$f":"C91+C88+C82+C75+C67","v":234},{"v":3138,"d":"3,138"},206,{"v":5123,"d":"5,123"},233,243,{"v":5559,"d":"5,559"},{"v":1279,"d":"1,279"},503,{"v":16518,"d":"16,518"},{"v":142106,"d":"142,106"}]
[{"$nulls":5}," "]
[]
["** Sans Malte/Ohne Maltas/Without Malta/Senza Malta"]
["*** Sans le Luxembourg, la Grèce et Malte/Ohne Luxemburg, Griechenland und Maltas/Without Luxemburg, Greece and Malta/Senza Lussemburgo, Ellas e Malta"]
[]
[": non disponible/not available/nicht verfügbar"]

{"sheet":"2003-04","index":29,"n_rows":42,"n_cols":24,"rows_kept":42}
["2005-11-03"]
[]
["PRODUCTION INDUSTRIELLE D'ALIMENTS COMPOSES",{"$nulls":22},"INDUSTRIELLE  MISCHFUTTERPRODUKTION"]
["PRODUZIONE INDUSTRIALE DI MANGIMI COMPOSTI",{"$nulls":11},"2003-2004",{"$nulls":10},"INDUSTRIAL COMPOUND PRODUCTION"]
[{"$nulls":12},"definitif/final",{"$nulls":10},"(1 000 t )"]
[]
[]
[]
["PAYS",null,"      BOVINS/RINDER",{"$nulls":3},"    PORCS/SCHWEINE",{"$nulls":3},"     VOLAILLE/GEFLÜGEL",null,"      A. ALLAITEMENT/MILCHAUST.",{"$nulls":5},"     AUTRES/ANDERE",null,null,"       TOTAL/INSGESAMT"]
["LAND",null,"      BOVINI/CATTLE",{"$nulls":3},"    SUINI/PIGS",{"$nulls":3},"     VOLATILI/POULTRY",null,"  SOSTIT. DEL LATTE/MILKREPLACERS",{"$nulls":5},"ALTRI ANIMALI/OTHERS",null,null,"          TOTALE/TOTAL"]
["PAESE"]
["COUNTRY",2003,2004,"%TAV",null,2003,2004,"%TAV",null,2003,2004,"%TAV",null,2003,2004,"%TAV",null,2003,2004,"%TAV",null,2003,2004,"%TAV"]
[]
["DE",{"$f":"Germany!P$16","v":{"v":6717,"d":"6,717"}},{"$f":"Germany!Q$16","v":{"v":6544,"d":"6,544"}},{"$f":"((C14/B14)-1)*100","v":{"v":-2.5755545630489762,"d":"-2.6"}},null,{"$f":"Germany!P$23","v":{"v":7444,"d":"7,444"}},{"$f":"Germany!Q$23","v":{"v":7594,"d":"7,594"}},{"$f":"((G14/F14)-1)*100","v":{"v":2.0150456743686096,"d":"2.0"}},null,{"$f":"Germany!P$30","v":{"v":5075,"d":"5,075"}},{"$f":"Germany!Q$30","v":{"v":5209,"d":"5,209"}},{"$f":"((K14/J14)-1)*100","v":{"v":2.6403940886699617,"d":"2.6"}},null,{"$f":"Germany!P$36","v":167},{"$f":"Germany!Q$36","v":159},{"$f":"((O14/N14)-1)*100","v":{"v":-4.790419161676651,"d":"-4.8"}},null,{"$f":"Germany!P$39","v":606},{"$f":"Germany!Q$39","v":633},{"$f":"((S14/R14)-1)*100","v":{"v":4.455445544554459,"d":"4.5"}},null,{"$f":"R14+N14+J14+F14+B14","v":{"v":20009,"d":"20,009"}},{"v":20139,"d":"20,139"},{"$f":"((W14/V14)-1)*100","v":{"v":0.649707631565799,"d":"0.6"}}]
["FR",{"$f":"France!P$16","v":{"v":4459,"d":"4,459"}},{"$f":"France!Q$16","v":{"v":4311,"d":"4,311"}},{"v":-3.3191298497420973,"d":"-3.3"},null,{"$f":"France!P$23","v":{"v":6814,"d":"6,814"}},{"$f":"France!Q$23","v":{"v":6670,"d":"6,670"}},{"v":-2.113296154975053,"d":"-2.1"},null,{"$f":"France!P$30","v":{"v":9238,"d":"9,238"}},{"$f":"France!Q$30","v":{"v":9245,"d":"9,245"}},{"v":0.07577397705131883,"d":"0.1"},null,{"$f":"France!P$36","v":488},{"$f":"France!Q$36","v":485},{"v":-0.6147540983606592,"d":"-0.6"},null,{"$f":"France!P$39","v":{"v":1578,"d":"1,578"}},{"$f":"France!Q$39","v":{"v":1579,"d":"1,579"}},{"v":0.06337135614702394,"d":"0.1"},null,{"$f":"R15+N15+J15+F15+B15","v":{"v":22577,"d":"22,577"}},{"v":22290,"d":"22,290"},{"v":-1.2712052088408532,"d":"-1.3"}]
["IT",{"$f":"Italy!P$16","v":{"v":3919,"d":"3,919"}},{"$f":"Italy!Q$16","v":{"v":4306,"d":"4,306"}},{"v":9.874968104108195,"d":"9.9"},null,{"$f":"Italy!P$23","v":{"v":2757,"d":"2,757"}},{"$f":"Italy!Q$23","v":{"v":2932,"d":"2,932"}},{"v":6.347479143997092,"d":"6.3"},null,{"$f":"Italy!P$30","v":{"v":5043,"d":"5,043"}},{"$f":"Italy!Q$30","v":{"v":5394,"d":"5,394"}},{"v":6.960142772159439,"d":"7.0"},null,{"$f":"Italy!P$36","v":172},{"$f":"Italy!Q$36","v":175},{"v":1.744186046511631,"d":"1.7"},null,{"$f":"+Italy!P$39","v":{"v":1314,"d":"1,314"}},{"$f":"+Italy!Q$39","v":975},{"v":-25.799086757990864,"d":"-25.8"},null,{"$f":"R16+N16+J16+F16+B16","v":{"v":13205,"d":"13,205"}},{"v":13782,"d":"13,782"},{"v":4.369556985990153,"d":"4.4"}]
["NL   ",{"$f":"'The Netherlands'!P$16","v":{"v":3388,"d":"3,388"}},{"$f":"'The Netherlands'!Q$16","v":{"v":3320,"d":"3,320"}},{"v":-2.007083825265643,"d":"-2.0"},null,{"$f":"'The Netherlands'!P$23","v":{"v":5227,"d":"5,227"}},{"$f":"'The Netherlands'!Q$23","v":{"v":5120,"d":"5,120"}},{"v":-2.0470633250430414,"d":"-2.0"},null,{"$f":"'The Netherlands'!P$30","v":{"v":2745,"d":"2,745"}},{"$f":"'The Netherlands'!Q$30","v":{"v":3080,"d":"3,080"}},{"v":12.204007285974505,"d":"12.2"},null,{"$f":"'The Netherlands'!P$36","v":690},{"$f":"'The Netherlands'!Q$36","v":728},{"v":5.507246376811592,"d":"5.5"},null,{"$f":"'The Netherlands'!P$39","v":796},{"$f":"'The Netherlands'!Q$39","v":830},{"v":4.271356783919589,"d":"4.3"},null,{"$f":"R17+N17+J17+F17+B17","v":{"v":12846,"d":"12,846"}},{"v":13078,"d":"13,078"},{"v":1.8060096528102143,"d":"1.8"}]
["BE",{"$f":"Belgium!P$16","v":{"v":1074,"d":"1,074"}},{"$f":"Belgium!Q$16","v":{"v":1141,"d":"1,141"}},{"v":6.238361266294223,"d":"6.2"},null,{"$f":"Belgium!P$23","v":{"v":3457,"d":"3,457"}},{"$f":"Belgium!Q$23","v":{"v":3456,"d":"3,456"}},{"v":-0.028926815157648278,"d":"-0.0"},null,{"$f":"Belgium!P$30","v":{"v":1313,"d":"1,313"}},{"$f":"Belgium!Q$30","v":{"v":1450,"d":"1,450"}},{"v":10.434120335110443,"d":"10.4"},null,{"$f":"Belgium!P$36","v":52},{"$f":"Belgium!Q$36","v":50},{"v":-3.8461538461538436,"d":"-3.8"},null,{"$f":"Belgium!P$39","v":254},{"$f":"Belgium!Q$39","v":250},{"v":-1.5748031496062964,"d":"-1.6"},null,{"$f":"R18+N18+J18+F18+B18","v":{"v":6150,"d":"6,150"}},{"v":6347,"d":"6,347"},{"v":3.2032520325203206,"d":"3.2"}]
["UK ",{"$f":"UK!P$16","v":{"v":4743,"d":"4,743"}},{"$f":"UK!Q$16","v":{"v":4651,"d":"4,651"}},{"v":-1.939700611427364,"d":"-1.9"},null,{"$f":"UK!P$23","v":{"v":1593,"d":"1,593"}},{"$f":"UK!Q$23","v":{"v":1648,"d":"1,648"}},{"v":3.4526051475203934,"d":"3.5"},null,{"$f":"UK!P$30","v":{"v":6159,"d":"6,159"}},{"$f":"UK!Q$30","v":{"v":6436,"d":"6,436"}},{"v":4.497483357687937,"d":"4.5"},null,{"$f":"UK!P$36","v":16},{"$f":"UK!Q$36","v":15},{"v":-6.25,"d":"-6.3"},null,{"$f":"UK!P$39","v":{"v":1207,"d":"1,207"}},{"$f":"UK!Q$39","v":{"v":1335,"d":"1,335"}},{"v":10.604805302402642,"d":"10.6"},null,{"$f":"R19+N19+J19+F19+B19","v":{"v":13718,"d":"13,718"}},{"v":14085,"d":"14,085"},{"v":2.675317101618302,"d":"2.7"}]
["IE",{"$f":"Ireland!P$16","v":{"v":2101,"d":"2,101"}},{"$f":"Ireland!Q$16","v":{"v":1965,"d":"1,965"}},{"v":-6.473108043788667,"d":"-6.5"},null,{"$f":"Ireland!P$23","v":687},{"$f":"Ireland!Q$23","v":630},{"v":-8.296943231441045,"d":"-8.3"},null,{"$f":"Ireland!P$30","v":485},{"$f":"Ireland!Q$30","v":488},{"v":0.6185567010309256,"d":"0.6"},null,{"$f":"Ireland!P$36","v":9},{"$f":"Ireland!Q$36","v":10},{"v":11.111111111111116,"d":"11.1"},null,{"$f":"Ireland!P$39","v":413},{"$f":"Ireland!Q$39","v":452},{"v":9.443099273607757,"d":"9.4"},null,{"$f":"R20+N20+J20+F20+B20","v":{"v":3695,"d":"3,695"}},{"v":3545,"d":"3,545"},{"v":-4.059539918809197,"d":"-4.1"}]
["DK ",{"$f":"Denmark!P$16","v":{"v":1274,"d":"1,274"}},{"$f":"Denmark!Q$16","v":{"v":1249,"d":"1,249"}},{"v":-1.9623233908948157,"d":"-2.0"},null,{"$f":"Denmark!P$23","v":{"v":3518,"d":"3,518"}},{"$f":"Denmark!Q$23","v":{"v":3571,"d":"3,571"}},{"v":1.5065378055713508,"d":"1.5"},null,{"$f":"Denmark!P$30","v":617},{"$f":"Denmark!Q$30","v":672},{"v":8.914100486223653,"d":"8.9"},null,{"$f":"Denmark!P$36","v":0},{"$f":"Denmark!Q$36","v":0},{"v":0,"d":"0.0"},null,{"$f":"Denmark!P$39","v":153},{"$f":"Denmark!Q$39","v":138},{"v":-9.80392156862745,"d":"-9.8"},null,{"$f":"R21+N21+J21+F21+B21","v":{"v":5562,"d":"5,562"}},{"v":5630,"d":"5,630"},{"v":1.2225818051060822,"d":"1.2"}]
["ES",{"$f":"Spain!P$16","v":{"v":5050,"d":"5,050"}},{"$f":"Spain!Q$16","v":{"v":5504,"d":"5,504"}},{"v":8.990099009900998,"d":"9.0"},null,{"$f":"Spain!P$23","v":{"v":8235,"d":"8,235"}},{"$f":"Spain!Q$23","v":{"v":8535,"d":"8,535"}},{"v":3.642987249544616,"d":"3.6"},null,{"$f":"Spain!P$30","v":{"v":4425,"d":"4,425"}},{"$f":"Spain!Q$30","v":{"v":4578,"d":"4,578"}},{"v":3.4576271186440577,"d":"3.5"},null,{"$f":"Spain!P$36","v":0},{"$f":"Spain!Q$36","v":0},{"v":0,"d":"0.0"},null,{"$f":"Spain!P$39","v":{"v":1715,"d":"1,715"}},{"$f":"Spain!Q$39","v":{"v":1722,"d":"1,722"}},{"v":0.40816326530612734,"d":"0.4"},null,{"$f":"R22+N22+J22+F22+B22","v":{"v":19425,"d":"19,425"}},{"v":20339,"d":"20,339"},{"v":4.705276705276695,"d":"4.7"}]
["PT",{"$f":"Portugal!P$16","v":{"v":1060,"d":"1,060"}},{"$f":"Portugal!Q$16","v":{"v":1010,"d":"1,010"}},{"v":-4.716981132075471,"d":"-4.7"},null,{"$f":"Portugal!P$23","v":{"v":1225,"d":"1,225"}},{"$f":"Portugal!Q$23","v":{"v":1190,"d":"1,190"}},{"v":-2.857142857142858,"d":"-2.9"},null,{"$f":"Portugal!P$30","v":{"v":1280,"d":"1,280"}},{"$f":"Portugal!Q$30","v":{"v":1360,"d":"1,360"}},{"v":6.25,"d":"6.3"},null,{"$f":"Portugal!P$36","v":0},{"$f":"Portugal!Q$36","v":0},{"v":0,"d":"0.0"},null,{"$f":"Portugal!P$39","v":213},{"$f":"Portugal!Q$39","v":234},{"v":9.859154929577475,"d":"9.9"},null,{"$f":"R23+N23+J23+F23+B23","v":{"v":3778,"d":"3,778"}},{"v":3794,"d":"3,794"},{"v":0.42350449973531656,"d":"0.4"}]
["AT",{"$f":"Austria!P$16","v":327},{"$f":"Austria!Q$16","v":342},{"v":4.587155963302747,"d":"4.6"},null,{"$f":"Austria!P$23","v":216},{"$f":"Austria!Q$23","v":219},{"v":1.388888888888884,"d":"1.4"},null,{"$f":"Austria!P$30","v":394},{"$f":"Austria!Q$30","v":387},{"v":-1.7766497461928932,"d":"-1.8"},null,{"$f":"Austria!P$36","v":0},{"$f":"Austria!Q$36","v":0},{"v":0,"d":"0.0"},null,{"$f":"Austria!P$39","v":64},{"$f":"Austria!Q$39","v":67},{"v":4.6875,"d":"4.7"},null,{"$f":"R24+N24+J24+F24+B24","v":{"v":1001,"d":"1,001"}},{"v":1015,"d":"1,015"},{"v":1.3986013986013957,"d":"1.4"}]
["SE",{"$f":"Sweden!P$16","v":{"v":1197,"d":"1,197"}},{"$f":"Sweden!Q$16","v":{"v":1163,"d":"1,163"}},{"v":-2.8404344193817876,"d":"-2.8"},null,{"$f":"Sweden!P$23","v":491},{"$f":"Sweden!Q$23","v":445},{"v":-9.368635437881878,"d":"-9.4"},null,{"$f":"Sweden!P$30","v":480},{"$f":"Sweden!Q$30","v":510},{"v":6.25,"d":"6.3"},null,{"$f":"Sweden!P$36","v":6},{"$f":"Sweden!Q$36","v":5},{"$f":"((O25/N25)-1)*100","v":{"v":-16.666666666666664,"d":"-16.7"}},null,{"$f":"Sweden!P$39","v":50},{"$f":"Sweden!Q$39","v":21},{"v":-58.00000000000001,"d":"-58.0"},null,{"$f":"R25+N25+J25+F25+B25","v":{"v":2224,"d":"2,224"}},{"v":2144,"d":"2,144"},{"v":-3.597122302158273,"d":"-3.6"}]
["FI",{"$f":"Finland!P$16","v":654},{"$f":"Finland!Q$16","v":669},{"v":2.2935779816513735,"d":"2.3"},null,{"$f":"Finland!P$23","v":349},{"$f":"Finland!Q$23","v":346},{"v":-0.8595988538681931,"d":"-0.9"},null,{"$f":"Finland!P$30","v":307},{"$f":"Finland!Q$30","v":306},{"v":-0.32573289902280145,"d":"-0.3"},null,{"$f":"Finland!P$36","v":0},{"$f":"Finland!Q$36","v":0},{"v":0,"d":"0.0"},null,{"$f":"Finland!P$39","v":88},{"$f":"Finland!Q$39","v":93},{"v":5.681818181818188,"d":"5.7"},null,{"$f":"R26+N26+J26+F26+B26","v":{"v":1398,"d":"1,398"}},{"v":1414,"d":"1,414"},{"v":1.1444921316166035,"d":"1.1"}]
["CY",{"$f":"Cyprus!P$16","v":83},{"$f":"Cyprus!Q$16","v":78},{"v":-6.024096385542165,"d":"-6.0"},null,{"$f":"Cyprus!P$23","v":13},{"$f":"Cyprus!Q$23","v":12},{"v":-7.692307692307687,"d":"-7.7"},null,{"$f":"Cyprus!P$30","v":64},{"$f":"Cyprus!Q$30","v":60},{"v":-6.25,"d":"-6.3"},null,{"$f":"Cyprus!P$36","v":0},{"$f":"Cyprus!Q$36","v":0},{"v":0,"d":"0.0"},null,{"$f":"Cyprus!P$39","v":74},{"$f":"Cyprus!Q$39","v":70},{"v":-5.405405405405405,"d":"-5.4"},null,{"$f":"R27+N27+J27+F27+B27","v":234},220,{"v":-5.982905982905984,"d":"-6.0"}]
["CZ",{"$f":"'Czech Rep'!P$16","v":498},{"$f":"'Czech Rep'!Q$16","v":494},{"v":-0.8032128514056214,"d":"-0.8"},null,{"$f":"'Czech Rep'!P$23","v":{"v":1475,"d":"1,475"}},{"$f":"'Czech Rep'!Q$23","v":{"v":1341,"d":"1,341"}},{"v":-9.084745762711865,"d":"-9.1"},null,{"$f":"'Czech Rep'!P$30","v":{"v":1038,"d":"1,038"}},{"$f":"'Czech Rep'!Q$30","v":{"v":1125,"d":"1,125"}},{"v":8.381502890173408,"d":"8.4"},null,{"$f":"'Czech Rep'!P$36","v":6},{"$f":"'Czech Rep'!Q$36","v":5},{"$f":"((O28/N28)-1)*100","v":{"v":-16.666666666666664,"d":"-16.7"}},null,{"$f":"'Czech Rep'!P$39","v":121},{"$f":"'Czech Rep'!Q$39","v":87},{"v":-28.099173553719005,"d":"-28.1"},null,{"$f":"R28+N28+J28+F28+B28","v":{"v":3138,"d":"3,138"}},{"v":3052,"d":"3,052"},{"v":-2.7405991077119163,"d":"-2.7"}]
["EE",{"$f":"Estonia!P$16","v":28},{"$f":"Estonia!Q$16","v":42},{"v":50,"d":"50.0"},null,{"$f":"Estonia!P$23","v":117},{"$f":"Estonia!Q$23","v":119},{"v":1.7094017094017033,"d":"1.7"},null,{"$f":"Estonia!P$30","v":58},{"$f":"Estonia!Q$30","v":62},{"v":6.896551724137923,"d":"6.9"},null,{"$f":"Estonia!P$36","v":0},{"$f":"Estonia!Q$36","v":1},null,null,{"$f":"Estonia!P$39","v":3},{"$f":"Estonia!Q$39","v":3},{"v":0,"d":"0.0"},null,{"$f":"R29+N29+J29+F29+B29","v":206},227,{"v":10.194174757281548,"d":"10.2"}]
["HU",{"$f":"Hungary!P$16","v":686},{"$f":"Hungary!Q$16","v":575},{"v":-16.180758017492714,"d":"-16.2"},null,{"$f":"Hungary!P$23","v":{"v":2275,"d":"2,275"}},{"$f":"Hungary!Q$23","v":{"v":2090,"d":"2,090"}},{"v":-8.131868131868137,"d":"-8.1"},null,{"$f":"Hungary!P$30","v":{"v":1980,"d":"1,980"}},{"$f":"Hungary!Q$30","v":{"v":1906,"d":"1,906"}},{"v":-3.7373737373737392,"d":"-3.7"},null,{"$f":"Hungary!P$36","v":0},{"$f":"Hungary!Q$36","v":0},{"v":0,"d":"0.0"},null,{"$f":"Hungary!P$39","v":182},{"$f":"Hungary!Q$39","v":188},{"v":3.296703296703307,"d":"3.3"},null,{"$f":"R30+N30+J30+F30+B30","v":{"v":5123,"d":"5,123"}},{"v":4759,"d":"4,759"},{"v":-7.105211789966814,"d":"-7.1"}]
["LV",{"$f":"Latvia!P$16","v":15},{"$f":"Latvia!Q$16","v":25},{"v":66.66666666666667,"d":"66.7"},null,{"$f":"Latvia!P$23","v":86},{"$f":"Latvia!Q$23","v":90},{"v":4.651162790697683,"d":"4.7"},null,{"$f":"Latvia!P$30","v":114},{"$f":"Latvia!Q$30","v":102},{"v":-10.526315789473683,"d":"-10.5"},null,{"$f":"Latvia!P$36","v":0},{"$f":"Latvia!Q$36","v":0},{"v":0,"d":"0.0"},null,{"$f":"Latvia!P$39","v":18},{"$f":"Latvia!Q$39","v":21},{"v":16.666666666666675,"d":"16.7"},null,{"$f":"R31+N31+J31+F31+B31","v":233},238,{"v":2.145922746781115,"d":"2.1"}]
["LT",{"$f":"Lithuania!P$16","v":7},{"$f":"Lithuania!Q$16","v":8},{"v":14.28571428571428,"d":"14.3"},null,{"$f":"Lithuania!P$23","v":105},{"$f":"Lithuania!Q$23","v":114},{"v":8.571428571428562,"d":"8.6"},null,{"$f":"Lithuania!P$30","v":123},{"$f":"Lithuania!Q$30","v":150},{"v":21.95121951219512,"d":"22.0"},null,{"$f":"Lithuania!P$36","v":3},{"$f":"Lithuania!Q$36","v":4},{"$f":"((O32/N32)-1)*100","v":{"v":33.33333333333333,"d":"33.3"}},null,{"$f":"Lithuania!P$39","v":5},{"$f":"Lithuania!Q$39","v":7},{"v":39.99999999999999,"d":"40.0"},null,{"$f":"R32+N32+J32+F32+B32","v":243},283,{"v":16.46090534979423,"d":"16.5"}]
["PL",{"$f":"Poland!P$16","v":327},{"$f":"Poland!Q$16","v":365},{"v":11.620795107033643,"d":"11.6"},null,{"$f":"Poland!P$23","v":{"v":1352,"d":"1,352"}},{"$f":"Poland!Q$23","v":{"v":1167,"d":"1,167"}},{"v":-13.683431952662717,"d":"-13.7"},null,{"$f":"Poland!P$30","v":{"v":3450,"d":"3,450"}},{"$f":"Poland!Q$30","v":{"v":3667,"d":"3,667"}},{"v":6.289855072463779,"d":"6.3"},null,{"$f":"Poland!P$36","v":0},{"$f":"Poland!Q$36","v":0},{"v":0,"d":"0.0"},null,{"$f":"Poland!P$39","v":430},{"$f":"Poland!Q$39","v":265},{"v":-38.372093023255815,"d":"-38.4"},null,{"$f":"R33+N33+J33+F33+B33","v":{"v":5559,"d":"5,559"}},{"v":5464,"d":"5,464"},{"v":-1.7089404569167077,"d":"-1.7"}]
["SK",{"$f":"Slovakia!P$16","v":281},{"$f":"Slovakia!Q$16","v":259},{"v":-7.829181494661919,"d":"-7.8"},null,{"$f":"Slovakia!P$23","v":603},{"$f":"Slovakia!Q$23","v":473},{"v":-21.558872305140962,"d":"-21.6"},null,{"$f":"Slovakia!P$30","v":377},{"$f":"Slovakia!Q$30","v":334},{"v":-11.405835543766575,"d":"-11.4"},null,{"$f":"Slovakia!P$36","v":0},{"$f":"Slovakia!Q$36","v":0},{"v":0,"d":"0.0"},null,{"$f":"+Slovakia!P$39","v":18},{"$f":"+Slovakia!Q$39","v":16},{"v":-11.111111111111116,"d":"-11.1"},null,{"$f":"R34+N34+J34+F34+B34","v":{"v":1279,"d":"1,279"}},{"v":1082,"d":"1,082"},{"v":-15.40265832681783,"d":"-15.4"}]
["SI",{"$f":"Slovenia!P$16","v":106},{"$f":"Slovenia!Q$16","v":114},{"v":7.547169811320753,"d":"7.5"},null,{"$f":"Slovenia!P$23","v":136},{"$f":"Slovenia!Q$23","v":141},{"v":3.6764705882353033,"d":"3.7"},null,{"$f":"Slovenia!P$30","v":244},{"$f":"Slovenia!Q$30","v":232},{"v":-4.918032786885251,"d":"-4.9"},null,{"$f":"Slovenia!P$36","v":0},{"$f":"Slovenia!Q$36","v":0},{"v":0,"d":"0.0"},null,{"$f":"Slovenia!P$39","v":17},{"$f":"Slovenia!Q$39","v":14},{"v":-17.647058823529417,"d":"-17.6"},null,{"$f":"R35+N35+J35+F35+B35","v":503},501,{"v":-0.3976143141153132,"d":"-0.4"}]
[]
["EUR 25 *",{"$f":"SUM(B14:B35)","v":{"v":37994,"d":"37,994"}},{"v":38135,"d":"38,135"},{"$f":"((C37/B37)-1)*100","v":{"v":0.3711112280886386,"d":"0.4"}},null,{"$f":"SUM(F14:F35)","v":{"v":48175,"d":"48,175"}},{"v":47903,"d":"47,903"},{"$f":"((G37/F37)-1)*100","v":{"v":-0.5646081992734864,"d":"-0.6"}},null,{"$f":"SUM(J14:J35)","v":{"v":45009,"d":"45,009"}},{"v":46753,"d":"46,753"},{"$f":"((K37/J37)-1)*100","v":{"v":3.8747805994356677,"d":"3.9"}},null,{"$f":"SUM(N14:N35)","v":{"v":1609,"d":"1,609"}},{"v":1637,"d":"1,637"},{"$f":"((O37/N37)-1)*100","v":{"v":1.7402113113735185,"d":"1.7"}},null,{"$f":"SUM(R14:R35)","v":{"v":9319,"d":"9,319"}},{"v":9000,"d":"9,000"},{"$f":"((S37/R37)-1)*100","v":{"v":-3.4231140680330507,"d":"-3.4"}},null,{"$f":"SUM(V14:V35)","v":{"v":142106,"d":"142,106"}},{"v":143428,"d":"143,428"},{"$f":"((W37/V37)-1)*100","v":{"v":0.9302914725627387,"d":"0.9"}}]
[]
[{"$nulls":23}," "]
["* Sans le Luxembourg, la Grèce et Malte/Ohne Luxemburg, Griechenland und Malta/Without Luxemburg, Greece and Malta/Senza Lussemburgo, Ellas e Malta"]
[]
[": non disponible/not available"]

{"sheet":"2004","index":30,"n_rows":100,"n_cols":16,"rows_kept":100,"merged":[[4,0,4,15],[5,0,5,15],[58,0,58,12],[59,0,59,12]]}
["2006-04-23"]
[]
["PRODUCTION INDUSTRIELLE D'ALIMENTS COMPOSES ",{"$nulls":14},"INDUSTRIELLE  MISCHFUTTERPRODUKTION"]
["PRODUZIONE INDUSTRIALE DI MANGIMI COMPOSTI",{"$nulls":14},"INDUSTRIAL COMPOUND PRODUCTION"]
[2004]
["definitif/final"]
[{"$nulls":15},"(1 000 t)"]
[]
["Catégories d'aliments composés/Mischfutterarten",null,"DE","FR","IT","NL","BE","UK","IE","DK","ES","PT","AT","SE","FI","EU-15"]
["Tipi di mangimi compositi/Types of feed",{"$nulls":14},"*"]
[]
[null,null," ",{"$nulls":4}," ",null,null," "]
["Bovins/Cattle/Bovini/Rinder",null,{"$f":"Germany!Q16","v":{"v":6544,"d":"6,544"}},{"$f":"France!Q16","v":{"v":4311,"d":"4,311"}},{"$f":"Italy!Q16","v":{"v":4306,"d":"4,306"}},{"$f":"'The Netherlands'!Q16","v":{"v":3320,"d":"3,320"}},{"$f":"Belgium!Q16","v":{"v":1141,"d":"1,141"}},{"$f":"UK!Q16","v":{"v":4651,"d":"4,651"}},{"$f":"Ireland!Q16","v":{"v":1965,"d":"1,965"}},{"$f":"Denmark!Q16","v":{"v":1249,"d":"1,249"}},{"$f":"Spain!Q16","v":{"v":5504,"d":"5,504"}},{"$f":"Portugal!Q16","v":{"v":1010,"d":"1,010"}},{"$f":"Austria!Q16","v":342},{"$f":"Sweden!Q16","v":{"v":1163,"d":"1,163"}},{"$f":"Finland!Q16","v":669},{"$f":"SUM(C13:O13)","v":{"v":36175,"d":"36,175"}}]
["engrais/fattening/Mast  ",null,{"$f":"Germany!Q17","v":610},{"$f":"France!Q17","v":975},{"$f":"Italy!Q17","v":":"},{"$f":"'The Netherlands'!Q17","v":":"},{"$f":"Belgium!Q17","v":344},{"$f":"UK!Q17","v":{"v":1350,"d":"1,350"}},{"$f":"Ireland!Q17","v":923},":",{"$f":"Austria!O17","v":":"},{"$f":"Portugal!Q17","v":422},{"$f":"Austria!Q17","v":":"},{"$f":"Sweden!Q17","v":167},":",":"]
["VL/dairy cow/Milchkühe",null,{"$f":"Germany!Q18","v":{"v":5437,"d":"5,437"}},{"$f":"France!Q18","v":{"v":2811,"d":"2,811"}},{"$f":"Italy!Q18","v":":"},{"$f":"'The Netherlands'!Q18","v":":"},{"$f":"Belgium!Q18","v":556},{"$f":"UK!Q18","v":{"v":3034,"d":"3,034"}},{"$f":"Ireland!Q18","v":792},{"$f":"Denmark!Q18","v":897},{"$f":"Austria!O18","v":":"},{"$f":"Portugal!Q18","v":497},{"$f":"Austria!Q18","v":":"},{"$f":"Sweden!Q18","v":965},{"$f":"Finland!Q18","v":619},":"]
["veaux (aliments d'allaitement non compris)/calves ",null,{"$f":"Germany!Q19","v":157},{"$f":"France!Q19","v":293},{"$f":"Italy!Q19","v":":"},{"$f":"'The Netherlands'!Q19","v":":"},{"$f":"Belgium!Q19","v":90},{"$f":"UK!Q19","v":185},{"$f":"Ireland!Q19","v":158},{"$f":"Denmark!Q19","v":352},{"$f":"Austria!O19","v":":"},{"$f":"Portugal!Q19","v":53},{"$f":"Austria!Q19","v":":"},{"$f":"Sweden!Q19","v":0},{"$f":"Finland!Q19","v":50},":"]
["(excluding milk replacers)/Kälber (exkl. Milchaustauscher)"]
["autres/others/Andere",null,{"$f":"Germany!Q20","v":340},{"$f":"France!Q20","v":232},{"$f":"Italy!Q20","v":":"},{"$f":"'The Netherlands'!Q20","v":":"},{"$f":"Belgium!Q20","v":151},{"$f":"UK!Q20","v":82},{"$f":"Ireland!Q20","v":92},{"$f":"Denmark!Q20","v":":"},{"$f":"Austria!O20","v":":"},{"$f":"Portugal!Q20","v":38},{"$f":"Austria!Q20","v":":"},{"$f":"Sweden!Q20","v":31},{"$f":"Finland!Q20","v":0},":"]
[]
[]
["Porcins/Pigs/Suini/Schweine",null,{"$f":"Germany!Q23","v":{"v":7594,"d":"7,594"}},{"$f":"France!Q23","v":{"v":6670,"d":"6,670"}},{"$f":"Italy!Q23","v":{"v":2932,"d":"2,932"}},{"$f":"'The Netherlands'!Q23","v":{"v":5120,"d":"5,120"}},{"$f":"Belgium!Q23","v":{"v":3456,"d":"3,456"}},{"$f":"UK!Q23","v":{"v":1648,"d":"1,648"}},{"$f":"Ireland!Q23","v":630},{"$f":"Denmark!Q23","v":{"v":3571,"d":"3,571"}},{"$f":"Spain!Q23","v":{"v":8535,"d":"8,535"}},{"$f":"Portugal!Q23","v":{"v":1190,"d":"1,190"}},{"$f":"Austria!Q23","v":219},{"$f":"Sweden!Q23","v":445},{"$f":"Finland!Q23","v":346},{"$f":"SUM(C21:O21)","v":{"v":42356,"d":"42,356"}}]
["porcelets/piglets/Ferkel",null,{"$f":"Germany!Q24","v":{"v":1490,"d":"1,490"}},{"$f":"France!Q24","v":819},{"$f":"Italy!Q24","v":":"},{"$f":"'The Netherlands'!Q24","v":":"},{"$f":"Belgium!Q24","v":766},{"$f":"UK!Q24","v":95},{"$f":"Ireland!Q24","v":90},{"$f":"Denmark!Q24","v":692},{"$f":"Austria!O24","v":":"},{"$f":"Portugal!Q24","v":178},{"$f":"Austria!Q24","v":":"},{"$f":"Sweden!Q24","v":71},{"$f":"Finland!Q24","v":46},":"]
["porcs engrais/pigs for fattening/Mastschweine",null,{"$f":"Germany!Q25","v":{"v":4245,"d":"4,245"}},{"$f":"France!Q25","v":{"v":4603,"d":"4,603"}},{"$f":"Italy!Q25","v":":"},{"$f":"'The Netherlands'!Q25","v":":"},{"$f":"Belgium!Q25","v":{"v":2690,"d":"2,690"}},{"$f":"UK!Q25","v":{"v":1092,"d":"1,092"}},{"$f":"Ireland!Q25","v":401},{"$f":"Denmark!Q25","v":{"v":2124,"d":"2,124"}},{"$f":"Austria!O25","v":":"},{"$f":"Portugal!Q25","v":741},{"$f":"Austria!Q25","v":":"},{"$f":"Sweden!Q25","v":258},{"$f":"Finland!Q25","v":185},":"]
["reproducteurs/breeding pigs/Zuchtschweine",null,{"$f":"Germany!Q26","v":{"v":1229,"d":"1,229"}},{"$f":"France!Q26","v":{"v":1248,"d":"1,248"}},{"$f":"Italy!Q26","v":":"},{"$f":"'The Netherlands'!Q26","v":":"},{"$f":"Belgium!Q26","v":":"},{"$f":"UK!Q26","v":444},{"$f":"Ireland!Q26","v":110},{"$f":"Denmark!Q26","v":755},{"$f":"Austria!O26","v":":"},{"$f":"Portugal!Q26","v":262},{"$f":"Austria!Q26","v":":"},{"$f":"Sweden!Q26","v":110},{"$f":"Finland!Q26","v":53},":"]
["autres/others/Andere",null,{"$f":"Germany!Q27","v":630},{"$f":"France!Q27","v":0},{"$f":"Italy!Q27","v":":"},{"$f":"'The Netherlands'!Q27","v":":"},{"$f":"Belgium!Q27","v":":"},{"$f":"UK!Q27","v":17},{"$f":"Ireland!Q27","v":29},{"$f":"Denmark!Q27","v":":"},{"$f":"Austria!O27","v":":"},{"$f":"Portugal!Q27","v":9},{"$f":"Austria!Q27","v":":"},{"$f":"Sweden!Q27","v":6},{"$f":"Finland!Q27","v":62},":"]
[{"$nulls":4}," "]
[]
["Volaille/Poultry/Volatili/Geflügel",null,{"$f":"Germany!Q30","v":{"v":5209,"d":"5,209"}},{"$f":"France!Q30","v":{"v":9245,"d":"9,245"}},{"$f":"Italy!Q30","v":{"v":5394,"d":"5,394"}},{"$f":"'The Netherlands'!Q30","v":{"v":3080,"d":"3,080"}},{"$f":"Belgium!Q30","v":{"v":1450,"d":"1,450"}},{"$f":"UK!Q30","v":{"v":6436,"d":"6,436"}},{"$f":"Ireland!Q30","v":488},{"$f":"Denmark!Q30","v":672},{"$f":"Spain!Q30","v":{"v":4578,"d":"4,578"}},{"$f":"Portugal!Q30","v":{"v":1360,"d":"1,360"}},{"$f":"Austria!Q30","v":387},{"$f":"Sweden!Q30","v":510},{"$f":"Finland!Q30","v":306},{"$f":"SUM(C28:O28)","v":{"v":39115,"d":"39,115"}}]
["broilers",null,{"$f":"Germany!Q31","v":{"v":1719,"d":"1,719"}},{"$f":"France!Q31","v":{"v":3250,"d":"3,250"}},{"$f":"Italy!Q31","v":":"},{"$f":"'The Netherlands'!Q31","v":":"},{"$f":"Belgium!Q31","v":650},{"$f":"UK!Q31","v":{"v":3540,"d":"3,540"}},{"$f":"Ireland!Q31","v":260},{"$f":"Denmark!Q31","v":537},{"$f":"Austria!O31","v":":"},{"$f":"Portugal!Q31","v":802},{"$f":"Austria!Q31","v":":"},{"$f":"Sweden!Q31","v":189},{"$f":"Finland!Q31","v":181},":"]
["poulettes & pondeuses/chicks & layers/Jung- & Legehennen",null,{"$f":"Germany!Q32","v":{"v":2244,"d":"2,244"}},{"$f":"France!Q32","v":{"v":2229,"d":"2,229"}},{"$f":"Italy!Q32","v":":"},{"$f":"'The Netherlands'!Q32","v":":"},{"$f":"Belgium!Q32","v":560},{"$f":"UK!Q32","v":{"v":1804,"d":"1,804"}},{"$f":"Ireland!Q32","v":133},{"$f":"Denmark!Q32","v":62},{"$f":"Austria!O32","v":":"},{"$f":"Portugal!Q32","v":384},{"$f":"Austria!Q32","v":":"},{"$f":"Sweden!Q32","v":268},{"$f":"Finland!Q32","v":72},":"]
["autres/others/Andere",null,{"$f":"Germany!Q33","v":{"v":1246,"d":"1,246"}},{"$f":"France!Q33","v":{"v":3766,"d":"3,766"}},{"$f":"Italy!Q33","v":":"},{"$f":"'The Netherlands'!Q33","v":":"},{"$f":"Belgium!Q33","v":240},{"$f":"UK!Q33","v":{"v":1092,"d":"1,092"}},{"$f":"Ireland!Q33","v":95},{"$f":"Denmark!Q33","v":73},{"$f":"Austria!O33","v":":"},{"$f":"Portugal!Q33","v":174},{"$f":"Austria!Q33","v":":"},{"$f":"Sweden!Q33","v":53},{"$f":"Finland!Q33","v":53},":"]
[]
[]
["Al. d'allait./Milk replacers/Sostit. del latte/Milchaust.",null,{"$f":"Germany!Q36","v":159},{"$f":"France!Q36","v":485},{"$f":"Italy!Q36","v":175},{"$f":"'The Netherlands'!Q36","v":728},{"$f":"Belgium!Q36","v":50},{"$f":"UK!Q36","v":15},{"$f":"Ireland!Q36","v":10},{"$f":"Denmark!Q36","v":0},{"$f":"Spain!Q36","v":0},{"$f":"Portugal!Q36","v":0},{"$f":"Austria!Q36","v":0},{"$f":"Sweden!Q36","v":5},{"$f":"Finland!Q36","v":0},{"$f":"SUM(C34:O34)","v":{"v":1627,"d":"1,627"}}]
[]
[{"$nulls":4}," "]
["Autres/others/altri/Andere",null,{"$f":"Germany!Q39","v":633},{"$f":"France!Q39","v":{"v":1579,"d":"1,579"}},{"$f":"Italy!Q39","v":975},{"$f":"'The Netherlands'!Q39","v":830},{"$f":"Belgium!Q39","v":250},{"$f":"UK!Q39","v":{"v":1335,"d":"1,335"}},{"$f":"Ireland!Q39","v":452},{"$f":"Denmark!Q39","v":138},{"$f":"Spain!Q39","v":{"v":1722,"d":"1,722"}},{"$f":"Portugal!Q39","v":234},{"$f":"Austria!Q39","v":67},{"$f":"Sweden!Q39","v":21},{"$f":"Finland!Q39","v":93},{"$f":"SUM(C37:O37)","v":{"v":8329,"d":"8,329"}}]
[]
[]
["TOTAL",null,{"$f":"C37+C34+C28+C21+C13","v":{"v":20139,"d":"20,139"}},{"v":22290,"d":"22,290"},{"v":13782,"d":"13,782"},{"v":13078,"d":"13,078"},{"v":6347,"d":"6,347"},{"v":14085,"d":"14,085"},{"v":3545,"d":"3,545"},{"v":5630,"d":"5,630"},{"v":20339,"d":"20,339"},{"v":3794,"d":"3,794"},{"v":1015,"d":"1,015"},{"v":2144,"d":"2,144"},{"v":1414,"d":"1,414"},{"v":127602,"d":"127,602"}]
[{"$nulls":5}," "]
[]
["* Sans le Luxembourg et la Grèce/ohne Luxemburg und Griechenland/Without Luxemburg and Greece/Senza Lussemburgo e Ella"]
[]
[": non disponible/not available/nicht verfügbar"]
{"$rows_empty":9}
["2005-09-02"]
[]
["PRODUCTION INDUSTRIELLE D'ALIMENTS COMPOSES ",{"$nulls":11},"INDUSTRIELLE  MISCHFUTTERPRODUKTION"]
["PRODUZIONE INDUSTRIALE DI MANGIMI COMPOSTI",{"$nulls":11},"INDUSTRIAL COMPOUND PRODUCTION"]
[2004]
["definitif/final"]
[{"$nulls":12},"(1 000 t)"]
[]
["Catégories d'aliments composés/Mischfutterarten",null,"CY","CZ","EE","HU","LV","LT","PL","SK","SI","10NM","EU-25"]
["Tipi di mangimi compositi/Types of feed",{"$nulls":10},"**","***"]
[]
[null,null," ",{"$nulls":4}," ",null," "]
["Bovins/Cattle/Bovini/Rinder",null,{"$f":"Cyprus!Q16","v":78},{"$f":"'Czech Rep'!Q16","v":494},{"$f":"Estonia!Q16","v":42},{"$f":"Hungary!Q16","v":575},{"$f":"Latvia!Q16","v":25},{"$f":"Lithuania!Q16","v":8},{"$f":"Poland!Q16","v":365},{"$f":"Slovakia!Q16","v":259},{"$f":"Slovenia!Q16","v":114},{"$f":"SUM(C67:K67)","v":{"v":1960,"d":"1,960"}},{"$f":"P13+L67","v":{"v":38135,"d":"38,135"}}]
["engrais/fattening/Mast  ",null,{"$f":"Cyprus!Q17","v":":"},{"$f":"'Czech Rep'!Q17","v":":"},{"$f":"Estonia!Q17","v":":"},{"$f":"Hungary!Q17","v":":"},{"$f":"Latvia!Q17","v":":"},{"$f":"Lithuania!Q17","v":2},{"$f":"Poland!Q17","v":":"},{"$f":"Slovakia!Q17","v":":"},{"$f":"Slovenia!Q17","v":106},":",":"]
["VL/dairy cow/Milchkühe",null,{"$f":"Cyprus!Q18","v":":"},{"$f":"'Czech Rep'!Q18","v":":"},{"$f":"Estonia!Q18","v":":"},{"$f":"Hungary!Q18","v":":"},{"$f":"Latvia!Q18","v":":"},{"$f":"Lithuania!Q18","v":5},{"$f":"Poland!Q18","v":":"},{"$f":"Slovakia!Q18","v":":"},{"$f":"Slovenia!Q18","v":3},":",":"]
["veaux (aliments d'allaitement non compris)/calves ",null,{"$f":"Cyprus!Q19","v":":"},{"$f":"'Czech Rep'!Q19","v":":"},{"$f":"Estonia!Q19","v":":"},{"$f":"Hungary!Q19","v":":"},{"$f":"Latvia!Q19","v":":"},{"$f":"Lithuania!Q19","v":1},{"$f":"Poland!Q19","v":":"},{"$f":"Slovakia!Q19","v":":"},{"$f":"Slovenia!Q19","v":3},":",":"]
["(excluding milk replacers)/Kälber (exkl. Milchaustauscher)"]
["autres/others/Andere",null,{"$f":"Cyprus!Q20","v":":"},{"$f":"'Czech Rep'!Q20","v":":"},{"$f":"Estonia!Q20","v":":"},{"$f":"Hungary!Q20","v":":"},{"$f":"Latvia!Q20","v":":"},{"$f":"Lithuania!Q20","v":0},{"$f":"Poland!Q20","v":":"},{"$f":"Slovakia!Q20","v":":"},{"$f":"Slovenia!Q20","v":2},":",":"]
[]
[]
["Porcins/Pigs/Suini/Schweine",null,{"$f":"Cyprus!Q23","v":12},{"$f":"'Czech Rep'!Q23","v":{"v":1341,"d":"1,341"}},{"$f":"Estonia!Q23","v":119},{"$f":"Hungary!Q23","v":{"v":2090,"d":"2,090"}},{"$f":"Latvia!Q23","v":90},{"$f":"Lithuania!Q23","v":114},{"$f":"Poland!Q23","v":{"v":1167,"d":"1,167"}},{"$f":"Slovakia!Q23","v":473},{"$f":"Slovenia!Q23","v":141},{"$f":"SUM(C75:K75)","v":{"v":5547,"d":"5,547"}},{"$f":"P21+L75","v":{"v":47903,"d":"47,903"}}]
["porcelets/piglets/Ferkel",null,{"$f":"Cyprus!Q24","v":":"},{"$f":"'Czech Rep'!Q24","v":":"},{"$f":"Estonia!Q24","v":":"},{"$f":"Hungary!Q24","v":":"},{"$f":"Latvia!Q24","v":":"},{"$f":"Lithuania!Q24","v":26},{"$f":"Poland!Q24","v":":"},{"$f":"Slovakia!Q24","v":":"},{"$f":"Slovenia!Q24","v":7},":",":"]
["porcs engrais/pigs for fattening/Mastschweine",null,{"$f":"Cyprus!Q25","v":":"},{"$f":"'Czech Rep'!Q25","v":":"},{"$f":"Estonia!Q25","v":":"},{"$f":"Hungary!Q25","v":":"},{"$f":"Latvia!Q25","v":":"},{"$f":"Lithuania!Q25","v":66},{"$f":"Poland!Q25","v":":"},{"$f":"Slovakia!Q25","v":":"},{"$f":"Slovenia!Q25","v":132},":",":"]
["reproducteurs/breeding pigs/Zuchtschweine",null,{"$f":"Cyprus!Q26","v":":"},{"$f":"'Czech Rep'!Q26","v":":"},{"$f":"Estonia!Q26","v":":"},{"$f":"Hungary!Q26","v":":"},{"$f":"Latvia!Q26","v":":"},{"$f":"Lithuania!Q26","v":21},{"$f":"Poland!Q26","v":":"},{"$f":"Slovakia!Q26","v":":"},{"$f":"Slovenia!Q26","v":2},":",":"]
["autres/others/Andere",null,{"$f":"Cyprus!Q27","v":":"},{"$f":"'Czech Rep'!Q27","v":":"},{"$f":"Estonia!Q27","v":":"},{"$f":"Hungary!Q27","v":":"},{"$f":"Latvia!Q27","v":":"},{"$f":"Lithuania!Q27","v":1},{"$f":"Poland!Q27","v":":"},{"$f":"Slovakia!Q27","v":":"},{"$f":"Slovenia!Q27","v":":"},":",":"]
[{"$nulls":4}," "]
[]
["Volaille/Poultry/Volatili/Geflügel",null,{"$f":"Cyprus!Q30","v":60},{"$f":"'Czech Rep'!Q30","v":{"v":1125,"d":"1,125"}},{"$f":"Estonia!Q30","v":62},{"$f":"Hungary!Q30","v":{"v":1906,"d":"1,906"}},{"$f":"Latvia!Q30","v":102},{"$f":"Lithuania!Q30","v":150},{"$f":"Poland!Q30","v":{"v":3667,"d":"3,667"}},{"$f":"Slovakia!Q30","v":334},{"$f":"Slovenia!Q30","v":232},{"$f":"SUM(C82:K82)","v":{"v":7638,"d":"7,638"}},{"$f":"P28+L82","v":{"v":46753,"d":"46,753"}}]
["broilers",null,{"$f":"Cyprus!Q31","v":":"},{"$f":"'Czech Rep'!Q31","v":":"},{"$f":"Estonia!Q31","v":":"},{"$f":"Hungary!Q31","v":":"},{"$f":"Latvia!Q31","v":":"},{"$f":"Lithuania!Q31","v":94},{"$f":"Poland!Q31","v":":"},{"$f":"Slovakia!Q31","v":":"},{"$f":"Slovenia!Q31","v":225},":",":"]
["poulettes & pondeuses/chicks & layers/Jung- & Legehennen",null,{"$f":"Cyprus!Q32","v":":"},{"$f":"'Czech Rep'!Q32","v":":"},{"$f":"Estonia!Q32","v":":"},{"$f":"Hungary!Q32","v":":"},{"$f":"Latvia!Q32","v":":"},{"$f":"Lithuania!Q32","v":52},{"$f":"Poland!Q32","v":":"},{"$f":"Slovakia!Q32","v":":"},{"$f":"Slovenia!Q32","v":7},":",":"]
["autres/others/Andere",null,{"$f":"Cyprus!Q33","v":":"},{"$f":"'Czech Rep'!Q33","v":":"},{"$f":"Estonia!Q33","v":":"},{"$f":"Hungary!Q33","v":":"},{"$f":"Latvia!Q33","v":":"},{"$f":"Lithuania!Q33","v":4},{"$f":"Poland!Q33","v":":"},{"$f":"Slovakia!Q33","v":":"},{"$f":"Slovenia!Q33","v":":"},":",":"]
[]
[]
["Al. d'allait./Milk replacers/Sostit. del latte/Milchaust.",null,{"$f":"Cyprus!Q36","v":0},{"$f":"'Czech Rep'!Q36","v":5},{"$f":"Estonia!Q36","v":1},{"$f":"Hungary!Q36","v":0},{"$f":"Latvia!Q36","v":0},{"$f":"Lithuania!Q36","v":4},{"$f":"Poland!Q36","v":0},{"$f":"Slovakia!Q36","v":0},{"$f":"Slovenia!Q36","v":0},{"$f":"SUM(C88:K88)","v":10},{"$f":"P34+L88","v":{"v":1637,"d":"1,637"}}]
[]
[{"$nulls":4}," "]
["Autres/others/altri/Andere",null,{"$f":"Cyprus!Q39","v":70},{"$f":"'Czech Rep'!Q39","v":87},{"$f":"Estonia!Q39","v":3},{"$f":"Hungary!Q39","v":188},{"$f":"Latvia!Q39","v":21},{"$f":"Lithuania!Q39","v":7},{"$f":"Poland!Q39","v":265},{"$f":"Slovakia!Q39","v":16},{"$f":"Slovenia!Q39","v":14},{"$f":"SUM(C91:K91)","v":671},{"$f":"P37+L91","v":{"v":9000,"d":"9,000"}}]
[]
[]
["TOTAL",null,{"$f":"C91+C88+C82+C75+C67","v":220},{"v":3052,"d":"3,052"},227,{"v":4759,"d":"4,759"},238,283,{"v":5464,"d":"5,464"},{"v":1082,"d":"1,082"},501,{"v":15826,"d":"15,826"},{"v":143428,"d":"143,428"}]
[{"$nulls":5}," "]
[]
["** Sans Malte/Ohne Maltas/Without Malta/Senza Malta"]
["*** Sans le Luxembourg, la Grèce et Malte/Ohne Luxemburg, Griechenland und Maltas/Without Luxemburg, Greece and Malta/Senza Lussemburgo, Ellas e Malta"]
[]
[": non disponible/not available/nicht verfügbar"]

{"sheet":"2004-2005","index":31,"n_rows":41,"n_cols":24,"rows_kept":41}
["2006-04-04"]
[]
["PRODUCTION INDUSTRIELLE D'ALIMENTS COMPOSES",{"$nulls":22},"INDUSTRIELLE  MISCHFUTTERPRODUKTION"]
["PRODUZIONE INDUSTRIALE DI MANGIMI COMPOSTI",{"$nulls":11},"2004-2005",{"$nulls":10},"INDUSTRIAL COMPOUND PRODUCTION"]
[{"$nulls":12},"definitif/final",{"$nulls":10},"(1 000 t )"]
[]
[]
[]
["PAYS",null,"      BOVINS/RINDER",{"$nulls":3},"    PORCS/SCHWEINE",{"$nulls":3},"     VOLAILLE/GEFLÜGEL",null,"      A. ALLAITEMENT/MILCHAUST.",{"$nulls":5},"     AUTRES/ANDERE",null,null,"       TOTAL/INSGESAMT"]
["LAND",null,"      BOVINI/CATTLE",{"$nulls":3},"    SUINI/PIGS",{"$nulls":3},"     VOLATILI/POULTRY",null,"  SOSTIT. DEL LATTE/MILKREPLACERS",{"$nulls":5},"ALTRI ANIMALI/OTHERS",null,null,"          TOTALE/TOTAL"]
["PAESE"]
["COUNTRY",2004,2005,"%TAV",null,2004,2005,"%TAV",null,2004,2005,"%TAV",null,2004,2005,"%TAV",null,2004,2005,"%TAV",null,2004,2005,"%TAV"]
[]
["DE",{"$f":"Germany!Q$16","v":{"v":6544,"d":"6,544"}},{"$f":"Germany!R$16","v":{"v":5959,"d":"5,959"}},{"$f":"((C14/B14)-1)*100","v":{"v":-8.939486552567233,"d":"-8.9"}},null,{"$f":"Germany!Q$23","v":{"v":7594,"d":"7,594"}},{"$f":"Germany!R$23","v":{"v":7479,"d":"7,479"}},{"$f":"((G14/F14)-1)*100","v":{"v":-1.5143534369238876,"d":"-1.5"}},null,{"$f":"Germany!Q$30","v":{"v":5209,"d":"5,209"}},{"$f":"Germany!R$30","v":{"v":5235,"d":"5,235"}},{"$f":"((K14/J14)-1)*100","v":{"v":0.4991361105778358,"d":"0.5"}},null,{"$f":"Germany!Q$36","v":159},{"$f":"Germany!R$36","v":141},{"$f":"((O14/N14)-1)*100","v":{"v":-11.32075471698113,"d":"-11.3"}},null,{"$f":"Germany!Q$39","v":633},{"$f":"Germany!R$39","v":635},{"$f":"((S14/R14)-1)*100","v":{"v":0.3159557661927437,"d":"0.3"}},null,{"$f":"R14+N14+J14+F14+B14","v":{"v":20139,"d":"20,139"}},{"v":19449,"d":"19,449"},{"$f":"((W14/V14)-1)*100","v":{"v":-3.426187993445551,"d":"-3.4"}}]
["FR",{"$f":"France!Q$16","v":{"v":4311,"d":"4,311"}},{"$f":"France!R$16","v":{"v":4482,"d":"4,482"}},{"v":3.9665970772442494,"d":"4.0"},null,{"$f":"France!Q$23","v":{"v":6670,"d":"6,670"}},{"$f":"France!R$23","v":{"v":6452,"d":"6,452"}},{"v":-3.2683658170914565,"d":"-3.3"},null,{"$f":"France!Q$30","v":{"v":9245,"d":"9,245"}},{"$f":"France!R$30","v":{"v":8992,"d":"8,992"}},{"v":-2.736614386154679,"d":"-2.7"},null,{"$f":"France!Q$36","v":485},{"$f":"France!R$36","v":487},{"v":0.4123711340206171,"d":"0.4"},null,{"$f":"France!Q$39","v":{"v":1579,"d":"1,579"}},{"$f":"France!R$39","v":{"v":1572,"d":"1,572"}},{"v":-0.4433185560481334,"d":"-0.4"},null,{"$f":"R15+N15+J15+F15+B15","v":{"v":22290,"d":"22,290"}},{"v":21985,"d":"21,985"},{"v":-1.3683266038582276,"d":"-1.4"}]
["IT",{"$f":"Italy!Q$16","v":{"v":4306,"d":"4,306"}},{"$f":"Italy!R$16","v":{"v":4100,"d":"4,100"}},{"v":-4.784022294472834,"d":"-4.8"},null,{"$f":"Italy!Q$23","v":{"v":2932,"d":"2,932"}},{"$f":"Italy!R$23","v":{"v":2900,"d":"2,900"}},{"v":-1.0914051841746208,"d":"-1.1"},null,{"$f":"Italy!Q$30","v":{"v":5394,"d":"5,394"}},{"$f":"Italy!R$30","v":{"v":5350,"d":"5,350"}},{"v":-0.8157211716722235,"d":"-0.8"},null,{"$f":"Italy!Q$36","v":175},{"$f":"Italy!R$36","v":175},{"v":0,"d":"0.0"},null,{"$f":"+Italy!Q$39","v":975},{"$f":"+Italy!R$39","v":975},{"v":0,"d":"0.0"},null,{"$f":"R16+N16+J16+F16+B16","v":{"v":13782,"d":"13,782"}},{"v":13500,"d":"13,500"},{"v":-2.0461471484545024,"d":"-2.0"}]
["NL   ",{"$f":"'The Netherlands'!Q$16","v":{"v":3320,"d":"3,320"}},{"$f":"'The Netherlands'!R$16","v":{"v":3178,"d":"3,178"}},{"v":-4.277108433734944,"d":"-4.3"},null,{"$f":"'The Netherlands'!Q$23","v":{"v":5120,"d":"5,120"}},{"$f":"'The Netherlands'!R$23","v":{"v":5378,"d":"5,378"}},{"v":5.039062499999991,"d":"5.0"},null,{"$f":"'The Netherlands'!Q$30","v":{"v":3080,"d":"3,080"}},{"$f":"'The Netherlands'!R$30","v":{"v":3426,"d":"3,426"}},{"v":11.23376623376624,"d":"11.2"},null,{"$f":"'The Netherlands'!Q$36","v":728},{"$f":"'The Netherlands'!R$36","v":728},{"v":0,"d":"0.0"},null,{"$f":"'The Netherlands'!Q$39","v":830},{"$f":"'The Netherlands'!R$39","v":269},{"v":-67.59036144578313,"d":"-67.6"},null,{"$f":"R17+N17+J17+F17+B17","v":{"v":13078,"d":"13,078"}},{"v":12979,"d":"12,979"},{"v":-0.7569964826426023,"d":"-0.8"}]
["BE",{"$f":"Belgium!Q$16","v":{"v":1141,"d":"1,141"}},{"$f":"Belgium!R$16","v":{"v":1040,"d":"1,040"}},{"v":-8.851884312007009,"d":"-8.9"},null,{"$f":"Belgium!Q$23","v":{"v":3456,"d":"3,456"}},{"$f":"Belgium!R$23","v":{"v":3425,"d":"3,425"}},{"v":-0.896990740740744,"d":"-0.9"},null,{"$f":"Belgium!Q$30","v":{"v":1450,"d":"1,450"}},{"$f":"Belgium!R$30","v":{"v":1298,"d":"1,298"}},{"v":-10.482758620689658,"d":"-10.5"},null,{"$f":"Belgium!Q$36","v":50},{"$f":"Belgium!R$36","v":102},{"v":104,"d":"104.0"},null,{"$f":"Belgium!Q$39","v":250},{"$f":"Belgium!R$39","v":129},-48.4,null,{"$f":"R18+N18+J18+F18+B18","v":{"v":6347,"d":"6,347"}},{"v":5994,"d":"5,994"},{"v":-5.561682684732949,"d":"-5.6"}]
["UK ",{"$f":"UK!Q$16","v":{"v":4651,"d":"4,651"}},{"$f":"UK!R$16","v":{"v":4435,"d":"4,435"}},{"v":-4.644162545689101,"d":"-4.6"},null,{"$f":"UK!Q$23","v":{"v":1648,"d":"1,648"}},{"$f":"UK!R$23","v":{"v":1613,"d":"1,613"}},{"v":-2.123786407766992,"d":"-2.1"},null,{"$f":"UK!Q$30","v":{"v":6436,"d":"6,436"}},{"$f":"UK!R$30","v":{"v":6277,"d":"6,277"}},{"v":-2.4704785581106226,"d":"-2.5"},null,{"$f":"UK!Q$36","v":15},{"$f":"UK!R$36","v":15},{"v":0,"d":"0.0"},null,{"$f":"UK!Q$39","v":{"v":1335,"d":"1,335"}},{"$f":"UK!R$39","v":{"v":1430,"d":"1,430"}},{"v":7.116104868913853,"d":"7.1"},null,{"$f":"R19+N19+J19+F19+B19","v":{"v":14085,"d":"14,085"}},{"v":13770,"d":"13,770"},{"v":-2.2364217252396124,"d":"-2.2"}]
["IE",{"$f":"Ireland!Q$16","v":{"v":1965,"d":"1,965"}},{"$f":"Ireland!R$16","v":{"v":1982,"d":"1,982"}},{"v":0.8651399491094169,"d":"0.9"},null,{"$f":"Ireland!Q$23","v":630},{"$f":"Ireland!R$23","v":625},{"v":-0.7936507936507908,"d":"-0.8"},null,{"$f":"Ireland!Q$30","v":488},{"$f":"Ireland!R$30","v":491},{"v":0.6147540983606481,"d":"0.6"},null,{"$f":"Ireland!Q$36","v":10},{"$f":"Ireland!R$36","v":8},{"v":-19.999999999999996,"d":"-20.0"},null,{"$f":"Ireland!Q$39","v":452},{"$f":"Ireland!R$39","v":474},{"v":4.867256637168138,"d":"4.9"},null,{"$f":"R20+N20+J20+F20+B20","v":{"v":3545,"d":"3,545"}},{"v":3580,"d":"3,580"},{"v":0.9873060648801113,"d":"1.0"}]
["DK ",{"$f":"Denmark!Q$16","v":{"v":1249,"d":"1,249"}},{"$f":"Denmark!R$16","v":{"v":1090,"d":"1,090"}},{"v":-12.730184147317857,"d":"-12.7"},null,{"$f":"Denmark!Q$23","v":{"v":3571,"d":"3,571"}},{"$f":"Denmark!R$23","v":{"v":3471,"d":"3,471"}},{"v":-2.8003360403248356,"d":"-2.8"},null,{"$f":"Denmark!Q$30","v":672},{"$f":"Denmark!R$30","v":614},{"v":-8.630952380952383,"d":"-8.6"},null,{"$f":"Denmark!Q$36","v":0},{"$f":"Denmark!R$36","v":0},{"v":0,"d":"0.0"},null,{"$f":"Denmark!Q$39","v":138},{"$f":"Denmark!R$39","v":154},{"v":11.594202898550732,"d":"11.6"},null,{"$f":"R21+N21+J21+F21+B21","v":{"v":5630,"d":"5,630"}},{"v":5329,"d":"5,329"},{"v":-5.346358792184724,"d":"-5.3"}]
["ES",{"$f":"Spain!Q$16","v":{"v":5504,"d":"5,504"}},{"$f":"Spain!R$16","v":{"v":6197,"d":"6,197"}},{"v":12.590843023255815,"d":"12.6"},null,{"$f":"Spain!Q$23","v":{"v":8535,"d":"8,535"}},{"$f":"Spain!R$23","v":{"v":8713,"d":"8,713"}},{"v":2.085530169888683,"d":"2.1"},null,{"$f":"Spain!Q$30","v":{"v":4578,"d":"4,578"}},{"$f":"Spain!R$30","v":{"v":4351,"d":"4,351"}},{"v":-4.958497160332021,"d":"-5.0"},null,{"$f":"Spain!Q$36","v":0},{"$f":"Spain!R$36","v":0},{"v":0,"d":"0.0"},null,{"$f":"Spain!Q$39","v":{"v":1722,"d":"1,722"}},{"$f":"Spain!R$39","v":{"v":1727,"d":"1,727"}},{"v":0.29036004645761615,"d":"0.3"},null,{"$f":"R22+N22+J22+F22+B22","v":{"v":20339,"d":"20,339"}},{"v":20988,"d":"20,988"},{"v":3.1909140075716547,"d":"3.2"}]
["PT",{"$f":"Portugal!Q$16","v":{"v":1010,"d":"1,010"}},{"$f":"Portugal!R$16","v":{"v":1100,"d":"1,100"}},{"v":8.910891089108919,"d":"8.9"},null,{"$f":"Portugal!Q$23","v":{"v":1190,"d":"1,190"}},{"$f":"Portugal!R$23","v":{"v":1090,"d":"1,090"}},{"v":-8.403361344537819,"d":"-8.4"},null,{"$f":"Portugal!Q$30","v":{"v":1360,"d":"1,360"}},{"$f":"Portugal!R$30","v":{"v":1350,"d":"1,350"}},{"v":-0.7352941176470562,"d":"-0.7"},null,{"$f":"Portugal!Q$36","v":0},{"$f":"Portugal!R$36","v":0},{"v":0,"d":"0.0"},null,{"$f":"Portugal!Q$39","v":234},{"$f":"Portugal!R$39","v":259},{"v":10.68376068376069,"d":"10.7"},null,{"$f":"R23+N23+J23+F23+B23","v":{"v":3794,"d":"3,794"}},{"v":3799,"d":"3,799"},{"v":0.13178703215603882,"d":"0.1"}]
["AT",{"$f":"Austria!Q$16","v":342},{"$f":"Austria!R$16","v":352},{"v":2.923976608187129,"d":"2.9"},null,{"$f":"Austria!Q$23","v":219},{"$f":"Austria!R$23","v":202},{"v":-7.762557077625576,"d":"-7.8"},null,{"$f":"Austria!Q$30","v":387},{"$f":"Austria!R$30","v":384},{"v":-0.7751937984496138,"d":"-0.8"},null,{"$f":"Austria!Q$36","v":0},{"$f":"Austria!R$36","v":0},{"v":0,"d":"0.0"},null,{"$f":"Austria!Q$39","v":67},{"$f":"Austria!R$39","v":80},{"v":19.402985074626855,"d":"19.4"},null,{"$f":"R24+N24+J24+F24+B24","v":{"v":1015,"d":"1,015"}},{"v":1018,"d":"1,018"},{"v":0.2955665024630516,"d":"0.3"}]
["SE",{"$f":"Sweden!Q$16","v":{"v":1163,"d":"1,163"}},{"$f":"Sweden!R$16","v":{"v":1138,"d":"1,138"}},{"v":-2.1496130696474602,"d":"-2.1"},null,{"$f":"Sweden!Q$23","v":445},{"$f":"Sweden!R$23","v":413},{"v":-7.191011235955058,"d":"-7.2"},null,{"$f":"Sweden!Q$30","v":510},{"$f":"Sweden!R$30","v":488},{"v":-4.313725490196074,"d":"-4.3"},null,{"$f":"Sweden!Q$36","v":5},{"$f":"Sweden!R$36","v":6},{"$f":"((O25/N25)-1)*100","v":{"v":19.999999999999996,"d":"20.0"}},null,{"$f":"Sweden!Q$39","v":21},{"$f":"Sweden!R$39","v":52},{"v":147.61904761904762,"d":"147.6"},null,{"$f":"R25+N25+J25+F25+B25","v":{"v":2144,"d":"2,144"}},{"v":2097,"d":"2,097"},{"v":-2.192164179104472,"d":"-2.2"}]
["FI",{"$f":"Finland!Q$16","v":669},{"$f":"Finland!R$16","v":704},{"v":5.231689088191338,"d":"5.2"},null,{"$f":"Finland!Q$23","v":346},{"$f":"Finland!R$23","v":359},{"v":3.7572254335260125,"d":"3.8"},null,{"$f":"Finland!Q$30","v":306},{"$f":"Finland!R$30","v":297},{"v":-2.941176470588236,"d":"-2.9"},null,{"$f":"Finland!Q$36","v":0},{"$f":"Finland!R$36","v":0},{"v":0,"d":"0.0"},null,{"$f":"Finland!Q$39","v":93},{"$f":"Finland!R$39","v":92},{"v":-1.0752688172043001,"d":"-1.1"},null,{"$f":"R26+N26+J26+F26+B26","v":{"v":1414,"d":"1,414"}},{"v":1452,"d":"1,452"},{"v":2.6874115983026803,"d":"2.7"}]
["CY",{"$f":"Cyprus!Q$16","v":78},{"$f":"Cyprus!R$16","v":105},{"v":34.61538461538463,"d":"34.6"},null,{"$f":"Cyprus!Q$23","v":12},{"$f":"Cyprus!R$23","v":13},{"v":8.333333333333325,"d":"8.3"},null,{"$f":"Cyprus!Q$30","v":60},{"$f":"Cyprus!R$30","v":63},{"v":5.000000000000004,"d":"5.0"},null,{"$f":"Cyprus!Q$36","v":0},{"$f":"Cyprus!R$36","v":0},{"v":0,"d":"0.0"},null,{"$f":"Cyprus!Q$39","v":70},{"$f":"Cyprus!R$39","v":100},{"v":42.85714285714286,"d":"42.9"},null,{"$f":"R27+N27+J27+F27+B27","v":220},281,{"v":27.727272727272734,"d":"27.7"}]
["CZ",{"$f":"'Czech Rep'!Q$16","v":494},{"$f":"'Czech Rep'!R$16","v":537},{"v":8.704453441295556,"d":"8.7"},null,{"$f":"'Czech Rep'!Q$23","v":{"v":1341,"d":"1,341"}},{"$f":"'Czech Rep'!R$23","v":{"v":1199,"d":"1,199"}},{"v":-10.589112602535423,"d":"-10.6"},null,{"$f":"'Czech Rep'!Q$30","v":{"v":1125,"d":"1,125"}},{"$f":"'Czech Rep'!R$30","v":905},{"v":-19.55555555555556,"d":"-19.6"},null,{"$f":"'Czech Rep'!Q$36","v":5},{"$f":"'Czech Rep'!R$36","v":5},{"$f":"((O28/N28)-1)*100","v":{"v":0,"d":"0.0"}},null,{"$f":"'Czech Rep'!Q$39","v":87},{"$f":"'Czech Rep'!R$39","v":85},{"v":-2.298850574712641,"d":"-2.3"},null,{"$f":"R28+N28+J28+F28+B28","v":{"v":3052,"d":"3,052"}},{"v":2731,"d":"2,731"},{"v":-10.517693315858455,"d":"-10.5"}]
["EE",{"$f":"Estonia!Q$16","v":42},{"$f":"Estonia!R$16","v":49},{"v":16.666666666666675,"d":"16.7"},null,{"$f":"Estonia!Q$23","v":119},{"$f":"Estonia!R$23","v":116},{"v":-2.5210084033613467,"d":"-2.5"},null,{"$f":"Estonia!Q$30","v":62},{"$f":"Estonia!R$30","v":54},{"v":-12.903225806451612,"d":"-12.9"},null,{"$f":"Estonia!Q$36","v":1},{"$f":"Estonia!R$36","v":1},{"v":0,"d":"0.0"},null,{"$f":"Estonia!Q$39","v":3},{"$f":"Estonia!R$39","v":3},{"v":0,"d":"0.0"},null,{"$f":"R29+N29+J29+F29+B29","v":227},223,{"v":-1.7621145374449365,"d":"-1.8"}]
["HU",{"$f":"Hungary!Q$16","v":575},{"$f":"Hungary!R$16","v":558},{"v":-2.9565217391304355,"d":"-3.0"},null,{"$f":"Hungary!Q$23","v":{"v":2090,"d":"2,090"}},{"$f":"Hungary!R$23","v":{"v":1980,"d":"1,980"}},{"v":-5.263157894736848,"d":"-5.3"},null,{"$f":"Hungary!Q$30","v":{"v":1906,"d":"1,906"}},{"$f":"Hungary!R$30","v":{"v":1771,"d":"1,771"}},{"v":-7.082896117523607,"d":"-7.1"},null,{"$f":"Hungary!Q$36","v":0},{"$f":"Hungary!R$36","v":0},{"v":0,"d":"0.0"},null,{"$f":"Hungary!Q$39","v":188},{"$f":"Hungary!R$39","v":191},{"v":1.5957446808510634,"d":"1.6"},null,{"$f":"R30+N30+J30+F30+B30","v":{"v":4759,"d":"4,759"}},{"v":4500,"d":"4,500"},{"v":-5.442319815087204,"d":"-5.4"}]
["LV",{"$f":"Latvia!Q$16","v":25},{"$f":"Latvia!R$16","v":28},{"v":12.00000000000001,"d":"12.0"},null,{"$f":"Latvia!Q$23","v":90},{"$f":"Latvia!R$23","v":107},{"v":18.88888888888889,"d":"18.9"},null,{"$f":"Latvia!Q$30","v":102},{"$f":"Latvia!R$30","v":38},{"v":-62.745098039215684,"d":"-62.7"},null,{"$f":"Latvia!Q$36","v":0},{"$f":"Latvia!R$36","v":0},{"v":0,"d":"0.0"},null,{"$f":"Latvia!Q$39","v":21},{"$f":"Latvia!R$39","v":17},{"v":-19.047619047619047,"d":"-19.0"},null,{"$f":"R31+N31+J31+F31+B31","v":238},190,{"v":-20.168067226890752,"d":"-20.2"}]
["LT",{"$f":"Lithuania!Q$16","v":8},{"$f":"Lithuania!R$16","v":21},162.5,null,{"$f":"Lithuania!Q$23","v":114},{"$f":"Lithuania!R$23","v":98},{"v":-14.035087719298245,"d":"-14.0"},null,{"$f":"Lithuania!Q$30","v":150},{"$f":"Lithuania!R$30","v":168},{"v":12.00000000000001,"d":"12.0"},null,{"$f":"Lithuania!Q$36","v":4},{"$f":"Lithuania!R$36","v":4},{"$f":"((O32/N32)-1)*100","v":{"v":0,"d":"0.0"}},null,{"$f":"Lithuania!Q$39","v":7},{"$f":"Lithuania!R$39","v":6},{"v":-14.28571428571429,"d":"-14.3"},null,{"$f":"R32+N32+J32+F32+B32","v":283},297,{"v":4.946996466431086,"d":"4.9"}]
["PL",{"$f":"Poland!Q$16","v":365},{"$f":"Poland!R$16","v":421},{"v":15.342465753424662,"d":"15.3"},null,{"$f":"Poland!Q$23","v":{"v":1167,"d":"1,167"}},{"$f":"Poland!R$23","v":{"v":1082,"d":"1,082"}},{"v":-7.283633247643529,"d":"-7.3"},null,{"$f":"Poland!Q$30","v":{"v":3667,"d":"3,667"}},{"$f":"Poland!R$30","v":{"v":3474,"d":"3,474"}},{"v":-5.263157894736848,"d":"-5.3"},null,{"$f":"Poland!Q$36","v":0},{"$f":"Poland!R$36","v":0},{"v":0,"d":"0.0"},null,{"$f":"Poland!Q$39","v":265},{"$f":"Poland!R$39","v":299},{"v":12.83018867924528,"d":"12.8"},null,{"$f":"R33+N33+J33+F33+B33","v":{"v":5464,"d":"5,464"}},{"v":5276,"d":"5,276"},{"v":-3.4407027818448066,"d":"-3.4"}]
["SK",{"$f":"Slovakia!Q$16","v":259},{"$f":"Slovakia!R$16","v":262},{"v":1.158301158301156,"d":"1.2"},null,{"$f":"Slovakia!Q$23","v":473},{"$f":"Slovakia!R$23","v":394},{"v":-16.701902748414376,"d":"-16.7"},null,{"$f":"Slovakia!Q$30","v":334},{"$f":"Slovakia!R$30","v":334},{"v":0,"d":"0.0"},null,{"$f":"Slovakia!Q$36","v":0},{"$f":"Slovakia!R$36","v":0},{"v":0,"d":"0.0"},null,{"$f":"+Slovakia!Q$39","v":16},{"$f":"+Slovakia!R$39","v":12},{"v":-25,"d":"-25.0"},null,{"$f":"R34+N34+J34+F34+B34","v":{"v":1082,"d":"1,082"}},{"v":1002,"d":"1,002"},{"v":-7.393715341959339,"d":"-7.4"}]
["SI",{"$f":"Slovenia!Q$16","v":114},{"$f":"Slovenia!R$16","v":129},{"v":13.157894736842103,"d":"13.2"},null,{"$f":"Slovenia!Q$23","v":141},{"$f":"Slovenia!R$23","v":113},{"v":-19.85815602836879,"d":"-19.9"},null,{"$f":"Slovenia!Q$30","v":232},{"$f":"Slovenia!R$30","v":233},{"v":0.4310344827586299,"d":"0.4"},null,{"$f":"Slovenia!Q$36","v":0},{"$f":"Slovenia!R$36","v":0},{"v":0,"d":"0.0"},null,{"$f":"Slovenia!Q$39","v":14},{"$f":"Slovenia!R$39","v":9},{"v":-35.71428571428571,"d":"-35.7"},null,{"$f":"R35+N35+J35+F35+B35","v":501},484,{"v":-3.3932135728542923,"d":"-3.4"}]
[]
["EUR 25 *",{"$f":"SUM(B14:B35)","v":{"v":38135,"d":"38,135"}},{"v":37867,"d":"37,867"},{"$f":"((C37/B37)-1)*100","v":{"v":-0.7027664874786899,"d":"-0.7"}},null,{"$f":"SUM(F14:F35)","v":{"v":47903,"d":"47,903"}},{"v":47222,"d":"47,222"},{"$f":"((G37/F37)-1)*100","v":{"v":-1.42162286286871,"d":"-1.4"}},null,{"$f":"SUM(J14:J35)","v":{"v":46753,"d":"46,753"}},{"v":45593,"d":"45,593"},{"$f":"((K37/J37)-1)*100","v":{"v":-2.481124205933305,"d":"-2.5"}},null,{"$f":"SUM(N14:N35)","v":{"v":1637,"d":"1,637"}},{"v":1672,"d":"1,672"},{"$f":"((O37/N37)-1)*100","v":{"v":2.138057422113615,"d":"2.1"}},null,{"$f":"SUM(R14:R35)","v":{"v":9000,"d":"9,000"}},{"v":8570,"d":"8,570"},{"$f":"((S37/R37)-1)*100","v":{"v":-4.77777777777778,"d":"-4.8"}},null,{"$f":"SUM(V14:V35)","v":{"v":143428,"d":"143,428"}},{"v":140924,"d":"140,924"},{"$f":"((W37/V37)-1)*100","v":{"v":-1.745823688540593,"d":"-1.7"}}]
[]
[null,null,{"$f":"SUM(C27:C35)","v":{"v":2110,"d":"2,110"}},{"$nulls":3},{"$f":"SUM(G27:G35)","v":{"v":5102,"d":"5,102"}},{"$nulls":3},{"$f":"SUM(K27:K35)","v":{"v":7040,"d":"7,040"}},{"$nulls":3},{"$f":"SUM(O27:O35)","v":10},{"$nulls":8}," "]
["* Sans le Luxembourg, la Grèce et Malte/Ohne Luxemburg, Griechenland und Malta/Without Luxemburg, Greece and Malta/Senza Lussemburgo, Ellas e Malta"]
[": non disponible/not available"]

{"sheet":"2005","index":32,"n_rows":98,"n_cols":16,"rows_kept":98,"merged":[[4,0,4,15],[5,0,5,15],[57,0,57,12],[58,0,58,12]]}
["2007-05-10"]
[]
["PRODUCTION INDUSTRIELLE D'ALIMENTS COMPOSES ",{"$nulls":14},"INDUSTRIELLE  MISCHFUTTERPRODUKTION"]
["PRODUZIONE INDUSTRIALE DI MANGIMI COMPOSTI",{"$nulls":14},"INDUSTRIAL COMPOUND PRODUCTION"]
[2005]
["definitif/final"]
[{"$nulls":15},"(1 000 t)"]
[]
["Catégories d'aliments composés/Mischfutterarten",null,"DE","FR","IT","NL","BE","UK","IE","DK","ES","PT","AT","SE","FI","EU-15"]
["Tipi di mangimi compositi/Types of feed",{"$nulls":14},"*"]
[]
[null,null," ",{"$nulls":4}," ",null,null," "]
["Bovins/Cattle/Bovini/Rinder",null,{"$f":"Germany!R16","v":{"v":5959,"d":"5,959"}},{"$f":"France!R16","v":{"v":4482,"d":"4,482"}},{"$f":"Italy!R16","v":{"v":4100,"d":"4,100"}},{"$f":"'The Netherlands'!R16","v":{"v":3178,"d":"3,178"}},{"$f":"Belgium!R16","v":{"v":1040,"d":"1,040"}},{"$f":"UK!R16","v":{"v":4435,"d":"4,435"}},{"$f":"Ireland!R16","v":{"v":1982,"d":"1,982"}},{"$f":"Denmark!R16","v":{"v":1090,"d":"1,090"}},{"$f":"Spain!R16","v":{"v":6197,"d":"6,197"}},{"$f":"Portugal!R16","v":{"v":1100,"d":"1,100"}},{"$f":"Austria!R16","v":352},{"$f":"Sweden!R16","v":{"v":1138,"d":"1,138"}},{"$f":"Finland!R16","v":704},{"$f":"SUM(C13:O13)","v":{"v":35757,"d":"35,757"}}]
["engrais/fattening/Mast  ",null,{"$f":"Germany!R17","v":519},{"$f":"France!R17","v":{"v":1369,"d":"1,369"}},{"$f":"Italy!R17","v":":"},{"$f":"'The Netherlands'!R17","v":262},{"$f":"Belgium!R17","v":333},{"$f":"UK!R17","v":{"v":1261,"d":"1,261"}},{"$f":"Ireland!R17","v":933},":",":",{"$f":"Portugal!R17","v":470},{"$f":"Austria!R17","v":":"},":",":",":"]
["VL/dairy cow/Milchkühe",null,{"$f":"Germany!R18","v":{"v":5132,"d":"5,132"}},{"$f":"France!R18","v":{"v":2699,"d":"2,699"}},{"$f":"Italy!R18","v":":"},{"$f":"'The Netherlands'!R18","v":{"v":2916,"d":"2,916"}},{"$f":"Belgium!R18","v":469},{"$f":"UK!R18","v":{"v":2922,"d":"2,922"}},{"$f":"Ireland!R18","v":797},{"$f":"Denmark!R18","v":734},":",{"$f":"Portugal!R18","v":520},{"$f":"Austria!R18","v":":"},":",{"$f":"Finland!R18","v":637},":"]
["veaux (aliments d'allaitement non compris)/calves ",null,{"$f":"Germany!R19","v":0},{"$f":"France!R19","v":0},{"$f":"Italy!R19","v":":"},{"$f":"'The Netherlands'!R19","v":":"},{"$f":"Belgium!R19","v":80},{"$f":"UK!R19","v":171},{"$f":"Ireland!R19","v":156},{"$f":"Denmark!R19","v":356},":",{"$f":"Portugal!R19","v":70},{"$f":"Austria!R19","v":":"},":",{"$f":"Finland!R19","v":67},":"]
["(excluding milk replacers)/Kälber (exkl. Milchaustauscher)"]
["autres/others/Andere",null,{"$f":"Germany!R20","v":308},{"$f":"France!R20","v":414},{"$f":"Italy!R20","v":":"},{"$f":"'The Netherlands'!R20","v":":"},{"$f":"Belgium!R20","v":158},{"$f":"UK!R20","v":81},{"$f":"Ireland!R20","v":96},{"$f":"Denmark!R20","v":":"},":",{"$f":"Portugal!R20","v":40},{"$f":"Austria!R20","v":":"},":",{"$f":"Finland!R20","v":0},":"]
[]
[]
["Porcins/Pigs/Suini/Schweine",null,{"$f":"Germany!R23","v":{"v":7479,"d":"7,479"}},{"$f":"France!R23","v":{"v":6452,"d":"6,452"}},{"$f":"Italy!R23","v":{"v":2900,"d":"2,900"}},{"$f":"'The Netherlands'!R23","v":{"v":5378,"d":"5,378"}},{"$f":"Belgium!R23","v":{"v":3425,"d":"3,425"}},{"$f":"UK!R23","v":{"v":1613,"d":"1,613"}},{"$f":"Ireland!R23","v":625},{"$f":"Denmark!R23","v":{"v":3471,"d":"3,471"}},{"$f":"Spain!R23","v":{"v":8713,"d":"8,713"}},{"$f":"Portugal!R23","v":{"v":1090,"d":"1,090"}},{"$f":"Austria!R23","v":202},{"$f":"Sweden!R23","v":413},{"$f":"Finland!R23","v":359},{"$f":"SUM(C21:O21)","v":{"v":42120,"d":"42,120"}}]
["porcelets/piglets/Ferkel",null,{"$f":"Germany!R24","v":{"v":1421,"d":"1,421"}},{"$f":"France!R24","v":806},{"$f":"Italy!R24","v":":"},{"$f":"'The Netherlands'!R24","v":689},{"$f":"Belgium!R24","v":786},{"$f":"UK!R24","v":108},{"$f":"Ireland!R24","v":82},{"$f":"Denmark!R24","v":678},":",{"$f":"Portugal!R24","v":171},{"$f":"Austria!R24","v":":"},":",{"$f":"Finland!R24","v":48},":"]
["porcs engrais/pigs for fattening/Mastschweine",null,{"$f":"Germany!R25","v":{"v":4263,"d":"4,263"}},{"$f":"France!R25","v":{"v":4497,"d":"4,497"}},{"$f":"Italy!R25","v":":"},{"$f":"'The Netherlands'!R25","v":{"v":3545,"d":"3,545"}},{"$f":"Belgium!R25","v":{"v":2639,"d":"2,639"}},{"$f":"UK!R25","v":{"v":1058,"d":"1,058"}},{"$f":"Ireland!R25","v":406},{"$f":"Denmark!R25","v":{"v":2077,"d":"2,077"}},":",{"$f":"Portugal!R25","v":670},{"$f":"Austria!R25","v":":"},":",{"$f":"Finland!R25","v":197},":"]
["reproducteurs/breeding pigs/Zuchtschweine",null,{"$f":"Germany!R26","v":{"v":1369,"d":"1,369"}},{"$f":"France!R26","v":{"v":1149,"d":"1,149"}},{"$f":"Italy!R26","v":":"},{"$f":"'The Netherlands'!R26","v":{"v":1144,"d":"1,144"}},{"$f":"Belgium!R26","v":":"},{"$f":"UK!R26","v":431},{"$f":"Ireland!R26","v":119},{"$f":"Denmark!R26","v":716},":",{"$f":"Portugal!R26","v":242},{"$f":"Austria!R26","v":":"},":",{"$f":"Finland!R26","v":60},":"]
["autres/others/Andere",null,{"$f":"Germany!R27","v":426},{"$f":"France!R27","v":0},{"$f":"Italy!R27","v":":"},{"$f":"'The Netherlands'!R27","v":":"},{"$f":"Belgium!R27","v":":"},{"$f":"UK!R27","v":16},{"$f":"Ireland!R27","v":18},{"$f":"Denmark!R27","v":":"},":",{"$f":"Portugal!R27","v":7},{"$f":"Austria!R27","v":":"},":",{"$f":"Finland!R27","v":54},":"]
[{"$nulls":4}," "]
[]
["Volaille/Poultry/Volatili/Geflügel",null,{"$f":"Germany!R30","v":{"v":5235,"d":"5,235"}},{"$f":"France!R30","v":{"v":8992,"d":"8,992"}},{"$f":"Italy!R30","v":{"v":5350,"d":"5,350"}},{"$f":"'The Netherlands'!R30","v":{"v":3426,"d":"3,426"}},{"$f":"Belgium!R30","v":{"v":1298,"d":"1,298"}},{"$f":"UK!R30","v":{"v":6277,"d":"6,277"}},{"$f":"Ireland!R30","v":491},{"$f":"Denmark!R30","v":614},{"$f":"Spain!R30","v":{"v":4351,"d":"4,351"}},{"$f":"Portugal!R30","v":{"v":1350,"d":"1,350"}},{"$f":"Austria!R30","v":384},{"$f":"Sweden!R30","v":488},{"$f":"Finland!R30","v":297},{"$f":"SUM(C28:O28)","v":{"v":38553,"d":"38,553"}}]
["broilers",null,{"$f":"Germany!R31","v":{"v":1683,"d":"1,683"}},{"$f":"France!R31","v":{"v":3280,"d":"3,280"}},{"$f":"Italy!R31","v":":"},{"$f":"'The Netherlands'!R31","v":{"v":1558,"d":"1,558"}},{"$f":"Belgium!R31","v":537},{"$f":"UK!R31","v":{"v":3496,"d":"3,496"}},":",{"$f":"Denmark!R31","v":305},":",{"$f":"Portugal!R31","v":797},{"$f":"Austria!R31","v":":"},":",{"$f":"Finland!R31","v":183},":"]
["poulettes & pondeuses/chicks & layers/Jung- & Legehennen",null,{"$f":"Germany!R32","v":{"v":2176,"d":"2,176"}},{"$f":"France!R32","v":{"v":2097,"d":"2,097"}},{"$f":"Italy!R32","v":":"},{"$f":"'The Netherlands'!R32","v":{"v":1868,"d":"1,868"}},{"$f":"Belgium!R32","v":528},{"$f":"UK!R32","v":{"v":1427,"d":"1,427"}},":",{"$f":"Denmark!R32","v":239},":",{"$f":"Portugal!R32","v":367},{"$f":"Austria!R32","v":":"},":",{"$f":"Finland!R32","v":66},":"]
["autres/others/Andere",null,{"$f":"Germany!R33","v":{"v":1376,"d":"1,376"}},{"$f":"France!R33","v":{"v":3615,"d":"3,615"}},{"$f":"Italy!R33","v":":"},{"$f":"'The Netherlands'!R33","v":":"},{"$f":"Belgium!R33","v":233},{"$f":"UK!R33","v":{"v":1354,"d":"1,354"}},":",{"$f":"Denmark!R33","v":70},":",{"$f":"Portugal!R33","v":186},{"$f":"Austria!R33","v":":"},":",{"$f":"Finland!R33","v":48},":"]
[]
[]
["Al. d'allait./Milk replacers/Sostit. del latte/Milchaust.",null,{"$f":"Germany!R36","v":141},{"$f":"France!R36","v":487},{"$f":"Italy!R36","v":175},{"$f":"'The Netherlands'!R36","v":728},{"$f":"Belgium!R36","v":102},{"$f":"UK!R36","v":15},{"$f":"Ireland!R36","v":8},{"$f":"Denmark!R36","v":0},{"$f":"Spain!R36","v":0},{"$f":"Portugal!R36","v":0},{"$f":"Austria!R36","v":0},{"$f":"Sweden!R36","v":6},{"$f":"Finland!R36","v":0},{"$f":"SUM(C34:O34)","v":{"v":1662,"d":"1,662"}}]
[]
[{"$nulls":4}," "]
["Autres/others/altri/Andere",null,{"$f":"Germany!R39","v":635},{"$f":"France!R39","v":{"v":1572,"d":"1,572"}},{"$f":"Italy!R39","v":975},{"$f":"'The Netherlands'!R39","v":269},{"$f":"Belgium!R39","v":129},{"$f":"UK!R39","v":{"v":1430,"d":"1,430"}},{"$f":"Ireland!R39","v":474},{"$f":"Denmark!R39","v":154},{"$f":"Spain!R39","v":{"v":1727,"d":"1,727"}},{"$f":"Portugal!R39","v":259},{"$f":"Austria!R39","v":80},{"$f":"Sweden!R39","v":52},{"$f":"Finland!R39","v":92},{"$f":"SUM(C37:O37)","v":{"v":7848,"d":"7,848"}}]
[]
[]
["TOTAL",null,{"$f":"C37+C34+C28+C21+C13","v":{"v":19449,"d":"19,449"}},{"v":21985,"d":"21,985"},{"v":13500,"d":"13,500"},{"v":12979,"d":"12,979"},{"v":5994,"d":"5,994"},{"v":13770,"d":"13,770"},{"v":3580,"d":"3,580"},{"v":5329,"d":"5,329"},{"v":20988,"d":"20,988"},{"v":3799,"d":"3,799"},{"v":1018,"d":"1,018"},{"v":2097,"d":"2,097"},{"v":1452,"d":"1,452"},{"v":125940,"d":"125,940"}]
[{"$nulls":5}," "]
[]
["* Sans le Luxembourg et la Grèce/ohne Luxemburg und Griechenland/Without Luxemburg and Greece/Senza Lussemburgo e Ella"]
[": non disponible/not available/nicht verfügbar"]
{"$rows_empty":9}
["2006-06-10"]
[]
["PRODUCTION INDUSTRIELLE D'ALIMENTS COMPOSES ",{"$nulls":11},"INDUSTRIELLE  MISCHFUTTERPRODUKTION"]
["PRODUZIONE INDUSTRIALE DI MANGIMI COMPOSTI",{"$nulls":11},"INDUSTRIAL COMPOUND PRODUCTION"]
[2005]
["definitif/final"]
[{"$nulls":12},"(1 000 t)"]
[]
["Catégories d'aliments composés/Mischfutterarten",null,"CY","CZ","EE","HU","LV","LT","PL","SK","SI","10NM","EU-25"]
["Tipi di mangimi compositi/Types of feed",{"$nulls":10},"**","***"]
[]
[null,null," ",{"$nulls":4}," ",null," "]
["Bovins/Cattle/Bovini/Rinder",null,{"$f":"Cyprus!R16","v":105},{"$f":"'Czech Rep'!R16","v":537},{"$f":"Estonia!R16","v":49},{"$f":"Hungary!R16","v":558},{"$f":"Latvia!R16","v":28},{"$f":"Lithuania!R16","v":21},{"$f":"Poland!R16","v":421},{"$f":"Slovakia!R16","v":262},{"$f":"Slovenia!R16","v":129},{"$f":"SUM(C66:K66)","v":{"v":2110,"d":"2,110"}},{"$f":"P13+L66","v":{"v":37867,"d":"37,867"}}]
["engrais/fattening/Mast  ",null,{"$f":"Cyprus!R17","v":":"},{"$f":"'Czech Rep'!R17","v":":"},{"$f":"Estonia!R17","v":":"},{"$f":"Hungary!R17","v":":"},{"$f":"Latvia!R17","v":":"},{"$f":"Lithuania!R17","v":2},{"$f":"Poland!R17","v":":"},{"$f":"Slovakia!R17","v":22},{"$f":"Slovenia!R17","v":113},":",":"]
["VL/dairy cow/Milchkühe",null,{"$f":"Cyprus!R18","v":":"},{"$f":"'Czech Rep'!R18","v":":"},{"$f":"Estonia!R18","v":":"},{"$f":"Hungary!R18","v":":"},{"$f":"Latvia!R18","v":":"},{"$f":"Lithuania!R18","v":9},{"$f":"Poland!R18","v":":"},{"$f":"Slovakia!R18","v":191},{"$f":"Slovenia!R18","v":11},":",":"]
["veaux (aliments d'allaitement non compris)/calves ",null,{"$f":"Cyprus!R19","v":":"},{"$f":"'Czech Rep'!R19","v":":"},{"$f":"Estonia!R19","v":":"},{"$f":"Hungary!R19","v":":"},{"$f":"Latvia!R19","v":":"},{"$f":"Lithuania!R19","v":9},{"$f":"Poland!R19","v":":"},{"$f":"Slovakia!R19","v":27},{"$f":"Slovenia!R19","v":3},":",":"]
["(excluding milk replacers)/Kälber (exkl. Milchaustauscher)"]
["autres/others/Andere",null,{"$f":"Cyprus!R20","v":":"},{"$f":"'Czech Rep'!R20","v":":"},{"$f":"Estonia!R20","v":":"},{"$f":"Hungary!R20","v":":"},{"$f":"Latvia!R20","v":":"},{"$f":"Lithuania!R20","v":1},{"$f":"Poland!R20","v":":"},{"$f":"Slovakia!R20","v":22},{"$f":"Slovenia!R20","v":2},":",":"]
[]
[]
["Porcins/Pigs/Suini/Schweine",null,{"$f":"Cyprus!R23","v":13},{"$f":"'Czech Rep'!R23","v":{"v":1199,"d":"1,199"}},{"$f":"Estonia!R23","v":116},{"$f":"Hungary!R23","v":{"v":1980,"d":"1,980"}},{"$f":"Latvia!R23","v":107},{"$f":"Lithuania!R23","v":98},{"$f":"Poland!R23","v":{"v":1082,"d":"1,082"}},{"$f":"Slovakia!R23","v":394},{"$f":"Slovenia!R23","v":113},{"$f":"SUM(C74:K74)","v":{"v":5102,"d":"5,102"}},{"$f":"P21+L74","v":{"v":47222,"d":"47,222"}}]
["porcelets/piglets/Ferkel",null,{"$f":"Cyprus!R24","v":":"},{"$f":"'Czech Rep'!R24","v":":"},{"$f":"Estonia!R24","v":":"},{"$f":"Hungary!R24","v":":"},{"$f":"Latvia!R24","v":":"},{"$f":"Lithuania!R24","v":30},{"$f":"Poland!R24","v":":"},{"$f":"Slovakia!R24","v":34},{"$f":"Slovenia!R24","v":6},":",":"]
["porcs engrais/pigs for fattening/Mastschweine",null,{"$f":"Cyprus!R25","v":":"},{"$f":"'Czech Rep'!R25","v":":"},{"$f":"Estonia!R25","v":":"},{"$f":"Hungary!R25","v":":"},{"$f":"Latvia!R25","v":":"},{"$f":"Lithuania!R25","v":48},{"$f":"Poland!R25","v":":"},{"$f":"Slovakia!R25","v":258},{"$f":"Slovenia!R25","v":105},":",":"]
["reproducteurs/breeding pigs/Zuchtschweine",null,{"$f":"Cyprus!R26","v":":"},{"$f":"'Czech Rep'!R26","v":":"},{"$f":"Estonia!R26","v":":"},{"$f":"Hungary!R26","v":":"},{"$f":"Latvia!R26","v":":"},{"$f":"Lithuania!R26","v":11},{"$f":"Poland!R26","v":":"},{"$f":"Slovakia!R26","v":22},{"$f":"Slovenia!R26","v":2},":",":"]
["autres/others/Andere",null,{"$f":"Cyprus!R27","v":":"},{"$f":"'Czech Rep'!R27","v":":"},{"$f":"Estonia!R27","v":":"},{"$f":"Hungary!R27","v":":"},{"$f":"Latvia!R27","v":":"},{"$f":"Lithuania!R27","v":9},{"$f":"Poland!R27","v":":"},{"$f":"Slovakia!R27","v":80},{"$f":"Slovenia!R27","v":0},":",":"]
[{"$nulls":4}," "]
[]
["Volaille/Poultry/Volatili/Geflügel",null,{"$f":"Cyprus!R30","v":63},{"$f":"'Czech Rep'!R30","v":905},{"$f":"Estonia!R30","v":54},{"$f":"Hungary!R30","v":{"v":1771,"d":"1,771"}},{"$f":"Latvia!R30","v":38},{"$f":"Lithuania!R30","v":168},{"$f":"Poland!R30","v":{"v":3474,"d":"3,474"}},{"$f":"Slovakia!R30","v":334},{"$f":"Slovenia!R30","v":233},{"$f":"SUM(C81:K81)","v":{"v":7040,"d":"7,040"}},{"$f":"P28+L81","v":{"v":45593,"d":"45,593"}}]
["broilers",null,{"$f":"Cyprus!R31","v":":"},{"$f":"'Czech Rep'!R31","v":":"},{"$f":"Estonia!R31","v":":"},{"$f":"Hungary!R31","v":":"},{"$f":"Latvia!R31","v":":"},{"$f":"Lithuania!R31","v":90},{"$f":"Poland!R31","v":":"},{"$f":"Slovakia!R31","v":209},{"$f":"Slovenia!R31","v":226},":",":"]
["poulettes & pondeuses/chicks & layers/Jung- & Legehennen",null,{"$f":"Cyprus!R32","v":":"},{"$f":"'Czech Rep'!R32","v":":"},{"$f":"Estonia!R32","v":":"},{"$f":"Hungary!R32","v":":"},{"$f":"Latvia!R32","v":":"},{"$f":"Lithuania!R32","v":76},{"$f":"Poland!R32","v":":"},{"$f":"Slovakia!R32","v":100},{"$f":"Slovenia!R32","v":7},":",":"]
["autres/others/Andere",null,{"$f":"Cyprus!R33","v":":"},{"$f":"'Czech Rep'!R33","v":":"},{"$f":"Estonia!R33","v":":"},{"$f":"Hungary!R33","v":":"},{"$f":"Latvia!R33","v":":"},{"$f":"Lithuania!R33","v":2},{"$f":"Poland!R33","v":":"},{"$f":"Slovakia!R33","v":25},{"$f":"Slovenia!R33","v":0},":",":"]
[]
[]
["Al. d'allait./Milk replacers/Sostit. del latte/Milchaust.",null,{"$f":"Cyprus!R36","v":0},{"$f":"'Czech Rep'!R36","v":5},{"$f":"Estonia!R36","v":1},{"$f":"Hungary!R36","v":0},{"$f":"Latvia!R36","v":0},{"$f":"Lithuania!R36","v":4},{"$f":"Poland!R36","v":0},{"$f":"Slovakia!R36","v":0},{"$f":"Slovenia!R36","v":0},{"$f":"SUM(C87:K87)","v":10},{"$f":"P34+L87","v":{"v":1672,"d":"1,672"}}]
[]
[{"$nulls":4}," "]
["Autres/others/altri/Andere",null,{"$f":"Cyprus!R39","v":100},{"$f":"'Czech Rep'!R39","v":85},{"$f":"Estonia!R39","v":3},{"$f":"Hungary!R39","v":191},{"$f":"Latvia!R39","v":17},{"$f":"Lithuania!R39","v":6},{"$f":"Poland!R39","v":299},{"$f":"Slovakia!R39","v":12},{"$f":"Slovenia!R39","v":9},{"$f":"SUM(C90:K90)","v":722},{"$f":"P37+L90","v":{"v":8570,"d":"8,570"}}]
[]
[]
["TOTAL",null,{"$f":"C90+C87+C81+C74+C66","v":281},{"v":2731,"d":"2,731"},223,{"v":4500,"d":"4,500"},190,297,{"v":5276,"d":"5,276"},{"v":1002,"d":"1,002"},484,{"v":14984,"d":"14,984"},{"v":140924,"d":"140,924"}]
[{"$nulls":5}," "]
[]
["** Sans Malte/Ohne Maltas/Without Malta/Senza Malta"]
["*** Sans le Luxembourg, la Grèce et Malte/Ohne Luxemburg, Griechenland und Maltas/Without Luxemburg, Greece and Malta/Senza Lussemburgo, Ellas e Malta"]
[": non disponible/not available/nicht verfügbar"]

{"sheet":"2005-06","index":33,"n_rows":41,"n_cols":24,"rows_kept":41}
["2007-05-10"]
[]
["PRODUCTION INDUSTRIELLE D'ALIMENTS COMPOSES",{"$nulls":22},"INDUSTRIELLE  MISCHFUTTERPRODUKTION"]
["PRODUZIONE INDUSTRIALE DI MANGIMI COMPOSTI",{"$nulls":11},"2005-2006",{"$nulls":10},"INDUSTRIAL COMPOUND PRODUCTION"]
[{"$nulls":12},"definitif/final",{"$nulls":10},"(1 000 t )"]
[]
[]
[]
["PAYS",null,"      BOVINS/RINDER",{"$nulls":3},"    PORCS/SCHWEINE",{"$nulls":3},"     VOLAILLE/GEFLÜGEL",null,"      A. ALLAITEMENT/MILCHAUST.",{"$nulls":5},"     AUTRES/ANDERE",null,null,"       TOTAL/INSGESAMT"]
["LAND",null,"      BOVINI/CATTLE",{"$nulls":3},"    SUINI/PIGS",{"$nulls":3},"     VOLATILI/POULTRY",null,"  SOSTIT. DEL LATTE/MILKREPLACERS",{"$nulls":5},"ALTRI ANIMALI/OTHERS",null,null,"          TOTALE/TOTAL"]
["PAESE"]
["COUNTRY",2005,2006,"%TAV",null,2005,2006,"%TAV",null,2005,2006,"%TAV",null,2005,2006,"%TAV",null,2005,2006,"%TAV",null,2005,2006,"%TAV"]
[]
["DE",{"$f":"Germany!R$16","v":{"v":5959,"d":"5,959"}},{"$f":"Germany!S$16","v":{"v":5970,"d":"5,970"}},{"$f":"((C14/B14)-1)*100","v":{"v":0.18459473065950416,"d":"0.2"}},null,{"$f":"Germany!R$23","v":{"v":7479,"d":"7,479"}},{"$f":"Germany!S$23","v":{"v":8142,"d":"8,142"}},{"$f":"((G14/F14)-1)*100","v":{"v":8.86482150020056,"d":"8.9"}},null,{"$f":"Germany!R$30","v":{"v":5235,"d":"5,235"}},{"$f":"Germany!S$30","v":{"v":5265,"d":"5,265"}},{"$f":"((K14/J14)-1)*100","v":{"v":0.5730659025787954,"d":"0.6"}},null,{"$f":"Germany!R$36","v":141},{"$f":"Germany!S$36","v":142},{"$f":"((O14/N14)-1)*100","v":{"v":0.7092198581560183,"d":"0.7"}},null,{"$f":"Germany!R$39","v":635},{"$f":"Germany!S$39","v":785},{"$f":"((S14/R14)-1)*100","v":{"v":23.62204724409449,"d":"23.6"}},null,{"$f":"R14+N14+J14+F14+B14","v":{"v":19449,"d":"19,449"}},{"v":20304,"d":"20,304"},{"$f":"((W14/V14)-1)*100","v":{"v":4.396112910689487,"d":"4.4"}}]
["FR",{"$f":"France!R$16","v":{"v":4482,"d":"4,482"}},{"$f":"France!S$16","v":{"v":4778,"d":"4,778"}},{"v":6.604194556001786,"d":"6.6"},null,{"$f":"France!R$23","v":{"v":6452,"d":"6,452"}},{"$f":"France!S$23","v":{"v":6302,"d":"6,302"}},{"v":-2.3248605083694973,"d":"-2.3"},null,{"$f":"France!R$30","v":{"v":8992,"d":"8,992"}},{"$f":"France!S$30","v":{"v":8491,"d":"8,491"}},{"v":-5.571619217081847,"d":"-5.6"},null,{"$f":"France!R36","v":487},{"$f":"France!S36","v":449},{"v":-7.802874743326493,"d":"-7.8"},null,{"$f":"France!R$39","v":{"v":1572,"d":"1,572"}},{"$f":"France!S$39","v":{"v":1565,"d":"1,565"}},{"v":-0.4452926208651453,"d":"-0.4"},null,{"$f":"R15+N15+J15+F15+B15","v":{"v":21985,"d":"21,985"}},{"v":21585,"d":"21,585"},{"v":-1.8194223334091375,"d":"-1.8"}]
["IT",{"$f":"Italy!R$16","v":{"v":4100,"d":"4,100"}},{"$f":"Italy!S$16","v":{"v":4155,"d":"4,155"}},{"v":1.3414634146341475,"d":"1.3"},null,{"$f":"Italy!R$23","v":{"v":2900,"d":"2,900"}},{"$f":"Italy!S$23","v":{"v":2980,"d":"2,980"}},{"v":2.758620689655178,"d":"2.8"},null,{"$f":"Italy!R$30","v":{"v":5350,"d":"5,350"}},{"$f":"Italy!S$30","v":{"v":4991,"d":"4,991"}},{"v":-6.710280373831779,"d":"-6.7"},null,{"$f":"Italy!R$36","v":175},{"$f":"Italy!S$36","v":170},{"v":-2.857142857142858,"d":"-2.9"},null,{"$f":"+Italy!R$39","v":975},{"$f":"+Italy!S$39","v":894},{"v":-8.307692307692305,"d":"-8.3"},null,{"$f":"R16+N16+J16+F16+B16","v":{"v":13500,"d":"13,500"}},{"v":13190,"d":"13,190"},{"v":-2.2962962962962963,"d":"-2.3"}]
["NL   ",{"$f":"'The Netherlands'!R$16","v":{"v":3178,"d":"3,178"}},{"$f":"'The Netherlands'!S$16","v":{"v":3140,"d":"3,140"}},{"v":-1.195720578980486,"d":"-1.2"},null,{"$f":"'The Netherlands'!R$23","v":{"v":5378,"d":"5,378"}},{"$f":"'The Netherlands'!S$23","v":{"v":5672,"d":"5,672"}},{"v":5.4667162513945655,"d":"5.5"},null,{"$f":"'The Netherlands'!R$30","v":{"v":3426,"d":"3,426"}},{"$f":"'The Netherlands'!S$30","v":{"v":3533,"d":"3,533"}},{"v":3.1231757151196637,"d":"3.1"},null,{"$f":"'The Netherlands'!R$36","v":728},{"$f":"'The Netherlands'!S$36","v":724},{"v":-0.5494505494505475,"d":"-0.5"},null,{"$f":"'The Netherlands'!R$39","v":269},{"$f":"'The Netherlands'!S$39","v":422},{"v":56.87732342007435,"d":"56.9"},null,{"$f":"R17+N17+J17+F17+B17","v":{"v":12979,"d":"12,979"}},{"v":13491,"d":"13,491"},{"v":3.9448339625548945,"d":"3.9"}]
["BE",{"$f":"Belgium!R$16","v":{"v":1040,"d":"1,040"}},{"$f":"Belgium!S$16","v":{"v":1091,"d":"1,091"}},{"v":4.903846153846159,"d":"4.9"},null,{"$f":"Belgium!R$23","v":{"v":3425,"d":"3,425"}},{"$f":"Belgium!S$23","v":{"v":3412,"d":"3,412"}},{"v":-0.37956204379562264,"d":"-0.4"},null,{"$f":"Belgium!R$30","v":{"v":1298,"d":"1,298"}},{"$f":"Belgium!S$30","v":{"v":1264,"d":"1,264"}},{"v":-2.6194144838212585,"d":"-2.6"},null,{"$f":"Belgium!R$36","v":102},{"$f":"Belgium!S$36","v":62},{"v":-39.21568627450981,"d":"-39.2"},null,{"$f":"Belgium!R$39","v":129},{"$f":"Belgium!S$39","v":129},{"v":0,"d":"0.0"},null,{"$f":"R18+N18+J18+F18+B18","v":{"v":5994,"d":"5,994"}},{"v":5958,"d":"5,958"},{"v":-0.6006006006005982,"d":"-0.6"}]
["UK ",{"$f":"UK!R$16","v":{"v":4435,"d":"4,435"}},{"$f":"UK!S$16","v":{"v":4785,"d":"4,785"}},{"v":7.891770011273946,"d":"7.9"},null,{"$f":"UK!R$23","v":{"v":1613,"d":"1,613"}},{"$f":"UK!S$23","v":{"v":1672,"d":"1,672"}},{"v":3.657780533168009,"d":"3.7"},null,{"$f":"UK!R$30","v":{"v":6277,"d":"6,277"}},{"$f":"UK!S$30","v":{"v":6113,"d":"6,113"}},{"v":-2.612713079496576,"d":"-2.6"},null,{"$f":"UK!R$36","v":15},{"$f":"UK!S$36","v":1},{"v":-93.33333333333333,"d":"-93.3"},null,{"$f":"UK!R$39","v":{"v":1430,"d":"1,430"}},{"$f":"UK!S$39","v":{"v":1544,"d":"1,544"}},{"v":7.972027972027962,"d":"8.0"},null,{"$f":"R19+N19+J19+F19+B19","v":{"v":13770,"d":"13,770"}},{"v":14115,"d":"14,115"},{"v":2.505446623093688,"d":"2.5"}]
["IE",{"$f":"Ireland!R$16","v":{"v":1982,"d":"1,982"}},{"$f":"Ireland!S$16","v":{"v":2315,"d":"2,315"}},{"v":16.80121089808275,"d":"16.8"},null,{"$f":"Ireland!R$23","v":625},{"$f":"Ireland!S$23","v":608},{"v":-2.72,"d":"-2.7"},null,{"$f":"Ireland!R$30","v":491},{"$f":"Ireland!S$30","v":454},{"v":-7.535641547861505,"d":"-7.5"},null,{"$f":"Ireland!R$36","v":8},{"$f":"Ireland!S$36","v":10},{"v":25,"d":"25.0"},null,{"$f":"Ireland!R$39","v":474},{"$f":"Ireland!S$39","v":531},{"v":12.0253164556962,"d":"12.0"},null,{"$f":"R20+N20+J20+F20+B20","v":{"v":3580,"d":"3,580"}},{"v":3918,"d":"3,918"},{"v":9.441340782122909,"d":"9.4"}]
["DK ",{"$f":"Denmark!R$16","v":{"v":1090,"d":"1,090"}},{"$f":"Denmark!S$16","v":{"v":1124,"d":"1,124"}},{"v":3.119266055045866,"d":"3.1"},null,{"$f":"Denmark!R$23","v":{"v":3471,"d":"3,471"}},{"$f":"Denmark!S$23","v":{"v":3329,"d":"3,329"}},{"v":-4.091040046096229,"d":"-4.1"},null,{"$f":"Denmark!R$30","v":614},{"$f":"Denmark!S$30","v":598},{"v":-2.6058631921824116,"d":"-2.6"},null,{"$f":"Denmark!R$36","v":0},{"$f":"Denmark!S$36","v":0},{"v":0,"d":"0.0"},null,{"$f":"Denmark!R$39","v":154},{"$f":"Denmark!S$39","v":155},{"v":0.6493506493506551,"d":"0.6"},null,{"$f":"R21+N21+J21+F21+B21","v":{"v":5329,"d":"5,329"}},{"v":5206,"d":"5,206"},{"v":-2.308125351848378,"d":"-2.3"}]
["ES",{"$f":"Spain!R$16","v":{"v":6197,"d":"6,197"}},{"$f":"Spain!S$16","v":{"v":4100,"d":"4,100"}},{"v":-33.83895433274164,"d":"-33.8"},null,{"$f":"Spain!R$23","v":{"v":8713,"d":"8,713"}},{"$f":"Spain!S$23","v":{"v":8935,"d":"8,935"}},{"v":2.5479169057729845,"d":"2.5"},null,{"$f":"Spain!R$30","v":{"v":4351,"d":"4,351"}},{"$f":"Spain!S$30","v":{"v":4547,"d":"4,547"}},{"v":4.504711560560781,"d":"4.5"},null,{"$f":"Spain!R$36","v":0},{"$f":"Spain!S$36","v":0},{"v":0,"d":"0.0"},null,{"$f":"Spain!R$39","v":{"v":1727,"d":"1,727"}},{"$f":"Spain!S$39","v":{"v":1636,"d":"1,636"}},{"v":-5.26925303995368,"d":"-5.3"},null,{"$f":"R22+N22+J22+F22+B22","v":{"v":20988,"d":"20,988"}},{"v":19218,"d":"19,218"},{"v":-8.433390508862203,"d":"-8.4"}]
["PT",{"$f":"Portugal!R$16","v":{"v":1100,"d":"1,100"}},{"$f":"Portugal!S$16","v":910},{"v":-17.272727272727273,"d":"-17.3"},null,{"$f":"Portugal!R$23","v":{"v":1090,"d":"1,090"}},{"$f":"Portugal!S$23","v":{"v":1025,"d":"1,025"}},{"v":-5.9633027522935755,"d":"-6.0"},null,{"$f":"Portugal!R$30","v":{"v":1350,"d":"1,350"}},{"$f":"Portugal!S$30","v":{"v":1280,"d":"1,280"}},{"v":-5.185185185185182,"d":"-5.2"},null,{"$f":"Portugal!R$36","v":0},{"$f":"Portugal!S$36","v":0},{"v":0,"d":"0.0"},null,{"$f":"Portugal!R$39","v":259},{"$f":"Portugal!S$39","v":225},{"v":-13.127413127413124,"d":"-13.1"},null,{"$f":"R23+N23+J23+F23+B23","v":{"v":3799,"d":"3,799"}},{"v":3440,"d":"3,440"},{"v":-9.449855225059222,"d":"-9.4"}]
["AT",{"$f":"Austria!R$16","v":352},{"$f":"Austria!S$16","v":390},{"v":10.795454545454541,"d":"10.8"},null,{"$f":"Austria!R$23","v":202},{"$f":"Austria!S$23","v":219},{"v":8.415841584158423,"d":"8.4"},null,{"$f":"Austria!R$30","v":384},{"$f":"Austria!S$30","v":387},{"v":0.78125,"d":"0.8"},null,{"$f":"Austria!R$36","v":0},{"$f":"Austria!S$36","v":0},{"v":0,"d":"0.0"},null,{"$f":"Austria!R$39","v":80},{"$f":"Austria!S$39","v":85},{"v":6.25,"d":"6.3"},null,{"$f":"R24+N24+J24+F24+B24","v":{"v":1018,"d":"1,018"}},{"v":1081,"d":"1,081"},{"v":6.188605108055012,"d":"6.2"}]
["SE",{"$f":"Sweden!R$16","v":{"v":1138,"d":"1,138"}},{"$f":"Sweden!S$16","v":{"v":1121,"d":"1,121"}},{"v":-1.493848857644986,"d":"-1.5"},null,{"$f":"Sweden!R$23","v":413},{"$f":"Sweden!S$23","v":385},{"v":-6.779661016949157,"d":"-6.8"},null,{"$f":"Sweden!R$30","v":488},{"$f":"Sweden!S$30","v":484},{"v":-0.8196721311475419,"d":"-0.8"},null,{"$f":"Sweden!R$36","v":6},{"$f":"Sweden!S$36","v":2},{"$f":"((O25/N25)-1)*100","v":{"v":-66.66666666666667,"d":"-66.7"}},null,{"$f":"Sweden!R$39","v":52},{"$f":"Sweden!S$39","v":65},{"v":25,"d":"25.0"},null,{"$f":"R25+N25+J25+F25+B25","v":{"v":2097,"d":"2,097"}},{"v":2057,"d":"2,057"},{"v":-1.907486886027654,"d":"-1.9"}]
["FI",{"$f":"Finland!R$16","v":704},{"$f":"Finland!S$16","v":671},{"v":-4.6875,"d":"-4.7"},null,{"$f":"Finland!R$23","v":359},{"$f":"Finland!S$23","v":360},{"v":0.278551532033422,"d":"0.3"},null,{"$f":"Finland!R$30","v":297},{"$f":"Finland!S$30","v":293},{"v":-1.3468013468013518,"d":"-1.3"},null,{"$f":"Finland!R$36","v":0},{"$f":"Finland!S$36","v":0},{"v":0,"d":"0.0"},null,{"$f":"Finland!R$39","v":92},{"$f":"Finland!S$39","v":93},{"v":1.0869565217391353,"d":"1.1"},null,{"$f":"R26+N26+J26+F26+B26","v":{"v":1452,"d":"1,452"}},{"v":1417,"d":"1,417"},{"v":-2.4104683195592336,"d":"-2.4"}]
["CY",{"$f":"Cyprus!R$16","v":105},{"$f":"Cyprus!S$16","v":107},{"v":1.904761904761898,"d":"1.9"},null,{"$f":"Cyprus!R$23","v":13},{"$f":"Cyprus!S$23","v":13},{"v":0,"d":"0.0"},null,{"$f":"Cyprus!R$30","v":63},{"$f":"Cyprus!S$30","v":65},{"v":3.1746031746031855,"d":"3.2"},null,{"$f":"Cyprus!R$36","v":0},{"$f":"Cyprus!S$36","v":0},{"v":0,"d":"0.0"},null,{"$f":"Cyprus!R$39","v":100},{"$f":"Cyprus!S$39","v":103},{"v":3.0000000000000027,"d":"3.0"},null,{"$f":"R27+N27+J27+F27+B27","v":281},288,{"v":2.491103202846978,"d":"2.5"}]
["CZ",{"$f":"'Czech Rep'!R$16","v":537},{"$f":"'Czech Rep'!S$16","v":540},{"v":0.5586592178770999,"d":"0.6"},null,{"$f":"'Czech Rep'!R$23","v":{"v":1199,"d":"1,199"}},{"$f":"'Czech Rep'!S$23","v":{"v":1243,"d":"1,243"}},{"v":3.669724770642202,"d":"3.7"},null,{"$f":"'Czech Rep'!R$30","v":905},{"$f":"'Czech Rep'!S$30","v":962},{"v":6.2983425414364635,"d":"6.3"},null,{"$f":"'Czech Rep'!R$36","v":5},{"$f":"'Czech Rep'!S$36","v":5},{"$f":"((O28/N28)-1)*100","v":{"v":0,"d":"0.0"}},null,{"$f":"'Czech Rep'!R$39","v":85},{"$f":"'Czech Rep'!S$39","v":89},{"v":4.705882352941182,"d":"4.7"},null,{"$f":"R28+N28+J28+F28+B28","v":{"v":2731,"d":"2,731"}},{"v":2839,"d":"2,839"},{"v":3.9545953863053818,"d":"4.0"}]
["EE",{"$f":"Estonia!R$16","v":49},{"$f":"Estonia!S$16","v":42},{"v":-14.28571428571429,"d":"-14.3"},null,{"$f":"Estonia!R$23","v":116},{"$f":"Estonia!S$23","v":118},{"v":1.724137931034475,"d":"1.7"},null,{"$f":"Estonia!R$30","v":54},{"$f":"Estonia!S$30","v":49},{"v":-9.259259259259256,"d":"-9.3"},null,{"$f":"Estonia!R$36","v":1},{"$f":"Estonia!S$36","v":1},{"v":0,"d":"0.0"},null,{"$f":"Estonia!R$39","v":3},{"$f":"Estonia!S$39","v":2},{"v":-33.333333333333336,"d":"-33.3"},null,{"$f":"R29+N29+J29+F29+B29","v":223},212,{"v":-4.932735426008971,"d":"-4.9"}]
["HU",{"$f":"Hungary!R$16","v":558},{"$f":"Hungary!S$16","v":552},{"v":-1.0752688172043001,"d":"-1.1"},null,{"$f":"Hungary!R$23","v":{"v":1980,"d":"1,980"}},{"$f":"Hungary!S$23","v":{"v":2039,"d":"2,039"}},{"v":2.9797979797979712,"d":"3.0"},null,{"$f":"Hungary!R$30","v":{"v":1771,"d":"1,771"}},{"$f":"Hungary!S$30","v":{"v":1683,"d":"1,683"}},{"v":-4.968944099378881,"d":"-5.0"},null,{"$f":"Hungary!R$36","v":0},{"$f":"Hungary!S$36","v":0},{"v":0,"d":"0.0"},null,{"$f":"Hungary!R$39","v":191},{"$f":"Hungary!S$39","v":182},{"v":-4.712041884816753,"d":"-4.7"},null,{"$f":"R30+N30+J30+F30+B30","v":{"v":4500,"d":"4,500"}},{"v":4456,"d":"4,456"},{"v":-0.9777777777777774,"d":"-1.0"}]
["LV",{"$f":"Latvia!R$16","v":28},{"$f":"Latvia!S$16","v":47},{"v":67.85714285714286,"d":"67.9"},null,{"$f":"Latvia!R$23","v":107},{"$f":"Latvia!S$23","v":105},{"v":-1.869158878504673,"d":"-1.9"},null,{"$f":"Latvia!R$30","v":38},{"$f":"Latvia!S$30","v":37},{"v":-2.631578947368418,"d":"-2.6"},null,{"$f":"Latvia!R$36","v":0},{"$f":"Latvia!S$36","v":0},{"v":0,"d":"0.0"},null,{"$f":"Latvia!R$39","v":17},{"$f":"Latvia!S$39","v":18},{"v":5.882352941176472,"d":"5.9"},null,{"$f":"R31+N31+J31+F31+B31","v":190},207,{"v":8.947368421052637,"d":"8.9"}]
["LT",{"$f":"Lithuania!R$16","v":21},{"$f":"Lithuania!S$16","v":45},{"v":114.28571428571428,"d":"114.3"},null,{"$f":"Lithuania!R$23","v":98},{"$f":"Lithuania!S$23","v":117},{"v":19.387755102040828,"d":"19.4"},null,{"$f":"Lithuania!R$30","v":168},{"$f":"Lithuania!S$30","v":173},{"v":2.9761904761904656,"d":"3.0"},null,{"$f":"Lithuania!R$36","v":4},{"$f":"Lithuania!S$36","v":5},{"$f":"((O32/N32)-1)*100","v":{"v":25,"d":"25.0"}},null,{"$f":"Lithuania!R$39","v":6},{"$f":"Lithuania!S$39","v":12},{"v":100,"d":"100.0"},null,{"$f":"R32+N32+J32+F32+B32","v":297},352,{"v":18.518518518518512,"d":"18.5"}]
["PL",{"$f":"Poland!R$16","v":421},{"$f":"Poland!S$16","v":551},{"v":30.878859857482176,"d":"30.9"},null,{"$f":"Poland!R$23","v":{"v":1082,"d":"1,082"}},{"$f":"Poland!S$23","v":{"v":1653,"d":"1,653"}},{"v":52.77264325323474,"d":"52.8"},null,{"$f":"Poland!R$30","v":{"v":3474,"d":"3,474"}},{"$f":"Poland!S$30","v":{"v":3815,"d":"3,815"}},{"v":9.815774323546345,"d":"9.8"},null,{"$f":"Poland!R$36","v":0},{"$f":"Poland!S$36","v":0},{"v":0,"d":"0.0"},null,{"$f":"Poland!R$39","v":299},{"$f":"Poland!S$39","v":322},{"v":7.692307692307687,"d":"7.7"},null,{"$f":"R33+N33+J33+F33+B33","v":{"v":5276,"d":"5,276"}},{"v":6341,"d":"6,341"},{"v":20.185746777862022,"d":"20.2"}]
["SK",{"$f":"Slovakia!R$16","v":262},{"$f":"Slovakia!S$16","v":274},{"v":4.580152671755733,"d":"4.6"},null,{"$f":"Slovakia!R$23","v":394},{"$f":"Slovakia!S$23","v":422},{"v":7.106598984771573,"d":"7.1"},null,{"$f":"Slovakia!R$30","v":334},{"$f":"Slovakia!S$30","v":358},{"v":7.18562874251496,"d":"7.2"},null,{"$f":"Slovakia!R$36","v":0},{"$f":"Slovakia!S$36","v":0},{"v":0,"d":"0.0"},null,{"$f":"+Slovakia!R$39","v":12},{"$f":"+Slovakia!S$39","v":15},{"v":25,"d":"25.0"},null,{"$f":"R34+N34+J34+F34+B34","v":{"v":1002,"d":"1,002"}},{"v":1069,"d":"1,069"},{"v":6.686626746506996,"d":"6.7"}]
["SI",{"$f":"Slovenia!R$16","v":129},{"$f":"Slovenia!S$16","v":130},{"v":0.7751937984496138,"d":"0.8"},null,{"$f":"Slovenia!R$23","v":113},{"$f":"Slovenia!S$23","v":110},{"v":-2.6548672566371723,"d":"-2.7"},null,{"$f":"Slovenia!R$30","v":233},{"$f":"Slovenia!S$30","v":225},{"v":-3.433476394849788,"d":"-3.4"},null,{"$f":"Slovenia!R$36","v":0},{"$f":"Slovenia!S$36","v":0},{"v":0,"d":"0.0"},null,{"$f":"Slovenia!R$39","v":9},{"$f":"Slovenia!S$39","v":9},{"v":0,"d":"0.0"},null,{"$f":"R35+N35+J35+F35+B35","v":484},474,{"v":-2.066115702479343,"d":"-2.1"}]
[]
["EUR 25 *",{"$f":"SUM(B14:B35)","v":{"v":37867,"d":"37,867"}},{"v":36838,"d":"36,838"},{"$f":"((C37/B37)-1)*100","v":{"v":-2.717405656640348,"d":"-2.7"}},null,{"$f":"SUM(F14:F35)","v":{"v":47222,"d":"47,222"}},{"v":48861,"d":"48,861"},{"$f":"((G37/F37)-1)*100","v":{"v":3.470839862775832,"d":"3.5"}},null,{"$f":"SUM(J14:J35)","v":{"v":45593,"d":"45,593"}},{"v":45067,"d":"45,067"},{"$f":"((K37/J37)-1)*100","v":{"v":-1.153685872831356,"d":"-1.2"}},null,{"$f":"SUM(N14:N35)","v":{"v":1672,"d":"1,672"}},{"v":1571,"d":"1,571"},{"$f":"((O37/N37)-1)*100","v":{"v":-6.040669856459335,"d":"-6.0"}},null,{"$f":"SUM(R14:R35)","v":{"v":8570,"d":"8,570"}},{"v":8881,"d":"8,881"},{"$f":"((S37/R37)-1)*100","v":{"v":3.6289381563593848,"d":"3.6"}},null,{"$f":"SUM(V14:V35)","v":{"v":140924,"d":"140,924"}},{"v":141218,"d":"141,218"},{"$f":"((W37/V37)-1)*100","v":{"v":0.20862308762170656,"d":"0.2"}}]
[]
[{"$nulls":23}," "]
["* Sans le Luxembourg, la Grèce et Malte/Ohne Luxemburg, Griechenland und Malta/Without Luxemburg, Greece and Malta/Senza Lussemburgo, Ellas e Malta"]
[": non disponible/not available"]

{"sheet":"2006","index":34,"n_rows":98,"n_cols":16,"rows_kept":98,"merged":[[4,0,4,15],[5,0,5,15],[57,0,57,12],[58,0,58,12]]}
["2008-05-15"]
[]
["PRODUCTION INDUSTRIELLE D'ALIMENTS COMPOSES ",{"$nulls":14},"INDUSTRIELLE  MISCHFUTTERPRODUKTION"]
["PRODUZIONE INDUSTRIALE DI MANGIMI COMPOSTI",{"$nulls":14},"INDUSTRIAL COMPOUND PRODUCTION"]
[2006]
["definitif/final"]
[{"$nulls":15},"(1 000 t)"]
[]
["Catégories d'aliments composés/Mischfutterarten",null,"DE","FR","IT","NL","BE","UK","IE","DK","ES","PT","AT","SE","FI","EU-15"]
["Tipi di mangimi compositi/Types of feed",{"$nulls":14},"*"]
[]
[null,null," ",{"$nulls":4}," ",null,null," "]
["Bovins/Cattle/Bovini/Rinder",null,{"$f":"Germany!S16","v":{"v":5970,"d":"5,970"}},{"$f":"France!S16","v":{"v":4778,"d":"4,778"}},{"$f":"Italy!S16","v":{"v":4155,"d":"4,155"}},{"$f":"'The Netherlands'!S16","v":{"v":3140,"d":"3,140"}},{"$f":"Belgium!S16","v":{"v":1091,"d":"1,091"}},{"$f":"UK!S16","v":{"v":4785,"d":"4,785"}},{"$f":"Ireland!S16","v":{"v":2315,"d":"2,315"}},{"$f":"Denmark!S16","v":{"v":1124,"d":"1,124"}},{"$f":"Spain!S16","v":{"v":4100,"d":"4,100"}},{"$f":"Portugal!S16","v":910},{"$f":"Austria!S16","v":390},{"$f":"Sweden!S16","v":{"v":1121,"d":"1,121"}},{"$f":"Finland!S16","v":671},{"$f":"SUM(C13:O13)","v":{"v":34550,"d":"34,550"}}]
["engrais/fattening/Mast  ",null,{"$f":"Germany!S17","v":521},{"$f":"France!S17","v":{"v":1494,"d":"1,494"}},{"$f":"Italy!S17","v":":"},{"$f":"'The Netherlands'!S17","v":259},{"$f":"Belgium!S17","v":333},{"$f":"UK!S17","v":{"v":1378,"d":"1,378"}},{"$f":"Ireland!S17","v":0},":",":",{"$f":"Portugal!S17","v":360},{"$f":"Austria!S17","v":":"},":",":",":"]
["VL/dairy cow/Milchkühe",null,{"$f":"Germany!S18","v":{"v":5173,"d":"5,173"}},{"$f":"France!S18","v":{"v":2809,"d":"2,809"}},{"$f":"Italy!S18","v":":"},{"$f":"'The Netherlands'!S18","v":{"v":2881,"d":"2,881"}},{"$f":"Belgium!S18","v":494},{"$f":"UK!S18","v":{"v":3141,"d":"3,141"}},{"$f":"Ireland!S18","v":0},{"$f":"Denmark!S18","v":736},":",{"$f":"Portugal!S18","v":454},{"$f":"Austria!S18","v":":"},":",{"$f":"Finland!S18","v":612},":"]
["veaux (aliments d'allaitement non compris)/calves ",null,{"$f":"Germany!S19","v":0},{"$f":"France!S19","v":0},{"$f":"Italy!S19","v":":"},{"$f":"'The Netherlands'!S19","v":":"},{"$f":"Belgium!S19","v":85},{"$f":"UK!S19","v":191},{"$f":"Ireland!S19","v":0},{"$f":"Denmark!S19","v":388},":",{"$f":"Portugal!S19","v":61},{"$f":"Austria!S19","v":":"},":",{"$f":"Finland!S19","v":59},":"]
["(excluding milk replacers)/Kälber (exkl. Milchaustauscher)"]
["autres/others/Andere",null,{"$f":"Germany!S20","v":276},{"$f":"France!S20","v":475},{"$f":"Italy!S20","v":":"},{"$f":"'The Netherlands'!S20","v":":"},{"$f":"Belgium!S20","v":179},{"$f":"UK!S20","v":75},{"$f":"Ireland!S20","v":0},{"$f":"Denmark!S20","v":":"},":",{"$f":"Portugal!S20","v":35},{"$f":"Austria!S20","v":":"},":",{"$f":"Finland!S20","v":0},":"]
[]
[]
["Porcins/Pigs/Suini/Schweine",null,{"$f":"Germany!S23","v":{"v":8142,"d":"8,142"}},{"$f":"France!S23","v":{"v":6302,"d":"6,302"}},{"$f":"Italy!S23","v":{"v":2980,"d":"2,980"}},{"$f":"'The Netherlands'!S23","v":{"v":5672,"d":"5,672"}},{"$f":"Belgium!S23","v":{"v":3412,"d":"3,412"}},{"$f":"UK!S23","v":{"v":1672,"d":"1,672"}},{"$f":"Ireland!S23","v":608},{"$f":"Denmark!S23","v":{"v":3329,"d":"3,329"}},{"$f":"Spain!S23","v":{"v":8935,"d":"8,935"}},{"$f":"Portugal!S23","v":{"v":1025,"d":"1,025"}},{"$f":"Austria!S23","v":219},{"$f":"Sweden!S23","v":385},{"$f":"Finland!S23","v":360},{"$f":"SUM(C21:O21)","v":{"v":43041,"d":"43,041"}}]
["porcelets/piglets/Ferkel",null,{"$f":"Germany!S24","v":{"v":1628,"d":"1,628"}},{"$f":"France!S24","v":784},{"$f":"Italy!S24","v":":"},{"$f":"'The Netherlands'!S24","v":758},{"$f":"Belgium!S24","v":772},{"$f":"UK!S24","v":95},{"$f":"Ireland!S24","v":0},{"$f":"Denmark!S24","v":643},":",{"$f":"Portugal!S24","v":158},{"$f":"Austria!S24","v":":"},":",{"$f":"Finland!S24","v":49},":"]
["porcs engrais/pigs for fattening/Mastschweine",null,{"$f":"Germany!S25","v":{"v":4885,"d":"4,885"}},{"$f":"France!S25","v":{"v":4388,"d":"4,388"}},{"$f":"Italy!S25","v":":"},{"$f":"'The Netherlands'!S25","v":{"v":3698,"d":"3,698"}},{"$f":"Belgium!S25","v":{"v":2640,"d":"2,640"}},{"$f":"UK!S25","v":{"v":1111,"d":"1,111"}},{"$f":"Ireland!S25","v":0},{"$f":"Denmark!S25","v":{"v":1973,"d":"1,973"}},":",{"$f":"Portugal!S25","v":630},{"$f":"Austria!S25","v":":"},":",{"$f":"Finland!S25","v":198},":"]
["reproducteurs/breeding pigs/Zuchtschweine",null,{"$f":"Germany!S26","v":{"v":1222,"d":"1,222"}},{"$f":"France!S26","v":{"v":1130,"d":"1,130"}},{"$f":"Italy!S26","v":":"},{"$f":"'The Netherlands'!S26","v":{"v":1216,"d":"1,216"}},{"$f":"Belgium!S26","v":":"},{"$f":"UK!S26","v":447},{"$f":"Ireland!S26","v":0},{"$f":"Denmark!S26","v":713},":",{"$f":"Portugal!S26","v":233},{"$f":"Austria!S26","v":":"},":",{"$f":"Finland!S26","v":59},":"]
["autres/others/Andere",null,{"$f":"Germany!S27","v":407},{"$f":"France!S27","v":0},{"$f":"Italy!S27","v":":"},{"$f":"'The Netherlands'!S27","v":":"},{"$f":"Belgium!S27","v":":"},{"$f":"UK!S27","v":19},{"$f":"Ireland!S27","v":0},{"$f":"Denmark!S27","v":":"},":",{"$f":"Portugal!S27","v":4},{"$f":"Austria!S27","v":":"},":",{"$f":"Finland!S27","v":54},":"]
[{"$nulls":4}," "]
[]
["Volaille/Poultry/Volatili/Geflügel",null,{"$f":"Germany!S30","v":{"v":5265,"d":"5,265"}},{"$f":"France!S30","v":{"v":8491,"d":"8,491"}},{"$f":"Italy!S30","v":{"v":4991,"d":"4,991"}},{"$f":"'The Netherlands'!S30","v":{"v":3533,"d":"3,533"}},{"$f":"Belgium!S30","v":{"v":1264,"d":"1,264"}},{"$f":"UK!S30","v":{"v":6113,"d":"6,113"}},{"$f":"Ireland!S30","v":454},{"$f":"Denmark!S30","v":598},{"$f":"Spain!S30","v":{"v":4547,"d":"4,547"}},{"$f":"Portugal!S30","v":{"v":1280,"d":"1,280"}},{"$f":"Austria!S30","v":387},{"$f":"Sweden!S30","v":484},{"$f":"Finland!S30","v":293},{"$f":"SUM(C28:O28)","v":{"v":37700,"d":"37,700"}}]
["broilers",null,{"$f":"Germany!S31","v":{"v":1690,"d":"1,690"}},{"$f":"France!S31","v":{"v":2954,"d":"2,954"}},{"$f":"Italy!S31","v":":"},{"$f":"'The Netherlands'!S31","v":{"v":1526,"d":"1,526"}},{"$f":"Belgium!S31","v":566},{"$f":"UK!S31","v":{"v":3418,"d":"3,418"}},":",{"$f":"Denmark!S31","v":198},":",{"$f":"Portugal!S31","v":750},{"$f":"Austria!S31","v":":"},":",{"$f":"Finland!S31","v":189},":"]
["poulettes & pondeuses/chicks & layers/Jung- & Legehennen",null,{"$f":"Germany!S32","v":{"v":2196,"d":"2,196"}},{"$f":"France!S32","v":{"v":2045,"d":"2,045"}},{"$f":"Italy!S32","v":":"},{"$f":"'The Netherlands'!S32","v":{"v":2007,"d":"2,007"}},{"$f":"Belgium!S32","v":472},{"$f":"UK!S32","v":{"v":1543,"d":"1,543"}},":",{"$f":"Denmark!S32","v":326},":",{"$f":"Portugal!S32","v":350},{"$f":"Austria!S32","v":":"},":",{"$f":"Finland!S32","v":64},":"]
["autres/others/Andere",null,{"$f":"Germany!S33","v":{"v":1379,"d":"1,379"}},{"$f":"France!S33","v":{"v":3492,"d":"3,492"}},{"$f":"Italy!S33","v":":"},{"$f":"'The Netherlands'!S33","v":":"},{"$f":"Belgium!S33","v":226},{"$f":"UK!S33","v":{"v":1152,"d":"1,152"}},":",{"$f":"Denmark!S33","v":74},":",{"$f":"Portugal!S33","v":180},{"$f":"Austria!S33","v":":"},":",{"$f":"Finland!S33","v":40},":"]
[]
[]
["Al. d'allait./Milk replacers/Sostit. del latte/Milchaust.",null,{"$f":"Germany!S36","v":142},{"$f":"France!S36","v":449},{"$f":"Italy!S36","v":170},{"$f":"'The Netherlands'!S36","v":724},{"$f":"Belgium!S36","v":62},{"$f":"UK!S36","v":1},{"$f":"Ireland!S36","v":10},{"$f":"Denmark!S36","v":0},{"$f":"Spain!S36","v":0},{"$f":"Portugal!S36","v":0},{"$f":"Austria!S36","v":0},{"$f":"Sweden!S36","v":2},{"$f":"Finland!S36","v":0},{"$f":"SUM(C34:O34)","v":{"v":1560,"d":"1,560"}}]
[]
[{"$nulls":4}," "]
["Autres/others/altri/Andere",null,{"$f":"Germany!S39","v":785},{"$f":"France!S39","v":{"v":1565,"d":"1,565"}},{"$f":"Italy!S39","v":894},{"$f":"'The Netherlands'!S39","v":422},{"$f":"Belgium!S39","v":129},{"$f":"UK!S39","v":{"v":1544,"d":"1,544"}},{"$f":"Ireland!S39","v":531},{"$f":"Denmark!S39","v":155},{"$f":"Spain!S39","v":{"v":1636,"d":"1,636"}},{"$f":"Portugal!S39","v":225},{"$f":"Austria!S39","v":85},{"$f":"Sweden!S39","v":65},{"$f":"Finland!S39","v":93},{"$f":"SUM(C37:O37)","v":{"v":8129,"d":"8,129"}}]
[]
[]
["TOTAL",null,{"$f":"C37+C34+C28+C21+C13","v":{"v":20304,"d":"20,304"}},{"v":21585,"d":"21,585"},{"v":13190,"d":"13,190"},{"v":13491,"d":"13,491"},{"v":5958,"d":"5,958"},{"v":14115,"d":"14,115"},{"v":3918,"d":"3,918"},{"v":5206,"d":"5,206"},{"v":19218,"d":"19,218"},{"v":3440,"d":"3,440"},{"v":1081,"d":"1,081"},{"v":2057,"d":"2,057"},{"v":1417,"d":"1,417"},{"v":124980,"d":"124,980"}]
[{"$nulls":5}," "]
[]
["* Sans le Luxembourg et la Grèce/ohne Luxemburg und Griechenland/Without Luxemburg and Greece/Senza Lussemburgo e Ella"]
[": non disponible/not available/nicht verfügbar"]
{"$rows_empty":9}
["2006-06-10"]
[]
["PRODUCTION INDUSTRIELLE D'ALIMENTS COMPOSES ",{"$nulls":11},"INDUSTRIELLE  MISCHFUTTERPRODUKTION"]
["PRODUZIONE INDUSTRIALE DI MANGIMI COMPOSTI",{"$nulls":11},"INDUSTRIAL COMPOUND PRODUCTION"]
["definitif/final"]
["estimations/estimates"]
[{"$nulls":12},"(1 000 t)"]
[]
["Catégories d'aliments composés/Mischfutterarten",null,"CY","CZ","EE","HU","LV","LT","PL","SK","SI","10NM","EU-25"]
["Tipi di mangimi compositi/Types of feed",{"$nulls":10},"**","***"]
[]
[null,null," ",{"$nulls":4}," ",null," "]
["Bovins/Cattle/Bovini/Rinder",null,{"$f":"Cyprus!S16","v":107},{"$f":"'Czech Rep'!S16","v":540},{"$f":"Estonia!S16","v":42},{"$f":"Hungary!S16","v":552},{"$f":"Latvia!S16","v":47},{"$f":"Lithuania!S16","v":45},{"$f":"Poland!S16","v":551},{"$f":"Slovakia!S16","v":274},{"$f":"Slovenia!S16","v":130},{"$f":"SUM(C66:K66)","v":{"v":2288,"d":"2,288"}},{"$f":"P13+L66","v":{"v":36838,"d":"36,838"}}]
["engrais/fattening/Mast  ",null,{"$f":"Cyprus!S17","v":":"},{"$f":"'Czech Rep'!S17","v":":"},{"$f":"Estonia!S17","v":":"},{"$f":"Hungary!S17","v":":"},{"$f":"Latvia!S17","v":":"},{"$f":"Lithuania!S17","v":2},{"$f":"Poland!S17","v":":"},{"$f":"Slovakia!S17","v":24},":",":",":"]
["VL/dairy cow/Milchkühe",null,{"$f":"Cyprus!S18","v":":"},{"$f":"'Czech Rep'!S18","v":":"},{"$f":"Estonia!S18","v":":"},{"$f":"Hungary!S18","v":":"},{"$f":"Latvia!S18","v":":"},{"$f":"Lithuania!S18","v":29},{"$f":"Poland!S18","v":":"},{"$f":"Slovakia!S18","v":199},":",":",":"]
["veaux (aliments d'allaitement non compris)/calves ",null,{"$f":"Cyprus!S19","v":":"},{"$f":"'Czech Rep'!S19","v":":"},{"$f":"Estonia!S19","v":":"},{"$f":"Hungary!S19","v":":"},{"$f":"Latvia!S19","v":":"},{"$f":"Lithuania!S19","v":13},{"$f":"Poland!S19","v":":"},{"$f":"Slovakia!S19","v":27},":",":",":"]
["(excluding milk replacers)/Kälber (exkl. Milchaustauscher)"]
["autres/others/Andere",null,{"$f":"Cyprus!S20","v":":"},{"$f":"'Czech Rep'!S20","v":":"},{"$f":"Estonia!S20","v":":"},{"$f":"Hungary!S20","v":":"},{"$f":"Latvia!S20","v":":"},{"$f":"Lithuania!S20","v":1},{"$f":"Poland!S20","v":":"},{"$f":"Slovakia!S20","v":24},":",":",":"]
[]
[]
["Porcins/Pigs/Suini/Schweine",null,{"$f":"Cyprus!S23","v":13},{"$f":"'Czech Rep'!S23","v":{"v":1243,"d":"1,243"}},{"$f":"Estonia!S23","v":118},{"$f":"Hungary!S23","v":{"v":2039,"d":"2,039"}},{"$f":"Latvia!S23","v":105},{"$f":"Lithuania!S23","v":117},{"$f":"Poland!S23","v":{"v":1653,"d":"1,653"}},{"$f":"Slovakia!S23","v":422},{"$f":"Slovenia!S23","v":110},{"$f":"SUM(C74:K74)","v":{"v":5820,"d":"5,820"}},{"$f":"P21+L74","v":{"v":48861,"d":"48,861"}}]
["porcelets/piglets/Ferkel",null,{"$f":"Cyprus!S24","v":":"},{"$f":"'Czech Rep'!S24","v":":"},{"$f":"Estonia!S24","v":":"},{"$f":"Hungary!S24","v":":"},{"$f":"Latvia!S24","v":":"},{"$f":"Lithuania!S24","v":20},{"$f":"Poland!S24","v":":"},{"$f":"Slovakia!S24","v":36},":",":",":"]
["porcs engrais/pigs for fattening/Mastschweine",null,{"$f":"Cyprus!S25","v":":"},{"$f":"'Czech Rep'!S25","v":":"},{"$f":"Estonia!S25","v":":"},{"$f":"Hungary!S25","v":":"},{"$f":"Latvia!S25","v":":"},{"$f":"Lithuania!S25","v":63},{"$f":"Poland!S25","v":":"},{"$f":"Slovakia!S25","v":279},":",":",":"]
["reproducteurs/breeding pigs/Zuchtschweine",null,{"$f":"Cyprus!S26","v":":"},{"$f":"'Czech Rep'!S26","v":":"},{"$f":"Estonia!S26","v":":"},{"$f":"Hungary!S26","v":":"},{"$f":"Latvia!S26","v":":"},{"$f":"Lithuania!S26","v":19},{"$f":"Poland!S26","v":":"},{"$f":"Slovakia!S26","v":24},":",":",":"]
["autres/others/Andere",null,{"$f":"Cyprus!S27","v":":"},{"$f":"'Czech Rep'!S27","v":":"},{"$f":"Estonia!S27","v":":"},{"$f":"Hungary!S27","v":":"},{"$f":"Latvia!S27","v":":"},{"$f":"Lithuania!S27","v":15},{"$f":"Poland!S27","v":":"},{"$f":"Slovakia!S27","v":83},":",":",":"]
[{"$nulls":4}," "]
[]
["Volaille/Poultry/Volatili/Geflügel",null,{"$f":"Cyprus!S30","v":65},{"$f":"'Czech Rep'!S30","v":962},{"$f":"Estonia!S30","v":49},{"$f":"Hungary!S30","v":{"v":1683,"d":"1,683"}},{"$f":"Latvia!S30","v":37},{"$f":"Lithuania!S30","v":173},{"$f":"Poland!S30","v":{"v":3815,"d":"3,815"}},{"$f":"Slovakia!S30","v":358},{"$f":"Slovenia!S30","v":225},{"$f":"SUM(C81:K81)","v":{"v":7367,"d":"7,367"}},{"$f":"P28+L81","v":{"v":45067,"d":"45,067"}}]
["broilers",null,{"$f":"Cyprus!S31","v":":"},{"$f":"'Czech Rep'!S31","v":":"},{"$f":"Estonia!S31","v":":"},{"$f":"Hungary!S31","v":":"},{"$f":"Latvia!S31","v":":"},{"$f":"Lithuania!S31","v":120},{"$f":"Poland!S31","v":":"},{"$f":"Slovakia!S31","v":196},":",":",":"]
["poulettes & pondeuses/chicks & layers/Jung- & Legehennen",null,{"$f":"Cyprus!S32","v":":"},{"$f":"'Czech Rep'!S32","v":":"},{"$f":"Estonia!S32","v":":"},{"$f":"Hungary!S32","v":":"},{"$f":"Latvia!S32","v":":"},{"$f":"Lithuania!S32","v":50},{"$f":"Poland!S32","v":":"},{"$f":"Slovakia!S32","v":119},":",":",":"]
["autres/others/Andere",null,{"$f":"Cyprus!S33","v":":"},{"$f":"'Czech Rep'!S33","v":":"},{"$f":"Estonia!S33","v":":"},{"$f":"Hungary!S33","v":":"},{"$f":"Latvia!S33","v":":"},{"$f":"Lithuania!S33","v":3},{"$f":"Poland!S33","v":":"},{"$f":"Slovakia!S33","v":43},":",":",":"]
[]
[]
["Al. d'allait./Milk replacers/Sostit. del latte/Milchaust.",null,{"$f":"Cyprus!S36","v":0},{"$f":"'Czech Rep'!S36","v":5},{"$f":"Estonia!S36","v":1},{"$f":"Hungary!S36","v":0},{"$f":"Latvia!S36","v":0},{"$f":"Lithuania!S36","v":5},{"$f":"Poland!S36","v":0},{"$f":"Slovakia!S36","v":0},{"$f":"Slovenia!S36","v":0},{"$f":"SUM(C87:K87)","v":11},{"$f":"P34+L87","v":{"v":1571,"d":"1,571"}}]
[]
[{"$nulls":4}," "]
["Autres/others/altri/Andere",null,{"$f":"Cyprus!S39","v":103},{"$f":"'Czech Rep'!S39","v":89},{"$f":"Estonia!S39","v":2},{"$f":"Hungary!S39","v":182},{"$f":"Latvia!S39","v":18},{"$f":"Lithuania!S39","v":12},{"$f":"Poland!S39","v":322},{"$f":"Slovakia!S39","v":15},{"$f":"Slovenia!S39","v":9},{"$f":"SUM(C90:K90)","v":752},{"$f":"P37+L90","v":{"v":8881,"d":"8,881"}}]
[]
[]
["TOTAL",null,{"$f":"C90+C87+C81+C74+C66","v":288},{"v":2839,"d":"2,839"},212,{"v":4456,"d":"4,456"},207,352,{"v":6341,"d":"6,341"},{"v":1069,"d":"1,069"},474,{"v":16238,"d":"16,238"},{"v":141218,"d":"141,218"}]
[{"$nulls":5}," "]
[]
["** Sans Malte/Ohne Maltas/Without Malta/Senza Malta"]
["*** Sans le Luxembourg, la Grèce et Malte/Ohne Luxemburg, Griechenland und Maltas/Without Luxemburg, Greece and Malta/Senza Lussemburgo, Ellas e Malta"]
[": non disponible/not available/nicht verfügbar"]

{"sheet":"2007-08","index":35,"n_rows":43,"n_cols":24,"rows_kept":43}
["2009-12-28"]
[]
["PRODUCTION INDUSTRIELLE D'ALIMENTS COMPOSES",{"$nulls":22},"INDUSTRIELLE  MISCHFUTTERPRODUKTION"]
["PRODUZIONE INDUSTRIALE DI MANGIMI COMPOSTI",{"$nulls":11},"2007-2008",{"$nulls":10},"INDUSTRIAL COMPOUND PRODUCTION"]
[{"$nulls":12},"definitif/final",{"$nulls":10},"(1 000 t )"]
[]
[]
[]
["PAYS",null,"      BOVINS/RINDER",{"$nulls":3},"    PORCS/SCHWEINE",{"$nulls":3},"     VOLAILLE/GEFLÜGEL",null,"      A. ALLAITEMENT/MILCHAUST.",{"$nulls":5},"     AUTRES/ANDERE",null,null,"       TOTAL/INSGESAMT"]
["LAND",null,"      BOVINI/CATTLE",{"$nulls":3},"    SUINI/PIGS",{"$nulls":3},"     VOLATILI/POULTRY",null,"  SOSTIT. DEL LATTE/MILKREPLACERS",{"$nulls":5},"ALTRI ANIMALI/OTHERS",null,null,"          TOTALE/TOTAL"]
["PAESE"]
["COUNTRY",2007,2008,"%TAV",null,2007,2008,"%TAV",null,2007,2008,"%TAV",null,2007,2008,"%TAV",null,2007,2008,"%TAV",null,2007,2008,"%TAV"]
[]
["DE",{"$f":"Germany!T$16","v":{"v":6322,"d":"6,322"}},{"$f":"Germany!U$16","v":{"v":6327,"d":"6,327"}},{"$f":"((C14/B14)-1)*100","v":{"v":0.07908889591901058,"d":"0.1"}},null,{"$f":"Germany!T$23","v":{"v":8814,"d":"8,814"}},{"$f":"Germany!U$23","v":{"v":9183,"d":"9,183"}},{"$f":"((G14/F14)-1)*100","v":{"v":4.186521443158608,"d":"4.2"}},null,{"$f":"Germany!T$30","v":{"v":5272,"d":"5,272"}},{"$f":"Germany!U$30","v":{"v":5442,"d":"5,442"}},{"$f":"((K14/J14)-1)*100","v":{"v":3.2245827010622063,"d":"3.2"}},null,{"$f":"Germany!T$36","v":140},{"$f":"Germany!U$36","v":143},{"$f":"((O14/N14)-1)*100","v":{"v":2.1428571428571352,"d":"2.1"}},null,{"$f":"Germany!T$39","v":762},{"$f":"Germany!U$39","v":730},{"$f":"((S14/R14)-1)*100","v":{"v":-4.199475065616798,"d":"-4.2"}},null,{"$f":"R14+N14+J14+F14+B14","v":{"v":21310,"d":"21,310"}},{"v":21825,"d":"21,825"},{"$f":"((W14/V14)-1)*100","v":{"v":2.416705771938066,"d":"2.4"}}]
["FR",{"$f":"France!T$16","v":{"v":5123,"d":"5,123"}},{"$f":"France!U$16","v":{"v":5542,"d":"5,542"}},{"v":8.17880148350576,"d":"8.2"},null,{"$f":"France!T$23","v":{"v":6418,"d":"6,418"}},{"$f":"France!U$23","v":{"v":6316,"d":"6,316"}},{"v":-1.5892801495793085,"d":"-1.6"},null,{"$f":"France!T$30","v":{"v":8775,"d":"8,775"}},{"$f":"France!U$30","v":{"v":8772,"d":"8,772"}},{"v":-0.034188034188031846,"d":"-0.0"},null,{"$f":"France!T36","v":406},{"$f":"France!U36","v":413},{"v":1.724137931034475,"d":"1.7"},null,{"$f":"France!T$39","v":{"v":1622,"d":"1,622"}},{"$f":"France!U$39","v":{"v":1599,"d":"1,599"}},{"v":-1.4180024660912505,"d":"-1.4"},null,{"$f":"R15+N15+J15+F15+B15","v":{"v":22344,"d":"22,344"}},{"v":22642,"d":"22,642"},{"v":1.3336913712853615,"d":"1.3"}]
["IT",{"$f":"Italy!T$16","v":{"v":4045,"d":"4,045"}},{"$f":"Italy!U$16","v":{"v":3897,"d":"3,897"}},{"v":-3.6588380716934488,"d":"-3.7"},null,{"$f":"Italy!T$23","v":{"v":3209,"d":"3,209"}},{"$f":"Italy!U$23","v":{"v":3255,"d":"3,255"}},{"v":1.4334683702087903,"d":"1.4"},null,{"$f":"Italy!T$30","v":{"v":5213,"d":"5,213"}},{"$f":"Italy!U$30","v":{"v":5363,"d":"5,363"}},{"v":2.8774218300402943,"d":"2.9"},null,{"$f":"Italy!T$36","v":177},{"$f":"Italy!U$36","v":160},{"v":-9.6045197740113,"d":"-9.6"},null,{"$f":"+Italy!T$39","v":909},{"$f":"+Italy!U$39","v":{"v":1060,"d":"1,060"}},{"v":16.61166116611661,"d":"16.6"},null,{"$f":"R16+N16+J16+F16+B16","v":{"v":13553,"d":"13,553"}},{"v":13735,"d":"13,735"},{"v":1.342876115989089,"d":"1.3"}]
["NL   ",{"$f":"'The Netherlands'!T$16","v":{"v":3375,"d":"3,375"}},{"$f":"'The Netherlands'!U$16","v":{"v":3560,"d":"3,560"}},{"v":5.481481481481487,"d":"5.5"},null,{"$f":"'The Netherlands'!T$23","v":{"v":5755,"d":"5,755"}},{"$f":"'The Netherlands'!U$23","v":{"v":6107,"d":"6,107"}},{"v":6.116420503909636,"d":"6.1"},null,{"$f":"'The Netherlands'!T$30","v":{"v":3407,"d":"3,407"}},{"$f":"'The Netherlands'!U$30","v":{"v":3710,"d":"3,710"}},{"v":8.893454652186673,"d":"8.9"},null,{"$f":"'The Netherlands'!T$36","v":761},{"$f":"'The Netherlands'!U$36","v":759},{"v":-0.26281208935611255,"d":"-0.3"},null,{"$f":"'The Netherlands'!T$39","v":432},{"$f":"'The Netherlands'!U$39","v":441},{"v":2.083333333333326,"d":"2.1"},null,{"$f":"R17+N17+J17+F17+B17","v":{"v":13730,"d":"13,730"}},{"v":14577,"d":"14,577"},{"v":6.168973051711579,"d":"6.2"}]
["BE",{"$f":"Belgium!T$16","v":{"v":1190,"d":"1,190"}},{"$f":"Belgium!U$16","v":{"v":1162,"d":"1,162"}},{"v":-2.352941176470591,"d":"-2.4"},null,{"$f":"Belgium!T$23","v":{"v":3563,"d":"3,563"}},{"$f":"Belgium!U$23","v":{"v":3638,"d":"3,638"}},{"v":2.104967723828244,"d":"2.1"},null,{"$f":"Belgium!T$30","v":{"v":1286,"d":"1,286"}},{"$f":"Belgium!U$30","v":{"v":1284,"d":"1,284"}},{"v":-0.15552099533436836,"d":"-0.2"},null,{"$f":"Belgium!T$36","v":68},{"$f":"Belgium!U$36","v":57},{"v":-16.176470588235293,"d":"-16.2"},null,{"$f":"Belgium!T$39","v":135},{"$f":"Belgium!U$39","v":147},{"v":8.888888888888879,"d":"8.9"},null,{"$f":"R18+N18+J18+F18+B18","v":{"v":6242,"d":"6,242"}},{"v":6288,"d":"6,288"},{"v":0.7369432874078763,"d":"0.7"}]
["UK ",{"$f":"UK!T$16","v":{"v":4851,"d":"4,851"}},{"$f":"UK!U$16","v":{"v":4874,"d":"4,874"}},{"v":0.47412904555761415,"d":"0.5"},null,{"$f":"UK!T$23","v":{"v":1739,"d":"1,739"}},{"$f":"UK!U$23","v":{"v":1572,"d":"1,572"}},{"v":-9.603220241518118,"d":"-9.6"},null,{"$f":"UK!T$30","v":{"v":6157,"d":"6,157"}},{"$f":"UK!U$30","v":{"v":6246,"d":"6,246"}},{"v":1.4455091765470218,"d":"1.4"},null,{"$f":"UK!T$36","v":1},{"$f":"UK!U$36","v":1},{"v":0,"d":"0.0"},null,{"$f":"UK!T$39","v":{"v":1593,"d":"1,593"}},{"$f":"UK!U$39","v":{"v":1300,"d":"1,300"}},{"v":-18.392969240426872,"d":"-18.4"},null,{"$f":"R19+N19+J19+F19+B19","v":{"v":14341,"d":"14,341"}},{"v":13993,"d":"13,993"},{"v":-2.4266090230806725,"d":"-2.4"}]
["IE",{"$f":"Ireland!T$16","v":{"v":2062,"d":"2,062"}},{"$f":"Ireland!U$16","v":{"v":2163,"d":"2,163"}},{"v":4.8981571290009684,"d":"4.9"},null,{"$f":"Ireland!T$23","v":618},{"$f":"Ireland!U$23","v":648},{"v":4.854368932038833,"d":"4.9"},null,{"$f":"Ireland!T$30","v":461},{"$f":"Ireland!U$30","v":465},{"v":0.8676789587852562,"d":"0.9"},null,{"$f":"Ireland!T$36","v":6},{"$f":"Ireland!U$36","v":4},{"v":-33.333333333333336,"d":"-33.3"},null,{"$f":"Ireland!T$39","v":409},{"$f":"Ireland!U$39","v":368},{"v":-10.024449877750607,"d":"-10.0"},null,{"$f":"R20+N20+J20+F20+B20","v":{"v":3556,"d":"3,556"}},{"v":3648,"d":"3,648"},{"v":2.5871766029246235,"d":"2.6"}]
["DK ",{"$f":"Denmark!T$16","v":{"v":1143,"d":"1,143"}},{"$f":"Denmark!U$16","v":{"v":1079,"d":"1,079"}},{"v":-5.599300087489068,"d":"-5.6"},null,{"$f":"Denmark!T$23","v":{"v":3338,"d":"3,338"}},{"$f":"Denmark!U$23","v":{"v":3129,"d":"3,129"}},{"v":-6.261234272019179,"d":"-6.3"},null,{"$f":"Denmark!T$30","v":570},{"$f":"Denmark!U$30","v":580},{"v":1.7543859649122862,"d":"1.8"},null,{"$f":"Denmark!T$36","v":0},{"$f":"Denmark!U$36","v":0},{"v":0,"d":"0.0"},null,{"$f":"Denmark!T$39","v":154},{"$f":"Denmark!U$39","v":172},{"v":11.688311688311682,"d":"11.7"},null,{"$f":"R21+N21+J21+F21+B21","v":{"v":5205,"d":"5,205"}},{"v":4960,"d":"4,960"},{"v":-4.707012487992312,"d":"-4.7"}]
["ES",{"$f":"Spain!T$16","v":{"v":4780,"d":"4,780"}},{"$f":"Spain!U$16","v":{"v":6986,"d":"6,986"}},{"v":46.15062761506277,"d":"46.2"},null,{"$f":"Spain!T$23","v":{"v":10185,"d":"10,185"}},{"$f":"Spain!U$23","v":{"v":9651,"d":"9,651"}},{"v":-5.243004418262154,"d":"-5.2"},null,{"$f":"Spain!T$30","v":{"v":4583,"d":"4,583"}},{"$f":"Spain!U$30","v":{"v":4540,"d":"4,540"}},{"v":-0.9382500545494166,"d":"-0.9"},null,{"$f":"Spain!T$36","v":0},{"$f":"Spain!U$36","v":0},{"v":0,"d":"0.0"},null,{"$f":"Spain!T$39","v":{"v":1655,"d":"1,655"}},{"$f":"Spain!U$39","v":174},{"v":-89.48640483383686,"d":"-89.5"},null,{"$f":"R22+N22+J22+F22+B22","v":{"v":21203,"d":"21,203"}},{"v":21351,"d":"21,351"},{"v":0.6980144319200132,"d":"0.7"}]
["PT",{"$f":"Portugal!T$16","v":940},{"$f":"Portugal!U$16","v":885},{"v":-5.851063829787229,"d":"-5.9"},null,{"$f":"Portugal!T$23","v":{"v":1080,"d":"1,080"}},{"$f":"Portugal!U$23","v":{"v":1060,"d":"1,060"}},{"v":-1.851851851851849,"d":"-1.9"},null,{"$f":"Portugal!T$30","v":{"v":1350,"d":"1,350"}},{"$f":"Portugal!U$30","v":{"v":1320,"d":"1,320"}},{"v":-2.2222222222222254,"d":"-2.2"},null,{"$f":"Portugal!T$36","v":0},{"$f":"Portugal!U$36","v":0},{"v":0,"d":"0.0"},null,{"$f":"Portugal!T$39","v":235},{"$f":"Portugal!U$39","v":225},{"v":-4.255319148936165,"d":"-4.3"},null,{"$f":"R23+N23+J23+F23+B23","v":{"v":3605,"d":"3,605"}},{"v":3490,"d":"3,490"},{"v":-3.1900138696255187,"d":"-3.2"}]
["AT",{"$f":"Austria!T$16","v":402},{"$f":"Austria!U$16","v":392},{"v":-2.487562189054726,"d":"-2.5"},null,{"$f":"Austria!T$23","v":243},{"$f":"Austria!U$23","v":237},{"v":-2.4691358024691357,"d":"-2.5"},null,{"$f":"Austria!T$30","v":420},{"$f":"Austria!U$30","v":440},{"v":4.761904761904767,"d":"4.8"},null,{"$f":"Austria!T$36","v":0},{"$f":"Austria!U$36","v":0},{"v":0,"d":"0.0"},null,{"$f":"Austria!T$39","v":88},{"$f":"Austria!U$39","v":102},{"v":15.909090909090917,"d":"15.9"},null,{"$f":"R24+N24+J24+F24+B24","v":{"v":1153,"d":"1,153"}},{"v":1171,"d":"1,171"},{"v":1.5611448395490113,"d":"1.6"}]
["SE",{"$f":"Sweden!T$16","v":{"v":1107,"d":"1,107"}},{"$f":"Sweden!U$16","v":{"v":1031,"d":"1,031"}},{"v":-6.865401987353204,"d":"-6.9"},null,{"$f":"Sweden!T$23","v":395},{"$f":"Sweden!U$23","v":402},{"v":1.7721518987341867,"d":"1.8"},null,{"$f":"Sweden!T$30","v":516},{"$f":"Sweden!U$30","v":542},{"v":5.03875968992249,"d":"5.0"},null,{"$f":"Sweden!T$36","v":2},{"$f":"Sweden!U$36","v":1},{"$f":"((O25/N25)-1)*100","v":{"v":-50,"d":"-50.0"}},null,{"$f":"Sweden!T$39","v":120},{"$f":"Sweden!U$39","v":98},{"v":-18.333333333333336,"d":"-18.3"},null,{"$f":"R25+N25+J25+F25+B25","v":{"v":2140,"d":"2,140"}},{"v":2074,"d":"2,074"},{"v":-3.084112149532714,"d":"-3.1"}]
["FI",{"$f":"Finland!T$16","v":641},{"$f":"Finland!U$16","v":620},{"v":-3.2761310452418146,"d":"-3.3"},null,{"$f":"Finland!T$23","v":368},{"$f":"Finland!U$23","v":375},{"v":1.9021739130434812,"d":"1.9"},null,{"$f":"Finland!T$30","v":307},{"$f":"Finland!U$30","v":315},{"v":2.6058631921824116,"d":"2.6"},null,{"$f":"Finland!T$36","v":0},{"$f":"Finland!U$36","v":0},{"v":0,"d":"0.0"},null,{"$f":"Finland!T$39","v":89},{"$f":"Finland!U$39","v":75},{"v":-15.73033707865169,"d":"-15.7"},null,{"$f":"R26+N26+J26+F26+B26","v":{"v":1405,"d":"1,405"}},{"v":1385,"d":"1,385"},{"v":-1.4234875444839812,"d":"-1.4"}]
["CY",{"$f":"Cyprus!T$16","v":110},{"$f":"Cyprus!U$16","v":110},{"v":0,"d":"0.0"},null,{"$f":"Cyprus!T$23","v":13},{"$f":"Cyprus!U$23","v":12},{"v":-7.692307692307687,"d":"-7.7"},null,{"$f":"Cyprus!T$30","v":62},{"$f":"Cyprus!U$30","v":60},{"v":-3.2258064516129004,"d":"-3.2"},null,{"$f":"Cyprus!T$36","v":0},{"$f":"Cyprus!U$36","v":0},{"v":0,"d":"0.0"},null,{"$f":"Cyprus!T$39","v":102},{"$f":"Cyprus!U$39","v":107},{"v":4.90196078431373,"d":"4.9"},null,{"$f":"R27+N27+J27+F27+B27","v":287},289,{"v":0.6968641114982521,"d":"0.7"}]
["CZ",{"$f":"'Czech Rep'!T$16","v":543},{"$f":"'Czech Rep'!U$16","v":536},{"v":-1.2891344383057057,"d":"-1.3"},null,{"$f":"'Czech Rep'!T$23","v":{"v":1268,"d":"1,268"}},{"$f":"'Czech Rep'!U$23","v":{"v":1093,"d":"1,093"}},{"v":-13.801261829653,"d":"-13.8"},null,{"$f":"'Czech Rep'!T$30","v":{"v":1074,"d":"1,074"}},{"$f":"'Czech Rep'!U$30","v":{"v":1074,"d":"1,074"}},{"v":0,"d":"0.0"},null,{"$f":"'Czech Rep'!T$36","v":5},{"$f":"'Czech Rep'!U$36","v":5},{"$f":"((O28/N28)-1)*100","v":{"v":0,"d":"0.0"}},null,{"$f":"'Czech Rep'!T$39","v":112},{"$f":"'Czech Rep'!U$39","v":91},{"v":-18.75,"d":"-18.8"},null,{"$f":"R28+N28+J28+F28+B28","v":{"v":3002,"d":"3,002"}},{"v":2799,"d":"2,799"},{"v":-6.762158560959364,"d":"-6.8"}]
["EE",{"$f":"Estonia!T$16","v":47},{"$f":"Estonia!U$16","v":44},{"v":-6.382978723404253,"d":"-6.4"},null,{"$f":"Estonia!T$23","v":129},{"$f":"Estonia!U$23","v":141},{"v":9.302325581395344,"d":"9.3"},null,{"$f":"Estonia!T$30","v":46},{"$f":"Estonia!U$30","v":49},{"v":6.521739130434789,"d":"6.5"},null,{"$f":"Estonia!T$36","v":0},{"$f":"Estonia!U$36","v":0},{"v":0,"d":"0.0"},null,{"$f":"Estonia!T$39","v":2},{"$f":"Estonia!U$39","v":2},{"v":0,"d":"0.0"},null,{"$f":"R29+N29+J29+F29+B29","v":224},236,{"v":5.35714285714286,"d":"5.4"}]
["HU",{"$f":"Hungary!T$16","v":540},{"$f":"Hungary!U$16","v":535},{"v":-0.92592592592593,"d":"-0.9"},null,{"$f":"Hungary!T$23","v":{"v":1780,"d":"1,780"}},{"$f":"Hungary!U$23","v":{"v":1690,"d":"1,690"}},{"v":-5.0561797752809,"d":"-5.1"},null,{"$f":"Hungary!T$30","v":{"v":1650,"d":"1,650"}},{"$f":"Hungary!U$30","v":{"v":1720,"d":"1,720"}},{"v":4.2424242424242475,"d":"4.2"},null,{"$f":"Hungary!T$36","v":0},{"$f":"Hungary!U$36","v":0},{"v":0,"d":"0.0"},null,{"$f":"Hungary!T$39","v":180},{"$f":"Hungary!U$39","v":180},{"v":0,"d":"0.0"},null,{"$f":"R30+N30+J30+F30+B30","v":{"v":4150,"d":"4,150"}},{"v":4125,"d":"4,125"},{"v":-0.6024096385542133,"d":"-0.6"}]
["LV",{"$f":"Latvia!T$16","v":50},{"$f":"Latvia!U$16","v":49},{"v":-2.0000000000000018,"d":"-2.0"},null,{"$f":"Latvia!T$23","v":100},{"$f":"Latvia!U$23","v":109},{"v":9.000000000000007,"d":"9.0"},null,{"$f":"Latvia!T$30","v":35},{"$f":"Latvia!U$30","v":144},{"v":311.4285714285714,"d":"311.4"},null,{"$f":"Latvia!T$36","v":0},{"$f":"Latvia!U$36","v":0},{"v":0,"d":"0.0"},null,{"$f":"Latvia!T$39","v":17},{"$f":"Latvia!U$39","v":25},{"v":47.058823529411775,"d":"47.1"},null,{"$f":"R31+N31+J31+F31+B31","v":202},327,{"v":61.88118811881189,"d":"61.9"}]
["LT",{"$f":"Lithuania!T$16","v":110},{"$f":"Lithuania!U$16","v":64},{"v":-41.81818181818182,"d":"-41.8"},null,{"$f":"Lithuania!T$23","v":123},{"$f":"Lithuania!U$23","v":77},{"v":-37.398373983739845,"d":"-37.4"},null,{"$f":"Lithuania!T$30","v":256},{"$f":"Lithuania!U$30","v":245},{"v":-4.296875,"d":"-4.3"},null,{"$f":"Lithuania!T$36","v":5},{"$f":"Lithuania!U$36","v":3},{"$f":"((O32/N32)-1)*100","v":{"v":-40,"d":"-40.0"}},null,{"$f":"Lithuania!T$39","v":21},{"$f":"Lithuania!U$39","v":9},{"v":-57.14285714285714,"d":"-57.1"},null,{"$f":"R32+N32+J32+F32+B32","v":515},398,{"v":-22.718446601941743,"d":"-22.7"}]
["PL",{"$f":"Poland!T$16","v":678},{"$f":"Poland!U$16","v":756},{"v":11.504424778761058,"d":"11.5"},null,{"$f":"Poland!T$23","v":{"v":1874,"d":"1,874"}},{"$f":"Poland!U$23","v":{"v":1700,"d":"1,700"}},{"v":-9.284951974386335,"d":"-9.3"},null,{"$f":"Poland!T$30","v":{"v":4064,"d":"4,064"}},{"$f":"Poland!U$30","v":{"v":4262,"d":"4,262"}},{"v":4.872047244094491,"d":"4.9"},null,{"$f":"Poland!T$36","v":0},{"$f":"Poland!U$36","v":0},{"v":0,"d":"0.0"},null,{"$f":"Poland!T$39","v":437},{"$f":"Poland!U$39","v":411},{"v":-5.949656750572085,"d":"-5.9"},null,{"$f":"R33+N33+J33+F33+B33","v":{"v":7053,"d":"7,053"}},{"v":7129,"d":"7,129"},{"v":1.0775556500779881,"d":"1.1"}]
["SK",{"$f":"Slovakia!T$16","v":265},{"$f":"Slovakia!U$16","v":249},{"v":-6.037735849056602,"d":"-6.0"},null,{"$f":"Slovakia!T$23","v":397},{"$f":"Slovakia!U$23","v":275},{"v":-30.730478589420652,"d":"-30.7"},null,{"$f":"Slovakia!T$30","v":312},{"$f":"Slovakia!U$30","v":296},{"v":-5.128205128205132,"d":"-5.1"},null,{"$f":"Slovakia!T$36","v":0},{"$f":"Slovakia!U$36","v":0},{"v":0,"d":"0.0"},null,{"$f":"+Slovakia!T$39","v":16},{"$f":"+Slovakia!U$39","v":14},-12.5,null,{"$f":"R34+N34+J34+F34+B34","v":990},834,{"v":-15.75757575757576,"d":"-15.8"}]
["SI",{"$f":"Slovenia!T$16","v":104},{"$f":"Slovenia!U$16","v":104},{"v":0,"d":"0.0"},null,{"$f":"Slovenia!T$23","v":172},{"$f":"Slovenia!U$23","v":172},{"v":0,"d":"0.0"},null,{"$f":"Slovenia!T$30","v":210},{"$f":"Slovenia!U$30","v":210},{"v":0,"d":"0.0"},null,{"$f":"Slovenia!T$36","v":0},{"$f":"Slovenia!U$36","v":0},{"v":0,"d":"0.0"},null,{"$f":"Slovenia!T$39","v":9},{"$f":"Slovenia!U$39","v":9},{"v":0,"d":"0.0"},null,{"$f":"R35+N35+J35+F35+B35","v":495},495,{"v":0,"d":"0.0"}]
["BU",{"$f":"Bulgaria!T$16","v":40},{"$f":"Bulgaria!U$16","v":92},{"v":129.99999999999997,"d":"130.0"},null,{"$f":"Bulgaria!T$23","v":220},{"$f":"Bulgaria!U$23","v":248},{"v":12.72727272727272,"d":"12.7"},null,{"$f":"Bulgaria!T$30","v":430},{"$f":"Bulgaria!U$30","v":489},{"v":13.720930232558137,"d":"13.7"},null,{"$f":"Bulgaria!T$36","v":0},{"$f":"Bulgaria!U$36","v":0},{"v":0,"d":"0.0"},null,{"$f":"Bulgaria!T$39","v":20},{"$f":"Bulgaria!U$39","v":34},{"v":70,"d":"70.0"},null,{"$f":"R36+N36+J36+F36+B36","v":710},863,{"v":21.54929577464788,"d":"21.5"}]
["RO",{"$f":"Romania!T$17","v":135},{"$f":"Romania!U$17","v":150},{"v":11.111111111111116,"d":"11.1"},null,{"$f":"Romania!T$24","v":{"v":1150,"d":"1,150"}},{"$f":"Romania!U$24","v":{"v":1380,"d":"1,380"}},{"v":19.999999999999996,"d":"20.0"},null,{"$f":"Romania!T$31","v":{"v":1420,"d":"1,420"}},{"$f":"Romania!U$31","v":{"v":1502,"d":"1,502"}},{"v":5.774647887323936,"d":"5.8"},null,{"$f":"Romania!T$37","v":0},{"$f":"Romania!U$37","v":0},{"v":0,"d":"0.0"},null,{"$f":"Romania!T$40","v":0},{"$f":"Romania!U$40","v":0},{"v":0,"d":"0.0"},null,{"$f":"R37+N37+J37+F37+B37","v":{"v":2705,"d":"2,705"}},{"v":3032,"d":"3,032"},{"v":12.088724584103506,"d":"12.1"}]
[]
["EUR 27 *",{"$f":"SUM(B14:B37)","v":{"v":38603,"d":"38,603"}},{"v":41207,"d":"41,207"},{"$f":"((C39/B39)-1)*100","v":{"v":6.74558972100614,"d":"6.7"}},null,{"$f":"SUM(F14:F37)","v":{"v":52951,"d":"52,951"}},{"v":52470,"d":"52,470"},{"$f":"((G39/F39)-1)*100","v":{"v":-0.9083869993012361,"d":"-0.9"}},null,{"$f":"SUM(J14:J37)","v":{"v":47876,"d":"47,876"}},{"v":49070,"d":"49,070"},{"$f":"((K39/J39)-1)*100","v":{"v":2.4939426852702784,"d":"2.5"}},null,{"$f":"SUM(N14:N37)","v":{"v":1571,"d":"1,571"}},{"v":1546,"d":"1,546"},{"$f":"((O39/N39)-1)*100","v":{"v":-1.5913430935709738,"d":"-1.6"}},null,{"$f":"SUM(R14:R37)","v":{"v":9119,"d":"9,119"}},{"v":7373,"d":"7,373"},{"$f":"((S39/R39)-1)*100","v":{"v":-19.146836275907443,"d":"-19.1"}},null,{"$f":"SUM(V14:V37)","v":{"v":150120,"d":"150,120"}},{"v":151666,"d":"151,666"},{"$f":"((W39/V39)-1)*100","v":{"v":1.0298427924327225,"d":"1.0"}}]
[]
[{"$nulls":23}," "]
["* Sans le Luxembourg, la Grèce et Malte/Ohne Luxemburg, Griechenland und Malta/Without Luxemburg, Greece and Malta/Senza Lussemburgo, Ellas e Malta"]
[": non disponible/not available"]

{"sheet":"2006-07","index":36,"n_rows":43,"n_cols":24,"rows_kept":43}
["2008-05-15"]
[]
["PRODUCTION INDUSTRIELLE D'ALIMENTS COMPOSES",{"$nulls":22},"INDUSTRIELLE  MISCHFUTTERPRODUKTION"]
["PRODUZIONE INDUSTRIALE DI MANGIMI COMPOSTI",{"$nulls":11},"2006-2007",{"$nulls":10},"INDUSTRIAL COMPOUND PRODUCTION"]
[{"$nulls":12},"definitif/final",{"$nulls":10},"(1 000 t )"]
[]
[]
[]
["PAYS",null,"      BOVINS/RINDER",{"$nulls":3},"    PORCS/SCHWEINE",{"$nulls":3},"     VOLAILLE/GEFLÜGEL",null,"      A. ALLAITEMENT/MILCHAUST.",{"$nulls":5},"     AUTRES/ANDERE",null,null,"       TOTAL/INSGESAMT"]
["LAND",null,"      BOVINI/CATTLE",{"$nulls":3},"    SUINI/PIGS",{"$nulls":3},"     VOLATILI/POULTRY",null,"  SOSTIT. DEL LATTE/MILKREPLACERS",{"$nulls":5},"ALTRI ANIMALI/OTHERS",null,null,"          TOTALE/TOTAL"]
["PAESE"]
["COUNTRY",2006,2007,"%TAV",null,2006,2007,"%TAV",null,2006,2007,"%TAV",null,2006,2007,"%TAV",null,2006,2007,"%TAV",null,2006,2007,"%TAV"]
[]
["DE",{"$f":"Germany!S$16","v":{"v":5970,"d":"5,970"}},{"$f":"Germany!T$16","v":{"v":6322,"d":"6,322"}},{"$f":"((C14/B14)-1)*100","v":{"v":5.8961474036850925,"d":"5.9"}},null,{"$f":"Germany!S$23","v":{"v":8142,"d":"8,142"}},{"$f":"Germany!T$23","v":{"v":8814,"d":"8,814"}},{"$f":"((G14/F14)-1)*100","v":{"v":8.253500368459843,"d":"8.3"}},null,{"$f":"Germany!S$30","v":{"v":5265,"d":"5,265"}},{"$f":"Germany!T$30","v":{"v":5272,"d":"5,272"}},{"$f":"((K14/J14)-1)*100","v":{"v":0.13295346628678928,"d":"0.1"}},null,{"$f":"Germany!S$36","v":142},{"$f":"Germany!T$36","v":140},{"$f":"((O14/N14)-1)*100","v":{"v":-1.4084507042253502,"d":"-1.4"}},null,{"$f":"Germany!S$39","v":785},{"$f":"Germany!T$39","v":762},{"$f":"((S14/R14)-1)*100","v":{"v":-2.9299363057324834,"d":"-2.9"}},null,{"$f":"R14+N14+J14+F14+B14","v":{"v":20304,"d":"20,304"}},{"v":21310,"d":"21,310"},{"$f":"((W14/V14)-1)*100","v":{"v":4.9546887312844845,"d":"5.0"}}]
["FR",{"$f":"France!S$16","v":{"v":4778,"d":"4,778"}},{"$f":"France!T$16","v":{"v":5123,"d":"5,123"}},{"v":7.220594390958568,"d":"7.2"},null,{"$f":"France!S$23","v":{"v":6302,"d":"6,302"}},{"$f":"France!T$23","v":{"v":6418,"d":"6,418"}},{"v":1.8406854966677155,"d":"1.8"},null,{"$f":"France!S$30","v":{"v":8491,"d":"8,491"}},{"$f":"France!T$30","v":{"v":8775,"d":"8,775"}},{"v":3.344717936638797,"d":"3.3"},null,{"$f":"France!S36","v":449},{"$f":"France!T36","v":406},{"v":-9.576837416481066,"d":"-9.6"},null,{"$f":"France!S$39","v":{"v":1565,"d":"1,565"}},{"$f":"France!T$39","v":{"v":1622,"d":"1,622"}},{"v":3.642172523961662,"d":"3.6"},null,{"$f":"R15+N15+J15+F15+B15","v":{"v":21585,"d":"21,585"}},{"v":22344,"d":"22,344"},{"v":3.5163307852675407,"d":"3.5"}]
["IT",{"$f":"Italy!S$16","v":{"v":4155,"d":"4,155"}},{"$f":"Italy!T$16","v":{"v":4045,"d":"4,045"}},{"v":-2.6474127557160054,"d":"-2.6"},null,{"$f":"Italy!S$23","v":{"v":2980,"d":"2,980"}},{"$f":"Italy!T$23","v":{"v":3209,"d":"3,209"}},{"v":7.684563758389262,"d":"7.7"},null,{"$f":"Italy!S$30","v":{"v":4991,"d":"4,991"}},{"$f":"Italy!T$30","v":{"v":5213,"d":"5,213"}},{"v":4.4480064115407725,"d":"4.4"},null,{"$f":"Italy!S$36","v":170},{"$f":"Italy!T$36","v":177},{"v":4.117647058823537,"d":"4.1"},null,{"$f":"+Italy!S$39","v":894},{"$f":"+Italy!T$39","v":909},{"v":1.6778523489932917,"d":"1.7"},null,{"$f":"R16+N16+J16+F16+B16","v":{"v":13190,"d":"13,190"}},{"v":13553,"d":"13,553"},{"v":2.7520849128127356,"d":"2.8"}]
["NL   ",{"$f":"'The Netherlands'!S$16","v":{"v":3140,"d":"3,140"}},{"$f":"'The Netherlands'!T$16","v":{"v":3375,"d":"3,375"}},{"v":7.484076433121012,"d":"7.5"},null,{"$f":"'The Netherlands'!S$23","v":{"v":5672,"d":"5,672"}},{"$f":"'The Netherlands'!T$23","v":{"v":5755,"d":"5,755"}},{"v":1.463328631875882,"d":"1.5"},null,{"$f":"'The Netherlands'!S$30","v":{"v":3533,"d":"3,533"}},{"$f":"'The Netherlands'!T$30","v":{"v":3407,"d":"3,407"}},{"v":-3.5663741862439813,"d":"-3.6"},null,{"$f":"'The Netherlands'!S$36","v":724},{"$f":"'The Netherlands'!T$36","v":761},{"v":5.110497237569067,"d":"5.1"},null,{"$f":"'The Netherlands'!S$39","v":422},{"$f":"'The Netherlands'!T$39","v":432},{"v":2.369668246445489,"d":"2.4"},null,{"$f":"R17+N17+J17+F17+B17","v":{"v":13491,"d":"13,491"}},{"v":13730,"d":"13,730"},{"v":1.771551404640137,"d":"1.8"}]
["BE",{"$f":"Belgium!S$16","v":{"v":1091,"d":"1,091"}},{"$f":"Belgium!T$16","v":{"v":1190,"d":"1,190"}},{"v":9.074243813015581,"d":"9.1"},null,{"$f":"Belgium!S$23","v":{"v":3412,"d":"3,412"}},{"$f":"Belgium!T$23","v":{"v":3563,"d":"3,563"}},{"v":4.425556858147717,"d":"4.4"},null,{"$f":"Belgium!S$30","v":{"v":1264,"d":"1,264"}},{"$f":"Belgium!T$30","v":{"v":1286,"d":"1,286"}},{"v":1.7405063291139333,"d":"1.7"},null,{"$f":"Belgium!S$36","v":62},{"$f":"Belgium!T$36","v":68},{"v":9.677419354838701,"d":"9.7"},null,{"$f":"Belgium!S$39","v":129},{"$f":"Belgium!T$39","v":135},{"v":4.651162790697683,"d":"4.7"},null,{"$f":"R18+N18+J18+F18+B18","v":{"v":5958,"d":"5,958"}},{"v":6242,"d":"6,242"},{"v":4.766700234978183,"d":"4.8"}]
["UK ",{"$f":"UK!S$16","v":{"v":4785,"d":"4,785"}},{"$f":"UK!T$16","v":{"v":4851,"d":"4,851"}},{"v":1.379310344827589,"d":"1.4"},null,{"$f":"UK!S$23","v":{"v":1672,"d":"1,672"}},{"$f":"UK!T$23","v":{"v":1739,"d":"1,739"}},{"v":4.007177033492826,"d":"4.0"},null,{"$f":"UK!S$30","v":{"v":6113,"d":"6,113"}},{"$f":"UK!T$30","v":{"v":6157,"d":"6,157"}},{"v":0.7197775233109827,"d":"0.7"},null,{"$f":"UK!S$36","v":1},{"$f":"UK!T$36","v":1},{"v":0,"d":"0.0"},null,{"$f":"UK!S$39","v":{"v":1544,"d":"1,544"}},{"$f":"UK!T$39","v":{"v":1593,"d":"1,593"}},{"v":3.173575129533668,"d":"3.2"},null,{"$f":"R19+N19+J19+F19+B19","v":{"v":14115,"d":"14,115"}},{"v":14341,"d":"14,341"},{"v":1.6011335458731901,"d":"1.6"}]
["IE",{"$f":"Ireland!S$16","v":{"v":2315,"d":"2,315"}},{"$f":"Ireland!T$16","v":{"v":2062,"d":"2,062"}},{"v":-10.928725701943842,"d":"-10.9"},null,{"$f":"Ireland!S$23","v":608},{"$f":"Ireland!T$23","v":618},{"v":1.6447368421052655,"d":"1.6"},null,{"$f":"Ireland!S$30","v":454},{"$f":"Ireland!T$30","v":461},{"v":1.541850220264318,"d":"1.5"},null,{"$f":"Ireland!S$36","v":10},{"$f":"Ireland!T$36","v":6},{"v":-40,"d":"-40.0"},null,{"$f":"Ireland!S$39","v":531},{"$f":"Ireland!T$39","v":409},{"v":-22.975517890772124,"d":"-23.0"},null,{"$f":"R20+N20+J20+F20+B20","v":{"v":3918,"d":"3,918"}},{"v":3556,"d":"3,556"},{"v":-9.239407861153648,"d":"-9.2"}]
["DK ",{"$f":"Denmark!S$16","v":{"v":1124,"d":"1,124"}},{"$f":"Denmark!T$16","v":{"v":1143,"d":"1,143"}},{"v":1.6903914590747249,"d":"1.7"},null,{"$f":"Denmark!S$23","v":{"v":3329,"d":"3,329"}},{"$f":"Denmark!T$23","v":{"v":3338,"d":"3,338"}},{"v":0.270351456893958,"d":"0.3"},null,{"$f":"Denmark!S$30","v":598},{"$f":"Denmark!T$30","v":570},{"v":-4.682274247491636,"d":"-4.7"},null,{"$f":"Denmark!S$36","v":0},{"$f":"Denmark!T$36","v":0},{"v":0,"d":"0.0"},null,{"$f":"Denmark!S$39","v":155},{"$f":"Denmark!T$39","v":154},{"v":-0.6451612903225823,"d":"-0.6"},null,{"$f":"R21+N21+J21+F21+B21","v":{"v":5206,"d":"5,206"}},{"v":5205,"d":"5,205"},{"v":-0.019208605455245387,"d":"-0.0"}]
["ES",{"$f":"Spain!S$16","v":{"v":4100,"d":"4,100"}},{"$f":"Spain!T$16","v":{"v":4780,"d":"4,780"}},{"v":16.58536585365853,"d":"16.6"},null,{"$f":"Spain!S$23","v":{"v":8935,"d":"8,935"}},{"$f":"Spain!T$23","v":{"v":10185,"d":"10,185"}},{"v":13.989927252378287,"d":"14.0"},null,{"$f":"Spain!S$30","v":{"v":4547,"d":"4,547"}},{"$f":"Spain!T$30","v":{"v":4583,"d":"4,583"}},{"v":0.7917308115240829,"d":"0.8"},null,{"$f":"Spain!S$36","v":0},{"$f":"Spain!T$36","v":0},{"v":0,"d":"0.0"},null,{"$f":"Spain!S$39","v":{"v":1636,"d":"1,636"}},{"$f":"Spain!T$39","v":{"v":1655,"d":"1,655"}},{"v":1.1613691931540382,"d":"1.2"},null,{"$f":"R22+N22+J22+F22+B22","v":{"v":19218,"d":"19,218"}},{"v":21203,"d":"21,203"},{"v":10.328858361952342,"d":"10.3"}]
["PT",{"$f":"Portugal!S$16","v":910},{"$f":"Portugal!T$16","v":940},{"v":3.296703296703307,"d":"3.3"},null,{"$f":"Portugal!S$23","v":{"v":1025,"d":"1,025"}},{"$f":"Portugal!T$23","v":{"v":1080,"d":"1,080"}},{"v":5.36585365853659,"d":"5.4"},null,{"$f":"Portugal!S$30","v":{"v":1280,"d":"1,280"}},{"$f":"Portugal!T$30","v":{"v":1350,"d":"1,350"}},{"v":5.46875,"d":"5.5"},null,{"$f":"Portugal!S$36","v":0},{"$f":"Portugal!T$36","v":0},{"v":0,"d":"0.0"},null,{"$f":"Portugal!S$39","v":225},{"$f":"Portugal!T$39","v":235},{"v":4.444444444444451,"d":"4.4"},null,{"$f":"R23+N23+J23+F23+B23","v":{"v":3440,"d":"3,440"}},{"v":3605,"d":"3,605"},{"v":4.796511627906974,"d":"4.8"}]
["AT",{"$f":"Austria!S$16","v":390},{"$f":"Austria!T$16","v":402},{"v":3.076923076923066,"d":"3.1"},null,{"$f":"Austria!S$23","v":219},{"$f":"Austria!T$23","v":243},{"v":10.95890410958904,"d":"11.0"},null,{"$f":"Austria!S$30","v":387},{"$f":"Austria!T$30","v":420},{"v":8.52713178294573,"d":"8.5"},null,{"$f":"Austria!S$36","v":0},{"$f":"Austria!T$36","v":0},{"v":0,"d":"0.0"},null,{"$f":"Austria!S$39","v":85},{"$f":"Austria!T$39","v":88},{"v":3.529411764705892,"d":"3.5"},null,{"$f":"R24+N24+J24+F24+B24","v":{"v":1081,"d":"1,081"}},{"v":1153,"d":"1,153"},{"v":6.660499537465303,"d":"6.7"}]
["SE",{"$f":"Sweden!S$16","v":{"v":1121,"d":"1,121"}},{"$f":"Sweden!T$16","v":{"v":1107,"d":"1,107"}},{"v":-1.2488849241748423,"d":"-1.2"},null,{"$f":"Sweden!S$23","v":385},{"$f":"Sweden!T$23","v":395},{"v":2.5974025974025983,"d":"2.6"},null,{"$f":"Sweden!S$30","v":484},{"$f":"Sweden!T$30","v":516},{"v":6.6115702479338845,"d":"6.6"},null,{"$f":"Sweden!S$36","v":2},{"$f":"Sweden!T$36","v":2},{"$f":"((O25/N25)-1)*100","v":{"v":0,"d":"0.0"}},null,{"$f":"Sweden!S$39","v":65},{"$f":"Sweden!T$39","v":120},{"v":84.61538461538463,"d":"84.6"},null,{"$f":"R25+N25+J25+F25+B25","v":{"v":2057,"d":"2,057"}},{"v":2140,"d":"2,140"},{"v":4.035002430724366,"d":"4.0"}]
["FI",{"$f":"Finland!S$16","v":671},{"$f":"Finland!T$16","v":641},{"v":-4.470938897168408,"d":"-4.5"},null,{"$f":"Finland!S$23","v":360},{"$f":"Finland!T$23","v":368},{"v":2.2222222222222143,"d":"2.2"},null,{"$f":"Finland!S$30","v":293},{"$f":"Finland!T$30","v":307},{"v":4.778156996587035,"d":"4.8"},null,{"$f":"Finland!S$36","v":0},{"$f":"Finland!T$36","v":0},{"v":0,"d":"0.0"},null,{"$f":"Finland!S$39","v":93},{"$f":"Finland!T$39","v":89},{"v":-4.3010752688172005,"d":"-4.3"},null,{"$f":"R26+N26+J26+F26+B26","v":{"v":1417,"d":"1,417"}},{"v":1405,"d":"1,405"},{"v":-0.8468595624558928,"d":"-0.8"}]
["CY",{"$f":"Cyprus!S$16","v":107},{"$f":"Cyprus!T$16","v":110},{"v":2.8037383177569986,"d":"2.8"},null,{"$f":"Cyprus!S$23","v":13},{"$f":"Cyprus!T$23","v":13},{"v":0,"d":"0.0"},null,{"$f":"Cyprus!S$30","v":65},{"$f":"Cyprus!T$30","v":62},{"v":-4.61538461538461,"d":"-4.6"},null,{"$f":"Cyprus!S$36","v":0},{"$f":"Cyprus!T$36","v":0},{"v":0,"d":"0.0"},null,{"$f":"Cyprus!S$39","v":103},{"$f":"Cyprus!T$39","v":102},{"v":-0.9708737864077666,"d":"-1.0"},null,{"$f":"R27+N27+J27+F27+B27","v":288},287,{"v":-0.347222222222221,"d":"-0.3"}]
["CZ",{"$f":"'Czech Rep'!S$16","v":540},{"$f":"'Czech Rep'!T$16","v":543},{"v":0.5555555555555536,"d":"0.6"},null,{"$f":"'Czech Rep'!S$23","v":{"v":1243,"d":"1,243"}},{"$f":"'Czech Rep'!T$23","v":{"v":1268,"d":"1,268"}},{"v":2.011263073209979,"d":"2.0"},null,{"$f":"'Czech Rep'!S$30","v":962},{"$f":"'Czech Rep'!T$30","v":{"v":1074,"d":"1,074"}},{"v":11.642411642411643,"d":"11.6"},null,{"$f":"'Czech Rep'!S$36","v":5},{"$f":"'Czech Rep'!T$36","v":5},{"$f":"((O28/N28)-1)*100","v":{"v":0,"d":"0.0"}},null,{"$f":"'Czech Rep'!S$39","v":89},{"$f":"'Czech Rep'!T$39","v":112},{"v":25.842696629213478,"d":"25.8"},null,{"$f":"R28+N28+J28+F28+B28","v":{"v":2839,"d":"2,839"}},{"v":3002,"d":"3,002"},{"v":5.741458259950694,"d":"5.7"}]
["EE",{"$f":"Estonia!S$16","v":42},{"$f":"Estonia!T$16","v":47},{"v":11.904761904761907,"d":"11.9"},null,{"$f":"Estonia!S$23","v":118},{"$f":"Estonia!T$23","v":129},{"v":9.322033898305083,"d":"9.3"},null,{"$f":"Estonia!S$30","v":49},{"$f":"Estonia!T$30","v":46},{"v":-6.122448979591832,"d":"-6.1"},null,{"$f":"Estonia!S$36","v":1},{"$f":"Estonia!T$36","v":0},{"v":-100,"d":"-100.0"},null,{"$f":"Estonia!S$39","v":2},{"$f":"Estonia!T$39","v":2},{"v":0,"d":"0.0"},null,{"$f":"R29+N29+J29+F29+B29","v":212},224,{"v":5.660377358490565,"d":"5.7"}]
["HU",{"$f":"Hungary!S$16","v":552},{"$f":"Hungary!T$16","v":540},{"v":-2.1739130434782594,"d":"-2.2"},null,{"$f":"Hungary!S$23","v":{"v":2039,"d":"2,039"}},{"$f":"Hungary!T$23","v":{"v":1780,"d":"1,780"}},{"v":-12.702305051495832,"d":"-12.7"},null,{"$f":"Hungary!S$30","v":{"v":1683,"d":"1,683"}},{"$f":"Hungary!T$30","v":{"v":1650,"d":"1,650"}},{"v":-1.9607843137254943,"d":"-2.0"},null,{"$f":"Hungary!S$36","v":0},{"$f":"Hungary!T$36","v":0},{"v":0,"d":"0.0"},null,{"$f":"Hungary!S$39","v":182},{"$f":"Hungary!T$39","v":180},{"v":-1.098901098901095,"d":"-1.1"},null,{"$f":"R30+N30+J30+F30+B30","v":{"v":4456,"d":"4,456"}},{"v":4150,"d":"4,150"},{"v":-6.867145421903054,"d":"-6.9"}]
["LV",{"$f":"Latvia!S$16","v":47},{"$f":"Latvia!T$16","v":50},{"v":6.382978723404253,"d":"6.4"},null,{"$f":"Latvia!S$23","v":105},{"$f":"Latvia!T$23","v":100},{"v":-4.761904761904767,"d":"-4.8"},null,{"$f":"Latvia!S$30","v":37},{"$f":"Latvia!T$30","v":35},{"v":-5.405405405405405,"d":"-5.4"},null,{"$f":"Latvia!S$36","v":0},{"$f":"Latvia!T$36","v":0},{"v":0,"d":"0.0"},null,{"$f":"Latvia!S$39","v":18},{"$f":"Latvia!T$39","v":17},{"v":-5.555555555555558,"d":"-5.6"},null,{"$f":"R31+N31+J31+F31+B31","v":207},202,{"v":-2.4154589371980673,"d":"-2.4"}]
["LT",{"$f":"Lithuania!S$16","v":45},{"$f":"Lithuania!T$16","v":110},{"v":144.44444444444446,"d":"144.4"},null,{"$f":"Lithuania!S$23","v":117},{"$f":"Lithuania!T$23","v":123},{"v":5.128205128205132,"d":"5.1"},null,{"$f":"Lithuania!S$30","v":173},{"$f":"Lithuania!T$30","v":256},{"v":47.97687861271675,"d":"48.0"},null,{"$f":"Lithuania!S$36","v":5},{"$f":"Lithuania!T$36","v":5},{"$f":"((O32/N32)-1)*100","v":{"v":0,"d":"0.0"}},null,{"$f":"Lithuania!S$39","v":12},{"$f":"Lithuania!T$39","v":21},{"v":75,"d":"75.0"},null,{"$f":"R32+N32+J32+F32+B32","v":352},515,{"v":46.30681818181819,"d":"46.3"}]
["PL",{"$f":"Poland!S$16","v":551},{"$f":"Poland!T$16","v":678},{"v":23.049001814882033,"d":"23.0"},null,{"$f":"Poland!S$23","v":{"v":1653,"d":"1,653"}},{"$f":"Poland!T$23","v":{"v":1874,"d":"1,874"}},{"v":13.369630973986691,"d":"13.4"},null,{"$f":"Poland!S$30","v":{"v":3815,"d":"3,815"}},{"$f":"Poland!T$30","v":{"v":4064,"d":"4,064"}},{"v":6.526867627785049,"d":"6.5"},null,{"$f":"Poland!S$36","v":0},{"$f":"Poland!T$36","v":0},{"v":0,"d":"0.0"},null,{"$f":"Poland!S$39","v":322},{"$f":"Poland!T$39","v":437},{"v":35.71428571428572,"d":"35.7"},null,{"$f":"R33+N33+J33+F33+B33","v":{"v":6341,"d":"6,341"}},{"v":7053,"d":"7,053"},{"v":11.228512852862327,"d":"11.2"}]
["SK",{"$f":"Slovakia!S$16","v":274},{"$f":"Slovakia!T$16","v":265},{"v":-3.284671532846717,"d":"-3.3"},null,{"$f":"Slovakia!S$23","v":422},{"$f":"Slovakia!T$23","v":397},{"v":-5.924170616113744,"d":"-5.9"},null,{"$f":"Slovakia!S$30","v":358},{"$f":"Slovakia!T$30","v":312},{"v":-12.849162011173188,"d":"-12.8"},null,{"$f":"Slovakia!S$36","v":0},{"$f":"Slovakia!T$36","v":0},{"v":0,"d":"0.0"},null,{"$f":"+Slovakia!S$39","v":15},{"$f":"+Slovakia!T$39","v":16},{"v":6.666666666666665,"d":"6.7"},null,{"$f":"R34+N34+J34+F34+B34","v":{"v":1069,"d":"1,069"}},990,{"v":-7.390084190832558,"d":"-7.4"}]
["SI",{"$f":"Slovenia!S$16","v":130},{"$f":"Slovenia!T$16","v":104},{"v":-19.999999999999996,"d":"-20.0"},null,{"$f":"Slovenia!S$23","v":110},{"$f":"Slovenia!T$23","v":172},{"v":56.363636363636374,"d":"56.4"},null,{"$f":"Slovenia!S$30","v":225},{"$f":"Slovenia!T$30","v":210},{"v":-6.666666666666665,"d":"-6.7"},null,{"$f":"Slovenia!S$36","v":0},{"$f":"Slovenia!T$36","v":0},{"v":0,"d":"0.0"},null,{"$f":"Slovenia!S$39","v":9},{"$f":"Slovenia!T$39","v":9},{"v":0,"d":"0.0"},null,{"$f":"R35+N35+J35+F35+B35","v":474},495,{"v":4.430379746835444,"d":"4.4"}]
["BU",{"$f":"Bulgaria!S$16","v":38},{"$f":"Bulgaria!T$16","v":40},{"v":5.263157894736836,"d":"5.3"},null,{"$f":"Bulgaria!S$23","v":220},{"$f":"Bulgaria!T$23","v":220},{"v":0,"d":"0.0"},null,{"$f":"Bulgaria!S$30","v":410},{"$f":"Bulgaria!T$30","v":430},{"v":4.878048780487809,"d":"4.9"},null,{"$f":"Bulgaria!S$36","v":0},{"$f":"Bulgaria!T$36","v":0},{"v":0,"d":"0.0"},null,{"$f":"Bulgaria!S$39","v":17},{"$f":"Bulgaria!T$39","v":20},{"v":17.647058823529417,"d":"17.6"},null,{"$f":"R36+N36+J36+F36+B36","v":685},710,{"v":3.649635036496357,"d":"3.6"}]
["RO",{"$f":"Romania!S$17","v":100},{"$f":"Romania!T$17","v":135},{"v":35.00000000000001,"d":"35.0"},null,{"$f":"Romania!S$24","v":{"v":1047,"d":"1,047"}},{"$f":"Romania!T$24","v":{"v":1150,"d":"1,150"}},{"v":9.837631327602669,"d":"9.8"},null,{"$f":"Romania!S$31","v":{"v":1176,"d":"1,176"}},{"$f":"Romania!T$31","v":{"v":1420,"d":"1,420"}},{"v":20.74829931972788,"d":"20.7"},null,{"$f":"Romania!S$37","v":0},{"$f":"Romania!T$37","v":0},{"v":0,"d":"0.0"},null,{"$f":"Romania!S$40","v":0},{"$f":"Romania!T$40","v":0},{"v":0,"d":"0.0"},null,{"$f":"R37+N37+J37+F37+B37","v":{"v":2323,"d":"2,323"}},{"v":2705,"d":"2,705"},{"v":16.44425312096427,"d":"16.4"}]
[]
["EUR 27 *",{"$f":"SUM(B14:B37)","v":{"v":36976,"d":"36,976"}},{"v":38603,"d":"38,603"},{"$f":"((C39/B39)-1)*100","v":{"v":4.400151449588918,"d":"4.4"}},null,{"$f":"SUM(F14:F37)","v":{"v":50128,"d":"50,128"}},{"v":52951,"d":"52,951"},{"$f":"((G39/F39)-1)*100","v":{"v":5.631583147143315,"d":"5.6"}},null,{"$f":"SUM(J14:J37)","v":{"v":46653,"d":"46,653"}},{"v":47876,"d":"47,876"},{"$f":"((K39/J39)-1)*100","v":{"v":2.621482005444453,"d":"2.6"}},null,{"$f":"SUM(N14:N37)","v":{"v":1571,"d":"1,571"}},{"v":1571,"d":"1,571"},{"$f":"((O39/N39)-1)*100","v":{"v":0,"d":"0.0"}},null,{"$f":"SUM(R14:R37)","v":{"v":8898,"d":"8,898"}},{"v":9119,"d":"9,119"},{"$f":"((S39/R39)-1)*100","v":{"v":2.483704203191728,"d":"2.5"}},null,{"$f":"SUM(V14:V37)","v":{"v":144226,"d":"144,226"}},{"v":150120,"d":"150,120"},{"$f":"((W39/V39)-1)*100","v":{"v":4.086641798288793,"d":"4.1"}}]
[]
[{"$nulls":23}," "]
["* Sans le Luxembourg, la Grèce et Malte/Ohne Luxemburg, Griechenland und Malta/Without Luxemburg, Greece and Malta/Senza Lussemburgo, Ellas e Malta"]
[": non disponible/not available"]

{"sheet":"2008","index":37,"n_rows":98,"n_cols":16,"rows_kept":98,"merged":[[4,0,4,15],[5,0,5,15],[57,0,57,12],[58,0,58,12]]}
["2010-05-06"]
[]
["PRODUCTION INDUSTRIELLE D'ALIMENTS COMPOSES ",{"$nulls":14},"INDUSTRIELLE  MISCHFUTTERPRODUKTION"]
["PRODUZIONE INDUSTRIALE DI MANGIMI COMPOSTI",{"$nulls":14},"INDUSTRIAL COMPOUND PRODUCTION"]
[2008]
["definitif/final"]
[{"$nulls":15},"(1 000 t)"]
[]
["Catégories d'aliments composés/Mischfutterarten",null,"DE","FR","IT","NL","BE","UK","IE","DK","ES","PT","AT","SE","FI","EU-15"]
["Tipi di mangimi compositi/Types of feed",{"$nulls":14},"*"]
[]
[null,null," ",{"$nulls":4}," ",null,null," "]
["Bovins/Cattle/Bovini/Rinder",null,{"$f":"Germany!U16","v":{"v":6327,"d":"6,327"}},{"$f":"France!U16","v":{"v":5542,"d":"5,542"}},{"$f":"Italy!U16","v":{"v":3897,"d":"3,897"}},{"$f":"'The Netherlands'!U16","v":{"v":3560,"d":"3,560"}},{"$f":"Belgium!U16","v":{"v":1162,"d":"1,162"}},{"$f":"UK!U16","v":{"v":4874,"d":"4,874"}},{"$f":"Ireland!U16","v":{"v":2163,"d":"2,163"}},{"$f":"Denmark!U16","v":{"v":1079,"d":"1,079"}},{"$f":"Spain!U16","v":{"v":6986,"d":"6,986"}},{"$f":"Portugal!U16","v":885},{"$f":"Austria!U16","v":392},{"$f":"Sweden!U16","v":{"v":1031,"d":"1,031"}},{"$f":"Finland!U16","v":620},{"$f":"SUM(C13:O13)","v":{"v":38518,"d":"38,518"}}]
["engrais/fattening/Mast  ",null,{"$f":"Germany!U17","v":326},{"$f":"France!U17","v":{"v":1554,"d":"1,554"}},{"$f":"Italy!U17","v":0},{"$f":"'The Netherlands'!U17","v":343},{"$f":"Belgium!U17","v":301},{"$f":"UK!U17","v":{"v":1388,"d":"1,388"}},{"$f":"Ireland!U17","v":0},":",":",{"$f":"Portugal!U17","v":315},{"$f":"Austria!U17","v":0},":",":",":"]
["VL/dairy cow/Milchkühe",null,{"$f":"Germany!U18","v":{"v":5821,"d":"5,821"}},{"$f":"France!U18","v":{"v":3443,"d":"3,443"}},{"$f":"Italy!U18","v":0},{"$f":"'The Netherlands'!U18","v":{"v":3186,"d":"3,186"}},{"$f":"Belgium!U18","v":570},{"$f":"UK!U18","v":{"v":3211,"d":"3,211"}},{"$f":"Ireland!U18","v":0},{"$f":"Denmark!U18","v":767},":",{"$f":"Portugal!U18","v":450},{"$f":"Austria!U18","v":0},":",{"$f":"Finland!U18","v":565},":"]
["veaux (aliments d'allaitement non compris)/calves ",null,{"$f":"Germany!U19","v":0},{"$f":"France!U19","v":0},{"$f":"Italy!U19","v":0},{"$f":"'The Netherlands'!U19","v":0},{"$f":"Belgium!U19","v":116},{"$f":"UK!U19","v":211},{"$f":"Ireland!U19","v":0},{"$f":"Denmark!U19","v":312},":",{"$f":"Portugal!U19","v":50},{"$f":"Austria!U19","v":0},":",{"$f":"Finland!U19","v":55},":"]
["(excluding milk replacers)/Kälber (exkl. Milchaustauscher)"]
["autres/others/Andere",null,{"$f":"Germany!U20","v":180},{"$f":"France!U20","v":545},{"$f":"Italy!U20","v":0},{"$f":"'The Netherlands'!U20","v":31},{"$f":"Belgium!U20","v":175},{"$f":"UK!U20","v":64},{"$f":"Ireland!U20","v":0},{"$f":"Denmark!U20","v":0},":",{"$f":"Portugal!U20","v":70},{"$f":"Austria!U20","v":0},":",{"$f":"Finland!U20","v":0},":"]
[]
[]
["Porcins/Pigs/Suini/Schweine",null,{"$f":"Germany!U23","v":{"v":9183,"d":"9,183"}},{"$f":"France!U23","v":{"v":6316,"d":"6,316"}},{"$f":"Italy!U23","v":{"v":3255,"d":"3,255"}},{"$f":"'The Netherlands'!U23","v":{"v":6107,"d":"6,107"}},{"$f":"Belgium!U23","v":{"v":3638,"d":"3,638"}},{"$f":"UK!U23","v":{"v":1572,"d":"1,572"}},{"$f":"Ireland!U23","v":648},{"$f":"Denmark!U23","v":{"v":3129,"d":"3,129"}},{"$f":"Spain!U23","v":{"v":9651,"d":"9,651"}},{"$f":"Portugal!U23","v":{"v":1060,"d":"1,060"}},{"$f":"Austria!U23","v":237},{"$f":"Sweden!U23","v":402},{"$f":"Finland!U23","v":375},{"$f":"SUM(C21:O21)","v":{"v":45573,"d":"45,573"}}]
["porcelets/piglets/Ferkel",null,{"$f":"Germany!U24","v":{"v":1805,"d":"1,805"}},{"$f":"France!U24","v":780},{"$f":"Italy!U24","v":0},{"$f":"'The Netherlands'!U24","v":797},{"$f":"Belgium!U24","v":814},{"$f":"UK!U24","v":69},{"$f":"Ireland!U24","v":0},{"$f":"Denmark!U24","v":620},":",{"$f":"Portugal!U24","v":152},{"$f":"Austria!U24","v":0},":",{"$f":"Finland!U24","v":45},":"]
["porcs engrais/pigs for fattening/Mastschweine",null,{"$f":"Germany!U25","v":{"v":5643,"d":"5,643"}},{"$f":"France!U25","v":{"v":4459,"d":"4,459"}},{"$f":"Italy!U25","v":0},{"$f":"'The Netherlands'!U25","v":{"v":4032,"d":"4,032"}},{"$f":"Belgium!U25","v":{"v":2824,"d":"2,824"}},{"$f":"UK!U25","v":{"v":1098,"d":"1,098"}},{"$f":"Ireland!U25","v":0},{"$f":"Denmark!U25","v":{"v":1799,"d":"1,799"}},":",{"$f":"Portugal!U25","v":675},{"$f":"Austria!U25","v":0},":",{"$f":"Finland!U25","v":205},":"]
["reproducteurs/breeding pigs/Zuchtschweine",null,{"$f":"Germany!U26","v":{"v":1290,"d":"1,290"}},{"$f":"France!U26","v":{"v":1077,"d":"1,077"}},{"$f":"Italy!U26","v":0},{"$f":"'The Netherlands'!U26","v":{"v":1278,"d":"1,278"}},{"$f":"Belgium!U26","v":0},{"$f":"UK!U26","v":389},{"$f":"Ireland!U26","v":0},{"$f":"Denmark!U26","v":710},":",{"$f":"Portugal!U26","v":215},{"$f":"Austria!U26","v":0},":",{"$f":"Finland!U26","v":60},":"]
["autres/others/Andere",null,{"$f":"Germany!U27","v":445},{"$f":"France!U27","v":0},{"$f":"Italy!U27","v":0},{"$f":"'The Netherlands'!U27","v":0},{"$f":"Belgium!U27","v":0},{"$f":"UK!U27","v":16},{"$f":"Ireland!U27","v":0},{"$f":"Denmark!U27","v":0},":",{"$f":"Portugal!U27","v":18},{"$f":"Austria!U27","v":0},":",{"$f":"Finland!U27","v":65},":"]
[{"$nulls":4}," "]
[]
["Volaille/Poultry/Volatili/Geflügel",null,{"$f":"Germany!U30","v":{"v":5442,"d":"5,442"}},{"$f":"France!U30","v":{"v":8772,"d":"8,772"}},{"$f":"Italy!U30","v":{"v":5363,"d":"5,363"}},{"$f":"'The Netherlands'!U30","v":{"v":3710,"d":"3,710"}},{"$f":"Belgium!U30","v":{"v":1284,"d":"1,284"}},{"$f":"UK!U30","v":{"v":6246,"d":"6,246"}},{"$f":"Ireland!U30","v":465},{"$f":"Denmark!U30","v":580},{"$f":"Spain!U30","v":{"v":4540,"d":"4,540"}},{"$f":"Portugal!U30","v":{"v":1320,"d":"1,320"}},{"$f":"Austria!U30","v":440},{"$f":"Sweden!U30","v":542},{"$f":"Finland!U30","v":315},{"$f":"SUM(C28:O28)","v":{"v":39019,"d":"39,019"}}]
["broilers",null,{"$f":"Germany!U31","v":{"v":1909,"d":"1,909"}},{"$f":"France!U31","v":{"v":3238,"d":"3,238"}},{"$f":"Italy!U31","v":0},{"$f":"'The Netherlands'!U31","v":{"v":1663,"d":"1,663"}},{"$f":"Belgium!U31","v":569},{"$f":"UK!U31","v":{"v":3455,"d":"3,455"}},":",{"$f":"Denmark!U31","v":162},":",{"$f":"Portugal!U31","v":795},{"$f":"Austria!U31","v":0},":",{"$f":"Finland!U31","v":210},":"]
["poulettes & pondeuses/chicks & layers/Jung- & Legehennen",null,{"$f":"Germany!U32","v":{"v":2093,"d":"2,093"}},{"$f":"France!U32","v":{"v":2188,"d":"2,188"}},{"$f":"Italy!U32","v":0},{"$f":"'The Netherlands'!U32","v":{"v":2047,"d":"2,047"}},{"$f":"Belgium!U32","v":452},{"$f":"UK!U32","v":{"v":1537,"d":"1,537"}},":",{"$f":"Denmark!U32","v":358},":",{"$f":"Portugal!U32","v":250},{"$f":"Austria!U32","v":0},":",{"$f":"Finland!U32","v":65},":"]
["autres/others/Andere",null,{"$f":"Germany!U33","v":{"v":1440,"d":"1,440"}},{"$f":"France!U33","v":{"v":3346,"d":"3,346"}},{"$f":"Italy!U33","v":0},{"$f":"'The Netherlands'!U33","v":0},{"$f":"Belgium!U33","v":263},{"$f":"UK!U33","v":{"v":1254,"d":"1,254"}},":",{"$f":"Denmark!U33","v":60},":",{"$f":"Portugal!U33","v":275},{"$f":"Austria!U33","v":0},":",{"$f":"Finland!U33","v":40},":"]
[]
[]
["Al. d'allait./Milk replacers/Sostit. del latte/Milchaust.",null,{"$f":"Germany!U36","v":143},{"$f":"France!U36","v":413},{"$f":"Italy!U36","v":160},{"$f":"'The Netherlands'!U36","v":759},{"$f":"Belgium!U36","v":57},{"$f":"UK!U36","v":1},{"$f":"Ireland!U36","v":4},{"$f":"Denmark!U36","v":0},{"$f":"Spain!U36","v":0},{"$f":"Portugal!U36","v":0},{"$f":"Austria!U36","v":0},{"$f":"Sweden!U36","v":1},{"$f":"Finland!U36","v":0},{"$f":"SUM(C34:O34)","v":{"v":1538,"d":"1,538"}}]
[]
[{"$nulls":4}," "]
["Autres/others/altri/Andere",null,{"$f":"Germany!U39","v":730},{"$f":"France!U39","v":{"v":1599,"d":"1,599"}},{"$f":"Italy!U39","v":{"v":1060,"d":"1,060"}},{"$f":"'The Netherlands'!U39","v":441},{"$f":"Belgium!U39","v":147},{"$f":"UK!U39","v":{"v":1300,"d":"1,300"}},{"$f":"Ireland!U39","v":368},{"$f":"Denmark!U39","v":172},{"$f":"Spain!U39","v":174},{"$f":"Portugal!U39","v":225},{"$f":"Austria!U39","v":102},{"$f":"Sweden!U39","v":98},{"$f":"Finland!U39","v":75},{"$f":"SUM(C37:O37)","v":{"v":6491,"d":"6,491"}}]
[]
[]
["TOTAL",null,{"$f":"C37+C34+C28+C21+C13","v":{"v":21825,"d":"21,825"}},{"v":22642,"d":"22,642"},{"v":13735,"d":"13,735"},{"v":14577,"d":"14,577"},{"v":6288,"d":"6,288"},{"v":13993,"d":"13,993"},{"v":3648,"d":"3,648"},{"v":4960,"d":"4,960"},{"v":21351,"d":"21,351"},{"v":3490,"d":"3,490"},{"v":1171,"d":"1,171"},{"v":2074,"d":"2,074"},{"v":1385,"d":"1,385"},{"v":131139,"d":"131,139"}]
[{"$nulls":5}," "]
[]
["* Sans le Luxembourg et la Grèce/ohne Luxemburg und Griechenland/Without Luxemburg and Greece/Senza Lussemburgo e Ella"]
[": non disponible/not available/nicht verfügbar"]
{"$rows_empty":9}
["2010-05-06"]
[]
["PRODUCTION INDUSTRIELLE D'ALIMENTS COMPOSES ",{"$nulls":11},"INDUSTRIELLE  MISCHFUTTERPRODUKTION"]
["PRODUZIONE INDUSTRIALE DI MANGIMI COMPOSTI",{"$nulls":11},"INDUSTRIAL COMPOUND PRODUCTION"]
[2008]
["definitif/final"]
[{"$nulls":12},"(1 000 t)"]
[]
["Catégories d'aliments composés/Mischfutterarten",null,"CY","CZ","EE","HU","LV","LT","PL","SK","SI","10NM","EU-25","BU","RO","EU-27"]
["Tipi di mangimi compositi/Types of feed",{"$nulls":10},"**","***",null,null,"***"]
[]
[null,null," ",{"$nulls":4}," ",null," "]
["Bovins/Cattle/Bovini/Rinder",null,{"$f":"Cyprus!U16","v":110},{"$f":"'Czech Rep'!U16","v":536},{"$f":"Estonia!U16","v":44},{"$f":"Hungary!U16","v":535},{"$f":"Latvia!U16","v":49},{"$f":"Lithuania!U16","v":64},{"$f":"Poland!U16","v":756},{"$f":"Slovakia!U16","v":249},{"$f":"Slovenia!U16","v":104},{"$f":"SUM(C66:K66)","v":{"v":2447,"d":"2,447"}},{"$f":"P13+L66","v":{"v":40965,"d":"40,965"}},{"$f":"Bulgaria!U16","v":92},{"$f":"Romania!U17","v":150},{"$f":"N66+M66+O66","v":{"v":41207,"d":"41,207"}}]
["engrais/fattening/Mast  ",null,{"$f":"Cyprus!U17","v":16},{"$f":"'Czech Rep'!U17","v":0},{"$f":"Estonia!U17","v":":"},{"$f":"Hungary!U17","v":0},{"$f":"Latvia!U17","v":0},{"$f":"Lithuania!U17","v":3},{"$f":"Poland!U17","v":0},{"$f":"Slovakia!U17","v":17},":",":",":",":",":",":"]
["VL/dairy cow/Milchkühe",null,{"$f":"Cyprus!U18","v":84},{"$f":"'Czech Rep'!U18","v":0},{"$f":"Estonia!U18","v":":"},{"$f":"Hungary!U18","v":0},{"$f":"Latvia!U18","v":0},{"$f":"Lithuania!U18","v":51},{"$f":"Poland!U18","v":0},{"$f":"Slovakia!U18","v":186},":",":",":",":",":",":"]
["veaux (aliments d'allaitement non compris)/calves ",null,{"$f":"Cyprus!U19","v":10},{"$f":"'Czech Rep'!U19","v":0},{"$f":"Estonia!U19","v":":"},{"$f":"Hungary!U19","v":0},{"$f":"Latvia!U19","v":0},{"$f":"Lithuania!U19","v":8},{"$f":"Poland!U19","v":0},{"$f":"Slovakia!U19","v":23},":",":",":",":",":",":"]
["(excluding milk replacers)/Kälber (exkl. Milchaustauscher)"]
["autres/others/Andere",null,{"$f":"Cyprus!U20","v":0},{"$f":"'Czech Rep'!U20","v":0},{"$f":"Estonia!U20","v":":"},{"$f":"Hungary!U20","v":0},{"$f":"Latvia!U20","v":0},{"$f":"Lithuania!U20","v":2},{"$f":"Poland!U20","v":0},{"$f":"Slovakia!U20","v":23},":",":",":",":",":",":"]
[]
[]
["Porcins/Pigs/Suini/Schweine",null,{"$f":"Cyprus!U23","v":12},{"$f":"'Czech Rep'!U23","v":{"v":1093,"d":"1,093"}},{"$f":"Estonia!U23","v":141},{"$f":"Hungary!U23","v":{"v":1690,"d":"1,690"}},{"$f":"Latvia!U23","v":109},{"$f":"Lithuania!U23","v":77},{"$f":"Poland!U23","v":{"v":1700,"d":"1,700"}},{"$f":"Slovakia!U23","v":275},{"$f":"Slovenia!U23","v":172},{"$f":"SUM(C74:K74)","v":{"v":5269,"d":"5,269"}},{"$f":"P21+L74","v":{"v":50842,"d":"50,842"}},{"$f":"Bulgaria!U23","v":248},{"$f":"Romania!U24","v":{"v":1380,"d":"1,380"}},{"$f":"N74+M74+O74","v":{"v":52470,"d":"52,470"}}]
["porcelets/piglets/Ferkel",null,{"$f":"Cyprus!U24","v":1},{"$f":"'Czech Rep'!U24","v":0},{"$f":"Estonia!U24","v":":"},{"$f":"Hungary!U24","v":0},{"$f":"Latvia!U24","v":0},{"$f":"Lithuania!U24","v":18},{"$f":"Poland!U24","v":0},{"$f":"Slovakia!U24","v":23},":",":",":",":",":",":"]
["porcs engrais/pigs for fattening/Mastschweine",null,{"$f":"Cyprus!U25","v":7},{"$f":"'Czech Rep'!U25","v":0},{"$f":"Estonia!U25","v":":"},{"$f":"Hungary!U25","v":0},{"$f":"Latvia!U25","v":0},{"$f":"Lithuania!U25","v":35},{"$f":"Poland!U25","v":0},{"$f":"Slovakia!U25","v":197},":",":",":",":",":",":"]
["reproducteurs/breeding pigs/Zuchtschweine",null,{"$f":"Cyprus!U26","v":4},{"$f":"'Czech Rep'!U26","v":0},{"$f":"Estonia!U26","v":":"},{"$f":"Hungary!U26","v":0},{"$f":"Latvia!U26","v":0},{"$f":"Lithuania!U26","v":16},{"$f":"Poland!U26","v":0},{"$f":"Slovakia!U26","v":45},":",":",":",":",":",":"]
["autres/others/Andere",null,{"$f":"Cyprus!U27","v":0},{"$f":"'Czech Rep'!U27","v":0},{"$f":"Estonia!U27","v":":"},{"$f":"Hungary!U27","v":0},{"$f":"Latvia!U27","v":0},{"$f":"Lithuania!U27","v":8},{"$f":"Poland!U27","v":0},{"$f":"Slovakia!U27","v":10},":",":",":",":",":",":"]
[{"$nulls":4}," "]
[]
["Volaille/Poultry/Volatili/Geflügel",null,{"$f":"Cyprus!U30","v":60},{"$f":"'Czech Rep'!U30","v":{"v":1074,"d":"1,074"}},{"$f":"Estonia!U30","v":49},{"$f":"Hungary!U30","v":{"v":1720,"d":"1,720"}},{"$f":"Latvia!U30","v":144},{"$f":"Lithuania!U30","v":245},{"$f":"Poland!U30","v":{"v":4262,"d":"4,262"}},{"$f":"Slovakia!U30","v":296},{"$f":"Slovenia!U30","v":210},{"$f":"SUM(C81:K81)","v":{"v":8060,"d":"8,060"}},{"$f":"P28+L81","v":{"v":47079,"d":"47,079"}},{"$f":"Bulgaria!U30","v":489},{"$f":"Romania!U31","v":{"v":1502,"d":"1,502"}},{"$f":"N81+M81+O81","v":{"v":49070,"d":"49,070"}}]
["broilers",null,{"$f":"Cyprus!U31","v":43},{"$f":"'Czech Rep'!U31","v":0},{"$f":"Estonia!U31","v":":"},{"$f":"Hungary!U31","v":0},{"$f":"Latvia!U31","v":0},{"$f":"Lithuania!U31","v":158},{"$f":"Poland!U31","v":0},{"$f":"Slovakia!U31","v":156},":",":",":",":",":",":"]
["poulettes & pondeuses/chicks & layers/Jung- & Legehennen",null,{"$f":"Cyprus!U32","v":15},{"$f":"'Czech Rep'!U32","v":0},{"$f":"Estonia!U32","v":":"},{"$f":"Hungary!U32","v":0},{"$f":"Latvia!U32","v":0},{"$f":"Lithuania!U32","v":78},{"$f":"Poland!U32","v":0},{"$f":"Slovakia!U32","v":109},":",":",":",":",":",":"]
["autres/others/Andere",null,{"$f":"Cyprus!U33","v":2},{"$f":"'Czech Rep'!U33","v":0},{"$f":"Estonia!U33","v":":"},{"$f":"Hungary!U33","v":0},{"$f":"Latvia!U33","v":0},{"$f":"Lithuania!U33","v":9},{"$f":"Poland!U33","v":0},{"$f":"Slovakia!U33","v":31},":",":",":",":",":",":"]
[]
[]
["Al. d'allait./Milk replacers/Sostit. del latte/Milchaust.",null,{"$f":"Cyprus!U36","v":0},{"$f":"'Czech Rep'!U36","v":5},{"$f":"Estonia!U36","v":0},{"$f":"Hungary!U36","v":0},{"$f":"Latvia!U36","v":0},{"$f":"Lithuania!U36","v":3},{"$f":"Poland!U36","v":0},{"$f":"Slovakia!U36","v":0},{"$f":"Slovenia!U36","v":0},{"$f":"SUM(C87:K87)","v":8},{"$f":"P34+L87","v":{"v":1546,"d":"1,546"}},{"$f":"Bulgaria!U36","v":0},{"$f":"Romania!U37","v":0},{"$f":"N87+M87+O87","v":{"v":1546,"d":"1,546"}}]
[]
[{"$nulls":4}," "]
["Autres/others/altri/Andere",null,{"$f":"Cyprus!U39","v":107},{"$f":"'Czech Rep'!U39","v":91},{"$f":"Estonia!U39","v":2},{"$f":"Hungary!U39","v":180},{"$f":"Latvia!U39","v":25},{"$f":"Lithuania!U39","v":9},{"$f":"Poland!U39","v":411},{"$f":"Slovakia!U39","v":14},{"$f":"Slovenia!U39","v":9},{"$f":"SUM(C90:K90)","v":848},{"$f":"P37+L90","v":{"v":7339,"d":"7,339"}},{"$f":"Bulgaria!U39","v":34},{"$f":"Romania!U40","v":0},{"$f":"N90+M90+O90","v":{"v":7373,"d":"7,373"}}]
[]
[]
["TOTAL",null,{"$f":"C90+C87+C81+C74+C66","v":289},{"v":2799,"d":"2,799"},236,{"v":4125,"d":"4,125"},327,398,{"v":7129,"d":"7,129"},834,495,{"v":16632,"d":"16,632"},{"v":147771,"d":"147,771"},863,{"v":3032,"d":"3,032"},{"v":151666,"d":"151,666"}]
[{"$nulls":5}," "]
[]
["** Sans Malte/Ohne Maltas/Without Malta/Senza Malta"]
["*** Sans le Luxembourg, la Grèce et Malte/Ohne Luxemburg, Griechenland und Maltas/Without Luxemburg, Greece and Malta/Senza Lussemburgo, Ellas e Malta"]
[": non disponible/not available/nicht verfügbar"]

{"sheet":"2007","index":38,"n_rows":98,"n_cols":16,"rows_kept":98,"merged":[[4,0,4,15],[5,0,5,15],[57,0,57,12],[58,0,58,12]]}
["2008-05-15"]
[]
["PRODUCTION INDUSTRIELLE D'ALIMENTS COMPOSES ",{"$nulls":14},"INDUSTRIELLE  MISCHFUTTERPRODUKTION"]
["PRODUZIONE INDUSTRIALE DI MANGIMI COMPOSTI",{"$nulls":14},"INDUSTRIAL COMPOUND PRODUCTION"]
[2007]
["definitif/final"]
[{"$nulls":15},"(1 000 t)"]
[]
["Catégories d'aliments composés/Mischfutterarten",null,"DE","FR","IT","NL","BE","UK","IE","DK","ES","PT","AT","SE","FI","EU-15"]
["Tipi di mangimi compositi/Types of feed",{"$nulls":14},"*"]
[]
[null,null," ",{"$nulls":4}," ",null,null," "]
["Bovins/Cattle/Bovini/Rinder",null,{"$f":"Germany!T16","v":{"v":6322,"d":"6,322"}},{"$f":"France!T16","v":{"v":5123,"d":"5,123"}},{"$f":"Italy!T16","v":{"v":4045,"d":"4,045"}},{"$f":"'The Netherlands'!T16","v":{"v":3375,"d":"3,375"}},{"$f":"Belgium!T16","v":{"v":1190,"d":"1,190"}},{"$f":"UK!T16","v":{"v":4851,"d":"4,851"}},{"$f":"Ireland!T16","v":{"v":2062,"d":"2,062"}},{"$f":"Denmark!T16","v":{"v":1143,"d":"1,143"}},{"$f":"Spain!T16","v":{"v":4780,"d":"4,780"}},{"$f":"Portugal!T16","v":940},{"$f":"Austria!T16","v":402},{"$f":"Sweden!T16","v":{"v":1107,"d":"1,107"}},{"$f":"Finland!T16","v":641},{"$f":"SUM(C13:O13)","v":{"v":35981,"d":"35,981"}}]
["engrais/fattening/Mast  ",null,{"$f":"Germany!T17","v":442},{"$f":"France!T17","v":{"v":1544,"d":"1,544"}},{"$f":"Italy!T17","v":0},{"$f":"'The Netherlands'!T17","v":347},{"$f":"Belgium!T17","v":339},{"$f":"UK!T17","v":{"v":1391,"d":"1,391"}},{"$f":"Ireland!T17","v":0},":",":",{"$f":"Portugal!T17","v":360},{"$f":"Austria!T17","v":0},":",":",":"]
["VL/dairy cow/Milchkühe",null,{"$f":"Germany!T18","v":{"v":5690,"d":"5,690"}},{"$f":"France!T18","v":{"v":3059,"d":"3,059"}},{"$f":"Italy!T18","v":0},{"$f":"'The Netherlands'!T18","v":{"v":3012,"d":"3,012"}},{"$f":"Belgium!T18","v":550},{"$f":"UK!T18","v":{"v":3186,"d":"3,186"}},{"$f":"Ireland!T18","v":0},{"$f":"Denmark!T18","v":754},":",{"$f":"Portugal!T18","v":487},{"$f":"Austria!T18","v":0},":",{"$f":"Finland!T18","v":586},":"]
["veaux (aliments d'allaitement non compris)/calves ",null,{"$f":"Germany!T19","v":0},{"$f":"France!T19","v":0},{"$f":"Italy!T19","v":0},{"$f":"'The Netherlands'!T19","v":0},{"$f":"Belgium!T19","v":102},{"$f":"UK!T19","v":205},{"$f":"Ireland!T19","v":0},{"$f":"Denmark!T19","v":389},":",{"$f":"Portugal!T19","v":62},{"$f":"Austria!T19","v":0},":",{"$f":"Finland!T19","v":55},":"]
["(excluding milk replacers)/Kälber (exkl. Milchaustauscher)"]
["autres/others/Andere",null,{"$f":"Germany!T20","v":190},{"$f":"France!T20","v":520},{"$f":"Italy!T20","v":0},{"$f":"'The Netherlands'!T20","v":16},{"$f":"Belgium!T20","v":199},{"$f":"UK!T20","v":69},{"$f":"Ireland!T20","v":0},{"$f":"Denmark!T20","v":0},":",{"$f":"Portugal!T20","v":31},{"$f":"Austria!T20","v":0},":",{"$f":"Finland!T20","v":0},":"]
[]
[]
["Porcins/Pigs/Suini/Schweine",null,{"$f":"Germany!T23","v":{"v":8814,"d":"8,814"}},{"$f":"France!T23","v":{"v":6418,"d":"6,418"}},{"$f":"Italy!T23","v":{"v":3209,"d":"3,209"}},{"$f":"'The Netherlands'!T23","v":{"v":5755,"d":"5,755"}},{"$f":"Belgium!T23","v":{"v":3563,"d":"3,563"}},{"$f":"UK!T23","v":{"v":1739,"d":"1,739"}},{"$f":"Ireland!T23","v":618},{"$f":"Denmark!T23","v":{"v":3338,"d":"3,338"}},{"$f":"Spain!T23","v":{"v":10185,"d":"10,185"}},{"$f":"Portugal!T23","v":{"v":1080,"d":"1,080"}},{"$f":"Austria!T23","v":243},{"$f":"Sweden!T23","v":395},{"$f":"Finland!T23","v":368},{"$f":"SUM(C21:O21)","v":{"v":45725,"d":"45,725"}}]
["porcelets/piglets/Ferkel",null,{"$f":"Germany!T24","v":{"v":1763,"d":"1,763"}},{"$f":"France!T24","v":774},{"$f":"Italy!T24","v":0},{"$f":"'The Netherlands'!T24","v":770},{"$f":"Belgium!T24","v":799},{"$f":"UK!T24","v":86},{"$f":"Ireland!T24","v":0},{"$f":"Denmark!T24","v":663},":",{"$f":"Portugal!T24","v":162},{"$f":"Austria!T24","v":0},":",{"$f":"Finland!T24","v":47},":"]
["porcs engrais/pigs for fattening/Mastschweine",null,{"$f":"Germany!T25","v":{"v":5288,"d":"5,288"}},{"$f":"France!T25","v":{"v":4529,"d":"4,529"}},{"$f":"Italy!T25","v":0},{"$f":"'The Netherlands'!T25","v":{"v":3779,"d":"3,779"}},{"$f":"Belgium!T25","v":{"v":2764,"d":"2,764"}},{"$f":"UK!T25","v":{"v":1192,"d":"1,192"}},{"$f":"Ireland!T25","v":0},{"$f":"Denmark!T25","v":{"v":1959,"d":"1,959"}},":",{"$f":"Portugal!T25","v":660},{"$f":"Austria!T25","v":0},":",{"$f":"Finland!T25","v":203},":"]
["reproducteurs/breeding pigs/Zuchtschweine",null,{"$f":"Germany!T26","v":{"v":1322,"d":"1,322"}},{"$f":"France!T26","v":{"v":1115,"d":"1,115"}},{"$f":"Italy!T26","v":0},{"$f":"'The Netherlands'!T26","v":{"v":1206,"d":"1,206"}},{"$f":"Belgium!T26","v":0},{"$f":"UK!T26","v":446},{"$f":"Ireland!T26","v":0},{"$f":"Denmark!T26","v":716},":",{"$f":"Portugal!T26","v":236},{"$f":"Austria!T26","v":0},":",{"$f":"Finland!T26","v":59},":"]
["autres/others/Andere",null,{"$f":"Germany!T27","v":441},{"$f":"France!T27","v":0},{"$f":"Italy!T27","v":0},{"$f":"'The Netherlands'!T27","v":0},{"$f":"Belgium!T27","v":0},{"$f":"UK!T27","v":15},{"$f":"Ireland!T27","v":0},{"$f":"Denmark!T27","v":0},":",{"$f":"Portugal!T27","v":22},{"$f":"Austria!T27","v":0},":",{"$f":"Finland!T27","v":59},":"]
[{"$nulls":4}," "]
[]
["Volaille/Poultry/Volatili/Geflügel",null,{"$f":"Germany!T30","v":{"v":5272,"d":"5,272"}},{"$f":"France!T30","v":{"v":8775,"d":"8,775"}},{"$f":"Italy!T30","v":{"v":5213,"d":"5,213"}},{"$f":"'The Netherlands'!T30","v":{"v":3407,"d":"3,407"}},{"$f":"Belgium!T30","v":{"v":1286,"d":"1,286"}},{"$f":"UK!T30","v":{"v":6157,"d":"6,157"}},{"$f":"Ireland!T30","v":461},{"$f":"Denmark!T30","v":570},{"$f":"Spain!T30","v":{"v":4583,"d":"4,583"}},{"$f":"Portugal!T30","v":{"v":1350,"d":"1,350"}},{"$f":"Austria!T30","v":420},{"$f":"Sweden!T30","v":516},{"$f":"Finland!T30","v":307},{"$f":"SUM(C28:O28)","v":{"v":38317,"d":"38,317"}}]
["broilers",null,{"$f":"Germany!T31","v":{"v":1708,"d":"1,708"}},{"$f":"France!T31","v":{"v":3253,"d":"3,253"}},{"$f":"Italy!T31","v":0},{"$f":"'The Netherlands'!T31","v":{"v":1530,"d":"1,530"}},{"$f":"Belgium!T31","v":584},{"$f":"UK!T31","v":{"v":3425,"d":"3,425"}},":",{"$f":"Denmark!T31","v":181},":",{"$f":"Portugal!T31","v":800},{"$f":"Austria!T31","v":0},":",{"$f":"Finland!T31","v":205},":"]
["poulettes & pondeuses/chicks & layers/Jung- & Legehennen",null,{"$f":"Germany!T32","v":{"v":2166,"d":"2,166"}},{"$f":"France!T32","v":{"v":2135,"d":"2,135"}},{"$f":"Italy!T32","v":0},{"$f":"'The Netherlands'!T32","v":{"v":1877,"d":"1,877"}},{"$f":"Belgium!T32","v":457},{"$f":"UK!T32","v":{"v":1572,"d":"1,572"}},":",{"$f":"Denmark!T32","v":324},":",{"$f":"Portugal!T32","v":340},{"$f":"Austria!T32","v":0},":",{"$f":"Finland!T32","v":64},":"]
["autres/others/Andere",null,{"$f":"Germany!T33","v":{"v":1398,"d":"1,398"}},{"$f":"France!T33","v":{"v":3387,"d":"3,387"}},{"$f":"Italy!T33","v":0},{"$f":"'The Netherlands'!T33","v":0},{"$f":"Belgium!T33","v":245},{"$f":"UK!T33","v":{"v":1160,"d":"1,160"}},":",{"$f":"Denmark!T33","v":65},":",{"$f":"Portugal!T33","v":210},{"$f":"Austria!T33","v":0},":",{"$f":"Finland!T33","v":38},":"]
[]
[]
["Al. d'allait./Milk replacers/Sostit. del latte/Milchaust.",null,{"$f":"Germany!T36","v":140},{"$f":"France!T36","v":406},{"$f":"Italy!T36","v":177},{"$f":"'The Netherlands'!T36","v":761},{"$f":"Belgium!T36","v":68},{"$f":"UK!T36","v":1},{"$f":"Ireland!T36","v":6},{"$f":"Denmark!T36","v":0},{"$f":"Spain!T36","v":0},{"$f":"Portugal!T36","v":0},{"$f":"Austria!T36","v":0},{"$f":"Sweden!T36","v":2},{"$f":"Finland!T36","v":0},{"$f":"SUM(C34:O34)","v":{"v":1561,"d":"1,561"}}]
[]
[{"$nulls":4}," "]
["Autres/others/altri/Andere",null,{"$f":"Germany!T39","v":762},{"$f":"France!T39","v":{"v":1622,"d":"1,622"}},{"$f":"Italy!T39","v":909},{"$f":"'The Netherlands'!T39","v":432},{"$f":"Belgium!T39","v":135},{"$f":"UK!T39","v":{"v":1593,"d":"1,593"}},{"$f":"Ireland!T39","v":409},{"$f":"Denmark!T39","v":154},{"$f":"Spain!T39","v":{"v":1655,"d":"1,655"}},{"$f":"Portugal!T39","v":235},{"$f":"Austria!T39","v":88},{"$f":"Sweden!T39","v":120},{"$f":"Finland!T39","v":89},{"$f":"SUM(C37:O37)","v":{"v":8203,"d":"8,203"}}]
[]
[]
["TOTAL",null,{"$f":"C37+C34+C28+C21+C13","v":{"v":21310,"d":"21,310"}},{"v":22344,"d":"22,344"},{"v":13553,"d":"13,553"},{"v":13730,"d":"13,730"},{"v":6242,"d":"6,242"},{"v":14341,"d":"14,341"},{"v":3556,"d":"3,556"},{"v":5205,"d":"5,205"},{"v":21203,"d":"21,203"},{"v":3605,"d":"3,605"},{"v":1153,"d":"1,153"},{"v":2140,"d":"2,140"},{"v":1405,"d":"1,405"},{"v":129787,"d":"129,787"}]
[{"$nulls":5}," "]
[]
["* Sans le Luxembourg et la Grèce/ohne Luxemburg und Griechenland/Without Luxemburg and Greece/Senza Lussemburgo e Ella"]
[": non disponible/not available/nicht verfügbar"]
{"$rows_empty":9}
["2008-05-15"]
[]
["PRODUCTION INDUSTRIELLE D'ALIMENTS COMPOSES ",{"$nulls":11},"INDUSTRIELLE  MISCHFUTTERPRODUKTION"]
["PRODUZIONE INDUSTRIALE DI MANGIMI COMPOSTI",{"$nulls":11},"INDUSTRIAL COMPOUND PRODUCTION"]
[2007]
["definitif/final"]
[{"$nulls":12},"(1 000 t)"]
[]
["Catégories d'aliments composés/Mischfutterarten",null,"CY","CZ","EE","HU","LV","LT","PL","SK","SI","10NM","EU-25","BU","RO","EU-27"]
["Tipi di mangimi compositi/Types of feed",{"$nulls":10},"**","***",null,null,"***"]
[]
[null,null," ",{"$nulls":4}," ",null," "]
["Bovins/Cattle/Bovini/Rinder",null,{"$f":"Cyprus!T16","v":110},{"$f":"'Czech Rep'!T16","v":543},{"$f":"Estonia!T16","v":47},{"$f":"Hungary!T16","v":540},{"$f":"Latvia!T16","v":50},{"$f":"Lithuania!T16","v":110},{"$f":"Poland!T16","v":678},{"$f":"Slovakia!T16","v":265},{"$f":"Slovenia!T16","v":104},{"$f":"SUM(C66:K66)","v":{"v":2447,"d":"2,447"}},{"$f":"P13+L66","v":{"v":38428,"d":"38,428"}},{"$f":"Bulgaria!T16","v":40},{"$f":"Romania!T17","v":135},{"$f":"N66+M66+O66","v":{"v":38603,"d":"38,603"}}]
["engrais/fattening/Mast  ",null,{"$f":"Cyprus!T17","v":0},{"$f":"'Czech Rep'!T17","v":0},{"$f":"Estonia!T17","v":":"},{"$f":"Hungary!T17","v":0},{"$f":"Latvia!T17","v":0},{"$f":"Lithuania!T17","v":5},{"$f":"Poland!T17","v":0},{"$f":"Slovakia!T17","v":22},":",":",":",":",":",":"]
["VL/dairy cow/Milchkühe",null,{"$f":"Cyprus!T18","v":0},{"$f":"'Czech Rep'!T18","v":0},{"$f":"Estonia!T18","v":":"},{"$f":"Hungary!T18","v":0},{"$f":"Latvia!T18","v":0},{"$f":"Lithuania!T18","v":91},{"$f":"Poland!T18","v":0},{"$f":"Slovakia!T18","v":192},":",":",":",":",":",":"]
["veaux (aliments d'allaitement non compris)/calves ",null,{"$f":"Cyprus!T19","v":0},{"$f":"'Czech Rep'!T19","v":0},{"$f":"Estonia!T19","v":":"},{"$f":"Hungary!T19","v":0},{"$f":"Latvia!T19","v":0},{"$f":"Lithuania!T19","v":7},{"$f":"Poland!T19","v":0},{"$f":"Slovakia!T19","v":26},":",":",":",":",":",":"]
["(excluding milk replacers)/Kälber (exkl. Milchaustauscher)"]
["autres/others/Andere",null,{"$f":"Cyprus!T20","v":0},{"$f":"'Czech Rep'!T20","v":0},{"$f":"Estonia!T20","v":":"},{"$f":"Hungary!T20","v":0},{"$f":"Latvia!T20","v":0},{"$f":"Lithuania!T20","v":7},{"$f":"Poland!T20","v":0},{"$f":"Slovakia!T20","v":25},":",":",":",":",":",":"]
[]
[]
["Porcins/Pigs/Suini/Schweine",null,{"$f":"Cyprus!T23","v":13},{"$f":"'Czech Rep'!T23","v":{"v":1268,"d":"1,268"}},{"$f":"Estonia!T23","v":129},{"$f":"Hungary!T23","v":{"v":1780,"d":"1,780"}},{"$f":"Latvia!T23","v":100},{"$f":"Lithuania!T23","v":123},{"$f":"Poland!T23","v":{"v":1874,"d":"1,874"}},{"$f":"Slovakia!T23","v":397},{"$f":"Slovenia!T23","v":172},{"$f":"SUM(C74:K74)","v":{"v":5856,"d":"5,856"}},{"$f":"P21+L74","v":{"v":51581,"d":"51,581"}},{"$f":"Bulgaria!T23","v":220},{"$f":"Romania!T24","v":{"v":1150,"d":"1,150"}},{"$f":"N74+M74+O74","v":{"v":52951,"d":"52,951"}}]
["porcelets/piglets/Ferkel",null,{"$f":"Cyprus!T24","v":0},{"$f":"'Czech Rep'!T24","v":0},{"$f":"Estonia!T24","v":":"},{"$f":"Hungary!T24","v":0},{"$f":"Latvia!T24","v":0},{"$f":"Lithuania!T24","v":26},{"$f":"Poland!T24","v":0},{"$f":"Slovakia!T24","v":35},":",":",":",":",":",":"]
["porcs engrais/pigs for fattening/Mastschweine",null,{"$f":"Cyprus!T25","v":0},{"$f":"'Czech Rep'!T25","v":0},{"$f":"Estonia!T25","v":":"},{"$f":"Hungary!T25","v":0},{"$f":"Latvia!T25","v":0},{"$f":"Lithuania!T25","v":63},{"$f":"Poland!T25","v":0},{"$f":"Slovakia!T25","v":275},":",":",":",":",":",":"]
["reproducteurs/breeding pigs/Zuchtschweine",null,{"$f":"Cyprus!T26","v":0},{"$f":"'Czech Rep'!T26","v":0},{"$f":"Estonia!T26","v":":"},{"$f":"Hungary!T26","v":0},{"$f":"Latvia!T26","v":0},{"$f":"Lithuania!T26","v":24},{"$f":"Poland!T26","v":0},{"$f":"Slovakia!T26","v":19},":",":",":",":",":",":"]
["autres/others/Andere",null,{"$f":"Cyprus!T27","v":0},{"$f":"'Czech Rep'!T27","v":0},{"$f":"Estonia!T27","v":":"},{"$f":"Hungary!T27","v":0},{"$f":"Latvia!T27","v":0},{"$f":"Lithuania!T27","v":10},{"$f":"Poland!T27","v":0},{"$f":"Slovakia!T27","v":68},":",":",":",":",":",":"]
[{"$nulls":4}," "]
[]
["Volaille/Poultry/Volatili/Geflügel",null,{"$f":"Cyprus!T30","v":62},{"$f":"'Czech Rep'!T30","v":{"v":1074,"d":"1,074"}},{"$f":"Estonia!T30","v":46},{"$f":"Hungary!T30","v":{"v":1650,"d":"1,650"}},{"$f":"Latvia!T30","v":35},{"$f":"Lithuania!T30","v":256},{"$f":"Poland!T30","v":{"v":4064,"d":"4,064"}},{"$f":"Slovakia!T30","v":312},{"$f":"Slovenia!T30","v":210},{"$f":"SUM(C81:K81)","v":{"v":7709,"d":"7,709"}},{"$f":"P28+L81","v":{"v":46026,"d":"46,026"}},{"$f":"Bulgaria!T30","v":430},{"$f":"Romania!T31","v":{"v":1420,"d":"1,420"}},{"$f":"N81+M81+O81","v":{"v":47876,"d":"47,876"}}]
["broilers",null,{"$f":"Cyprus!T31","v":0},{"$f":"'Czech Rep'!T31","v":0},{"$f":"Estonia!T31","v":":"},{"$f":"Hungary!T31","v":0},{"$f":"Latvia!T31","v":0},{"$f":"Lithuania!T31","v":132},{"$f":"Poland!T31","v":0},{"$f":"Slovakia!T31","v":164},":",":",":",":",":",":"]
["poulettes & pondeuses/chicks & layers/Jung- & Legehennen",null,{"$f":"Cyprus!T32","v":0},{"$f":"'Czech Rep'!T32","v":0},{"$f":"Estonia!T32","v":":"},{"$f":"Hungary!T32","v":0},{"$f":"Latvia!T32","v":0},{"$f":"Lithuania!T32","v":117},{"$f":"Poland!T32","v":0},{"$f":"Slovakia!T32","v":115},":",":",":",":",":",":"]
["autres/others/Andere",null,{"$f":"Cyprus!T33","v":0},{"$f":"'Czech Rep'!T33","v":0},{"$f":"Estonia!T33","v":":"},{"$f":"Hungary!T33","v":0},{"$f":"Latvia!T33","v":0},{"$f":"Lithuania!T33","v":7},{"$f":"Poland!T33","v":0},{"$f":"Slovakia!T33","v":33},":",":",":",":",":",":"]
[]
[]
["Al. d'allait./Milk replacers/Sostit. del latte/Milchaust.",null,{"$f":"Cyprus!T36","v":0},{"$f":"'Czech Rep'!T36","v":5},{"$f":"Estonia!T36","v":0},{"$f":"Hungary!T36","v":0},{"$f":"Latvia!T36","v":0},{"$f":"Lithuania!T36","v":5},{"$f":"Poland!T36","v":0},{"$f":"Slovakia!T36","v":0},{"$f":"Slovenia!T36","v":0},{"$f":"SUM(C87:K87)","v":10},{"$f":"P34+L87","v":{"v":1571,"d":"1,571"}},{"$f":"Bulgaria!T36","v":0},{"$f":"Romania!T37","v":0},{"$f":"N87+M87+O87","v":{"v":1571,"d":"1,571"}}]
[]
[{"$nulls":4}," "]
["Autres/others/altri/Andere",null,{"$f":"Cyprus!T39","v":102},{"$f":"'Czech Rep'!T39","v":112},{"$f":"Estonia!T39","v":2},{"$f":"Hungary!T39","v":180},{"$f":"Latvia!T39","v":17},{"$f":"Lithuania!T39","v":21},{"$f":"Poland!T39","v":437},{"$f":"Slovakia!T39","v":16},{"$f":"Slovenia!T39","v":9},{"$f":"SUM(C90:K90)","v":896},{"$f":"P37+L90","v":{"v":9099,"d":"9,099"}},{"$f":"Bulgaria!T39","v":20},{"$f":"Romania!T40","v":0},{"$f":"N90+M90+O90","v":{"v":9119,"d":"9,119"}}]
[]
[]
["TOTAL",null,{"$f":"C90+C87+C81+C74+C66","v":287},{"v":3002,"d":"3,002"},224,{"v":4150,"d":"4,150"},202,515,{"v":7053,"d":"7,053"},990,495,{"v":16918,"d":"16,918"},{"v":146705,"d":"146,705"},710,{"v":2705,"d":"2,705"},{"v":150120,"d":"150,120"}]
[{"$nulls":5}," "]
[]
["** Sans Malte/Ohne Maltas/Without Malta/Senza Malta"]
["*** Sans le Luxembourg, la Grèce et Malte/Ohne Luxemburg, Griechenland und Maltas/Without Luxemburg, Greece and Malta/Senza Lussemburgo, Ellas e Malta"]
[": non disponible/not available/nicht verfügbar"]

{"sheet":"2008-09","index":39,"n_rows":43,"n_cols":24,"rows_kept":43}
["2010-05-06"]
[]
["PRODUCTION INDUSTRIELLE D'ALIMENTS COMPOSES",{"$nulls":22},"INDUSTRIELLE  MISCHFUTTERPRODUKTION"]
["PRODUZIONE INDUSTRIALE DI MANGIMI COMPOSTI",{"$nulls":11},"2008-2009",{"$nulls":10},"INDUSTRIAL COMPOUND PRODUCTION"]
[{"$nulls":12},"definitif/final",{"$nulls":10},"(1 000 t )"]
[]
[]
[]
["PAYS",null,"      BOVINS/RINDER",{"$nulls":3},"    PORCS/SCHWEINE",{"$nulls":3},"     VOLAILLE/GEFLÜGEL",null,"      A. ALLAITEMENT/MILCHAUST.",{"$nulls":5},"     AUTRES/ANDERE",null,null,"       TOTAL/INSGESAMT"]
["LAND",null,"      BOVINI/CATTLE",{"$nulls":3},"    SUINI/PIGS",{"$nulls":3},"     VOLATILI/POULTRY",null,"  SOSTIT. DEL LATTE/MILKREPLACERS",{"$nulls":5},"ALTRI ANIMALI/OTHERS",null,null,"          TOTALE/TOTAL"]
["PAESE"]
["COUNTRY",2008,2009,"%TAV",null,2008,2009,"%TAV",null,2008,2009,"%TAV",null,2008,2009,"%TAV",null,2008,2009,"%TAV",null,2008,2009,"%TAV"]
[]
["DE",{"$f":"Germany!U$16","v":{"v":6327,"d":"6,327"}},{"$f":"Germany!V$16","v":{"v":5842,"d":"5,842"}},{"$f":"((C14/B14)-1)*100","v":{"v":-7.6655602971392405,"d":"-7.7"}},null,{"$f":"Germany!U$23","v":{"v":9183,"d":"9,183"}},{"$f":"Germany!V$23","v":{"v":8913,"d":"8,913"}},{"$f":"((G14/F14)-1)*100","v":{"v":-2.9402156158118253,"d":"-2.9"}},null,{"$f":"Germany!U$30","v":{"v":5442,"d":"5,442"}},{"$f":"Germany!V$30","v":{"v":5227,"d":"5,227"}},{"$f":"((K14/J14)-1)*100","v":{"v":-3.950753399485485,"d":"-4.0"}},null,{"$f":"Germany!U$36","v":143},{"$f":"Germany!V$36","v":145},{"$f":"((O14/N14)-1)*100","v":{"v":1.3986013986013957,"d":"1.4"}},null,{"$f":"Germany!U$39","v":730},{"$f":"Germany!V$39","v":748},{"$f":"((S14/R14)-1)*100","v":{"v":2.465753424657535,"d":"2.5"}},null,{"$f":"R14+N14+J14+F14+B14","v":{"v":21825,"d":"21,825"}},{"v":20875,"d":"20,875"},{"$f":"((W14/V14)-1)*100","v":{"v":-4.35280641466208,"d":"-4.4"}}]
["FR",{"$f":"France!U$16","v":{"v":5542,"d":"5,542"}},{"$f":"France!V$16","v":{"v":4927,"d":"4,927"}},{"v":-11.097076867556844,"d":"-11.1"},null,{"$f":"France!U$23","v":{"v":6316,"d":"6,316"}},{"$f":"France!V$23","v":{"v":5915,"d":"5,915"}},{"v":-6.348955034832171,"d":"-6.3"},null,{"$f":"France!U$30","v":{"v":8772,"d":"8,772"}},{"$f":"France!V$30","v":{"v":8470,"d":"8,470"}},{"v":-3.4427724578203422,"d":"-3.4"},null,{"$f":"France!U36","v":413},{"$f":"France!V36","v":389},{"v":-5.811138014527851,"d":"-5.8"},null,{"$f":"France!U$39","v":{"v":1599,"d":"1,599"}},{"$f":"France!V$39","v":{"v":1535,"d":"1,535"}},{"v":-4.002501563477178,"d":"-4.0"},null,{"$f":"R15+N15+J15+F15+B15","v":{"v":22642,"d":"22,642"}},{"v":21236,"d":"21,236"},{"v":-6.209698789859552,"d":"-6.2"}]
["IT",{"$f":"Italy!U$16","v":{"v":3897,"d":"3,897"}},{"$f":"Italy!V$16","v":{"v":3640,"d":"3,640"}},{"v":-6.594816525532465,"d":"-6.6"},null,{"$f":"Italy!U$23","v":{"v":3255,"d":"3,255"}},{"$f":"Italy!V$23","v":{"v":3187,"d":"3,187"}},{"v":-2.0890937019969247,"d":"-2.1"},null,{"$f":"Italy!U$30","v":{"v":5363,"d":"5,363"}},{"$f":"Italy!V$30","v":{"v":5452,"d":"5,452"}},{"v":1.6595189259742682,"d":"1.7"},null,{"$f":"Italy!U$36","v":160},{"$f":"Italy!V$36","v":155},{"v":-3.125,"d":"-3.1"},null,{"$f":"+Italy!U$39","v":{"v":1060,"d":"1,060"}},{"$f":"+Italy!V$39","v":811},{"v":-23.49056603773585,"d":"-23.5"},null,{"$f":"R16+N16+J16+F16+B16","v":{"v":13735,"d":"13,735"}},{"v":13245,"d":"13,245"},{"v":-3.567528212595561,"d":"-3.6"}]
["NL   ",{"$f":"'The Netherlands'!U$16","v":{"v":3560,"d":"3,560"}},{"$f":"'The Netherlands'!V$16","v":{"v":3364,"d":"3,364"}},{"v":-5.505617977528088,"d":"-5.5"},null,{"$f":"'The Netherlands'!U$23","v":{"v":6107,"d":"6,107"}},{"$f":"'The Netherlands'!V$23","v":{"v":5936,"d":"5,936"}},{"v":-2.800065498608151,"d":"-2.8"},null,{"$f":"'The Netherlands'!U$30","v":{"v":3710,"d":"3,710"}},{"$f":"'The Netherlands'!V$30","v":{"v":3623,"d":"3,623"}},{"v":-2.345013477088953,"d":"-2.3"},null,{"$f":"'The Netherlands'!U$36","v":759},{"$f":"'The Netherlands'!V$36","v":719},{"v":-5.270092226613965,"d":"-5.3"},null,{"$f":"'The Netherlands'!U$39","v":441},{"$f":"'The Netherlands'!V$39","v":437},{"v":-0.9070294784580546,"d":"-0.9"},null,{"$f":"R17+N17+J17+F17+B17","v":{"v":14577,"d":"14,577"}},{"v":14079,"d":"14,079"},{"v":-3.416340810866436,"d":"-3.4"}]
["BE",{"$f":"Belgium!U$16","v":{"v":1162,"d":"1,162"}},{"$f":"Belgium!V$16","v":{"v":1097,"d":"1,097"}},{"v":-5.593803786574869,"d":"-5.6"},null,{"$f":"Belgium!U$23","v":{"v":3638,"d":"3,638"}},{"$f":"Belgium!V$23","v":{"v":3580,"d":"3,580"}},{"v":-1.5942825728422205,"d":"-1.6"},null,{"$f":"Belgium!U$30","v":{"v":1284,"d":"1,284"}},{"$f":"Belgium!V$30","v":{"v":1326,"d":"1,326"}},{"v":3.2710280373831724,"d":"3.3"},null,{"$f":"Belgium!U$36","v":57},{"$f":"Belgium!V$36","v":44},{"v":-22.807017543859654,"d":"-22.8"},null,{"$f":"Belgium!U$39","v":147},{"$f":"Belgium!V$39","v":138},{"v":-6.122448979591832,"d":"-6.1"},null,{"$f":"R18+N18+J18+F18+B18","v":{"v":6288,"d":"6,288"}},{"v":6185,"d":"6,185"},{"v":-1.6380407124681917,"d":"-1.6"}]
["UK ",{"$f":"UK!U$16","v":{"v":4874,"d":"4,874"}},{"$f":"UK!V$16","v":{"v":4764,"d":"4,764"}},{"v":-2.256873204759946,"d":"-2.3"},null,{"$f":"UK!U$23","v":{"v":1572,"d":"1,572"}},{"$f":"UK!V$23","v":{"v":1497,"d":"1,497"}},{"v":-4.770992366412219,"d":"-4.8"},null,{"$f":"UK!U$30","v":{"v":6246,"d":"6,246"}},{"$f":"UK!V$30","v":{"v":6236,"d":"6,236"}},{"v":-0.16010246557797148,"d":"-0.2"},null,{"$f":"UK!U$36","v":1},{"$f":"UK!V$36","v":1},{"v":0,"d":"0.0"},null,{"$f":"UK!U$39","v":{"v":1300,"d":"1,300"}},{"$f":"UK!V$39","v":{"v":1301,"d":"1,301"}},{"v":0.07692307692308553,"d":"0.1"},null,{"$f":"R19+N19+J19+F19+B19","v":{"v":13993,"d":"13,993"}},{"v":13799,"d":"13,799"},{"v":-1.3864074894590184,"d":"-1.4"}]
["IE",{"$f":"Ireland!U$16","v":{"v":2163,"d":"2,163"}},{"$f":"Ireland!V$16","v":{"v":2131,"d":"2,131"}},{"v":-1.4794267221451718,"d":"-1.5"},null,{"$f":"Ireland!U$23","v":648},{"$f":"Ireland!V$23","v":633},{"v":-2.314814814814814,"d":"-2.3"},null,{"$f":"Ireland!U$30","v":465},{"$f":"Ireland!V$30","v":486},{"v":4.516129032258065,"d":"4.5"},null,{"$f":"Ireland!U$36","v":4},{"$f":"Ireland!V$36","v":6},{"v":50,"d":"50.0"},null,{"$f":"Ireland!U$39","v":368},{"$f":"Ireland!V$39","v":350},{"v":-4.891304347826086,"d":"-4.9"},null,{"$f":"R20+N20+J20+F20+B20","v":{"v":3648,"d":"3,648"}},{"v":3606,"d":"3,606"},{"v":-1.1513157894736836,"d":"-1.2"}]
["DK ",{"$f":"Denmark!U$16","v":{"v":1079,"d":"1,079"}},{"$f":"Denmark!V$16","v":997},{"v":-7.599629286376275,"d":"-7.6"},null,{"$f":"Denmark!U$23","v":{"v":3129,"d":"3,129"}},{"$f":"Denmark!V$23","v":{"v":2867,"d":"2,867"}},{"v":-8.373282198785558,"d":"-8.4"},null,{"$f":"Denmark!U$30","v":580},{"$f":"Denmark!V$30","v":550},{"v":-5.1724137931034475,"d":"-5.2"},null,{"$f":"Denmark!U$36","v":0},{"$f":"Denmark!V$36","v":0},{"v":0,"d":"0.0"},null,{"$f":"Denmark!U$39","v":172},{"$f":"Denmark!V$39","v":174},{"v":1.1627906976744207,"d":"1.2"},null,{"$f":"R21+N21+J21+F21+B21","v":{"v":4960,"d":"4,960"}},{"v":4588,"d":"4,588"},{"v":-7.499999999999996,"d":"-7.5"}]
["ES",{"$f":"Spain!U$16","v":{"v":6986,"d":"6,986"}},{"$f":"Spain!V$16","v":{"v":6700,"d":"6,700"}},{"v":-4.093902089894074,"d":"-4.1"},null,{"$f":"Spain!U$23","v":{"v":9651,"d":"9,651"}},{"$f":"Spain!V$23","v":{"v":8985,"d":"8,985"}},{"v":-6.900839291265148,"d":"-6.9"},null,{"$f":"Spain!U$30","v":{"v":4540,"d":"4,540"}},{"$f":"Spain!V$30","v":{"v":4734,"d":"4,734"}},{"v":4.2731277533039735,"d":"4.3"},null,{"$f":"Spain!U$36","v":0},{"$f":"Spain!V$36","v":0},{"v":0,"d":"0.0"},null,{"$f":"Spain!U$39","v":174},{"$f":"Spain!V$39","v":137},{"v":-21.264367816091955,"d":"-21.3"},null,{"$f":"R22+N22+J22+F22+B22","v":{"v":21351,"d":"21,351"}},{"v":20556,"d":"20,556"},{"v":-3.723478993958129,"d":"-3.7"}]
["PT",{"$f":"Portugal!U$16","v":885},{"$f":"Portugal!V$16","v":805},{"v":-9.039548022598876,"d":"-9.0"},null,{"$f":"Portugal!U$23","v":{"v":1060,"d":"1,060"}},{"$f":"Portugal!V$23","v":955},{"v":-9.905660377358494,"d":"-9.9"},null,{"$f":"Portugal!U$30","v":{"v":1320,"d":"1,320"}},{"$f":"Portugal!V$30","v":{"v":1380,"d":"1,380"}},{"v":4.545454545454541,"d":"4.5"},null,{"$f":"Portugal!U$36","v":0},{"$f":"Portugal!V$36","v":0},{"v":0,"d":"0.0"},null,{"$f":"Portugal!U$39","v":225},{"$f":"Portugal!V$39","v":240},{"v":6.666666666666665,"d":"6.7"},null,{"$f":"R23+N23+J23+F23+B23","v":{"v":3490,"d":"3,490"}},{"v":3380,"d":"3,380"},{"v":-3.151862464183386,"d":"-3.2"}]
["AT",{"$f":"Austria!U$16","v":392},{"$f":"Austria!V$16","v":393},{"v":0.25510204081633514,"d":"0.3"},null,{"$f":"Austria!U$23","v":237},{"$f":"Austria!V$23","v":232},{"v":-2.1097046413502074,"d":"-2.1"},null,{"$f":"Austria!U$30","v":440},{"$f":"Austria!V$30","v":446},{"v":1.3636363636363669,"d":"1.4"},null,{"$f":"Austria!U$36","v":0},{"$f":"Austria!V$36","v":0},{"v":0,"d":"0.0"},null,{"$f":"Austria!U$39","v":102},{"$f":"Austria!V$39","v":106},{"v":3.9215686274509887,"d":"3.9"},null,{"$f":"R24+N24+J24+F24+B24","v":{"v":1171,"d":"1,171"}},{"v":1177,"d":"1,177"},{"v":0.5123825789923098,"d":"0.5"}]
["SE",{"$f":"Sweden!U$16","v":{"v":1031,"d":"1,031"}},{"$f":"Sweden!V$16","v":915},{"v":-11.25121241513094,"d":"-11.3"},null,{"$f":"Sweden!U$23","v":402},{"$f":"Sweden!V$23","v":377},{"v":-6.218905472636815,"d":"-6.2"},null,{"$f":"Sweden!U$30","v":542},{"$f":"Sweden!V$30","v":534},{"v":-1.4760147601476037,"d":"-1.5"},null,{"$f":"Sweden!U$36","v":1},{"$f":"Sweden!V$36","v":1},{"$f":"((O25/N25)-1)*100","v":{"v":0,"d":"0.0"}},null,{"$f":"Sweden!U$39","v":98},{"$f":"Sweden!V$39","v":82},{"v":-16.326530612244895,"d":"-16.3"},null,{"$f":"R25+N25+J25+F25+B25","v":{"v":2074,"d":"2,074"}},{"v":1909,"d":"1,909"},{"v":-7.955641272902603,"d":"-8.0"}]
["FI",{"$f":"Finland!U$16","v":620},{"$f":"Finland!V$16","v":590},{"v":-4.8387096774193505,"d":"-4.8"},null,{"$f":"Finland!U$23","v":375},{"$f":"Finland!V$23","v":340},{"v":-9.333333333333337,"d":"-9.3"},null,{"$f":"Finland!U$30","v":315},{"$f":"Finland!V$30","v":285},{"v":-9.523809523809524,"d":"-9.5"},null,{"$f":"Finland!U$36","v":0},{"$f":"Finland!V$36","v":0},{"v":0,"d":"0.0"},null,{"$f":"Finland!U$39","v":75},{"$f":"Finland!V$39","v":60},{"v":-19.999999999999996,"d":"-20.0"},null,{"$f":"R26+N26+J26+F26+B26","v":{"v":1385,"d":"1,385"}},{"v":1275,"d":"1,275"},{"v":-7.942238267148016,"d":"-7.9"}]
["CY",{"$f":"Cyprus!U$16","v":110},{"$f":"Cyprus!V$16","v":111},{"v":0.9090909090909038,"d":"0.9"},null,{"$f":"Cyprus!U$23","v":12},{"$f":"Cyprus!V$23","v":13},{"v":8.333333333333325,"d":"8.3"},null,{"$f":"Cyprus!U$30","v":60},{"$f":"Cyprus!V$30","v":62},{"v":3.3333333333333437,"d":"3.3"},null,{"$f":"Cyprus!U$36","v":0},{"$f":"Cyprus!V$36","v":1},{"v":0,"d":"0.0"},null,{"$f":"Cyprus!U$39","v":107},{"$f":"Cyprus!V$39","v":106},{"v":-0.9345794392523366,"d":"-0.9"},null,{"$f":"R27+N27+J27+F27+B27","v":289},293,{"v":1.384083044982698,"d":"1.4"}]
["CZ",{"$f":"'Czech Rep'!U$16","v":536},{"$f":"'Czech Rep'!V$16","v":502},{"v":-6.343283582089554,"d":"-6.3"},null,{"$f":"'Czech Rep'!U$23","v":{"v":1093,"d":"1,093"}},{"$f":"'Czech Rep'!V$23","v":929},{"v":-15.004574565416284,"d":"-15.0"},null,{"$f":"'Czech Rep'!U$30","v":{"v":1074,"d":"1,074"}},{"$f":"'Czech Rep'!V$30","v":{"v":1039,"d":"1,039"}},{"v":-3.2588454376163867,"d":"-3.3"},null,{"$f":"'Czech Rep'!U$36","v":5},{"$f":"'Czech Rep'!V$36","v":4},{"$f":"((O28/N28)-1)*100","v":{"v":-19.999999999999996,"d":"-20.0"}},null,{"$f":"'Czech Rep'!U$39","v":91},{"$f":"'Czech Rep'!V$39","v":102},{"v":12.08791208791209,"d":"12.1"},null,{"$f":"R28+N28+J28+F28+B28","v":{"v":2799,"d":"2,799"}},{"v":2576,"d":"2,576"},{"v":-7.967131118256521,"d":"-8.0"}]
["EE",{"$f":"Estonia!U$16","v":44},{"$f":"Estonia!V$16","v":40},{"v":-9.090909090909093,"d":"-9.1"},null,{"$f":"Estonia!U$23","v":141},{"$f":"Estonia!V$23","v":140},{"v":-0.7092198581560294,"d":"-0.7"},null,{"$f":"Estonia!U$30","v":49},{"$f":"Estonia!V$30","v":48},{"v":-2.0408163265306145,"d":"-2.0"},null,{"$f":"Estonia!U$36","v":0},{"$f":"Estonia!V$36","v":0},{"v":0,"d":"0.0"},null,{"$f":"Estonia!U$39","v":2},{"$f":"Estonia!V$39","v":2},{"v":0,"d":"0.0"},null,{"$f":"R29+N29+J29+F29+B29","v":236},230,{"v":-2.5423728813559365,"d":"-2.5"}]
["HU",{"$f":"Hungary!U$16","v":535},{"$f":"Hungary!V$16","v":530},{"v":-0.9345794392523366,"d":"-0.9"},null,{"$f":"Hungary!U$23","v":{"v":1690,"d":"1,690"}},{"$f":"Hungary!V$23","v":{"v":1580,"d":"1,580"}},{"v":-6.508875739644971,"d":"-6.5"},null,{"$f":"Hungary!U$30","v":{"v":1720,"d":"1,720"}},{"$f":"Hungary!V$30","v":{"v":1755,"d":"1,755"}},{"v":2.034883720930236,"d":"2.0"},null,{"$f":"Hungary!U$36","v":0},{"$f":"Hungary!V$36","v":0},{"v":0,"d":"0.0"},null,{"$f":"Hungary!U$39","v":180},{"$f":"Hungary!V$39","v":205},{"v":13.888888888888884,"d":"13.9"},null,{"$f":"R30+N30+J30+F30+B30","v":{"v":4125,"d":"4,125"}},{"v":4070,"d":"4,070"},{"v":-1.3333333333333308,"d":"-1.3"}]
["LV",{"$f":"Latvia!U$16","v":49},{"$f":"Latvia!V$16","v":38},{"v":-22.44897959183674,"d":"-22.4"},null,{"$f":"Latvia!U$23","v":109},{"$f":"Latvia!V$23","v":111},{"v":1.83486238532109,"d":"1.8"},null,{"$f":"Latvia!U$30","v":144},{"$f":"Latvia!V$30","v":159},{"v":10.416666666666675,"d":"10.4"},null,{"$f":"Latvia!U$36","v":0},{"$f":"Latvia!V$36","v":0},{"v":0,"d":"0.0"},null,{"$f":"Latvia!U$39","v":25},{"$f":"Latvia!V$39","v":15},{"v":-40,"d":"-40.0"},null,{"$f":"R31+N31+J31+F31+B31","v":327},323,{"v":-1.2232415902140636,"d":"-1.2"}]
["LT",{"$f":"Lithuania!U$16","v":64},{"$f":"Lithuania!V$16","v":32},{"v":-50,"d":"-50.0"},null,{"$f":"Lithuania!U$23","v":77},{"$f":"Lithuania!V$23","v":71},{"v":-7.792207792207795,"d":"-7.8"},null,{"$f":"Lithuania!U$30","v":245},{"$f":"Lithuania!V$30","v":245},{"v":0,"d":"0.0"},null,{"$f":"Lithuania!U$36","v":3},{"$f":"Lithuania!V$36","v":3},{"$f":"((O32/N32)-1)*100","v":{"v":0,"d":"0.0"}},null,{"$f":"Lithuania!U$39","v":9},{"$f":"Lithuania!V$39","v":10},{"v":11.111111111111116,"d":"11.1"},null,{"$f":"R32+N32+J32+F32+B32","v":398},361,{"v":-9.296482412060303,"d":"-9.3"}]
["PL",{"$f":"Poland!U$16","v":756},{"$f":"Poland!V$16","v":652},{"v":-13.756613756613756,"d":"-13.8"},null,{"$f":"Poland!U$23","v":{"v":1700,"d":"1,700"}},{"$f":"Poland!V$23","v":{"v":1477,"d":"1,477"}},{"v":-13.117647058823534,"d":"-13.1"},null,{"$f":"Poland!U$30","v":{"v":4262,"d":"4,262"}},{"$f":"Poland!V$30","v":{"v":4807,"d":"4,807"}},{"v":12.787423744720794,"d":"12.8"},null,{"$f":"Poland!U$36","v":0},{"$f":"Poland!V$36","v":0},{"v":0,"d":"0.0"},null,{"$f":"Poland!U$39","v":411},{"$f":"Poland!V$39","v":319},{"v":-22.384428223844278,"d":"-22.4"},null,{"$f":"R33+N33+J33+F33+B33","v":{"v":7129,"d":"7,129"}},{"v":7255,"d":"7,255"},{"v":1.7674288118950665,"d":"1.8"}]
["SK",{"$f":"Slovakia!U$16","v":249},{"$f":"Slovakia!V$16","v":206},{"v":-17.26907630522089,"d":"-17.3"},null,{"$f":"Slovakia!U$23","v":275},{"$f":"Slovakia!V$23","v":214},{"v":-22.18181818181818,"d":"-22.2"},null,{"$f":"Slovakia!U$30","v":296},{"$f":"Slovakia!V$30","v":223},{"v":-24.66216216216216,"d":"-24.7"},null,{"$f":"Slovakia!U$36","v":0},{"$f":"Slovakia!V$36","v":0},{"v":0,"d":"0.0"},null,{"$f":"+Slovakia!U$39","v":14},{"$f":"+Slovakia!V$39","v":12},{"v":-14.28571428571429,"d":"-14.3"},null,{"$f":"R34+N34+J34+F34+B34","v":834},655,{"v":-21.46282973621103,"d":"-21.5"}]
["SI",{"$f":"Slovenia!U$16","v":104},{"$f":"Slovenia!V$16","v":95},{"v":-8.653846153846157,"d":"-8.7"},null,{"$f":"Slovenia!U$23","v":172},{"$f":"Slovenia!V$23","v":110},{"v":-36.04651162790697,"d":"-36.0"},null,{"$f":"Slovenia!U$30","v":210},{"$f":"Slovenia!V$30","v":260},{"v":23.809523809523814,"d":"23.8"},null,{"$f":"Slovenia!U$36","v":0},{"$f":"Slovenia!V$36","v":0},{"v":0,"d":"0.0"},null,{"$f":"Slovenia!U$39","v":9},{"$f":"Slovenia!V$39","v":12},{"v":33.33333333333333,"d":"33.3"},null,{"$f":"R35+N35+J35+F35+B35","v":495},477,{"v":-3.6363636363636376,"d":"-3.6"}]
["BU",{"$f":"Bulgaria!U$16","v":92},{"$f":"Bulgaria!V$16","v":76},{"v":-17.391304347826086,"d":"-17.4"},null,{"$f":"Bulgaria!U$23","v":248},{"$f":"Bulgaria!V$23","v":234},{"v":-5.645161290322576,"d":"-5.6"},null,{"$f":"Bulgaria!U$30","v":489},{"$f":"Bulgaria!V$30","v":541},{"v":10.633946830265838,"d":"10.6"},null,{"$f":"Bulgaria!U$36","v":0},{"$f":"Bulgaria!V$36","v":0},{"v":0,"d":"0.0"},null,{"$f":"Bulgaria!U$39","v":34},{"$f":"Bulgaria!V$39","v":23},{"v":-32.35294117647059,"d":"-32.4"},null,{"$f":"R36+N36+J36+F36+B36","v":863},874,{"v":1.2746234067207318,"d":"1.3"}]
["RO",{"$f":"Romania!U$17","v":150},{"$f":"Romania!V$17","v":130},{"v":-13.33333333333333,"d":"-13.3"},null,{"$f":"Romania!U$24","v":{"v":1380,"d":"1,380"}},{"$f":"Romania!V$24","v":{"v":1400,"d":"1,400"}},{"v":1.449275362318847,"d":"1.4"},null,{"$f":"Romania!U$31","v":{"v":1502,"d":"1,502"}},{"$f":"Romania!V$31","v":{"v":1530,"d":"1,530"}},{"v":1.8641810918774926,"d":"1.9"},null,{"$f":"Romania!U$37","v":0},{"$f":"Romania!V$37","v":0},{"v":0,"d":"0.0"},null,{"$f":"Romania!U$40","v":0},{"$f":"Romania!V$40","v":0},{"v":0,"d":"0.0"},null,{"$f":"R37+N37+J37+F37+B37","v":{"v":3032,"d":"3,032"}},{"v":3060,"d":"3,060"},{"v":0.923482849604218,"d":"0.9"}]
[]
["EUR 27 *",{"$f":"SUM(B14:B37)","v":{"v":41207,"d":"41,207"}},{"v":38577,"d":"38,577"},{"$f":"((C39/B39)-1)*100","v":{"v":-6.3824107554541705,"d":"-6.4"}},null,{"$f":"SUM(F14:F37)","v":{"v":52470,"d":"52,470"}},{"v":49696,"d":"49,696"},{"$f":"((G39/F39)-1)*100","v":{"v":-5.286830569849432,"d":"-5.3"}},null,{"$f":"SUM(J14:J37)","v":{"v":49070,"d":"49,070"}},{"v":49418,"d":"49,418"},{"$f":"((K39/J39)-1)*100","v":{"v":0.7091909517016548,"d":"0.7"}},null,{"$f":"SUM(N14:N37)","v":{"v":1546,"d":"1,546"}},{"v":1468,"d":"1,468"},{"$f":"((O39/N39)-1)*100","v":{"v":-5.045278137128073,"d":"-5.0"}},null,{"$f":"SUM(R14:R37)","v":{"v":7373,"d":"7,373"}},{"v":6925,"d":"6,925"},{"$f":"((S39/R39)-1)*100","v":{"v":-6.076224060762236,"d":"-6.1"}},null,{"$f":"SUM(V14:V37)","v":{"v":151666,"d":"151,666"}},{"v":146084,"d":"146,084"},{"$f":"((W39/V39)-1)*100","v":{"v":-3.6804557382669856,"d":"-3.7"}}]
[]
[{"$nulls":23}," "]
["* Sans le Luxembourg, la Grèce et Malte/Ohne Luxemburg, Griechenland und Malta/Without Luxemburg, Greece and Malta/Senza Lussemburgo, Ellas e Malta"]
[": non disponible/not available"]

{"sheet":"2009","index":40,"n_rows":98,"n_cols":16,"rows_kept":98,"merged":[[4,0,4,15],[5,0,5,15],[57,0,57,15],[58,0,58,15]]}
["2011-12-08"]
[]
["PRODUCTION INDUSTRIELLE D'ALIMENTS COMPOSES ",{"$nulls":14},"INDUSTRIELLE  MISCHFUTTERPRODUKTION"]
["PRODUZIONE INDUSTRIALE DI MANGIMI COMPOSTI",{"$nulls":14},"INDUSTRIAL COMPOUND PRODUCTION"]
[2009]
["definitif/final"]
[{"$nulls":15},"(1 000 t)"]
[]
["Catégories d'aliments composés/Mischfutterarten",null,"DE","FR","IT","NL","BE","UK","IE","DK","ES","PT","AT","SE","FI","EU-15"]
["Tipi di mangimi compositi/Types of feed",{"$nulls":14},"*"]
[]
[null,null," ",{"$nulls":4}," ",null,null," "]
["Bovins/Cattle/Bovini/Rinder",null,{"$f":"Germany!V16","v":{"v":5842,"d":"5,842"}},{"$f":"France!V16","v":{"v":4927,"d":"4,927"}},{"$f":"Italy!V16","v":{"v":3640,"d":"3,640"}},{"$f":"'The Netherlands'!V16","v":{"v":3364,"d":"3,364"}},{"$f":"Belgium!V16","v":{"v":1097,"d":"1,097"}},{"$f":"UK!V16","v":{"v":4764,"d":"4,764"}},{"$f":"Ireland!V16","v":{"v":2131,"d":"2,131"}},{"$f":"Denmark!V16","v":997},{"$f":"Spain!V16","v":{"v":6700,"d":"6,700"}},{"$f":"Portugal!V16","v":805},{"$f":"Austria!V16","v":393},{"$f":"Sweden!V16","v":915},{"$f":"Finland!V16","v":590},{"$f":"SUM(C13:O13)","v":{"v":36165,"d":"36,165"}}]
["engrais/fattening/Mast  ",null,{"$f":"Germany!V17","v":321},{"$f":"France!V17","v":{"v":1366,"d":"1,366"}},{"$f":"Italy!V17","v":0},{"$f":"'The Netherlands'!V17","v":338},{"$f":"Belgium!V17","v":310},{"$f":"UK!V17","v":{"v":1367,"d":"1,367"}},{"$f":"Ireland!V17","v":0},":",":",{"$f":"Portugal!V17","v":300},{"$f":"Austria!V17","v":0},":",":",":"]
["VL/dairy cow/Milchkühe",null,{"$f":"Germany!V18","v":{"v":5356,"d":"5,356"}},{"$f":"France!V18","v":{"v":3023,"d":"3,023"}},{"$f":"Italy!V18","v":0},{"$f":"'The Netherlands'!V18","v":{"v":2923,"d":"2,923"}},{"$f":"Belgium!V18","v":559},{"$f":"UK!V18","v":{"v":3127,"d":"3,127"}},{"$f":"Ireland!V18","v":0},{"$f":"Denmark!V18","v":722},":",{"$f":"Portugal!V18","v":400},{"$f":"Austria!V18","v":0},":",{"$f":"Finland!V18","v":540},":"]
["veaux (aliments d'allaitement non compris)/calves ",null,{"$f":"Germany!V19","v":0},{"$f":"France!V19","v":0},{"$f":"Italy!V19","v":0},{"$f":"'The Netherlands'!V19","v":0},{"$f":"Belgium!V19","v":70},{"$f":"UK!V19","v":203},{"$f":"Ireland!V19","v":0},{"$f":"Denmark!V19","v":275},":",{"$f":"Portugal!V19","v":32},{"$f":"Austria!V19","v":0},":",{"$f":"Finland!V19","v":50},":"]
["(excluding milk replacers)/Kälber (exkl. Milchaustauscher)"]
["autres/others/Andere",null,{"$f":"Germany!V20","v":165},{"$f":"France!V20","v":538},{"$f":"Italy!V20","v":0},{"$f":"'The Netherlands'!V20","v":103},{"$f":"Belgium!V20","v":158},{"$f":"UK!V20","v":67},{"$f":"Ireland!V20","v":0},{"$f":"Denmark!V20","v":0},":",{"$f":"Portugal!V20","v":73},{"$f":"Austria!V20","v":0},":",{"$f":"Finland!V20","v":0},":"]
[]
[]
["Porcins/Pigs/Suini/Schweine",null,{"$f":"Germany!V23","v":{"v":8913,"d":"8,913"}},{"$f":"France!V23","v":{"v":5915,"d":"5,915"}},{"$f":"Italy!V23","v":{"v":3187,"d":"3,187"}},{"$f":"'The Netherlands'!V23","v":{"v":5936,"d":"5,936"}},{"$f":"Belgium!V23","v":{"v":3580,"d":"3,580"}},{"$f":"UK!V23","v":{"v":1497,"d":"1,497"}},{"$f":"Ireland!V23","v":633},{"$f":"Denmark!V23","v":{"v":2867,"d":"2,867"}},{"$f":"Spain!V23","v":{"v":8985,"d":"8,985"}},{"$f":"Portugal!V23","v":955},{"$f":"Austria!V23","v":232},{"$f":"Sweden!V23","v":377},{"$f":"Finland!V23","v":340},{"$f":"SUM(C21:O21)","v":{"v":43417,"d":"43,417"}}]
["porcelets/piglets/Ferkel",null,{"$f":"Germany!V24","v":{"v":1735,"d":"1,735"}},{"$f":"France!V24","v":760},{"$f":"Italy!V24","v":0},{"$f":"'The Netherlands'!V24","v":795},{"$f":"Belgium!V24","v":814},{"$f":"UK!V24","v":66},{"$f":"Ireland!V24","v":0},{"$f":"Denmark!V24","v":589},":",{"$f":"Portugal!V24","v":138},{"$f":"Austria!V24","v":0},":",{"$f":"Finland!V24","v":51},":"]
["porcs engrais/pigs for fattening/Mastschweine",null,{"$f":"Germany!V25","v":{"v":5510,"d":"5,510"}},{"$f":"France!V25","v":{"v":4140,"d":"4,140"}},{"$f":"Italy!V25","v":0},{"$f":"'The Netherlands'!V25","v":{"v":3884,"d":"3,884"}},{"$f":"Belgium!V25","v":{"v":2766,"d":"2,766"}},{"$f":"UK!V25","v":{"v":1022,"d":"1,022"}},{"$f":"Ireland!V25","v":0},{"$f":"Denmark!V25","v":{"v":1614,"d":"1,614"}},":",{"$f":"Portugal!V25","v":610},{"$f":"Austria!V25","v":0},":",{"$f":"Finland!V25","v":182},":"]
["reproducteurs/breeding pigs/Zuchtschweine",null,{"$f":"Germany!V26","v":{"v":1230,"d":"1,230"}},{"$f":"France!V26","v":{"v":1015,"d":"1,015"}},{"$f":"Italy!V26","v":0},{"$f":"'The Netherlands'!V26","v":{"v":1257,"d":"1,257"}},{"$f":"Belgium!V26","v":0},{"$f":"UK!V26","v":394},{"$f":"Ireland!V26","v":0},{"$f":"Denmark!V26","v":664},":",{"$f":"Portugal!V26","v":185},{"$f":"Austria!V26","v":0},":",{"$f":"Finland!V26","v":51},":"]
["autres/others/Andere",null,{"$f":"Germany!V27","v":438},{"$f":"France!V27","v":0},{"$f":"Italy!V27","v":0},{"$f":"'The Netherlands'!V27","v":0},{"$f":"Belgium!V27","v":0},{"$f":"UK!V27","v":15},{"$f":"Ireland!V27","v":0},{"$f":"Denmark!V27","v":0},":",{"$f":"Portugal!V27","v":22},{"$f":"Austria!V27","v":0},":",{"$f":"Finland!V27","v":56},":"]
[{"$nulls":4}," "]
[]
["Volaille/Poultry/Volatili/Geflügel",null,{"$f":"Germany!V30","v":{"v":5227,"d":"5,227"}},{"$f":"France!V30","v":{"v":8470,"d":"8,470"}},{"$f":"Italy!V30","v":{"v":5452,"d":"5,452"}},{"$f":"'The Netherlands'!V30","v":{"v":3623,"d":"3,623"}},{"$f":"Belgium!V30","v":{"v":1326,"d":"1,326"}},{"$f":"UK!V30","v":{"v":6236,"d":"6,236"}},{"$f":"Ireland!V30","v":486},{"$f":"Denmark!V30","v":550},{"$f":"Spain!V30","v":{"v":4734,"d":"4,734"}},{"$f":"Portugal!V30","v":{"v":1380,"d":"1,380"}},{"$f":"Austria!V30","v":446},{"$f":"Sweden!V30","v":534},{"$f":"Finland!V30","v":285},{"$f":"SUM(C28:O28)","v":{"v":38749,"d":"38,749"}}]
["broilers",null,{"$f":"Germany!V31","v":{"v":1976,"d":"1,976"}},{"$f":"France!V31","v":{"v":3217,"d":"3,217"}},{"$f":"Italy!V31","v":0},{"$f":"'The Netherlands'!V31","v":{"v":1540,"d":"1,540"}},{"$f":"Belgium!V31","v":587},{"$f":"UK!V31","v":{"v":3486,"d":"3,486"}},":",{"$f":"Denmark!V31","v":175},":",{"$f":"Portugal!V31","v":820},{"$f":"Austria!V31","v":0},":",{"$f":"Finland!V31","v":200},":"]
["poulettes & pondeuses/chicks & layers/Jung- & Legehennen",null,{"$f":"Germany!V32","v":{"v":1954,"d":"1,954"}},{"$f":"France!V32","v":{"v":2185,"d":"2,185"}},{"$f":"Italy!V32","v":0},{"$f":"'The Netherlands'!V32","v":{"v":2083,"d":"2,083"}},{"$f":"Belgium!V32","v":495},{"$f":"UK!V32","v":{"v":1674,"d":"1,674"}},":",{"$f":"Denmark!V32","v":312},":",{"$f":"Portugal!V32","v":260},{"$f":"Austria!V32","v":0},":",{"$f":"Finland!V32","v":55},":"]
["autres/others/Andere",null,{"$f":"Germany!V33","v":{"v":1297,"d":"1,297"}},{"$f":"France!V33","v":{"v":3068,"d":"3,068"}},{"$f":"Italy!V33","v":0},{"$f":"'The Netherlands'!V33","v":0},{"$f":"Belgium!V33","v":244},{"$f":"UK!V33","v":{"v":1076,"d":"1,076"}},":",{"$f":"Denmark!V33","v":63},":",{"$f":"Portugal!V33","v":300},{"$f":"Austria!V33","v":0},":",{"$f":"Finland!V33","v":30},":"]
[]
[]
["Al. d'allait./Milk replacers/Sostit. del latte/Milchaust.",null,{"$f":"Germany!V36","v":145},{"$f":"France!V36","v":389},{"$f":"Italy!V36","v":155},{"$f":"'The Netherlands'!V36","v":719},{"$f":"Belgium!V36","v":44},{"$f":"UK!V36","v":1},{"$f":"Ireland!V36","v":6},{"$f":"Denmark!V36","v":0},{"$f":"Spain!V36","v":0},{"$f":"Portugal!V36","v":0},{"$f":"Austria!V36","v":0},{"$f":"Sweden!V36","v":1},{"$f":"Finland!V36","v":0},{"$f":"SUM(C34:O34)","v":{"v":1460,"d":"1,460"}}]
[]
[{"$nulls":4}," "]
["Autres/others/altri/Andere",null,{"$f":"Germany!V39","v":748},{"$f":"France!V39","v":{"v":1535,"d":"1,535"}},{"$f":"Italy!V39","v":811},{"$f":"'The Netherlands'!V39","v":437},{"$f":"Belgium!V39","v":138},{"$f":"UK!V39","v":{"v":1301,"d":"1,301"}},{"$f":"Ireland!V39","v":350},{"$f":"Denmark!V39","v":174},{"$f":"Spain!V39","v":137},{"$f":"Portugal!V39","v":240},{"$f":"Austria!V39","v":106},{"$f":"Sweden!V39","v":82},{"$f":"Finland!V39","v":60},{"$f":"SUM(C37:O37)","v":{"v":6119,"d":"6,119"}}]
[]
[]
["TOTAL",null,{"$f":"C37+C34+C28+C21+C13","v":{"v":20875,"d":"20,875"}},{"v":21236,"d":"21,236"},{"v":13245,"d":"13,245"},{"v":14079,"d":"14,079"},{"v":6185,"d":"6,185"},{"v":13799,"d":"13,799"},{"v":3606,"d":"3,606"},{"v":4588,"d":"4,588"},{"v":20556,"d":"20,556"},{"v":3380,"d":"3,380"},{"v":1177,"d":"1,177"},{"v":1909,"d":"1,909"},{"v":1275,"d":"1,275"},{"v":125910,"d":"125,910"}]
[{"$nulls":5}," "]
[]
["* Sans le Luxembourg et la Grèce/ohne Luxemburg und Griechenland/Without Luxemburg and Greece/Senza Lussemburgo e Ella"]
[": non disponible/not available/nicht verfügbar"]
{"$rows_empty":9}
["2011-12-08"]
[]
["PRODUCTION INDUSTRIELLE D'ALIMENTS COMPOSES ",{"$nulls":14},"INDUSTRIELLE  MISCHFUTTERPRODUKTION"]
["PRODUZIONE INDUSTRIALE DI MANGIMI COMPOSTI",{"$nulls":14},"INDUSTRIAL COMPOUND PRODUCTION"]
[2009]
["definitif/final"]
[{"$nulls":12},"(1 000 t)"]
[]
["Catégories d'aliments composés/Mischfutterarten",null,"CY","CZ","EE","HU","LV","LT","PL","SK","SI","BU","RO","EU-12","EU-27"]
["Tipi di mangimi compositi/Types of feed",{"$nulls":12},"**","***"]
[]
[null,null," ",{"$nulls":4}," ",null," "]
["Bovins/Cattle/Bovini/Rinder",null,{"$f":"Cyprus!V16","v":111},{"$f":"'Czech Rep'!V16","v":502},{"$f":"Estonia!V16","v":40},{"$f":"Hungary!V16","v":530},{"$f":"Latvia!V16","v":38},{"$f":"Lithuania!V16","v":32},{"$f":"Poland!V16","v":652},{"$f":"Slovakia!V16","v":206},{"$f":"Slovenia!V16","v":95},{"$f":"Bulgaria!V16","v":76},{"$f":"Romania!V17","v":130},{"$f":"SUM(C66:M66)","v":{"v":2412,"d":"2,412"}},{"$f":"P13+N66","v":{"v":38577,"d":"38,577"}}]
["engrais/fattening/Mast  ",null,{"$f":"Cyprus!V17","v":16},{"$f":"'Czech Rep'!V17","v":0},{"$f":"Estonia!V17","v":":"},{"$f":"Hungary!V17","v":0},{"$f":"Latvia!V17","v":0},{"$f":"Lithuania!V17","v":1},{"$f":"Poland!V17","v":0},{"$f":"Slovakia!V17","v":14},":",":",":",":",":"]
["VL/dairy cow/Milchkühe",null,{"$f":"Cyprus!V18","v":85},{"$f":"'Czech Rep'!V18","v":0},{"$f":"Estonia!V18","v":":"},{"$f":"Hungary!V18","v":0},{"$f":"Latvia!V18","v":0},{"$f":"Lithuania!V18","v":28},{"$f":"Poland!V18","v":0},{"$f":"Slovakia!V18","v":155},":",":",":",":",":"]
["veaux (aliments d'allaitement non compris)/calves ",null,{"$f":"Cyprus!V19","v":10},{"$f":"'Czech Rep'!V19","v":0},{"$f":"Estonia!V19","v":":"},{"$f":"Hungary!V19","v":0},{"$f":"Latvia!V19","v":0},{"$f":"Lithuania!V19","v":2},{"$f":"Poland!V19","v":0},{"$f":"Slovakia!V19","v":17},":",":",":",":",":"]
["(excluding milk replacers)/Kälber (exkl. Milchaustauscher)"]
["autres/others/Andere",null,{"$f":"Cyprus!V20","v":0},{"$f":"'Czech Rep'!V20","v":0},{"$f":"Estonia!V20","v":":"},{"$f":"Hungary!V20","v":0},{"$f":"Latvia!V20","v":0},{"$f":"Lithuania!V20","v":1},{"$f":"Poland!V20","v":0},{"$f":"Slovakia!V20","v":20},":",":",":",":",":"]
[]
[]
["Porcins/Pigs/Suini/Schweine",null,{"$f":"Cyprus!V23","v":13},{"$f":"'Czech Rep'!V23","v":929},{"$f":"Estonia!V23","v":140},{"$f":"Hungary!V23","v":{"v":1580,"d":"1,580"}},{"$f":"Latvia!V23","v":111},{"$f":"Lithuania!V23","v":71},{"$f":"Poland!V23","v":{"v":1477,"d":"1,477"}},{"$f":"Slovakia!V23","v":214},{"$f":"Slovenia!V23","v":110},{"$f":"Bulgaria!V23","v":234},{"$f":"Romania!V24","v":{"v":1400,"d":"1,400"}},{"$f":"SUM(C74:M74)","v":{"v":6279,"d":"6,279"}},{"$f":"P21+N74","v":{"v":49696,"d":"49,696"}}]
["porcelets/piglets/Ferkel",null,{"$f":"Cyprus!V24","v":1},{"$f":"'Czech Rep'!V24","v":0},{"$f":"Estonia!V24","v":":"},{"$f":"Hungary!V24","v":0},{"$f":"Latvia!V24","v":0},{"$f":"Lithuania!V24","v":15},{"$f":"Poland!V24","v":0},{"$f":"Slovakia!V24","v":17},":",":",":",":",":"]
["porcs engrais/pigs for fattening/Mastschweine",null,{"$f":"Cyprus!V25","v":8},{"$f":"'Czech Rep'!V25","v":0},{"$f":"Estonia!V25","v":":"},{"$f":"Hungary!V25","v":0},{"$f":"Latvia!V25","v":0},{"$f":"Lithuania!V25","v":38},{"$f":"Poland!V25","v":0},{"$f":"Slovakia!V25","v":153},":",":",":",":",":"]
["reproducteurs/breeding pigs/Zuchtschweine",null,{"$f":"Cyprus!V26","v":4},{"$f":"'Czech Rep'!V26","v":0},{"$f":"Estonia!V26","v":":"},{"$f":"Hungary!V26","v":0},{"$f":"Latvia!V26","v":0},{"$f":"Lithuania!V26","v":11},{"$f":"Poland!V26","v":0},{"$f":"Slovakia!V26","v":34},":",":",":",":",":"]
["autres/others/Andere",null,{"$f":"Cyprus!V27","v":0},{"$f":"'Czech Rep'!V27","v":0},{"$f":"Estonia!V27","v":":"},{"$f":"Hungary!V27","v":0},{"$f":"Latvia!V27","v":0},{"$f":"Lithuania!V27","v":7},{"$f":"Poland!V27","v":0},{"$f":"Slovakia!V27","v":10},":",":",":",":",":"]
[{"$nulls":4}," "]
[]
["Volaille/Poultry/Volatili/Geflügel",null,{"$f":"Cyprus!V30","v":62},{"$f":"'Czech Rep'!V30","v":{"v":1039,"d":"1,039"}},{"$f":"Estonia!V30","v":48},{"$f":"Hungary!V30","v":{"v":1755,"d":"1,755"}},{"$f":"Latvia!V30","v":159},{"$f":"Lithuania!V30","v":245},{"$f":"Poland!V30","v":{"v":4807,"d":"4,807"}},{"$f":"Slovakia!V30","v":223},{"$f":"Slovenia!V30","v":260},{"$f":"Bulgaria!V30","v":541},{"$f":"Romania!V31","v":{"v":1530,"d":"1,530"}},{"$f":"SUM(C81:M81)","v":{"v":10669,"d":"10,669"}},{"$f":"P28+N81","v":{"v":49418,"d":"49,418"}}]
["broilers",null,{"$f":"Cyprus!V31","v":44},{"$f":"'Czech Rep'!V31","v":0},{"$f":"Estonia!V31","v":":"},{"$f":"Hungary!V31","v":0},{"$f":"Latvia!V31","v":0},{"$f":"Lithuania!V31","v":144},{"$f":"Poland!V31","v":0},{"$f":"Slovakia!V31","v":97},":",":",":",":",":"]
["poulettes & pondeuses/chicks & layers/Jung- & Legehennen",null,{"$f":"Cyprus!V32","v":16},{"$f":"'Czech Rep'!V32","v":0},{"$f":"Estonia!V32","v":":"},{"$f":"Hungary!V32","v":0},{"$f":"Latvia!V32","v":0},{"$f":"Lithuania!V32","v":81},{"$f":"Poland!V32","v":0},{"$f":"Slovakia!V32","v":106},":",":",":",":",":"]
["autres/others/Andere",null,{"$f":"Cyprus!V33","v":2},{"$f":"'Czech Rep'!V33","v":0},{"$f":"Estonia!V33","v":":"},{"$f":"Hungary!V33","v":0},{"$f":"Latvia!V33","v":0},{"$f":"Lithuania!V33","v":20},{"$f":"Poland!V33","v":0},{"$f":"Slovakia!V33","v":20},":",":",":",":",":"]
[]
[]
["Al. d'allait./Milk replacers/Sostit. del latte/Milchaust.",null,{"$f":"Cyprus!V36","v":1},{"$f":"'Czech Rep'!V36","v":4},{"$f":"Estonia!V36","v":0},{"$f":"Hungary!V36","v":0},{"$f":"Latvia!V36","v":0},{"$f":"Lithuania!V36","v":3},{"$f":"Poland!V36","v":0},{"$f":"Slovakia!V36","v":0},{"$f":"Slovenia!V36","v":0},{"$f":"Bulgaria!V36","v":0},{"$f":"Romania!V37","v":0},{"$f":"SUM(C87:M87)","v":8},{"$f":"P34+N87","v":{"v":1468,"d":"1,468"}}]
[]
[{"$nulls":4}," "]
["Autres/others/altri/Andere",null,{"$f":"Cyprus!V39","v":106},{"$f":"'Czech Rep'!V39","v":102},{"$f":"Estonia!V39","v":2},{"$f":"Hungary!V39","v":205},{"$f":"Latvia!V39","v":15},{"$f":"Lithuania!V39","v":10},{"$f":"Poland!V39","v":319},{"$f":"Slovakia!V39","v":12},{"$f":"Slovenia!V39","v":12},{"$f":"Bulgaria!V39","v":23},{"$f":"Romania!V40","v":0},{"$f":"SUM(C90:M90)","v":806},{"$f":"P37+N90","v":{"v":6925,"d":"6,925"}}]
[]
[]
["TOTAL",null,{"$f":"C90+C87+C81+C74+C66","v":293},{"v":2576,"d":"2,576"},230,{"v":4070,"d":"4,070"},323,361,{"v":7255,"d":"7,255"},655,477,874,{"v":3060,"d":"3,060"},{"v":20174,"d":"20,174"},{"v":146084,"d":"146,084"}]
[{"$nulls":5}," "]
[]
["** Sans Malte/Ohne Maltas/Without Malta/Senza Malta"]
["*** Sans le Luxembourg, la Grèce et Malte/Ohne Luxemburg, Griechenland und Maltas/Without Luxemburg, Greece and Malta/Senza Lussemburgo, Ellas e Malta"]
[": non disponible/not available/nicht verfügbar"]

{"sheet":"2009-10","index":41,"n_rows":43,"n_cols":24,"rows_kept":43}
["2012-06-15"]
[]
["PRODUCTION INDUSTRIELLE D'ALIMENTS COMPOSES",{"$nulls":22},"INDUSTRIELLE  MISCHFUTTERPRODUKTION"]
["PRODUZIONE INDUSTRIALE DI MANGIMI COMPOSTI",{"$nulls":11},"2009-2010",{"$nulls":10},"INDUSTRIAL COMPOUND PRODUCTION"]
[{"$nulls":12},"definitif/final",{"$nulls":10},"(1 000 t )"]
[]
[]
[]
["PAYS",null,"      BOVINS/RINDER",{"$nulls":3},"    PORCS/SCHWEINE",{"$nulls":3},"     VOLAILLE/GEFLÜGEL",null,"      A. ALLAITEMENT/MILCHAUST.",{"$nulls":5},"     AUTRES/ANDERE",null,null,"       TOTAL/INSGESAMT"]
["LAND",null,"      BOVINI/CATTLE",{"$nulls":3},"    SUINI/PIGS",{"$nulls":3},"     VOLATILI/POULTRY",null,"  SOSTIT. DEL LATTE/MILKREPLACERS",{"$nulls":5},"ALTRI ANIMALI/OTHERS",null,null,"          TOTALE/TOTAL"]
["PAESE"]
["COUNTRY",2009,2010,"%TAV",null,2009,2010,"%TAV",null,2009,2010,"%TAV",null,2009,2010,"%TAV",null,2009,2010,"%TAV",null,2009,2010,"%TAV"]
[]
["DE",{"$f":"Germany!V$16","v":{"v":5842,"d":"5,842"}},{"$f":"Germany!W$16","v":{"v":6120,"d":"6,120"}},{"$f":"((C14/B14)-1)*100","v":{"v":4.758644299897297,"d":"4.8"}},null,{"$f":"Germany!V$23","v":{"v":8913,"d":"8,913"}},{"$f":"Germany!W$23","v":{"v":9405,"d":"9,405"}},{"$f":"((G14/F14)-1)*100","v":{"v":5.520026926960608,"d":"5.5"}},null,{"$f":"Germany!V$30","v":{"v":5227,"d":"5,227"}},{"$f":"Germany!W$30","v":{"v":5581,"d":"5,581"}},{"$f":"((K14/J14)-1)*100","v":{"v":6.772527262291939,"d":"6.8"}},null,{"$f":"Germany!V$36","v":145},{"$f":"Germany!W$36","v":150},{"$f":"((O14/N14)-1)*100","v":{"v":3.4482758620689724,"d":"3.4"}},null,{"$f":"Germany!V$39","v":748},{"$f":"Germany!W$39","v":763},{"$f":"((S14/R14)-1)*100","v":{"v":2.0053475935828846,"d":"2.0"}},null,{"$f":"R14+N14+J14+F14+B14","v":{"v":20875,"d":"20,875"}},{"v":22019,"d":"22,019"},{"$f":"((W14/V14)-1)*100","v":{"v":5.480239520958086,"d":"5.5"}}]
["FR",{"$f":"France!V$16","v":{"v":4927,"d":"4,927"}},{"$f":"France!W$16","v":{"v":5144,"d":"5,144"}},{"v":4.404302821189354,"d":"4.4"},null,{"$f":"France!V$23","v":{"v":5915,"d":"5,915"}},{"$f":"France!W$23","v":{"v":5771,"d":"5,771"}},{"v":-2.434488588334738,"d":"-2.4"},null,{"$f":"France!V$30","v":{"v":8470,"d":"8,470"}},{"$f":"France!W$30","v":{"v":8626,"d":"8,626"}},{"v":1.841794569067301,"d":"1.8"},null,{"$f":"France!V36","v":389},{"$f":"France!W36","v":385},{"v":-1.0282776349614386,"d":"-1.0"},null,{"$f":"France!V$39","v":{"v":1535,"d":"1,535"}},{"$f":"France!W$39","v":{"v":1552,"d":"1,552"}},{"v":1.1074918566775338,"d":"1.1"},null,{"$f":"R15+N15+J15+F15+B15","v":{"v":21236,"d":"21,236"}},{"v":21478,"d":"21,478"},{"v":1.1395743077792453,"d":"1.1"}]
["IT",{"$f":"Italy!V$16","v":{"v":3640,"d":"3,640"}},{"$f":"Italy!W$16","v":{"v":3528,"d":"3,528"}},{"v":-3.076923076923077,"d":"-3.1"},null,{"$f":"Italy!V$23","v":{"v":3187,"d":"3,187"}},{"$f":"Italy!W$23","v":{"v":3253,"d":"3,253"}},{"v":2.0709130844053902,"d":"2.1"},null,{"$f":"Italy!V$30","v":{"v":5452,"d":"5,452"}},{"$f":"Italy!W$30","v":{"v":5718,"d":"5,718"}},{"v":4.878943506969913,"d":"4.9"},null,{"$f":"Italy!V$36","v":155},{"$f":"Italy!W$36","v":155},{"v":0,"d":"0.0"},null,{"$f":"+Italy!V$39","v":811},{"$f":"+Italy!W$39","v":979},{"v":20.715166461159072,"d":"20.7"},null,{"$f":"R16+N16+J16+F16+B16","v":{"v":13245,"d":"13,245"}},{"v":13633,"d":"13,633"},{"v":2.9294073235183182,"d":"2.9"}]
["NL   ",{"$f":"'The Netherlands'!V$16","v":{"v":3364,"d":"3,364"}},{"$f":"'The Netherlands'!W$16","v":{"v":3433,"d":"3,433"}},{"v":2.0511296076099805,"d":"2.1"},null,{"$f":"'The Netherlands'!V$23","v":{"v":5936,"d":"5,936"}},{"$f":"'The Netherlands'!W$23","v":{"v":5863,"d":"5,863"}},{"v":-1.2297843665768249,"d":"-1.2"},null,{"$f":"'The Netherlands'!V$30","v":{"v":3623,"d":"3,623"}},{"$f":"'The Netherlands'!W$30","v":{"v":3793,"d":"3,793"}},{"v":4.692243996687817,"d":"4.7"},null,{"$f":"'The Netherlands'!V$36","v":719},{"$f":"'The Netherlands'!W$36","v":703},{"v":-2.2253129346314293,"d":"-2.2"},null,{"$f":"'The Netherlands'!V$39","v":437},{"$f":"'The Netherlands'!W$39","v":457},{"v":4.576659038901609,"d":"4.6"},null,{"$f":"R17+N17+J17+F17+B17","v":{"v":14079,"d":"14,079"}},{"v":14249,"d":"14,249"},{"v":1.207472121599551,"d":"1.2"}]
["BE",{"$f":"Belgium!V$16","v":{"v":1097,"d":"1,097"}},{"$f":"Belgium!W$16","v":{"v":1182,"d":"1,182"}},{"v":7.748404740200554,"d":"7.7"},null,{"$f":"Belgium!V$23","v":{"v":3580,"d":"3,580"}},{"$f":"Belgium!W$23","v":{"v":3666,"d":"3,666"}},{"v":2.402234636871503,"d":"2.4"},null,{"$f":"Belgium!V$30","v":{"v":1326,"d":"1,326"}},{"$f":"Belgium!W$30","v":{"v":1408,"d":"1,408"}},{"v":6.184012066365008,"d":"6.2"},null,{"$f":"Belgium!V$36","v":44},{"$f":"Belgium!W$36","v":42},{"v":-4.545454545454541,"d":"-4.5"},null,{"$f":"Belgium!V$39","v":138},{"$f":"Belgium!W$39","v":148},{"v":7.246376811594213,"d":"7.2"},null,{"$f":"R18+N18+J18+F18+B18","v":{"v":6185,"d":"6,185"}},{"v":6446,"d":"6,446"},{"v":4.219886822958774,"d":"4.2"}]
["UK ",{"$f":"UK!V$16","v":{"v":4764,"d":"4,764"}},{"$f":"UK!W$16","v":{"v":4972,"d":"4,972"}},{"v":4.366078925272876,"d":"4.4"},null,{"$f":"UK!V$23","v":{"v":1497,"d":"1,497"}},{"$f":"UK!W$23","v":{"v":1617,"d":"1,617"}},{"v":8.016032064128265,"d":"8.0"},null,{"$f":"UK!V$30","v":{"v":6236,"d":"6,236"}},{"$f":"UK!W$30","v":{"v":6600,"d":"6,600"}},{"v":5.837075048107754,"d":"5.8"},null,{"$f":"UK!V$36","v":1},{"$f":"UK!W$36","v":1},{"v":0,"d":"0.0"},null,{"$f":"UK!V$39","v":{"v":1301,"d":"1,301"}},{"$f":"UK!W$39","v":{"v":1504,"d":"1,504"}},{"v":15.60338201383551,"d":"15.6"},null,{"$f":"R19+N19+J19+F19+B19","v":{"v":13799,"d":"13,799"}},{"v":14694,"d":"14,694"},{"v":6.485977244727881,"d":"6.5"}]
["IE",{"$f":"Ireland!V$16","v":{"v":2131,"d":"2,131"}},{"$f":"Ireland!W$16","v":{"v":2305,"d":"2,305"}},{"v":8.165180666353834,"d":"8.2"},null,{"$f":"Ireland!V$23","v":633},{"$f":"Ireland!W$23","v":580},{"v":-8.37282780410743,"d":"-8.4"},null,{"$f":"Ireland!V$30","v":486},{"$f":"Ireland!W$30","v":448},{"v":-7.818930041152261,"d":"-7.8"},null,{"$f":"Ireland!V$36","v":6},{"$f":"Ireland!W$36","v":6},{"$f":"((O20/N20)-1)*100","v":{"v":0,"d":"0.0"}},null,{"$f":"Ireland!V$39","v":350},{"$f":"Ireland!W$39","v":315},{"v":-9.999999999999998,"d":"-10.0"},null,{"$f":"R20+N20+J20+F20+B20","v":{"v":3606,"d":"3,606"}},{"v":3654,"d":"3,654"},{"v":1.331114808652245,"d":"1.3"}]
["DK ",{"$f":"Denmark!V$16","v":997},{"$f":"Denmark!W$16","v":905},{"v":-9.227683049147439,"d":"-9.2"},null,{"$f":"Denmark!V$23","v":{"v":2867,"d":"2,867"}},{"$f":"Denmark!W$23","v":{"v":2887,"d":"2,887"}},{"v":0.6975933031042825,"d":"0.7"},null,{"$f":"Denmark!V$30","v":550},{"$f":"Denmark!W$30","v":535},{"v":-2.7272727272727226,"d":"-2.7"},null,{"$f":"Denmark!V$36","v":0},{"$f":"Denmark!W$36","v":0},{"v":0,"d":"0.0"},null,{"$f":"Denmark!V$39","v":174},{"$f":"Denmark!W$39","v":198},{"v":13.793103448275868,"d":"13.8"},null,{"$f":"R21+N21+J21+F21+B21","v":{"v":4588,"d":"4,588"}},{"v":4525,"d":"4,525"},{"v":-1.3731473408892803,"d":"-1.4"}]
["ES",{"$f":"Spain!V$16","v":{"v":6700,"d":"6,700"}},{"$f":"Spain!W$16","v":{"v":6800,"d":"6,800"}},{"v":1.4925373134328401,"d":"1.5"},null,{"$f":"Spain!V$23","v":{"v":8985,"d":"8,985"}},{"$f":"Spain!W$23","v":{"v":8844,"d":"8,844"}},{"v":-1.5692821368948229,"d":"-1.6"},null,{"$f":"Spain!V$30","v":{"v":4734,"d":"4,734"}},{"$f":"Spain!W$30","v":{"v":4483,"d":"4,483"}},{"v":-5.302070130967474,"d":"-5.3"},null,{"$f":"Spain!V$36","v":0},{"$f":"Spain!W$36","v":0},{"v":0,"d":"0.0"},null,{"$f":"Spain!V$39","v":137},{"$f":"Spain!W$39","v":128},{"v":-6.569343065693434,"d":"-6.6"},null,{"$f":"R22+N22+J22+F22+B22","v":{"v":20556,"d":"20,556"}},{"v":20255,"d":"20,255"},{"v":-1.4642926639424014,"d":"-1.5"}]
["PT",{"$f":"Portugal!V$16","v":805},{"$f":"Portugal!W$16","v":750},{"v":-6.8322981366459645,"d":"-6.8"},null,{"$f":"Portugal!V$23","v":955},{"$f":"Portugal!W$23","v":920},{"v":-3.6649214659685847,"d":"-3.7"},null,{"$f":"Portugal!V$30","v":{"v":1380,"d":"1,380"}},{"$f":"Portugal!W$30","v":{"v":1420,"d":"1,420"}},{"v":2.898550724637672,"d":"2.9"},null,{"$f":"Portugal!V$36","v":0},{"$f":"Portugal!W$36","v":0},{"v":0,"d":"0.0"},null,{"$f":"Portugal!V$39","v":240},{"$f":"Portugal!W$39","v":228},{"v":-5.000000000000004,"d":"-5.0"},null,{"$f":"R23+N23+J23+F23+B23","v":{"v":3380,"d":"3,380"}},{"v":3318,"d":"3,318"},{"v":-1.834319526627215,"d":"-1.8"}]
["AT",{"$f":"Austria!V$16","v":393},{"$f":"Austria!W$16","v":438},{"v":11.45038167938932,"d":"11.5"},null,{"$f":"Austria!V$23","v":232},{"$f":"Austria!W$23","v":256},{"v":10.344827586206895,"d":"10.3"},null,{"$f":"Austria!V$30","v":446},{"$f":"Austria!W$30","v":471},{"v":5.605381165919288,"d":"5.6"},null,{"$f":"Austria!V$36","v":0},{"$f":"Austria!W$36","v":0},{"v":0,"d":"0.0"},null,{"$f":"Austria!V$39","v":106},{"$f":"Austria!W$39","v":111},{"v":4.716981132075482,"d":"4.7"},null,{"$f":"R24+N24+J24+F24+B24","v":{"v":1177,"d":"1,177"}},{"v":1276,"d":"1,276"},{"v":8.411214953271017,"d":"8.4"}]
["SE",{"$f":"Sweden!V$16","v":915},{"$f":"Sweden!W$16","v":872},{"v":-4.699453551912569,"d":"-4.7"},null,{"$f":"Sweden!V$23","v":377},{"$f":"Sweden!W$23","v":385},{"v":2.1220159151193574,"d":"2.1"},null,{"$f":"Sweden!V$30","v":534},{"$f":"Sweden!W$30","v":554},{"v":3.7453183520599342,"d":"3.7"},null,{"$f":"Sweden!V$36","v":1},{"$f":"Sweden!W$36","v":1},{"$f":"((O25/N25)-1)*100","v":{"v":0,"d":"0.0"}},null,{"$f":"Sweden!V$39","v":82},{"$f":"Sweden!W$39","v":85},{"v":3.658536585365857,"d":"3.7"},null,{"$f":"R25+N25+J25+F25+B25","v":{"v":1909,"d":"1,909"}},{"v":1897,"d":"1,897"},{"v":-0.6286013619696162,"d":"-0.6"}]
["FI",{"$f":"Finland!V$16","v":590},{"$f":"Finland!W$16","v":616},{"v":4.406779661016946,"d":"4.4"},null,{"$f":"Finland!V$23","v":340},{"$f":"Finland!W$23","v":342},{"v":0.588235294117645,"d":"0.6"},null,{"$f":"Finland!V$30","v":285},{"$f":"Finland!W$30","v":291},{"v":2.1052631578947434,"d":"2.1"},null,{"$f":"Finland!V$36","v":0},{"$f":"Finland!W$36","v":0},{"v":0,"d":"0.0"},null,{"$f":"Finland!V$39","v":60},{"$f":"Finland!W$39","v":101},{"v":68.33333333333333,"d":"68.3"},null,{"$f":"R26+N26+J26+F26+B26","v":{"v":1275,"d":"1,275"}},{"v":1350,"d":"1,350"},{"v":5.882352941176472,"d":"5.9"}]
["CY",{"$f":"Cyprus!V$16","v":111},{"$f":"Cyprus!W$16","v":110},{"v":-0.9009009009009028,"d":"-0.9"},null,{"$f":"Cyprus!V$23","v":13},{"$f":"Cyprus!W$23","v":13},{"v":0,"d":"0.0"},null,{"$f":"Cyprus!V$30","v":62},{"$f":"Cyprus!W$30","v":64},{"v":3.2258064516129004,"d":"3.2"},null,{"$f":"Cyprus!V$36","v":1},{"$f":"Cyprus!W$36","v":1},{"v":0,"d":"0.0"},null,{"$f":"Cyprus!V$39","v":106},{"$f":"Cyprus!W$39","v":105},{"v":-0.9433962264150941,"d":"-0.9"},null,{"$f":"R27+N27+J27+F27+B27","v":293},293,{"v":0,"d":"0.0"}]
["CZ",{"$f":"'Czech Rep'!V$16","v":502},{"$f":"'Czech Rep'!W$16","v":469},{"v":-6.573705179282873,"d":"-6.6"},null,{"$f":"'Czech Rep'!V$23","v":929},{"$f":"'Czech Rep'!W$23","v":935},{"v":0.6458557588805203,"d":"0.6"},null,{"$f":"'Czech Rep'!V$30","v":{"v":1039,"d":"1,039"}},{"$f":"'Czech Rep'!W$30","v":993},{"v":-4.427333974975934,"d":"-4.4"},null,{"$f":"'Czech Rep'!V$36","v":4},{"$f":"'Czech Rep'!W$36","v":4},{"$f":"((O28/N28)-1)*100","v":{"v":0,"d":"0.0"}},null,{"$f":"'Czech Rep'!V$39","v":102},{"$f":"'Czech Rep'!W$39","v":89},{"v":-12.745098039215685,"d":"-12.7"},null,{"$f":"R28+N28+J28+F28+B28","v":{"v":2576,"d":"2,576"}},{"v":2490,"d":"2,490"},{"v":-3.3385093167701885,"d":"-3.3"}]
["EE",{"$f":"Estonia!V$16","v":40},{"$f":"Estonia!W$16","v":40},{"v":0,"d":"0.0"},null,{"$f":"Estonia!V$23","v":140},{"$f":"Estonia!W$23","v":140},{"v":0,"d":"0.0"},null,{"$f":"Estonia!V$30","v":48},{"$f":"Estonia!W$30","v":48},{"v":0,"d":"0.0"},null,{"$f":"Estonia!V$36","v":0},{"$f":"Estonia!W$36","v":0},{"v":0,"d":"0.0"},null,{"$f":"Estonia!V$39","v":2},{"$f":"Estonia!W$39","v":2},{"v":0,"d":"0.0"},null,{"$f":"R29+N29+J29+F29+B29","v":230},230,{"v":0,"d":"0.0"}]
["HU",{"$f":"Hungary!V$16","v":530},{"$f":"Hungary!W$16","v":505},{"v":-4.716981132075471,"d":"-4.7"},null,{"$f":"Hungary!V$23","v":{"v":1580,"d":"1,580"}},{"$f":"Hungary!W$23","v":{"v":1490,"d":"1,490"}},{"v":-5.696202531645566,"d":"-5.7"},null,{"$f":"Hungary!V$30","v":{"v":1755,"d":"1,755"}},{"$f":"Hungary!W$30","v":{"v":1680,"d":"1,680"}},{"v":-4.273504273504269,"d":"-4.3"},null,{"$f":"Hungary!V$36","v":0},{"$f":"Hungary!W$36","v":0},{"v":0,"d":"0.0"},null,{"$f":"Hungary!V$39","v":205},{"$f":"Hungary!W$39","v":195},{"v":-4.878048780487809,"d":"-4.9"},null,{"$f":"R30+N30+J30+F30+B30","v":{"v":4070,"d":"4,070"}},{"$f":"S30+K30+G30+C30","v":{"v":3870,"d":"3,870"}},{"v":-4.91400491400491,"d":"-4.9"}]
["LV",{"$f":"Latvia!V$16","v":38},{"$f":"Latvia!W$16","v":52},{"v":36.8421052631579,"d":"36.8"},null,{"$f":"Latvia!V$23","v":111},{"$f":"Latvia!W$23","v":90},{"v":-18.918918918918916,"d":"-18.9"},null,{"$f":"Latvia!V$30","v":159},{"$f":"Latvia!W$30","v":169},{"v":6.2893081761006275,"d":"6.3"},null,{"$f":"Latvia!V$36","v":0},{"$f":"Latvia!W$36","v":0},{"v":0,"d":"0.0"},null,{"$f":"Latvia!V$39","v":15},{"$f":"Latvia!W$39","v":28},{"v":86.66666666666667,"d":"86.7"},null,323,{"$f":"S31+O31+K31+G31+C31","v":339},{"v":4.9535603715170184,"d":"5.0"}]
["LT",{"$f":"Lithuania!V$16","v":32},{"$f":"Lithuania!W$16","v":45},{"v":40.625,"d":"40.6"},null,{"$f":"Lithuania!V$23","v":71},{"$f":"Lithuania!W$23","v":70},{"v":-1.4084507042253502,"d":"-1.4"},null,{"$f":"Lithuania!V$30","v":245},{"$f":"Lithuania!W$30","v":284},{"v":15.918367346938766,"d":"15.9"},null,{"$f":"Lithuania!V$36","v":3},{"$f":"Lithuania!W$36","v":2},{"$f":"((O32/N32)-1)*100","v":{"v":-33.333333333333336,"d":"-33.3"}},null,{"$f":"Lithuania!V$39","v":10},{"$f":"Lithuania!W$39","v":7},{"v":-30.000000000000004,"d":"-30.0"},null,361,408,{"v":13.01939058171746,"d":"13.0"}]
["PL",{"$f":"Poland!V$16","v":652},{"$f":"Poland!W$16","v":767},{"v":17.63803680981595,"d":"17.6"},null,{"$f":"Poland!V$23","v":{"v":1477,"d":"1,477"}},{"$f":"Poland!W$23","v":{"v":1693,"d":"1,693"}},{"v":14.62423832092079,"d":"14.6"},null,{"$f":"Poland!V$30","v":{"v":4807,"d":"4,807"}},{"$f":"Poland!W$30","v":{"v":5118,"d":"5,118"}},{"v":6.469731641356358,"d":"6.5"},null,{"$f":"Poland!V$36","v":0},{"$f":"Poland!W$36","v":0},{"v":0,"d":"0.0"},null,{"$f":"Poland!V$39","v":319},{"$f":"Poland!W$39","v":328},{"v":2.8213166144200663,"d":"2.8"},null,{"v":7255,"d":"7,255"},{"v":7906,"d":"7,906"},{"v":8.97312198483804,"d":"9.0"}]
["SK",{"$f":"Slovakia!V$16","v":206},{"$f":"Slovakia!W$16","v":196},{"v":-4.854368932038833,"d":"-4.9"},null,{"$f":"Slovakia!V$23","v":214},{"$f":"Slovakia!W$23","v":224},{"v":4.672897196261672,"d":"4.7"},null,{"$f":"Slovakia!V$30","v":223},{"$f":"Slovakia!W$30","v":231},{"v":3.587443946188351,"d":"3.6"},null,{"$f":"Slovakia!V$36","v":0},{"$f":"Slovakia!W$36","v":0},{"v":0,"d":"0.0"},null,{"$f":"+Slovakia!V$39","v":12},{"$f":"+Slovakia!W$39","v":10},{"v":-16.666666666666664,"d":"-16.7"},null,655,661,{"v":0.9160305343511421,"d":"0.9"}]
["SI",{"$f":"Slovenia!V$16","v":95},{"$f":"Slovenia!W$16","v":91},{"v":-4.210526315789476,"d":"-4.2"},null,{"$f":"Slovenia!V$23","v":110},{"$f":"Slovenia!W$23","v":65},{"v":-40.90909090909091,"d":"-40.9"},null,{"$f":"Slovenia!V$30","v":260},{"$f":"Slovenia!W$30","v":255},{"v":-1.9230769230769273,"d":"-1.9"},null,{"$f":"Slovenia!V$36","v":0},{"$f":"Slovenia!W$36","v":0},{"v":0,"d":"0.0"},null,{"$f":"Slovenia!V$39","v":12},{"$f":"Slovenia!W$39","v":12},{"v":0,"d":"0.0"},null,477,423,{"v":-11.32075471698113,"d":"-11.3"}]
["BU",{"$f":"Bulgaria!V$16","v":76},{"$f":"Bulgaria!W$16","v":93},{"v":22.36842105263157,"d":"22.4"},null,{"$f":"Bulgaria!V$23","v":234},{"$f":"Bulgaria!W$23","v":234},{"v":0,"d":"0.0"},null,{"$f":"Bulgaria!V$30","v":541},{"$f":"Bulgaria!W$30","v":553},{"v":2.2181146025878062,"d":"2.2"},null,{"$f":"Bulgaria!V$36","v":0},{"$f":"Bulgaria!W$36","v":0},{"v":0,"d":"0.0"},null,{"$f":"Bulgaria!V$39","v":23},{"$f":"Bulgaria!W$39","v":24},{"v":4.347826086956519,"d":"4.3"},null,874,904,{"v":3.4324942791762014,"d":"3.4"}]
["RO",{"$f":"Romania!V$17","v":130},{"$f":"Romania!W$17","v":150},{"v":15.384615384615374,"d":"15.4"},null,{"$f":"Romania!V$24","v":{"v":1400,"d":"1,400"}},{"$f":"Romania!W$24","v":{"v":1475,"d":"1,475"}},{"v":5.35714285714286,"d":"5.4"},null,{"$f":"Romania!V$31","v":{"v":1530,"d":"1,530"}},{"$f":"Romania!W$31","v":{"v":1620,"d":"1,620"}},{"v":5.882352941176472,"d":"5.9"},null,{"$f":"Romania!V$37","v":0},{"$f":"Romania!W$37","v":0},{"v":0,"d":"0.0"},null,{"$f":"Romania!V$40","v":0},{"$f":"Romania!W$40","v":0},{"v":0,"d":"0.0"},null,{"v":3060,"d":"3,060"},{"v":3245,"d":"3,245"},{"v":6.045751633986929,"d":"6.0"}]
[]
["EUR 27 *",{"$f":"SUM(B14:B37)","v":{"v":38577,"d":"38,577"}},{"v":39583,"d":"39,583"},{"$f":"((C39/B39)-1)*100","v":{"v":2.6077714700469157,"d":"2.6"}},null,{"$f":"SUM(F14:F37)","v":{"v":49696,"d":"49,696"}},{"v":50218,"d":"50,218"},{"$f":"((G39/F39)-1)*100","v":{"v":1.0503863490019416,"d":"1.1"}},null,{"$f":"SUM(J14:J37)","v":{"v":49418,"d":"49,418"}},{"v":50943,"d":"50,943"},{"$f":"((K39/J39)-1)*100","v":{"v":3.0859201100813527,"d":"3.1"}},null,{"$f":"SUM(N14:N37)","v":{"v":1468,"d":"1,468"}},{"v":1450,"d":"1,450"},{"$f":"((O39/N39)-1)*100","v":{"v":-1.2261580381471404,"d":"-1.2"}},null,{"$f":"SUM(R14:R37)","v":{"v":6925,"d":"6,925"}},{"v":7369,"d":"7,369"},{"$f":"((S39/R39)-1)*100","v":{"v":6.411552346570404,"d":"6.4"}},null,{"$f":"SUM(V14:V37)","v":{"v":146084,"d":"146,084"}},{"v":149563,"d":"149,563"},{"$f":"((W39/V39)-1)*100","v":{"v":2.381506530489297,"d":"2.4"}}]
[]
[{"$nulls":23}," "]
["* Sans le Luxembourg, la Grèce et Malte/Ohne Luxemburg, Griechenland und Malta/Without Luxemburg, Greece and Malta/Senza Lussemburgo, Ellas e Malta"]
[": non disponible/not available"]

{"sheet":"2010","index":42,"n_rows":98,"n_cols":16,"rows_kept":98,"merged":[[4,0,4,15],[5,0,5,15],[57,0,57,15],[58,0,58,15]]}
["2012-06-15"]
[]
["PRODUCTION INDUSTRIELLE D'ALIMENTS COMPOSES ",{"$nulls":14},"INDUSTRIELLE  MISCHFUTTERPRODUKTION"]
["PRODUZIONE INDUSTRIALE DI MANGIMI COMPOSTI",{"$nulls":14},"INDUSTRIAL COMPOUND PRODUCTION"]
[2010]
["definitif/final"]
[{"$nulls":15},"(1 000 t)"]
[]
["Catégories d'aliments composés/Mischfutterarten",null,"DE","FR","IT","NL","BE","UK","IE","DK","ES","PT","AT","SE","FI","EU-15"]
["Tipi di mangimi compositi/Types of feed",{"$nulls":14},"*"]
[]
[null,null," ",{"$nulls":4}," ",null,null," "]
["Bovins/Cattle/Bovini/Rinder",null,{"$f":"Germany!W16","v":{"v":6120,"d":"6,120"}},{"$f":"France!W16","v":{"v":5144,"d":"5,144"}},{"$f":"Italy!W16","v":{"v":3528,"d":"3,528"}},{"$f":"'The Netherlands'!W16","v":{"v":3433,"d":"3,433"}},{"$f":"Belgium!W16","v":{"v":1182,"d":"1,182"}},{"$f":"UK!W16","v":{"v":4972,"d":"4,972"}},{"$f":"Ireland!W16","v":{"v":2305,"d":"2,305"}},{"$f":"Denmark!W16","v":905},{"$f":"Spain!W16","v":{"v":6800,"d":"6,800"}},{"$f":"Portugal!W16","v":750},{"$f":"Austria!W16","v":438},{"$f":"Sweden!W16","v":872},{"$f":"Finland!W16","v":616},{"$f":"SUM(C13:O13)","v":{"v":37065,"d":"37,065"}}]
["engrais/fattening/Mast  ",null,{"$f":"Germany!W17","v":331},{"$f":"France!W17","v":{"v":1349,"d":"1,349"}},{"$f":"Italy!W17","v":843},{"$f":"'The Netherlands'!W17","v":380},{"$f":"Belgium!W17","v":324},{"$f":"UK!W17","v":{"v":1301,"d":"1,301"}},{"$f":"Ireland!W17","v":{"v":1202,"d":"1,202"}},":",":",{"$f":"Portugal!W17","v":240},{"$f":"Austria!W17","v":0},":",":",":"]
["VL/dairy cow/Milchkühe",null,{"$f":"Germany!W18","v":{"v":5627,"d":"5,627"}},{"$f":"France!W18","v":{"v":3143,"d":"3,143"}},{"$f":"Italy!W18","v":{"v":2600,"d":"2,600"}},{"$f":"'The Netherlands'!W18","v":{"v":2982,"d":"2,982"}},{"$f":"Belgium!W18","v":606},{"$f":"UK!W18","v":{"v":3378,"d":"3,378"}},{"$f":"Ireland!W18","v":939},{"$f":"Denmark!W18","v":650},":",{"$f":"Portugal!W18","v":390},{"$f":"Austria!W18","v":0},":",{"$f":"Finland!W18","v":570},":"]
["veaux (aliments d'allaitement non compris)/calves ",null,{"$f":"Germany!W19","v":0},{"$f":"France!W19","v":0},{"$f":"Italy!W19","v":0},{"$f":"'The Netherlands'!W19","v":0},{"$f":"Belgium!W19","v":92},{"$f":"UK!W19","v":213},{"$f":"Ireland!W19","v":128},{"$f":"Denmark!W19","v":255},":",{"$f":"Portugal!W19","v":33},{"$f":"Austria!W19","v":0},":",{"$f":"Finland!W19","v":46},":"]
["(excluding milk replacers)/Kälber (exkl. Milchaustauscher)"]
["autres/others/Andere",null,{"$f":"Germany!W20","v":162},{"$f":"France!W20","v":652},{"$f":"Italy!W20","v":85},{"$f":"'The Netherlands'!W20","v":71},{"$f":"Belgium!W20","v":160},{"$f":"UK!W20","v":80},{"$f":"Ireland!W20","v":36},{"$f":"Denmark!W20","v":0},":",{"$f":"Portugal!W20","v":87},{"$f":"Austria!W20","v":0},":",{"$f":"Finland!W20","v":0},":"]
[]
[]
["Porcins/Pigs/Suini/Schweine",null,{"$f":"Germany!W23","v":{"v":9405,"d":"9,405"}},{"$f":"France!W23","v":{"v":5771,"d":"5,771"}},{"$f":"Italy!W23","v":{"v":3253,"d":"3,253"}},{"$f":"'The Netherlands'!W23","v":{"v":5863,"d":"5,863"}},{"$f":"Belgium!W23","v":{"v":3666,"d":"3,666"}},{"$f":"UK!W23","v":{"v":1617,"d":"1,617"}},{"$f":"Ireland!W23","v":580},{"$f":"Denmark!W23","v":{"v":2887,"d":"2,887"}},{"$f":"Spain!W23","v":{"v":8844,"d":"8,844"}},{"$f":"Portugal!W23","v":920},{"$f":"Austria!W23","v":256},{"$f":"Sweden!W23","v":385},{"$f":"Finland!W23","v":342},{"$f":"SUM(C21:O21)","v":{"v":43789,"d":"43,789"}}]
["porcelets/piglets/Ferkel",null,{"$f":"Germany!W24","v":{"v":1770,"d":"1,770"}},{"$f":"France!W24","v":728},{"$f":"Italy!W24","v":0},{"$f":"'The Netherlands'!W24","v":753},{"$f":"Belgium!W24","v":818},{"$f":"UK!W24","v":87},{"$f":"Ireland!W24","v":103},{"$f":"Denmark!W24","v":613},":",{"$f":"Portugal!W24","v":120},{"$f":"Austria!W24","v":0},":",{"$f":"Finland!W24","v":52},":"]
["porcs engrais/pigs for fattening/Mastschweine",null,{"$f":"Germany!W25","v":{"v":5927,"d":"5,927"}},{"$f":"France!W25","v":{"v":4049,"d":"4,049"}},{"$f":"Italy!W25","v":0},{"$f":"'The Netherlands'!W25","v":{"v":3844,"d":"3,844"}},{"$f":"Belgium!W25","v":{"v":2848,"d":"2,848"}},{"$f":"UK!W25","v":{"v":1078,"d":"1,078"}},{"$f":"Ireland!W25","v":303},{"$f":"Denmark!W25","v":{"v":1610,"d":"1,610"}},":",{"$f":"Portugal!W25","v":600},{"$f":"Austria!W25","v":0},":",{"$f":"Finland!W25","v":182},":"]
["reproducteurs/breeding pigs/Zuchtschweine",null,{"$f":"Germany!W26","v":{"v":1267,"d":"1,267"}},{"$f":"France!W26","v":994},{"$f":"Italy!W26","v":0},{"$f":"'The Netherlands'!W26","v":{"v":1266,"d":"1,266"}},{"$f":"Belgium!W26","v":0},{"$f":"UK!W26","v":435},{"$f":"Ireland!W26","v":103},{"$f":"Denmark!W26","v":664},":",{"$f":"Portugal!W26","v":180},{"$f":"Austria!W26","v":0},":",{"$f":"Finland!W26","v":50},":"]
["autres/others/Andere",null,{"$f":"Germany!W27","v":441},{"$f":"France!W27","v":0},{"$f":"Italy!W27","v":0},{"$f":"'The Netherlands'!W27","v":0},{"$f":"Belgium!W27","v":0},{"$f":"UK!W27","v":17},{"$f":"Ireland!W27","v":71},{"$f":"Denmark!W27","v":0},":",{"$f":"Portugal!W27","v":20},{"$f":"Austria!W27","v":0},":",{"$f":"Finland!W27","v":58},":"]
[{"$nulls":4}," "]
[]
["Volaille/Poultry/Volatili/Geflügel",null,{"$f":"Germany!W30","v":{"v":5581,"d":"5,581"}},{"$f":"France!W30","v":{"v":8626,"d":"8,626"}},{"$f":"Italy!W30","v":{"v":5718,"d":"5,718"}},{"$f":"'The Netherlands'!W30","v":{"v":3793,"d":"3,793"}},{"$f":"Belgium!W30","v":{"v":1408,"d":"1,408"}},{"$f":"UK!W30","v":{"v":6600,"d":"6,600"}},{"$f":"Ireland!W30","v":448},{"$f":"Denmark!W30","v":535},{"$f":"Spain!W30","v":{"v":4483,"d":"4,483"}},{"$f":"Portugal!W30","v":{"v":1420,"d":"1,420"}},{"$f":"Austria!W30","v":471},{"$f":"Sweden!W30","v":554},{"$f":"Finland!W30","v":291},{"$f":"SUM(C28:O28)","v":{"v":39928,"d":"39,928"}}]
["broilers",null,{"$f":"Germany!W31","v":{"v":2176,"d":"2,176"}},{"$f":"France!W31","v":{"v":3293,"d":"3,293"}},{"$f":"Italy!W31","v":{"v":2690,"d":"2,690"}},{"$f":"'The Netherlands'!W31","v":{"v":1658,"d":"1,658"}},{"$f":"Belgium!W31","v":652},{"$f":"UK!W31","v":{"v":3709,"d":"3,709"}},":",{"$f":"Denmark!W31","v":151},":",{"$f":"Portugal!W31","v":845},{"$f":"Austria!W31","v":0},":",{"$f":"Finland!W31","v":199},":"]
["poulettes & pondeuses/chicks & layers/Jung- & Legehennen",null,{"$f":"Germany!W32","v":{"v":2043,"d":"2,043"}},{"$f":"France!W32","v":{"v":2230,"d":"2,230"}},{"$f":"Italy!W32","v":{"v":1830,"d":"1,830"}},{"$f":"'The Netherlands'!W32","v":{"v":2135,"d":"2,135"}},{"$f":"Belgium!W32","v":509},{"$f":"UK!W32","v":{"v":1533,"d":"1,533"}},":",{"$f":"Denmark!W32","v":316},":",{"$f":"Portugal!W32","v":255},{"$f":"Austria!W32","v":0},":",{"$f":"Finland!W32","v":60},":"]
["autres/others/Andere",null,{"$f":"Germany!W33","v":{"v":1362,"d":"1,362"}},{"$f":"France!W33","v":{"v":3103,"d":"3,103"}},{"$f":"Italy!W33","v":{"v":1198,"d":"1,198"}},{"$f":"'The Netherlands'!W33","v":0},{"$f":"Belgium!W33","v":247},{"$f":"UK!W33","v":{"v":1358,"d":"1,358"}},":",{"$f":"Denmark!W33","v":68},":",{"$f":"Portugal!W33","v":320},{"$f":"Austria!W33","v":0},":",{"$f":"Finland!W33","v":32},":"]
[]
[]
["Al. d'allait./Milk replacers/Sostit. del latte/Milchaust.",null,{"$f":"Germany!W36","v":150},{"$f":"France!W36","v":385},{"$f":"Italy!W36","v":155},{"$f":"'The Netherlands'!W36","v":703},{"$f":"Belgium!W36","v":42},{"$f":"UK!W36","v":1},{"$f":"Ireland!W36","v":6},{"$f":"Denmark!W36","v":0},{"$f":"Spain!W36","v":0},{"$f":"Portugal!W36","v":0},{"$f":"Austria!W36","v":0},{"$f":"Sweden!W36","v":1},{"$f":"Finland!W36","v":0},{"$f":"SUM(C34:O34)","v":{"v":1443,"d":"1,443"}}]
[]
[{"$nulls":4}," "]
["Autres/others/altri/Andere",null,{"$f":"Germany!W39","v":763},{"$f":"France!W39","v":{"v":1552,"d":"1,552"}},{"$f":"Italy!W39","v":979},{"$f":"'The Netherlands'!W39","v":457},{"$f":"Belgium!W39","v":148},{"$f":"UK!W39","v":{"v":1504,"d":"1,504"}},{"$f":"Ireland!W39","v":315},{"$f":"Denmark!W39","v":198},{"$f":"Spain!W39","v":128},{"$f":"Portugal!W39","v":228},{"$f":"Austria!W39","v":111},{"$f":"Sweden!W39","v":85},{"$f":"Finland!W39","v":101},{"$f":"SUM(C37:O37)","v":{"v":6569,"d":"6,569"}}]
[]
[]
["TOTAL",null,{"$f":"C37+C34+C28+C21+C13","v":{"v":22019,"d":"22,019"}},{"v":21478,"d":"21,478"},{"v":13633,"d":"13,633"},{"v":14249,"d":"14,249"},{"v":6446,"d":"6,446"},{"v":14694,"d":"14,694"},{"v":3654,"d":"3,654"},{"v":4525,"d":"4,525"},{"v":20255,"d":"20,255"},{"v":3318,"d":"3,318"},{"v":1276,"d":"1,276"},{"v":1897,"d":"1,897"},{"v":1350,"d":"1,350"},{"v":128794,"d":"128,794"}]
[{"$nulls":5}," "]
[]
["* Sans le Luxembourg et la Grèce/ohne Luxemburg und Griechenland/Without Luxemburg and Greece/Senza Lussemburgo e Ella"]
[": non disponible/not available/nicht verfügbar"]
{"$rows_empty":9}
["2012-06-15"]
[]
["PRODUCTION INDUSTRIELLE D'ALIMENTS COMPOSES ",{"$nulls":14},"INDUSTRIELLE  MISCHFUTTERPRODUKTION"]
["PRODUZIONE INDUSTRIALE DI MANGIMI COMPOSTI",{"$nulls":14},"INDUSTRIAL COMPOUND PRODUCTION"]
[2010]
["definitif/final"]
[{"$nulls":12},"(1 000 t)"]
[]
["Catégories d'aliments composés/Mischfutterarten",null,"CY","CZ","EE","HU","LV","LT","PL","SK","SI","BU","RO","EU-12","EU-27"]
["Tipi di mangimi compositi/Types of feed",{"$nulls":12},"**","***"]
[]
[null,null," ",{"$nulls":4}," ",null," "]
["Bovins/Cattle/Bovini/Rinder",null,{"$f":"Cyprus!W16","v":110},{"$f":"'Czech Rep'!W16","v":469},{"$f":"Estonia!W16","v":40},{"$f":"Hungary!W16","v":505},{"$f":"Latvia!W16","v":52},{"$f":"Lithuania!W16","v":45},{"$f":"Poland!W16","v":767},{"$f":"Slovakia!W16","v":196},{"$f":"Slovenia!W16","v":91},{"$f":"Bulgaria!W16","v":93},{"$f":"Romania!W17","v":150},{"$f":"SUM(C66:M66)","v":{"v":2518,"d":"2,518"}},{"$f":"P13+N66","v":{"v":39583,"d":"39,583"}}]
["engrais/fattening/Mast  ",null,{"$f":"Cyprus!W17","v":16},{"$f":"'Czech Rep'!W17","v":0},{"$f":"Estonia!W17","v":":"},{"$f":"Hungary!W17","v":0},{"$f":"Latvia!W17","v":0},{"$f":"Lithuania!W17","v":1},{"$f":"Poland!W17","v":0},{"$f":"Slovakia!W17","v":12},":",":",":",":",":"]
["VL/dairy cow/Milchkühe",null,{"$f":"Cyprus!W18","v":84},{"$f":"'Czech Rep'!W18","v":0},{"$f":"Estonia!W18","v":":"},{"$f":"Hungary!W18","v":0},{"$f":"Latvia!W18","v":0},{"$f":"Lithuania!W18","v":40},{"$f":"Poland!W18","v":0},{"$f":"Slovakia!W18","v":148},":",":",":",":",":"]
["veaux (aliments d'allaitement non compris)/calves ",null,{"$f":"Cyprus!W19","v":10},{"$f":"'Czech Rep'!W19","v":0},{"$f":"Estonia!W19","v":":"},{"$f":"Hungary!W19","v":0},{"$f":"Latvia!W19","v":0},{"$f":"Lithuania!W19","v":3},{"$f":"Poland!W19","v":0},{"$f":"Slovakia!W19","v":16},":",":",":",":",":"]
["(excluding milk replacers)/Kälber (exkl. Milchaustauscher)"]
["autres/others/Andere",null,{"$f":"Cyprus!W20","v":0},{"$f":"'Czech Rep'!W20","v":0},{"$f":"Estonia!W20","v":":"},{"$f":"Hungary!W20","v":0},{"$f":"Latvia!W20","v":0},{"$f":"Lithuania!W20","v":1},{"$f":"Poland!W20","v":0},{"$f":"Slovakia!W20","v":20},":",":",":",":",":"]
[]
[]
["Porcins/Pigs/Suini/Schweine",null,{"$f":"Cyprus!W23","v":13},{"$f":"'Czech Rep'!W23","v":935},{"$f":"Estonia!W23","v":140},{"$f":"Hungary!W23","v":{"v":1490,"d":"1,490"}},{"$f":"Latvia!W23","v":90},{"$f":"Lithuania!W23","v":70},{"$f":"Poland!W23","v":{"v":1693,"d":"1,693"}},{"$f":"Slovakia!W23","v":224},{"$f":"Slovenia!W23","v":65},{"$f":"Bulgaria!W23","v":234},{"$f":"Romania!W24","v":{"v":1475,"d":"1,475"}},{"$f":"SUM(C74:M74)","v":{"v":6429,"d":"6,429"}},{"$f":"P21+N74","v":{"v":50218,"d":"50,218"}}]
["porcelets/piglets/Ferkel",null,{"$f":"Cyprus!W24","v":1},{"$f":"'Czech Rep'!W24","v":0},{"$f":"Estonia!W24","v":":"},{"$f":"Hungary!W24","v":0},{"$f":"Latvia!W24","v":0},{"$f":"Lithuania!W24","v":15},{"$f":"Poland!W24","v":0},{"$f":"Slovakia!W24","v":18},":",":",":",":",":"]
["porcs engrais/pigs for fattening/Mastschweine",null,{"$f":"Cyprus!W25","v":8},{"$f":"'Czech Rep'!W25","v":0},{"$f":"Estonia!W25","v":":"},{"$f":"Hungary!W25","v":0},{"$f":"Latvia!W25","v":0},{"$f":"Lithuania!W25","v":43},{"$f":"Poland!W25","v":0},{"$f":"Slovakia!W25","v":164},":",":",":",":",":"]
["reproducteurs/breeding pigs/Zuchtschweine",null,{"$f":"Cyprus!W26","v":4},{"$f":"'Czech Rep'!W26","v":0},{"$f":"Estonia!W26","v":":"},{"$f":"Hungary!W26","v":0},{"$f":"Latvia!W26","v":0},{"$f":"Lithuania!W26","v":6},{"$f":"Poland!W26","v":0},{"$f":"Slovakia!W26","v":33},":",":",":",":",":"]
["autres/others/Andere",null,{"$f":"Cyprus!W27","v":0},{"$f":"'Czech Rep'!W27","v":0},{"$f":"Estonia!W27","v":":"},{"$f":"Hungary!W27","v":0},{"$f":"Latvia!W27","v":0},{"$f":"Lithuania!W27","v":6},{"$f":"Poland!W27","v":0},{"$f":"Slovakia!W27","v":9},":",":",":",":",":"]
[{"$nulls":4}," "]
[]
["Volaille/Poultry/Volatili/Geflügel",null,{"$f":"Cyprus!W30","v":64},{"$f":"'Czech Rep'!W30","v":993},{"$f":"Estonia!W30","v":48},{"$f":"Hungary!W30","v":{"v":1680,"d":"1,680"}},{"$f":"Latvia!W30","v":169},{"$f":"Lithuania!W30","v":284},{"$f":"Poland!W30","v":{"v":5118,"d":"5,118"}},{"$f":"Slovakia!W30","v":231},{"$f":"Slovenia!W30","v":255},{"$f":"Bulgaria!W30","v":553},{"$f":"Romania!W31","v":{"v":1620,"d":"1,620"}},{"$f":"SUM(C81:M81)","v":{"v":11015,"d":"11,015"}},{"$f":"P28+N81","v":{"v":50943,"d":"50,943"}}]
["broilers",null,{"$f":"Cyprus!W31","v":45},{"$f":"'Czech Rep'!W31","v":0},{"$f":"Estonia!W31","v":":"},{"$f":"Hungary!W31","v":0},{"$f":"Latvia!W31","v":0},{"$f":"Lithuania!W31","v":178},{"$f":"Poland!W31","v":0},{"$f":"Slovakia!W31","v":109},":",":",":",":",":"]
["poulettes & pondeuses/chicks & layers/Jung- & Legehennen",null,{"$f":"Cyprus!W32","v":17},{"$f":"'Czech Rep'!W32","v":0},{"$f":"Estonia!W32","v":":"},{"$f":"Hungary!W32","v":0},{"$f":"Latvia!W32","v":0},{"$f":"Lithuania!W32","v":79},{"$f":"Poland!W32","v":0},{"$f":"Slovakia!W32","v":116},":",":",":",":",":"]
["autres/others/Andere",null,{"$f":"Cyprus!W33","v":2},{"$f":"'Czech Rep'!W33","v":0},{"$f":"Estonia!W33","v":":"},{"$f":"Hungary!W33","v":0},{"$f":"Latvia!W33","v":0},{"$f":"Lithuania!W33","v":27},{"$f":"Poland!W33","v":0},{"$f":"Slovakia!W33","v":6},":",":",":",":",":"]
[]
[]
["Al. d'allait./Milk replacers/Sostit. del latte/Milchaust.",null,{"$f":"Cyprus!W36","v":1},{"$f":"'Czech Rep'!W36","v":4},{"$f":"Estonia!W36","v":0},{"$f":"Hungary!W36","v":0},{"$f":"Latvia!W36","v":0},{"$f":"Lithuania!W36","v":2},{"$f":"Poland!W36","v":0},{"$f":"Slovakia!W36","v":0},{"$f":"Slovenia!W36","v":0},{"$f":"Bulgaria!W36","v":0},{"$f":"Romania!W37","v":0},{"$f":"SUM(C87:M87)","v":7},{"$f":"P34+N87","v":{"v":1450,"d":"1,450"}}]
[]
[{"$nulls":4}," "]
["Autres/others/altri/Andere",null,{"$f":"Cyprus!W39","v":105},{"$f":"'Czech Rep'!W39","v":89},{"$f":"Estonia!W39","v":2},{"$f":"Hungary!W39","v":195},{"$f":"Latvia!W39","v":28},{"$f":"Lithuania!W39","v":7},{"$f":"Poland!W39","v":328},{"$f":"Slovakia!W39","v":10},{"$f":"Slovenia!W39","v":12},{"$f":"Bulgaria!W39","v":24},{"$f":"Romania!W40","v":0},{"$f":"SUM(C90:M90)","v":800},{"$f":"P37+N90","v":{"v":7369,"d":"7,369"}}]
[]
[]
["TOTAL",null,{"$f":"C90+C87+C81+C74+C66","v":293},{"v":2490,"d":"2,490"},230,{"v":3870,"d":"3,870"},339,408,{"v":7906,"d":"7,906"},661,423,904,{"v":3245,"d":"3,245"},{"v":20769,"d":"20,769"},{"v":149563,"d":"149,563"}]
[{"$nulls":5}," "]
[]
["** Sans Malte/Ohne Maltas/Without Malta/Senza Malta"]
["*** Sans le Luxembourg, la Grèce et Malte/Ohne Luxemburg, Griechenland und Maltas/Without Luxemburg, Greece and Malta/Senza Lussemburgo, Ellas e Malta"]
[": non disponible/not available/nicht verfügbar"]

{"sheet":"2010-11","index":43,"n_rows":43,"n_cols":24,"rows_kept":43}
["2013-12-23"]
[]
["PRODUCTION INDUSTRIELLE D'ALIMENTS COMPOSES",{"$nulls":22},"INDUSTRIELLE  MISCHFUTTERPRODUKTION"]
["PRODUZIONE INDUSTRIALE DI MANGIMI COMPOSTI",{"$nulls":11},"2010-2011",{"$nulls":10},"INDUSTRIAL COMPOUND PRODUCTION"]
[{"$nulls":12},"definitif/final",{"$nulls":10},"(1 000 t )"]
[]
[]
[]
["PAYS",null,"      BOVINS/RINDER",{"$nulls":3},"    PORCS/SCHWEINE",{"$nulls":3},"     VOLAILLE/GEFLÜGEL",null,"      A. ALLAITEMENT/MILCHAUST.",{"$nulls":5},"     AUTRES/ANDERE",null,null,"       TOTAL/INSGESAMT"]
["LAND",null,"      BOVINI/CATTLE",{"$nulls":3},"    SUINI/PIGS",{"$nulls":3},"     VOLATILI/POULTRY",null,"  SOSTIT. DEL LATTE/MILKREPLACERS",{"$nulls":5},"ALTRI ANIMALI/OTHERS",null,null,"          TOTALE/TOTAL"]
["PAESE"]
["COUNTRY",2010,2011,"%TAV",null,2010,2011,"%TAV",null,2010,2011,"%TAV",null,2010,2011,"%TAV",null,2010,2011,"%TAV",null,2010,2011,"%TAV"]
[]
["DE",{"$f":"Germany!W$16","v":{"v":6120,"d":"6,120"}},{"$f":"Germany!X$16","v":{"v":6357,"d":"6,357"}},{"$f":"((C14/B14)-1)*100","v":{"v":3.8725490196078516,"d":"3.9"}},null,{"$f":"Germany!W$23","v":{"v":9405,"d":"9,405"}},{"$f":"Germany!X$23","v":{"v":9966,"d":"9,966"}},{"$f":"((G14/F14)-1)*100","v":{"v":5.964912280701751,"d":"6.0"}},null,{"$f":"Germany!W$30","v":{"v":5581,"d":"5,581"}},{"$f":"Germany!X$30","v":{"v":5820,"d":"5,820"}},{"$f":"((K14/J14)-1)*100","v":{"v":4.2823866690557155,"d":"4.3"}},null,{"$f":"Germany!W$36","v":150},{"$f":"Germany!X$36","v":152},{"$f":"((O14/N14)-1)*100","v":{"v":1.333333333333342,"d":"1.3"}},null,{"$f":"Germany!W$39","v":763},{"$f":"Germany!X$39","v":724},{"$f":"((S14/R14)-1)*100","v":{"v":-5.111402359108785,"d":"-5.1"}},null,{"$f":"R14+N14+J14+F14+B14","v":{"v":22019,"d":"22,019"}},{"v":23019,"d":"23,019"},{"$f":"((W14/V14)-1)*100","v":{"v":4.5415323130024055,"d":"4.5"}}]
["FR",{"$f":"France!W$16","v":{"v":5144,"d":"5,144"}},{"$f":"France!X$16","v":{"v":5148,"d":"5,148"}},{"v":0.07776049766718973,"d":"0.1"},null,{"$f":"France!W$23","v":{"v":5771,"d":"5,771"}},{"$f":"France!X$23","v":{"v":5642,"d":"5,642"}},{"v":-2.2353145035522437,"d":"-2.2"},null,{"$f":"France!W$30","v":{"v":8626,"d":"8,626"}},{"$f":"France!X$30","v":{"v":8630,"d":"8,630"}},{"v":0.04637143519592435,"d":"0.0"},null,{"$f":"France!W36","v":385},{"$f":"France!X36","v":357},{"v":-7.272727272727275,"d":"-7.3"},null,{"$f":"France!W$39","v":{"v":1552,"d":"1,552"}},{"$f":"France!X$39","v":{"v":1517,"d":"1,517"}},{"v":-2.255154639175261,"d":"-2.3"},null,{"$f":"R15+N15+J15+F15+B15","v":{"v":21478,"d":"21,478"}},{"v":21294,"d":"21,294"},{"v":-0.8566905670919112,"d":"-0.9"}]
["IT",{"$f":"Italy!W$16","v":{"v":3528,"d":"3,528"}},{"$f":"Italy!X$16","v":{"v":3610,"d":"3,610"}},{"v":2.3242630385487573,"d":"2.3"},null,{"$f":"Italy!W$23","v":{"v":3253,"d":"3,253"}},{"$f":"Italy!X$23","v":{"v":3470,"d":"3,470"}},{"v":6.670765447279425,"d":"6.7"},null,{"$f":"Italy!W$30","v":{"v":5718,"d":"5,718"}},{"$f":"Italy!X$30","v":{"v":5690,"d":"5,690"}},{"v":-0.48968170689052126,"d":"-0.5"},null,{"$f":"Italy!W$36","v":155},{"$f":"Italy!X$36","v":145},{"v":-6.451612903225811,"d":"-6.5"},null,{"$f":"+Italy!W$39","v":979},{"$f":"+Italy!X$39","v":988},{"v":0.9193054136874323,"d":"0.9"},null,{"$f":"R16+N16+J16+F16+B16","v":{"v":13633,"d":"13,633"}},{"v":13903,"d":"13,903"},{"v":1.980488520501722,"d":"2.0"}]
["NL   ",{"$f":"'The Netherlands'!W$16","v":{"v":3433,"d":"3,433"}},{"$f":"'The Netherlands'!X$16","v":{"v":3451,"d":"3,451"}},{"v":0.5243227497815361,"d":"0.5"},null,{"$f":"'The Netherlands'!W$23","v":{"v":5863,"d":"5,863"}},{"$f":"'The Netherlands'!X$23","v":{"v":5734,"d":"5,734"}},{"v":-2.2002387856046357,"d":"-2.2"},null,{"$f":"'The Netherlands'!W$30","v":{"v":3793,"d":"3,793"}},{"$f":"'The Netherlands'!X$30","v":{"v":3801,"d":"3,801"}},{"v":0.21091484313209286,"d":"0.2"},null,{"$f":"'The Netherlands'!W$36","v":703},{"$f":"'The Netherlands'!X$36","v":652},{"v":-7.25462304409673,"d":"-7.3"},null,{"$f":"'The Netherlands'!W$39","v":457},{"$f":"'The Netherlands'!X$39","v":435},{"v":-4.81400437636762,"d":"-4.8"},null,{"$f":"R17+N17+J17+F17+B17","v":{"v":14249,"d":"14,249"}},{"v":14073,"d":"14,073"},{"v":-1.235174398203387,"d":"-1.2"}]
["BE",{"$f":"Belgium!W$16","v":{"v":1182,"d":"1,182"}},{"$f":"Belgium!X$16","v":{"v":1244,"d":"1,244"}},{"v":5.245346869712342,"d":"5.2"},null,{"$f":"Belgium!W$23","v":{"v":3666,"d":"3,666"}},{"$f":"Belgium!X$23","v":{"v":3653,"d":"3,653"}},{"v":-0.35460992907800915,"d":"-0.4"},null,{"$f":"Belgium!W$30","v":{"v":1408,"d":"1,408"}},{"$f":"Belgium!X$30","v":{"v":1365,"d":"1,365"}},{"v":-3.0539772727272707,"d":"-3.1"},null,{"$f":"Belgium!W$36","v":42},{"$f":"Belgium!X$36","v":39},{"v":-7.14285714285714,"d":"-7.1"},null,{"$f":"Belgium!W$39","v":148},{"$f":"Belgium!X$39","v":159},{"v":7.432432432432434,"d":"7.4"},null,{"$f":"R18+N18+J18+F18+B18","v":{"v":6446,"d":"6,446"}},{"v":6460,"d":"6,460"},{"v":0.21718895439031272,"d":"0.2"}]
["UK ",{"$f":"UK!W$16","v":{"v":4972,"d":"4,972"}},{"$f":"UK!X$16","v":{"v":4869,"d":"4,869"}},{"v":-2.071600965406273,"d":"-2.1"},null,{"$f":"UK!W$23","v":{"v":1617,"d":"1,617"}},{"$f":"UK!X$23","v":{"v":1654,"d":"1,654"}},{"v":2.2881880024737233,"d":"2.3"},null,{"$f":"UK!W$30","v":{"v":6600,"d":"6,600"}},{"$f":"UK!X$30","v":{"v":6468,"d":"6,468"}},{"v":-2.0000000000000018,"d":"-2.0"},null,{"$f":"UK!W$36","v":1},{"$f":"UK!X$36","v":1},{"v":0,"d":"0.0"},null,{"$f":"UK!W$39","v":{"v":1504,"d":"1,504"}},{"$f":"UK!X$39","v":{"v":1426,"d":"1,426"}},{"v":-5.186170212765962,"d":"-5.2"},null,{"$f":"R19+N19+J19+F19+B19","v":{"v":14694,"d":"14,694"}},{"v":14418,"d":"14,418"},{"v":-1.8783176806859925,"d":"-1.9"}]
["IE",{"$f":"Ireland!W$16","v":{"v":2305,"d":"2,305"}},{"$f":"Ireland!X$16","v":{"v":2102,"d":"2,102"}},{"v":-8.806941431670278,"d":"-8.8"},null,{"$f":"Ireland!W$23","v":580},{"$f":"Ireland!X$23","v":650},{"v":12.06896551724137,"d":"12.1"},null,{"$f":"Ireland!W$30","v":448},{"$f":"Ireland!X$30","v":477},{"v":6.473214285714279,"d":"6.5"},null,{"$f":"Ireland!W$36","v":6},{"$f":"Ireland!X$36","v":0},{"$f":"((O20/N20)-1)*100","v":{"v":-100,"d":"-100.0"}},null,{"$f":"Ireland!W$39","v":315},{"$f":"Ireland!X$39","v":266},{"v":-15.555555555555555,"d":"-15.6"},null,{"$f":"R20+N20+J20+F20+B20","v":{"v":3654,"d":"3,654"}},{"v":3495,"d":"3,495"},{"v":-4.351395730706075,"d":"-4.4"}]
["DK ",{"$f":"Denmark!W$16","v":905},{"$f":"Denmark!X$16","v":871},{"v":-3.7569060773480656,"d":"-3.8"},null,{"$f":"Denmark!W$23","v":{"v":2887,"d":"2,887"}},{"$f":"Denmark!X$23","v":{"v":2677,"d":"2,677"}},{"v":-7.27398683754763,"d":"-7.3"},null,{"$f":"Denmark!W$30","v":535},{"$f":"Denmark!X$30","v":545},{"v":1.869158878504673,"d":"1.9"},null,{"$f":"Denmark!W$36","v":0},{"$f":"Denmark!X$36","v":0},{"v":0,"d":"0.0"},null,{"$f":"Denmark!W$39","v":198},{"$f":"Denmark!X$39","v":174},{"v":-12.121212121212121,"d":"-12.1"},null,{"$f":"R21+N21+J21+F21+B21","v":{"v":4525,"d":"4,525"}},{"v":4267,"d":"4,267"},{"v":-5.7016574585635365,"d":"-5.7"}]
["ES",{"$f":"Spain!W$16","v":{"v":6800,"d":"6,800"}},{"$f":"Spain!X$16","v":{"v":6816,"d":"6,816"}},{"v":0.23529411764706687,"d":"0.2"},null,{"$f":"Spain!W$23","v":{"v":8844,"d":"8,844"}},{"$f":"Spain!X$23","v":{"v":8732,"d":"8,732"}},{"v":-1.2663952962460479,"d":"-1.3"},null,{"$f":"Spain!W$30","v":{"v":4483,"d":"4,483"}},{"$f":"Spain!X$30","v":{"v":4442,"d":"4,442"}},{"v":-0.9145661387463755,"d":"-0.9"},null,{"$f":"Spain!W$36","v":0},{"$f":"Spain!X$36","v":0},{"v":0,"d":"0.0"},null,{"$f":"Spain!W$39","v":128},{"$f":"Spain!X$39","v":158},{"v":23.4375,"d":"23.4"},null,{"$f":"R22+N22+J22+F22+B22","v":{"v":20255,"d":"20,255"}},{"v":20148,"d":"20,148"},{"v":-0.5282646260182711,"d":"-0.5"}]
["PT",{"$f":"Portugal!W$16","v":750},{"$f":"Portugal!X$16","v":720},{"v":-4.0000000000000036,"d":"-4.0"},null,{"$f":"Portugal!W$23","v":920},{"$f":"Portugal!X$23","v":890},{"v":-3.2608695652173947,"d":"-3.3"},null,{"$f":"Portugal!W$30","v":{"v":1420,"d":"1,420"}},{"$f":"Portugal!X$30","v":{"v":1420,"d":"1,420"}},{"v":0,"d":"0.0"},null,{"$f":"Portugal!W$36","v":0},{"$f":"Portugal!X$36","v":0},{"v":0,"d":"0.0"},null,{"$f":"Portugal!W$39","v":228},{"$f":"Portugal!X$39","v":205},{"v":-10.087719298245613,"d":"-10.1"},null,{"$f":"R23+N23+J23+F23+B23","v":{"v":3318,"d":"3,318"}},{"v":3235,"d":"3,235"},{"v":-2.5015069318866767,"d":"-2.5"}]
["AT",{"$f":"Austria!W$16","v":438},{"$f":"Austria!X$16","v":452},{"v":3.1963470319634757,"d":"3.2"},null,{"$f":"Austria!W$23","v":256},{"$f":"Austria!X$23","v":274},{"v":7.03125,"d":"7.0"},null,{"$f":"Austria!W$30","v":471},{"$f":"Austria!X$30","v":493},{"v":4.670912951167727,"d":"4.7"},null,{"$f":"Austria!W$36","v":0},{"$f":"Austria!X$36","v":0},{"v":0,"d":"0.0"},null,{"$f":"Austria!W$39","v":111},{"$f":"Austria!X$39","v":111},{"v":0,"d":"0.0"},null,{"$f":"R24+N24+J24+F24+B24","v":{"v":1276,"d":"1,276"}},{"v":1330,"d":"1,330"},{"v":4.2319749216300995,"d":"4.2"}]
["SE",{"$f":"Sweden!W$16","v":872},{"$f":"Sweden!X$16","v":850},{"v":-2.5229357798165153,"d":"-2.5"},null,{"$f":"Sweden!W$23","v":385},{"$f":"Sweden!X$23","v":350},{"v":-9.090909090909093,"d":"-9.1"},null,{"$f":"Sweden!W$30","v":554},{"$f":"Sweden!X$30","v":550},{"v":-0.7220216606498187,"d":"-0.7"},null,{"$f":"Sweden!W$36","v":1},{"$f":"Sweden!X$36","v":1},{"$f":"((O25/N25)-1)*100","v":{"v":0,"d":"0.0"}},null,{"$f":"Sweden!W$39","v":85},{"$f":"Sweden!X$39","v":85},{"v":0,"d":"0.0"},null,{"$f":"R25+N25+J25+F25+B25","v":{"v":1897,"d":"1,897"}},{"v":1836,"d":"1,836"},{"v":-3.215603584607274,"d":"-3.2"}]
["FI",{"$f":"Finland!W$16","v":616},{"$f":"Finland!X$16","v":642},{"v":4.220779220779214,"d":"4.2"},null,{"$f":"Finland!W$23","v":342},{"$f":"Finland!X$23","v":318},{"v":-7.017543859649122,"d":"-7.0"},null,{"$f":"Finland!W$30","v":291},{"$f":"Finland!X$30","v":296},{"v":1.7182130584192379,"d":"1.7"},null,{"$f":"Finland!W$36","v":0},{"$f":"Finland!X$36","v":0},{"v":0,"d":"0.0"},null,{"$f":"Finland!W$39","v":101},{"$f":"Finland!X$39","v":94},{"v":-6.930693069306926,"d":"-6.9"},null,{"$f":"R26+N26+J26+F26+B26","v":{"v":1350,"d":"1,350"}},{"v":1350,"d":"1,350"},{"v":0,"d":"0.0"}]
["CY",{"$f":"Cyprus!W$16","v":110},{"$f":"Cyprus!X$16","v":120},{"v":9.090909090909083,"d":"9.1"},null,{"$f":"Cyprus!W$23","v":13},{"$f":"Cyprus!X$23","v":50},{"v":284.61538461538464,"d":"284.6"},null,{"$f":"Cyprus!W$30","v":64},{"$f":"Cyprus!X$30","v":54},{"v":-15.625,"d":"-15.6"},null,{"$f":"Cyprus!W$36","v":1},{"$f":"Cyprus!X$36","v":1},{"v":0,"d":"0.0"},null,{"$f":"Cyprus!W$39","v":105},{"$f":"Cyprus!X$39","v":100},{"v":-4.761904761904767,"d":"-4.8"},null,{"$f":"R27+N27+J27+F27+B27","v":293},325,{"v":10.921501706484648,"d":"10.9"}]
["CZ",{"$f":"'Czech Rep'!W$16","v":469},{"$f":"'Czech Rep'!X$16","v":448},{"v":-4.477611940298509,"d":"-4.5"},null,{"$f":"'Czech Rep'!W$23","v":935},{"$f":"'Czech Rep'!X$23","v":795},{"v":-14.973262032085566,"d":"-15.0"},null,{"$f":"'Czech Rep'!W$30","v":993},{"$f":"'Czech Rep'!X$30","v":887},{"v":-10.674723061430013,"d":"-10.7"},null,{"$f":"'Czech Rep'!W$36","v":4},{"$f":"'Czech Rep'!X$36","v":4},{"$f":"((O28/N28)-1)*100","v":{"v":0,"d":"0.0"}},null,{"$f":"'Czech Rep'!W$39","v":89},{"$f":"'Czech Rep'!X$39","v":75},{"v":-15.73033707865169,"d":"-15.7"},null,{"$f":"R28+N28+J28+F28+B28","v":{"v":2490,"d":"2,490"}},{"v":2209,"d":"2,209"},{"v":-11.285140562248996,"d":"-11.3"}]
["EE",{"$f":"Estonia!W$16","v":40},{"$f":"Estonia!X$16","v":40},{"v":0,"d":"0.0"},null,{"$f":"Estonia!W$23","v":140},{"$f":"Estonia!X$23","v":140},{"v":0,"d":"0.0"},null,{"$f":"Estonia!W$30","v":48},{"$f":"Estonia!X$30","v":48},{"v":0,"d":"0.0"},null,{"$f":"Estonia!W$36","v":0},{"$f":"Estonia!X$36","v":0},{"v":0,"d":"0.0"},null,{"$f":"Estonia!W$39","v":2},{"$f":"Estonia!X$39","v":2},{"v":0,"d":"0.0"},null,{"$f":"R29+N29+J29+F29+B29","v":230},230,{"v":0,"d":"0.0"}]
["HU",{"$f":"Hungary!W$16","v":505},{"$f":"Hungary!X$16","v":530},{"v":4.950495049504955,"d":"5.0"},null,{"$f":"Hungary!W$23","v":{"v":1490,"d":"1,490"}},{"$f":"Hungary!X$23","v":{"v":1410,"d":"1,410"}},{"v":-5.369127516778526,"d":"-5.4"},null,{"$f":"Hungary!W$30","v":{"v":1680,"d":"1,680"}},{"$f":"Hungary!X$30","v":{"v":1660,"d":"1,660"}},{"v":-1.1904761904761862,"d":"-1.2"},null,{"$f":"Hungary!W$36","v":0},{"$f":"Hungary!X$36","v":0},{"v":0,"d":"0.0"},null,{"$f":"Hungary!W$39","v":195},{"$f":"Hungary!X$39","v":180},{"v":-7.692307692307687,"d":"-7.7"},null,{"$f":"R30+J30+F30+B30","v":{"v":3870,"d":"3,870"}},{"v":3780,"d":"3,780"},{"v":-2.3255813953488413,"d":"-2.3"}]
["LV",{"$f":"Latvia!W$16","v":52},{"$f":"Latvia!X$16","v":52},{"v":0,"d":"0.0"},null,{"$f":"Latvia!W$23","v":90},{"$f":"Latvia!X$23","v":90},{"v":0,"d":"0.0"},null,{"$f":"Latvia!W$30","v":169},{"$f":"Latvia!X$30","v":169},{"v":0,"d":"0.0"},null,{"$f":"Latvia!W$36","v":0},{"$f":"Latvia!X$36","v":0},{"v":0,"d":"0.0"},null,{"$f":"Latvia!W$39","v":28},{"$f":"Latvia!X$39","v":28},{"v":0,"d":"0.0"},null,{"$f":"R31+N31+J31+F31+B31","v":339},339,{"v":0,"d":"0.0"}]
["LT",{"$f":"Lithuania!W$16","v":45},{"$f":"Lithuania!X$16","v":48},{"v":6.666666666666665,"d":"6.7"},null,{"$f":"Lithuania!W$23","v":70},{"$f":"Lithuania!X$23","v":78},{"v":11.428571428571432,"d":"11.4"},null,{"$f":"Lithuania!W$30","v":284},{"$f":"Lithuania!X$30","v":284},{"v":0,"d":"0.0"},null,{"$f":"Lithuania!W$36","v":2},{"$f":"Lithuania!X$36","v":2},{"$f":"((O32/N32)-1)*100","v":{"v":0,"d":"0.0"}},null,{"$f":"Lithuania!W$39","v":7},{"$f":"Lithuania!X$39","v":10},{"v":42.85714285714286,"d":"42.9"},null,{"$f":"R32+N32+J32+F32+B32","v":408},422,{"v":3.431372549019618,"d":"3.4"}]
["PL",{"$f":"Poland!W$16","v":767},{"$f":"Poland!X$16","v":889},{"v":15.90612777053455,"d":"15.9"},null,{"$f":"Poland!W$23","v":{"v":1693,"d":"1,693"}},{"$f":"Poland!X$23","v":{"v":1752,"d":"1,752"}},{"v":3.484937979917313,"d":"3.5"},null,{"$f":"Poland!W$30","v":{"v":5118,"d":"5,118"}},{"$f":"Poland!X$30","v":{"v":4774,"d":"4,774"}},{"v":-6.721375537319263,"d":"-6.7"},null,{"$f":"Poland!W$36","v":0},{"$f":"Poland!X$36","v":0},{"v":0,"d":"0.0"},null,{"$f":"Poland!W$39","v":328},{"$f":"Poland!X$39","v":323},{"v":-1.5243902439024404,"d":"-1.5"},null,{"$f":"R33+N33+J33+F33+B33","v":{"v":7906,"d":"7,906"}},{"v":7738,"d":"7,738"},{"v":-2.1249683784467455,"d":"-2.1"}]
["SK",{"$f":"Slovakia!W$16","v":196},{"$f":"Slovakia!X$16","v":198},{"v":1.0204081632652962,"d":"1.0"},null,{"$f":"Slovakia!W$23","v":224},{"$f":"Slovakia!X$23","v":204},{"v":-8.92857142857143,"d":"-8.9"},null,{"$f":"Slovakia!W$30","v":231},{"$f":"Slovakia!X$30","v":226},{"v":-2.164502164502169,"d":"-2.2"},null,{"$f":"Slovakia!W$36","v":0},{"$f":"Slovakia!X$36","v":0},{"v":0,"d":"0.0"},null,{"$f":"+Slovakia!W$39","v":10},{"$f":"+Slovakia!X$39","v":12},{"v":19.999999999999996,"d":"20.0"},null,{"$f":"R34+N34+J34+F34+B34","v":661},640,{"v":-3.17700453857791,"d":"-3.2"}]
["SI",{"$f":"Slovenia!W$16","v":91},{"$f":"Slovenia!X$16","v":98},{"v":7.692307692307687,"d":"7.7"},null,{"$f":"Slovenia!W$23","v":65},{"$f":"Slovenia!X$23","v":74},{"v":13.846153846153841,"d":"13.8"},null,{"$f":"Slovenia!W$30","v":255},{"$f":"Slovenia!X$30","v":226},{"v":-11.372549019607847,"d":"-11.4"},null,{"$f":"Slovenia!W$36","v":0},{"$f":"Slovenia!X$36","v":0},{"v":0,"d":"0.0"},null,{"$f":"Slovenia!W$39","v":12},{"$f":"Slovenia!X$39","v":11},{"v":-8.333333333333337,"d":"-8.3"},null,{"$f":"R35+N35+J35+F35+B35","v":423},409,{"v":-3.309692671394804,"d":"-3.3"}]
["BU",{"$f":"Bulgaria!W$16","v":93},{"$f":"Bulgaria!X$16","v":94},{"v":1.0752688172043001,"d":"1.1"},null,{"$f":"Bulgaria!W$23","v":234},{"$f":"Bulgaria!X$23","v":240},{"v":2.564102564102555,"d":"2.6"},null,{"$f":"Bulgaria!W$30","v":553},{"$f":"Bulgaria!X$30","v":590},{"v":6.690777576853524,"d":"6.7"},null,{"$f":"Bulgaria!W$36","v":0},{"$f":"Bulgaria!X$36","v":0},{"v":0,"d":"0.0"},null,{"$f":"Bulgaria!W$39","v":24},{"$f":"Bulgaria!X$39","v":24},{"v":0,"d":"0.0"},null,{"$f":"R36+N36+J36+F36+B36","v":904},948,{"v":4.867256637168138,"d":"4.9"}]
["RO",{"$f":"Romania!W$17","v":150},{"$f":"Romania!X$17","v":155},{"v":3.3333333333333437,"d":"3.3"},null,{"$f":"Romania!W$24","v":{"v":1475,"d":"1,475"}},{"$f":"Romania!X$24","v":{"v":1520,"d":"1,520"}},{"v":3.050847457627115,"d":"3.1"},null,{"$f":"Romania!W$31","v":{"v":1620,"d":"1,620"}},{"$f":"Romania!X$31","v":{"v":1660,"d":"1,660"}},{"v":2.4691358024691468,"d":"2.5"},null,{"$f":"Romania!W$37","v":0},{"$f":"Romania!X$37","v":0},{"v":0,"d":"0.0"},null,{"$f":"Romania!W$40","v":0},{"$f":"Romania!X$40","v":0},{"v":0,"d":"0.0"},null,{"$f":"R37+N37+J37+F37+B37","v":{"v":3245,"d":"3,245"}},{"v":3335,"d":"3,335"},{"v":2.7734976887519247,"d":"2.8"}]
[]
["EUR 27 *",{"$f":"SUM(B14:B37)","v":{"v":39583,"d":"39,583"}},{"v":39804,"d":"39,804"},{"$f":"((C39/B39)-1)*100","v":{"v":0.5583204911199235,"d":"0.6"}},null,{"$f":"SUM(F14:F37)","v":{"v":50218,"d":"50,218"}},{"v":50363,"d":"50,363"},{"$f":"((G39/F39)-1)*100","v":{"v":0.2887410888525954,"d":"0.3"}},null,{"$f":"SUM(J14:J37)","v":{"v":50943,"d":"50,943"}},{"v":50575,"d":"50,575"},{"$f":"((K39/J39)-1)*100","v":{"v":-0.7223759888502879,"d":"-0.7"}},null,{"$f":"SUM(N14:N37)","v":{"v":1450,"d":"1,450"}},{"v":1354,"d":"1,354"},{"$f":"((O39/N39)-1)*100","v":{"v":-6.620689655172418,"d":"-6.6"}},null,{"$f":"SUM(R14:R37)","v":{"v":7369,"d":"7,369"}},{"v":7107,"d":"7,107"},{"$f":"((S39/R39)-1)*100","v":{"v":-3.555434930112633,"d":"-3.6"}},null,{"$f":"SUM(V14:V37)","v":{"v":149563,"d":"149,563"}},{"v":149203,"d":"149,203"},{"$f":"((W39/V39)-1)*100","v":{"v":-0.24070124295447748,"d":"-0.2"}}]
[]
[{"$nulls":23}," "]
["* Sans le Luxembourg, la Grèce et Malte/Ohne Luxemburg, Griechenland und Malta/Without Luxemburg, Greece and Malta/Senza Lussemburgo, Ellas e Malta"]
[": non disponible/not available"]

{"sheet":"2011","index":44,"n_rows":98,"n_cols":16,"rows_kept":98,"merged":[[4,0,4,15],[5,0,5,15],[57,0,57,15],[58,0,58,15]]}
["2013-12-23"]
[]
["PRODUCTION INDUSTRIELLE D'ALIMENTS COMPOSES ",{"$nulls":14},"INDUSTRIELLE  MISCHFUTTERPRODUKTION"]
["PRODUZIONE INDUSTRIALE DI MANGIMI COMPOSTI",{"$nulls":14},"INDUSTRIAL COMPOUND PRODUCTION"]
[2011]
["definitif/final"]
[{"$nulls":15},"(1 000 t)"]
[]
["Catégories d'aliments composés/Mischfutterarten",null,"DE","FR","IT","NL","BE","UK","IE","DK","ES","PT","AT","SE","FI","EU-15"]
["Tipi di mangimi compositi/Types of feed",{"$nulls":14},"*"]
[]
[null,null," ",{"$nulls":4}," ",null,null," "]
["Bovins/Cattle/Bovini/Rinder",null,{"$f":"Germany!X16","v":{"v":6357,"d":"6,357"}},{"$f":"France!X16","v":{"v":5148,"d":"5,148"}},{"$f":"Italy!X16","v":{"v":3610,"d":"3,610"}},{"$f":"'The Netherlands'!X16","v":{"v":3451,"d":"3,451"}},{"$f":"Belgium!X16","v":{"v":1244,"d":"1,244"}},{"$f":"UK!X16","v":{"v":4869,"d":"4,869"}},{"$f":"Ireland!X16","v":{"v":2102,"d":"2,102"}},{"$f":"Denmark!X16","v":871},{"$f":"Spain!X16","v":{"v":6816,"d":"6,816"}},{"$f":"Portugal!X16","v":720},{"$f":"Austria!X16","v":452},{"$f":"Sweden!X16","v":850},{"$f":"Finland!X16","v":642},{"$f":"SUM(C13:O13)","v":{"v":37132,"d":"37,132"}}]
["engrais/fattening/Mast  ",null,{"$f":"Germany!X17","v":338},{"$f":"France!X17","v":{"v":1320,"d":"1,320"}},{"$f":"Italy!X17","v":825},{"$f":"'The Netherlands'!X17","v":432},{"$f":"Belgium!X17","v":371},{"$f":"UK!X17","v":{"v":1263,"d":"1,263"}},{"$f":"Ireland!X17","v":890},":",":",{"$f":"Portugal!X17","v":265},{"$f":"Austria!X17","v":0},":",":",":"]
["VL/dairy cow/Milchkühe",null,{"$f":"Germany!X18","v":{"v":5855,"d":"5,855"}},{"$f":"France!X18","v":{"v":3100,"d":"3,100"}},{"$f":"Italy!X18","v":{"v":2690,"d":"2,690"}},{"$f":"'The Netherlands'!X18","v":{"v":2943,"d":"2,943"}},{"$f":"Belgium!X18","v":626},{"$f":"UK!X18","v":{"v":3322,"d":"3,322"}},{"$f":"Ireland!X18","v":{"v":1047,"d":"1,047"}},{"$f":"Denmark!X18","v":640},":",{"$f":"Portugal!X18","v":390},{"$f":"Austria!X18","v":0},":",{"$f":"Finland!X18","v":574},":"]
["veaux (aliments d'allaitement non compris)/calves ",null,{"$f":"Germany!X19","v":0},{"$f":"France!X19","v":0},{"$f":"Italy!X19","v":0},{"$f":"'The Netherlands'!X19","v":0},{"$f":"Belgium!X19","v":102},{"$f":"UK!X19","v":217},{"$f":"Ireland!X19","v":128},{"$f":"Denmark!X19","v":231},":",{"$f":"Portugal!X19","v":27},{"$f":"Austria!X19","v":0},":",{"$f":"Finland!X19","v":45},":"]
["(excluding milk replacers)/Kälber (exkl. Milchaustauscher)"]
["autres/others/Andere",null,{"$f":"Germany!X20","v":164},{"$f":"France!X20","v":728},{"$f":"Italy!X20","v":95},{"$f":"'The Netherlands'!X20","v":76},{"$f":"Belgium!X20","v":145},{"$f":"UK!X20","v":67},{"$f":"Ireland!X20","v":37},{"$f":"Denmark!X20","v":0},":",{"$f":"Portugal!X20","v":38},{"$f":"Austria!X20","v":0},":",{"$f":"Finland!X20","v":23},":"]
[]
[]
["Porcins/Pigs/Suini/Schweine",null,{"$f":"Germany!X23","v":{"v":9966,"d":"9,966"}},{"$f":"France!X23","v":{"v":5642,"d":"5,642"}},{"$f":"Italy!X23","v":{"v":3470,"d":"3,470"}},{"$f":"'The Netherlands'!X23","v":{"v":5734,"d":"5,734"}},{"$f":"Belgium!X23","v":{"v":3653,"d":"3,653"}},{"$f":"UK!X23","v":{"v":1654,"d":"1,654"}},{"$f":"Ireland!X23","v":650},{"$f":"Denmark!X23","v":{"v":2677,"d":"2,677"}},{"$f":"Spain!X23","v":{"v":8732,"d":"8,732"}},{"$f":"Portugal!X23","v":890},{"$f":"Austria!X23","v":274},{"$f":"Sweden!X23","v":350},{"$f":"Finland!X23","v":318},{"$f":"SUM(C21:O21)","v":{"v":44010,"d":"44,010"}}]
["porcelets/piglets/Ferkel",null,{"$f":"Germany!X24","v":{"v":1895,"d":"1,895"}},{"$f":"France!X24","v":701},{"$f":"Italy!X24","v":0},{"$f":"'The Netherlands'!X24","v":733},{"$f":"Belgium!X24","v":844},{"$f":"UK!X24","v":83},{"$f":"Ireland!X24","v":120},{"$f":"Denmark!X24","v":589},":",{"$f":"Portugal!X24","v":115},{"$f":"Austria!X24","v":0},":",{"$f":"Finland!X24","v":71},":"]
["porcs engrais/pigs for fattening/Mastschweine",null,{"$f":"Germany!X25","v":{"v":6301,"d":"6,301"}},{"$f":"France!X25","v":{"v":3996,"d":"3,996"}},{"$f":"Italy!X25","v":0},{"$f":"'The Netherlands'!X25","v":{"v":3668,"d":"3,668"}},{"$f":"Belgium!X25","v":{"v":2809,"d":"2,809"}},{"$f":"UK!X25","v":{"v":1117,"d":"1,117"}},{"$f":"Ireland!X25","v":345},{"$f":"Denmark!X25","v":{"v":1513,"d":"1,513"}},":",{"$f":"Portugal!X25","v":595},{"$f":"Austria!X25","v":0},":",{"$f":"Finland!X25","v":148},":"]
["reproducteurs/breeding pigs/Zuchtschweine",null,{"$f":"Germany!X26","v":{"v":1340,"d":"1,340"}},{"$f":"France!X26","v":945},{"$f":"Italy!X26","v":0},{"$f":"'The Netherlands'!X26","v":{"v":1333,"d":"1,333"}},{"$f":"Belgium!X26","v":0},{"$f":"UK!X26","v":442},{"$f":"Ireland!X26","v":110},{"$f":"Denmark!X26","v":575},":",{"$f":"Portugal!X26","v":160},{"$f":"Austria!X26","v":0},":",{"$f":"Finland!X26","v":53},":"]
["autres/others/Andere",null,{"$f":"Germany!X27","v":430},{"$f":"France!X27","v":0},{"$f":"Italy!X27","v":0},{"$f":"'The Netherlands'!X27","v":0},{"$f":"Belgium!X27","v":0},{"$f":"UK!X27","v":12},{"$f":"Ireland!X27","v":75},{"$f":"Denmark!X27","v":0},":",{"$f":"Portugal!X27","v":20},{"$f":"Austria!X27","v":0},":",{"$f":"Finland!X27","v":46},":"]
[{"$nulls":4}," "]
[]
["Volaille/Poultry/Volatili/Geflügel",null,{"$f":"Germany!X30","v":{"v":5820,"d":"5,820"}},{"$f":"France!X30","v":{"v":8630,"d":"8,630"}},{"$f":"Italy!X30","v":{"v":5690,"d":"5,690"}},{"$f":"'The Netherlands'!X30","v":{"v":3801,"d":"3,801"}},{"$f":"Belgium!X30","v":{"v":1365,"d":"1,365"}},{"$f":"UK!X30","v":{"v":6468,"d":"6,468"}},{"$f":"Ireland!X30","v":477},{"$f":"Denmark!X30","v":545},{"$f":"Spain!X30","v":{"v":4442,"d":"4,442"}},{"$f":"Portugal!X30","v":{"v":1420,"d":"1,420"}},{"$f":"Austria!X30","v":493},{"$f":"Sweden!X30","v":550},{"$f":"Finland!X30","v":296},{"$f":"SUM(C28:O28)","v":{"v":39997,"d":"39,997"}}]
["broilers",null,{"$f":"Germany!X31","v":{"v":2392,"d":"2,392"}},{"$f":"France!X31","v":{"v":3355,"d":"3,355"}},{"$f":"Italy!X31","v":{"v":2730,"d":"2,730"}},{"$f":"'The Netherlands'!X31","v":{"v":1759,"d":"1,759"}},{"$f":"Belgium!X31","v":614},{"$f":"UK!X31","v":{"v":3678,"d":"3,678"}},":",{"$f":"Denmark!X31","v":155},":",{"$f":"Portugal!X31","v":850},{"$f":"Austria!X31","v":0},":",{"$f":"Finland!X31","v":205},":"]
["poulettes & pondeuses/chicks & layers/Jung- & Legehennen",null,{"$f":"Germany!X32","v":{"v":2060,"d":"2,060"}},{"$f":"France!X32","v":{"v":2178,"d":"2,178"}},{"$f":"Italy!X32","v":{"v":1868,"d":"1,868"}},{"$f":"'The Netherlands'!X32","v":{"v":2042,"d":"2,042"}},{"$f":"Belgium!X32","v":509},{"$f":"UK!X32","v":{"v":1553,"d":"1,553"}},":",{"$f":"Denmark!X32","v":324},":",{"$f":"Portugal!X32","v":410},{"$f":"Austria!X32","v":0},":",{"$f":"Finland!X32","v":66},":"]
["autres/others/Andere",null,{"$f":"Germany!X33","v":{"v":1368,"d":"1,368"}},{"$f":"France!X33","v":{"v":3097,"d":"3,097"}},{"$f":"Italy!X33","v":{"v":1092,"d":"1,092"}},{"$f":"'The Netherlands'!X33","v":0},{"$f":"Belgium!X33","v":242},{"$f":"UK!X33","v":{"v":1237,"d":"1,237"}},":",{"$f":"Denmark!X33","v":66},":",{"$f":"Portugal!X33","v":160},{"$f":"Austria!X33","v":0},":",{"$f":"Finland!X33","v":25},":"]
[]
[]
["Al. d'allait./Milk replacers/Sostit. del latte/Milchaust.",null,{"$f":"Germany!X36","v":152},{"$f":"France!X36","v":357},{"$f":"Italy!X36","v":145},{"$f":"'The Netherlands'!X36","v":652},{"$f":"Belgium!X36","v":39},{"$f":"UK!X36","v":1},{"$f":"Ireland!X36","v":0},{"$f":"Denmark!X36","v":0},{"$f":"Spain!X36","v":0},{"$f":"Portugal!X36","v":0},{"$f":"Austria!X36","v":0},{"$f":"Sweden!X36","v":1},{"$f":"Finland!X36","v":0},{"$f":"SUM(C34:O34)","v":{"v":1347,"d":"1,347"}}]
[]
[{"$nulls":4}," "]
["Autres/others/altri/Andere",null,{"$f":"Germany!X39","v":724},{"$f":"France!X39","v":{"v":1517,"d":"1,517"}},{"$f":"Italy!X39","v":988},{"$f":"'The Netherlands'!X39","v":435},{"$f":"Belgium!X39","v":159},{"$f":"UK!X39","v":{"v":1426,"d":"1,426"}},{"$f":"Ireland!X39","v":266},{"$f":"Denmark!X39","v":174},{"$f":"Spain!X39","v":158},{"$f":"Portugal!X39","v":205},{"$f":"Austria!X39","v":111},{"$f":"Sweden!X39","v":85},{"$f":"Finland!X39","v":94},{"$f":"SUM(C37:O37)","v":{"v":6342,"d":"6,342"}}]
[]
[]
["TOTAL",null,{"$f":"C37+C34+C28+C21+C13","v":{"v":23019,"d":"23,019"}},{"v":21294,"d":"21,294"},{"v":13903,"d":"13,903"},{"v":14073,"d":"14,073"},{"v":6460,"d":"6,460"},{"v":14418,"d":"14,418"},{"v":3495,"d":"3,495"},{"v":4267,"d":"4,267"},{"v":20148,"d":"20,148"},{"v":3235,"d":"3,235"},{"v":1330,"d":"1,330"},{"v":1836,"d":"1,836"},{"v":1350,"d":"1,350"},{"v":128828,"d":"128,828"}]
[{"$nulls":5}," "]
[]
["* Sans le Luxembourg et la Grèce/ohne Luxemburg und Griechenland/Without Luxemburg and Greece/Senza Lussemburgo e Ella"]
[": non disponible/not available/nicht verfügbar"]
{"$rows_empty":9}
["2013-12-23"]
[]
["PRODUCTION INDUSTRIELLE D'ALIMENTS COMPOSES ",{"$nulls":14},"INDUSTRIELLE  MISCHFUTTERPRODUKTION"]
["PRODUZIONE INDUSTRIALE DI MANGIMI COMPOSTI",{"$nulls":14},"INDUSTRIAL COMPOUND PRODUCTION"]
[2011]
["definitif/final"]
[{"$nulls":12},"(1 000 t)"]
[]
["Catégories d'aliments composés/Mischfutterarten",null,"CY","CZ","EE","HU","LV","LT","PL","SK","SI","BU","RO","EU-12","EU-27"]
["Tipi di mangimi compositi/Types of feed",{"$nulls":12},"**","***"]
[]
[null,null," ",{"$nulls":4}," ",null," "]
["Bovins/Cattle/Bovini/Rinder",null,{"$f":"Cyprus!X16","v":120},{"$f":"'Czech Rep'!X16","v":448},{"$f":"Estonia!X16","v":40},{"$f":"Hungary!X16","v":530},{"$f":"Latvia!X16","v":52},{"$f":"Lithuania!X16","v":48},{"$f":"Poland!X16","v":889},{"$f":"Slovakia!X16","v":198},{"$f":"Slovenia!X16","v":98},{"$f":"Bulgaria!X16","v":94},{"$f":"Romania!X17","v":155},{"$f":"SUM(C66:M66)","v":{"v":2672,"d":"2,672"}},{"$f":"P13+N66","v":{"v":39804,"d":"39,804"}}]
["engrais/fattening/Mast  ",null,{"$f":"Cyprus!X17","v":18},{"$f":"'Czech Rep'!X17","v":0},{"$f":"Estonia!X17","v":":"},{"$f":"Hungary!X17","v":0},{"$f":"Latvia!X17","v":0},{"$f":"Lithuania!X17","v":3},{"$f":"Poland!X17","v":0},{"$f":"Slovakia!X17","v":12},":",":",":",":",":"]
["VL/dairy cow/Milchkühe",null,{"$f":"Cyprus!X18","v":90},{"$f":"'Czech Rep'!X18","v":0},{"$f":"Estonia!X18","v":":"},{"$f":"Hungary!X18","v":0},{"$f":"Latvia!X18","v":0},{"$f":"Lithuania!X18","v":42},{"$f":"Poland!X18","v":0},{"$f":"Slovakia!X18","v":150},":",":",":",":",":"]
["veaux (aliments d'allaitement non compris)/calves ",null,{"$f":"Cyprus!X19","v":12},{"$f":"'Czech Rep'!X19","v":0},{"$f":"Estonia!X19","v":":"},{"$f":"Hungary!X19","v":0},{"$f":"Latvia!X19","v":0},{"$f":"Lithuania!X19","v":2},{"$f":"Poland!X19","v":0},{"$f":"Slovakia!X19","v":16},":",":",":",":",":"]
["(excluding milk replacers)/Kälber (exkl. Milchaustauscher)"]
["autres/others/Andere",null,{"$f":"Cyprus!X20","v":0},{"$f":"'Czech Rep'!X20","v":0},{"$f":"Estonia!X20","v":":"},{"$f":"Hungary!X20","v":0},{"$f":"Latvia!X20","v":0},{"$f":"Lithuania!X20","v":1},{"$f":"Poland!X20","v":0},{"$f":"Slovakia!X20","v":20},":",":",":",":",":"]
[]
[]
["Porcins/Pigs/Suini/Schweine",null,{"$f":"Cyprus!X23","v":50},{"$f":"'Czech Rep'!X23","v":795},{"$f":"Estonia!X23","v":140},{"$f":"Hungary!X23","v":{"v":1410,"d":"1,410"}},{"$f":"Latvia!X23","v":90},{"$f":"Lithuania!X23","v":78},{"$f":"Poland!X23","v":{"v":1752,"d":"1,752"}},{"$f":"Slovakia!X23","v":204},{"$f":"Slovenia!X23","v":74},{"$f":"Bulgaria!X23","v":240},{"$f":"Romania!X24","v":{"v":1520,"d":"1,520"}},{"$f":"SUM(C74:M74)","v":{"v":6353,"d":"6,353"}},{"$f":"P21+N74","v":{"v":50363,"d":"50,363"}}]
["porcelets/piglets/Ferkel",null,{"$f":"Cyprus!X24","v":3},{"$f":"'Czech Rep'!X24","v":0},{"$f":"Estonia!X24","v":":"},{"$f":"Hungary!X24","v":0},{"$f":"Latvia!X24","v":0},{"$f":"Lithuania!X24","v":11},{"$f":"Poland!X24","v":0},{"$f":"Slovakia!X24","v":17},":",":",":",":",":"]
["porcs engrais/pigs for fattening/Mastschweine",null,{"$f":"Cyprus!X25","v":34},{"$f":"'Czech Rep'!X25","v":0},{"$f":"Estonia!X25","v":":"},{"$f":"Hungary!X25","v":0},{"$f":"Latvia!X25","v":0},{"$f":"Lithuania!X25","v":60},{"$f":"Poland!X25","v":0},{"$f":"Slovakia!X25","v":151},":",":",":",":",":"]
["reproducteurs/breeding pigs/Zuchtschweine",null,{"$f":"Cyprus!X26","v":13},{"$f":"'Czech Rep'!X26","v":0},{"$f":"Estonia!X26","v":":"},{"$f":"Hungary!X26","v":0},{"$f":"Latvia!X26","v":0},{"$f":"Lithuania!X26","v":3},{"$f":"Poland!X26","v":0},{"$f":"Slovakia!X26","v":26},":",":",":",":",":"]
["autres/others/Andere",null,{"$f":"Cyprus!X27","v":0},{"$f":"'Czech Rep'!X27","v":0},{"$f":"Estonia!X27","v":":"},{"$f":"Hungary!X27","v":0},{"$f":"Latvia!X27","v":0},{"$f":"Lithuania!X27","v":4},{"$f":"Poland!X27","v":0},{"$f":"Slovakia!X27","v":10},":",":",":",":",":"]
[{"$nulls":4}," "]
[]
["Volaille/Poultry/Volatili/Geflügel",null,{"$f":"Cyprus!X30","v":54},{"$f":"'Czech Rep'!X30","v":887},{"$f":"Estonia!X30","v":48},{"$f":"Hungary!X30","v":{"v":1660,"d":"1,660"}},{"$f":"Latvia!X30","v":169},{"$f":"Lithuania!X30","v":284},{"$f":"Poland!X30","v":{"v":4774,"d":"4,774"}},{"$f":"Slovakia!X30","v":226},{"$f":"Slovenia!X30","v":226},{"$f":"Bulgaria!X30","v":590},{"$f":"Romania!X31","v":{"v":1660,"d":"1,660"}},{"$f":"SUM(C81:M81)","v":{"v":10578,"d":"10,578"}},{"$f":"P28+N81","v":{"v":50575,"d":"50,575"}}]
["broilers",null,{"$f":"Cyprus!X31","v":38},{"$f":"'Czech Rep'!X31","v":0},{"$f":"Estonia!X31","v":":"},{"$f":"Hungary!X31","v":0},{"$f":"Latvia!X31","v":0},{"$f":"Lithuania!X31","v":195},{"$f":"Poland!X31","v":0},{"$f":"Slovakia!X31","v":107},":",":",":",":",":"]
["poulettes & pondeuses/chicks & layers/Jung- & Legehennen",null,{"$f":"Cyprus!X32","v":14},{"$f":"'Czech Rep'!X32","v":0},{"$f":"Estonia!X32","v":":"},{"$f":"Hungary!X32","v":0},{"$f":"Latvia!X32","v":0},{"$f":"Lithuania!X32","v":73},{"$f":"Poland!X32","v":0},{"$f":"Slovakia!X32","v":105},":",":",":",":",":"]
["autres/others/Andere",null,{"$f":"Cyprus!X33","v":2},{"$f":"'Czech Rep'!X33","v":0},{"$f":"Estonia!X33","v":":"},{"$f":"Hungary!X33","v":0},{"$f":"Latvia!X33","v":0},{"$f":"Lithuania!X33","v":16},{"$f":"Poland!X33","v":0},{"$f":"Slovakia!X33","v":14},":",":",":",":",":"]
[]
[]
["Al. d'allait./Milk replacers/Sostit. del latte/Milchaust.",null,{"$f":"Cyprus!X36","v":1},{"$f":"'Czech Rep'!X36","v":4},{"$f":"Estonia!X36","v":0},{"$f":"Hungary!X36","v":0},{"$f":"Latvia!X36","v":0},{"$f":"Lithuania!X36","v":2},{"$f":"Poland!X36","v":0},{"$f":"Slovakia!X36","v":0},{"$f":"Slovenia!X36","v":0},{"$f":"Bulgaria!X36","v":0},{"$f":"Romania!X37","v":0},{"$f":"SUM(C87:M87)","v":7},{"$f":"P34+N87","v":{"v":1354,"d":"1,354"}}]
[]
[{"$nulls":4}," "]
["Autres/others/altri/Andere",null,{"$f":"Cyprus!X39","v":100},{"$f":"'Czech Rep'!X39","v":75},{"$f":"Estonia!X39","v":2},{"$f":"Hungary!X39","v":180},{"$f":"Latvia!X39","v":28},{"$f":"Lithuania!X39","v":10},{"$f":"Poland!X39","v":323},{"$f":"Slovakia!X39","v":12},{"$f":"Slovenia!X39","v":11},{"$f":"Bulgaria!X39","v":24},{"$f":"Romania!X40","v":0},{"$f":"SUM(C90:M90)","v":765},{"$f":"P37+N90","v":{"v":7107,"d":"7,107"}}]
[]
[]
["TOTAL",null,{"$f":"C90+C87+C81+C74+C66","v":325},{"v":2209,"d":"2,209"},230,{"v":3780,"d":"3,780"},339,422,{"v":7738,"d":"7,738"},640,409,948,{"v":3335,"d":"3,335"},{"v":20375,"d":"20,375"},{"v":149203,"d":"149,203"}]
[{"$nulls":5}," "]
[]
["** Sans Malte/Ohne Maltas/Without Malta/Senza Malta"]
["*** Sans le Luxembourg, la Grèce et Malte/Ohne Luxemburg, Griechenland und Maltas/Without Luxemburg, Greece and Malta/Senza Lussemburgo, Ellas e Malta"]
[": non disponible/not available/nicht verfügbar"]

{"sheet":"2011-12","index":45,"n_rows":43,"n_cols":24,"rows_kept":43}
["2014-05-09"]
[]
["PRODUCTION INDUSTRIELLE D'ALIMENTS COMPOSES",{"$nulls":22},"INDUSTRIELLE  MISCHFUTTERPRODUKTION"]
["PRODUZIONE INDUSTRIALE DI MANGIMI COMPOSTI",{"$nulls":11},"2011-2012",{"$nulls":10},"INDUSTRIAL COMPOUND PRODUCTION"]
[{"$nulls":12},"definitif/final",{"$nulls":10},"(1 000 t )"]
[]
[]
[]
["PAYS",null,"      BOVINS/RINDER",{"$nulls":3},"    PORCS/SCHWEINE",{"$nulls":3},"     VOLAILLE/GEFLÜGEL",null,"      A. ALLAITEMENT/MILCHAUST.",{"$nulls":5},"     AUTRES/ANDERE",null,null,"       TOTAL/INSGESAMT"]
["LAND",null,"      BOVINI/CATTLE",{"$nulls":3},"    SUINI/PIGS",{"$nulls":3},"     VOLATILI/POULTRY",null,"  SOSTIT. DEL LATTE/MILKREPLACERS",{"$nulls":5},"ALTRI ANIMALI/OTHERS",null,null,"          TOTALE/TOTAL"]
["PAESE"]
["COUNTRY",2011,2012,"%TAV",null,2011,2012,"%TAV",null,2011,2012,"%TAV",null,2011,2012,"%TAV",null,2011,2012,"%TAV",null,2011,2012,"%TAV"]
[]
["DE",{"$f":"Germany!X$16","v":{"v":6357,"d":"6,357"}},{"$f":"Germany!Y$16","v":{"v":6724,"d":"6,724"}},{"$f":"((C14/B14)-1)*100","v":{"v":5.7731634418751065,"d":"5.8"}},null,{"$f":"Germany!X$23","v":{"v":9966,"d":"9,966"}},{"$f":"Germany!Y$23","v":{"v":9721,"d":"9,721"}},{"$f":"((G14/F14)-1)*100","v":{"v":-2.4583584186233187,"d":"-2.5"}},null,{"$f":"Germany!X$30","v":{"v":5820,"d":"5,820"}},{"$f":"Germany!Y$30","v":{"v":6110,"d":"6,110"}},{"$f":"((K14/J14)-1)*100","v":{"v":4.982817869415812,"d":"5.0"}},null,{"$f":"Germany!X$36","v":152},{"$f":"Germany!Y$36","v":150},{"$f":"((O14/N14)-1)*100","v":{"v":-1.3157894736842146,"d":"-1.3"}},null,{"$f":"Germany!X$39","v":724},{"$f":"Germany!Y$39","v":732},{"$f":"((S14/R14)-1)*100","v":{"v":1.104972375690605,"d":"1.1"}},null,{"$f":"R14+N14+J14+F14+B14","v":{"v":23019,"d":"23,019"}},{"v":23437,"d":"23,437"},{"$f":"((W14/V14)-1)*100","v":{"v":1.815891220296284,"d":"1.8"}}]
["FR",{"$f":"France!X$16","v":{"v":5148,"d":"5,148"}},{"$f":"France!Y$16","v":{"v":5236,"d":"5,236"}},{"v":1.7094017094017033,"d":"1.7"},null,{"$f":"France!X$23","v":{"v":5642,"d":"5,642"}},{"$f":"France!Y$23","v":{"v":5516,"d":"5,516"}},{"v":-2.2332506203473934,"d":"-2.2"},null,{"$f":"France!X$30","v":{"v":8630,"d":"8,630"}},{"$f":"France!Y$30","v":{"v":8606,"d":"8,606"}},{"v":-0.2780996523754298,"d":"-0.3"},null,{"$f":"France!X36","v":357},{"$f":"France!Y36","v":363},{"v":1.680672268907557,"d":"1.7"},null,{"$f":"France!X$39","v":{"v":1517,"d":"1,517"}},{"$f":"France!Y$39","v":{"v":1490,"d":"1,490"}},{"v":-1.7798286090969007,"d":"-1.8"},null,{"$f":"R15+N15+J15+F15+B15","v":{"v":21294,"d":"21,294"}},{"v":21211,"d":"21,211"},{"v":-0.389781159011926,"d":"-0.4"}]
["IT",{"$f":"Italy!X$16","v":{"v":3610,"d":"3,610"}},{"$f":"Italy!Y$16","v":{"v":3420,"d":"3,420"}},{"v":-5.263157894736848,"d":"-5.3"},null,{"$f":"Italy!X$23","v":{"v":3470,"d":"3,470"}},{"$f":"Italy!Y$23","v":{"v":3310,"d":"3,310"}},{"v":-4.610951008645536,"d":"-4.6"},null,{"$f":"Italy!X$30","v":{"v":5690,"d":"5,690"}},{"$f":"Italy!Y$30","v":{"v":5700,"d":"5,700"}},{"v":0.17574692442883233,"d":"0.2"},null,{"$f":"Italy!X$36","v":145},{"$f":"Italy!Y$36","v":135},{"v":-6.896551724137934,"d":"-6.9"},null,{"$f":"+Italy!X$39","v":988},{"$f":"+Italy!Y$39","v":937},{"v":-5.161943319838058,"d":"-5.2"},null,{"$f":"R16+N16+J16+F16+B16","v":{"v":13903,"d":"13,903"}},{"v":13502,"d":"13,502"},{"v":-2.8842695821045816,"d":"-2.9"}]
["NL   ",{"$f":"'The Netherlands'!X$16","v":{"v":3451,"d":"3,451"}},{"$f":"'The Netherlands'!Y$16","v":{"v":3543,"d":"3,543"}},{"v":2.665893943784403,"d":"2.7"},null,{"$f":"'The Netherlands'!X$23","v":{"v":5734,"d":"5,734"}},{"$f":"'The Netherlands'!Y$23","v":{"v":5451,"d":"5,451"}},{"v":-4.935472619462855,"d":"-4.9"},null,{"$f":"'The Netherlands'!X$30","v":{"v":3801,"d":"3,801"}},{"$f":"'The Netherlands'!Y$30","v":{"v":3802,"d":"3,802"}},{"v":0.026308866087876304,"d":"0.0"},null,{"$f":"'The Netherlands'!X$36","v":652},{"$f":"'The Netherlands'!Y$36","v":616},{"v":-5.521472392638039,"d":"-5.5"},null,{"$f":"'The Netherlands'!X$39","v":435},{"$f":"'The Netherlands'!Y$39","v":429},{"v":-1.379310344827589,"d":"-1.4"},null,{"$f":"R17+N17+J17+F17+B17","v":{"v":14073,"d":"14,073"}},{"v":13841,"d":"13,841"},{"v":-1.6485468627868927,"d":"-1.6"}]
["BE",{"$f":"Belgium!X$16","v":{"v":1244,"d":"1,244"}},{"$f":"Belgium!Y$16","v":{"v":1253,"d":"1,253"}},{"v":0.7234726688102988,"d":"0.7"},null,{"$f":"Belgium!X$23","v":{"v":3653,"d":"3,653"}},{"$f":"Belgium!Y$23","v":{"v":3682,"d":"3,682"}},{"v":0.793868053654534,"d":"0.8"},null,{"$f":"Belgium!X$30","v":{"v":1365,"d":"1,365"}},{"$f":"Belgium!Y$30","v":{"v":1392,"d":"1,392"}},{"v":1.978021978021971,"d":"2.0"},null,{"$f":"Belgium!X$36","v":39},{"$f":"Belgium!Y$36","v":38},{"v":-2.564102564102566,"d":"-2.6"},null,{"$f":"Belgium!X$39","v":159},{"$f":"Belgium!Y$39","v":182},{"v":14.465408805031444,"d":"14.5"},null,{"$f":"R18+N18+J18+F18+B18","v":{"v":6460,"d":"6,460"}},{"v":6547,"d":"6,547"},{"v":1.3467492260061942,"d":"1.3"}]
["UK ",{"$f":"UK!X$16","v":{"v":4869,"d":"4,869"}},{"$f":"UK!Y$16","v":{"v":5212,"d":"5,212"}},{"v":7.044567673033475,"d":"7.0"},null,{"$f":"UK!X$23","v":{"v":1654,"d":"1,654"}},{"$f":"UK!Y$23","v":{"v":1858,"d":"1,858"}},{"v":12.33373639661426,"d":"12.3"},null,{"$f":"UK!X$30","v":{"v":6468,"d":"6,468"}},{"$f":"UK!Y$30","v":{"v":6606,"d":"6,606"}},{"v":2.133580705009286,"d":"2.1"},null,{"$f":"UK!X$36","v":1},{"$f":"UK!Y$36","v":2},{"v":100,"d":"100.0"},null,{"$f":"UK!X$39","v":{"v":1426,"d":"1,426"}},{"$f":"UK!Y$39","v":{"v":1468,"d":"1,468"}},{"v":2.94530154277699,"d":"2.9"},null,{"$f":"R19+N19+J19+F19+B19","v":{"v":14418,"d":"14,418"}},{"v":15146,"d":"15,146"},{"v":5.049244000554864,"d":"5.0"}]
["IE",{"$f":"Ireland!X$16","v":{"v":2102,"d":"2,102"}},{"$f":"Ireland!Y$16","v":{"v":2555,"d":"2,555"}},{"v":21.550903901046613,"d":"21.6"},null,{"$f":"Ireland!X$23","v":650},{"$f":"Ireland!Y$23","v":701},{"v":7.846153846153836,"d":"7.8"},null,{"$f":"Ireland!X$30","v":477},{"$f":"Ireland!Y$30","v":501},{"v":5.031446540880502,"d":"5.0"},null,{"$f":"Ireland!X$36","v":0},{"$f":"Ireland!Y$36","v":0},{"v":0,"d":"0.0"},null,{"$f":"Ireland!X$39","v":266},{"$f":"Ireland!Y$39","v":368},{"v":38.345864661654126,"d":"38.3"},null,{"$f":"R20+N20+J20+F20+B20","v":{"v":3495,"d":"3,495"}},{"v":4125,"d":"4,125"},{"v":18.025751072961384,"d":"18.0"}]
["DK ",{"$f":"Denmark!X$16","v":871},{"$f":"Denmark!Y$16","v":918},{"v":5.396096440872555,"d":"5.4"},null,{"$f":"Denmark!X$23","v":{"v":2677,"d":"2,677"}},{"$f":"Denmark!Y$23","v":{"v":2649,"d":"2,649"}},{"v":-1.04594695554725,"d":"-1.0"},null,{"$f":"Denmark!X$30","v":545},{"$f":"Denmark!Y$30","v":548},{"v":0.5504587155963359,"d":"0.6"},null,{"$f":"Denmark!X$36","v":0},{"$f":"Denmark!Y$36","v":0},{"v":0,"d":"0.0"},null,{"$f":"Denmark!X$39","v":174},{"$f":"Denmark!Y$39","v":170},{"v":-2.298850574712641,"d":"-2.3"},null,{"$f":"R21+N21+J21+F21+B21","v":{"v":4267,"d":"4,267"}},{"v":4285,"d":"4,285"},{"v":0.42184204359034805,"d":"0.4"}]
["ES",{"$f":"Spain!X$16","v":{"v":6816,"d":"6,816"}},{"$f":"Spain!Y$16","v":{"v":7060,"d":"7,060"}},{"v":3.5798122065727744,"d":"3.6"},null,{"$f":"Spain!X$23","v":{"v":8732,"d":"8,732"}},{"$f":"Spain!Y$23","v":{"v":8758,"d":"8,758"}},{"v":0.2977553825011414,"d":"0.3"},null,{"$f":"Spain!X$30","v":{"v":4442,"d":"4,442"}},{"$f":"Spain!Y$30","v":{"v":4409,"d":"4,409"}},{"v":-0.7429085997298523,"d":"-0.7"},null,{"$f":"Spain!X$36","v":0},{"$f":"Spain!Y$36","v":0},{"v":0,"d":"0.0"},null,{"$f":"Spain!X$39","v":158},{"$f":"Spain!Y$39","v":134},{"v":-15.189873417721522,"d":"-15.2"},null,{"$f":"R22+N22+J22+F22+B22","v":{"v":20148,"d":"20,148"}},{"v":20361,"d":"20,361"},{"v":1.0571768910065504,"d":"1.1"}]
["PT",{"$f":"Portugal!X$16","v":720},{"$f":"Portugal!Y$16","v":710},{"v":-1.388888888888884,"d":"-1.4"},null,{"$f":"Portugal!X$23","v":890},{"$f":"Portugal!Y$23","v":870},{"v":-2.2471910112359605,"d":"-2.2"},null,{"$f":"Portugal!X$30","v":{"v":1420,"d":"1,420"}},{"$f":"Portugal!Y$30","v":{"v":1410,"d":"1,410"}},{"v":-0.7042253521126751,"d":"-0.7"},null,{"$f":"Portugal!X$36","v":0},{"$f":"Portugal!Y$36","v":0},{"v":0,"d":"0.0"},null,{"$f":"Portugal!X$39","v":205},{"$f":"Portugal!Y$39","v":210},{"v":2.4390243902439046,"d":"2.4"},null,{"$f":"R23+N23+J23+F23+B23","v":{"v":3235,"d":"3,235"}},{"v":3200,"d":"3,200"},{"v":-1.081916537867078,"d":"-1.1"}]
["AT",{"$f":"Austria!X$16","v":452},{"$f":"Austria!Y$16","v":472},{"v":4.424778761061954,"d":"4.4"},null,{"$f":"Austria!X$23","v":274},{"$f":"Austria!Y$23","v":274},{"v":0,"d":"0.0"},null,{"$f":"Austria!X$30","v":493},{"$f":"Austria!Y$30","v":504},{"v":2.2312373225152227,"d":"2.2"},null,{"$f":"Austria!X$36","v":0},{"$f":"Austria!Y$36","v":0},{"v":0,"d":"0.0"},null,{"$f":"Austria!X$39","v":111},{"$f":"Austria!Y$39","v":120},{"v":8.108108108108114,"d":"8.1"},null,{"$f":"R24+N24+J24+F24+B24","v":{"v":1330,"d":"1,330"}},{"v":1370,"d":"1,370"},{"v":3.007518796992481,"d":"3.0"}]
["SE",{"$f":"Sweden!X$16","v":850},{"$f":"Sweden!Y$16","v":932},{"v":9.64705882352941,"d":"9.6"},null,{"$f":"Sweden!X$23","v":350},{"$f":"Sweden!Y$23","v":312},{"v":-10.857142857142854,"d":"-10.9"},null,{"$f":"Sweden!X$30","v":550},{"$f":"Sweden!Y$30","v":554},{"v":0.727272727272732,"d":"0.7"},null,{"$f":"Sweden!X$36","v":1},{"$f":"Sweden!Y$36","v":2},{"$f":"((O25/N25)-1)*100","v":{"v":100,"d":"100.0"}},null,{"$f":"Sweden!X$39","v":85},{"$f":"Sweden!Y$39","v":86},{"v":1.17647058823529,"d":"1.2"},null,{"$f":"R25+N25+J25+F25+B25","v":{"v":1836,"d":"1,836"}},{"v":1886,"d":"1,886"},{"v":2.7233115468409563,"d":"2.7"}]
["FI",{"$f":"Finland!X$16","v":642},{"$f":"Finland!Y$16","v":662},{"v":3.1152647975077885,"d":"3.1"},null,{"$f":"Finland!X$23","v":318},{"$f":"Finland!Y$23","v":309},{"v":-2.8301886792452824,"d":"-2.8"},null,{"$f":"Finland!X$30","v":296},{"$f":"Finland!Y$30","v":317},{"v":7.094594594594605,"d":"7.1"},null,{"$f":"Finland!X$36","v":0},{"$f":"Finland!Y$36","v":0},{"v":0,"d":"0.0"},null,{"$f":"Finland!X$39","v":94},{"$f":"Finland!Y$39","v":109},{"v":15.957446808510634,"d":"16.0"},null,{"$f":"R26+N26+J26+F26+B26","v":{"v":1350,"d":"1,350"}},{"v":1397,"d":"1,397"},{"v":3.4814814814814854,"d":"3.5"}]
["CY",{"$f":"Cyprus!X$16","v":120},{"$f":"Cyprus!Y$16","v":117},{"v":-2.500000000000002,"d":"-2.5"},null,{"$f":"Cyprus!X$23","v":50},{"$f":"Cyprus!Y$23","v":45},{"v":-9.999999999999998,"d":"-10.0"},null,{"$f":"Cyprus!X$30","v":54},{"$f":"Cyprus!Y$30","v":52},{"v":-3.703703703703709,"d":"-3.7"},null,{"$f":"Cyprus!X$36","v":1},{"$f":"Cyprus!Y$36","v":1},{"v":0,"d":"0.0"},null,{"$f":"Cyprus!X$39","v":100},{"$f":"Cyprus!Y$39","v":100},{"v":0,"d":"0.0"},null,{"$f":"R27+N27+J27+F27+B27","v":325},315,{"v":-3.076923076923077,"d":"-3.1"}]
["CZ",{"$f":"'Czech Rep'!X$16","v":448},{"$f":"'Czech Rep'!Y$16","v":427},{"v":-4.6875,"d":"-4.7"},null,{"$f":"'Czech Rep'!X$23","v":795},{"$f":"'Czech Rep'!Y$23","v":735},{"v":-7.547169811320753,"d":"-7.5"},null,{"$f":"'Czech Rep'!X$30","v":887},{"$f":"'Czech Rep'!Y$30","v":853},{"v":-3.833145434047347,"d":"-3.8"},null,{"$f":"'Czech Rep'!X$36","v":4},{"$f":"'Czech Rep'!Y$36","v":3},{"$f":"((O28/N28)-1)*100","v":{"v":-25,"d":"-25.0"}},null,{"$f":"'Czech Rep'!X$39","v":75},{"$f":"'Czech Rep'!Y$39","v":72},{"v":-4.0000000000000036,"d":"-4.0"},null,{"$f":"R28+N28+J28+F28+B28","v":{"v":2209,"d":"2,209"}},{"v":2090,"d":"2,090"},{"v":-5.387052965142603,"d":"-5.4"}]
["EE",{"$f":"Estonia!X$16","v":40},{"$f":"Estonia!Y$16","v":40},{"v":0,"d":"0.0"},null,{"$f":"Estonia!X$23","v":140},{"$f":"Estonia!Y$23","v":140},{"v":0,"d":"0.0"},null,{"$f":"Estonia!X$30","v":48},{"$f":"Estonia!Y$30","v":48},{"v":0,"d":"0.0"},null,{"$f":"Estonia!X$36","v":0},{"$f":"Estonia!Y$36","v":0},{"v":0,"d":"0.0"},null,{"$f":"Estonia!X$39","v":2},{"$f":"Estonia!Y$39","v":2},{"v":0,"d":"0.0"},null,{"$f":"R29+N29+J29+F29+B29","v":230},230,{"v":0,"d":"0.0"}]
["HU",{"$f":"Hungary!X$16","v":530},{"$f":"Hungary!Y$16","v":530},{"v":0,"d":"0.0"},null,{"$f":"Hungary!X$23","v":{"v":1410,"d":"1,410"}},{"$f":"Hungary!Y$23","v":{"v":1380,"d":"1,380"}},{"v":-2.127659574468088,"d":"-2.1"},null,{"$f":"Hungary!X$30","v":{"v":1660,"d":"1,660"}},{"$f":"Hungary!Y$30","v":{"v":1640,"d":"1,640"}},{"v":-1.2048192771084376,"d":"-1.2"},null,{"$f":"Hungary!X$36","v":0},{"$f":"Hungary!Y$36","v":0},{"v":0,"d":"0.0"},null,{"$f":"Hungary!X$39","v":180},{"$f":"Hungary!Y$39","v":170},{"v":-5.555555555555558,"d":"-5.6"},null,{"$f":"R30+J30+F30+B30","v":{"v":3780,"d":"3,780"}},{"v":3720,"d":"3,720"},{"v":-1.5873015873015928,"d":"-1.6"}]
["LV",{"$f":"Latvia!X$16","v":52},{"$f":"Latvia!Y$16","v":74},{"v":42.307692307692314,"d":"42.3"},null,{"$f":"Latvia!X$23","v":90},{"$f":"Latvia!Y$23","v":100},{"v":11.111111111111116,"d":"11.1"},null,{"$f":"Latvia!X$30","v":169},{"$f":"Latvia!Y$30","v":165},{"v":-2.3668639053254448,"d":"-2.4"},null,{"$f":"Latvia!X$36","v":0},{"$f":"Latvia!Y$36","v":0},{"v":0,"d":"0.0"},null,{"$f":"Latvia!X$39","v":28},{"$f":"Latvia!Y$39","v":22},{"v":-21.42857142857143,"d":"-21.4"},null,{"$f":"R31+N31+J31+F31+B31","v":339},361,{"v":6.4896755162241915,"d":"6.5"}]
["LT",{"$f":"Lithuania!X$16","v":48},{"$f":"Lithuania!Y$16","v":59},{"v":22.916666666666675,"d":"22.9"},null,{"$f":"Lithuania!X$23","v":78},{"$f":"Lithuania!Y$23","v":78},{"v":0,"d":"0.0"},null,{"$f":"Lithuania!X$30","v":284},{"$f":"Lithuania!Y$30","v":295},{"v":3.8732394366197243,"d":"3.9"},null,{"$f":"Lithuania!X$36","v":2},{"$f":"Lithuania!Y$36","v":2},{"$f":"((O32/N32)-1)*100","v":{"v":0,"d":"0.0"}},null,{"$f":"Lithuania!X$39","v":10},{"$f":"Lithuania!Y$39","v":15},{"v":50,"d":"50.0"},null,{"$f":"R32+N32+J32+F32+B32","v":422},449,{"v":6.3981042654028375,"d":"6.4"}]
["PL",{"$f":"Poland!X$16","v":889},{"$f":"Poland!Y$16","v":962},{"v":8.211473565804273,"d":"8.2"},null,{"$f":"Poland!X$23","v":{"v":1752,"d":"1,752"}},{"$f":"Poland!Y$23","v":{"v":1816,"d":"1,816"}},{"v":3.65296803652968,"d":"3.7"},null,{"$f":"Poland!X$30","v":{"v":4774,"d":"4,774"}},{"$f":"Poland!Y$30","v":{"v":5233,"d":"5,233"}},{"v":9.614578969417686,"d":"9.6"},null,{"$f":"Poland!X$36","v":0},{"$f":"Poland!Y$36","v":0},{"v":0,"d":"0.0"},null,{"$f":"Poland!X$39","v":323},{"$f":"Poland!Y$39","v":402},{"v":24.45820433436532,"d":"24.5"},null,{"$f":"R33+N33+J33+F33+B33","v":{"v":7738,"d":"7,738"}},{"v":8413,"d":"8,413"},{"v":8.723184285345042,"d":"8.7"}]
["SK",{"$f":"Slovakia!X$16","v":198},{"$f":"Slovakia!Y$16","v":212},{"v":7.070707070707072,"d":"7.1"},null,{"$f":"Slovakia!X$23","v":204},{"$f":"Slovakia!Y$23","v":230},{"v":12.745098039215685,"d":"12.7"},null,{"$f":"Slovakia!X$30","v":226},{"$f":"Slovakia!Y$30","v":247},{"v":9.292035398230091,"d":"9.3"},null,{"$f":"Slovakia!X$36","v":0},{"$f":"Slovakia!Y$36","v":0},{"v":0,"d":"0.0"},null,{"$f":"+Slovakia!X$39","v":12},{"$f":"+Slovakia!Y$39","v":12},{"v":0,"d":"0.0"},null,{"$f":"R34+N34+J34+F34+B34","v":640},701,{"v":9.531249999999991,"d":"9.5"}]
["SI",{"$f":"Slovenia!X$16","v":98},{"$f":"Slovenia!Y$16","v":98},{"v":0,"d":"0.0"},null,{"$f":"Slovenia!X$23","v":74},{"$f":"Slovenia!Y$23","v":59},{"v":-20.270270270270274,"d":"-20.3"},null,{"$f":"Slovenia!X$30","v":226},{"$f":"Slovenia!Y$30","v":208},{"v":-7.964601769911505,"d":"-8.0"},null,{"$f":"Slovenia!X$36","v":0},{"$f":"Slovenia!Y$36","v":0},{"v":0,"d":"0.0"},null,{"$f":"Slovenia!X$39","v":11},{"$f":"Slovenia!Y$39","v":14},{"v":27.27272727272727,"d":"27.3"},null,{"$f":"R35+N35+J35+F35+B35","v":409},379,{"v":-7.334963325183375,"d":"-7.3"}]
["BU",{"$f":"Bulgaria!X$16","v":94},{"$f":"Bulgaria!Y$16","v":109},{"v":15.957446808510634,"d":"16.0"},null,{"$f":"Bulgaria!X$23","v":240},{"$f":"Bulgaria!Y$23","v":246},{"v":2.499999999999991,"d":"2.5"},null,{"$f":"Bulgaria!X$30","v":590},{"$f":"Bulgaria!Y$30","v":499},{"v":-15.423728813559324,"d":"-15.4"},null,{"$f":"Bulgaria!X$36","v":0},{"$f":"Bulgaria!Y$36","v":0},{"v":0,"d":"0.0"},null,{"$f":"Bulgaria!X$39","v":24},{"$f":"Bulgaria!Y$39","v":24},{"v":0,"d":"0.0"},null,{"$f":"R36+N36+J36+F36+B36","v":948},878,{"v":-7.3839662447257375,"d":"-7.4"}]
["RO",{"$f":"Romania!X$17","v":155},{"$f":"Romania!Y$17","v":170},{"v":9.677419354838701,"d":"9.7"},null,{"$f":"Romania!X$24","v":{"v":1520,"d":"1,520"}},{"$f":"Romania!Y$24","v":{"v":1600,"d":"1,600"}},{"v":5.263157894736836,"d":"5.3"},null,{"$f":"Romania!X$31","v":{"v":1660,"d":"1,660"}},{"$f":"Romania!Y$31","v":{"v":1750,"d":"1,750"}},{"v":5.421686746987953,"d":"5.4"},null,{"$f":"Romania!X$37","v":0},{"$f":"Romania!Y$37","v":0},{"v":0,"d":"0.0"},null,{"$f":"Romania!X$40","v":0},{"$f":"Romania!Y$40","v":0},{"v":0,"d":"0.0"},null,{"$f":"R37+N37+J37+F37+B37","v":{"v":3335,"d":"3,335"}},{"v":3520,"d":"3,520"},{"v":5.547226386806603,"d":"5.5"}]
[]
["EUR 27 *",{"$f":"SUM(B14:B37)","v":{"v":39804,"d":"39,804"}},{"v":41495,"d":"41,495"},{"$f":"((C39/B39)-1)*100","v":{"v":4.248316752085213,"d":"4.2"}},null,{"$f":"SUM(F14:F37)","v":{"v":50363,"d":"50,363"}},{"v":49840,"d":"49,840"},{"$f":"((G39/F39)-1)*100","v":{"v":-1.0384607747751295,"d":"-1.0"}},null,{"$f":"SUM(J14:J37)","v":{"v":50575,"d":"50,575"}},{"v":51449,"d":"51,449"},{"$f":"((K39/J39)-1)*100","v":{"v":1.728126544735531,"d":"1.7"}},null,{"$f":"SUM(N14:N37)","v":{"v":1354,"d":"1,354"}},{"v":1312,"d":"1,312"},{"$f":"((O39/N39)-1)*100","v":{"v":-3.101920236336775,"d":"-3.1"}},null,{"$f":"SUM(R14:R37)","v":{"v":7107,"d":"7,107"}},{"v":7268,"d":"7,268"},{"$f":"((S39/R39)-1)*100","v":{"v":2.265372168284796,"d":"2.3"}},null,{"$f":"SUM(V14:V37)","v":{"v":149203,"d":"149,203"}},{"v":151364,"d":"151,364"},{"$f":"((W39/V39)-1)*100","v":{"v":1.4483622983452182,"d":"1.4"}}]
[]
[{"$nulls":23}," "]
["* Sans le Luxembourg, la Grèce et Malte/Ohne Luxemburg, Griechenland und Malta/Without Luxemburg, Greece and Malta/Senza Lussemburgo, Ellas e Malta"]
[": non disponible/not available"]

{"sheet":"2012","index":46,"n_rows":98,"n_cols":16,"rows_kept":98,"merged":[[4,0,4,15],[5,0,5,15],[57,0,57,15],[58,0,58,15]]}
["2014-05-09"]
[]
["PRODUCTION INDUSTRIELLE D'ALIMENTS COMPOSES ",{"$nulls":14},"INDUSTRIELLE  MISCHFUTTERPRODUKTION"]
["PRODUZIONE INDUSTRIALE DI MANGIMI COMPOSTI",{"$nulls":14},"INDUSTRIAL COMPOUND PRODUCTION"]
[2012]
["definitif/final"]
[{"$nulls":15},"(1 000 t)"]
[]
["Catégories d'aliments composés/Mischfutterarten",null,"DE","FR","IT","NL","BE","UK","IE","DK","ES","PT","AT","SE","FI","EU-15"]
["Tipi di mangimi compositi/Types of feed",{"$nulls":14},"*"]
[]
[null,null," ",{"$nulls":4}," ",null,null," "]
["Bovins/Cattle/Bovini/Rinder",null,{"$f":"Germany!Y16","v":{"v":6724,"d":"6,724"}},{"$f":"France!Y16","v":{"v":5236,"d":"5,236"}},{"$f":"Italy!Y16","v":{"v":3420,"d":"3,420"}},{"$f":"'The Netherlands'!Y16","v":{"v":3543,"d":"3,543"}},{"$f":"Belgium!Y16","v":{"v":1253,"d":"1,253"}},{"$f":"UK!Y16","v":{"v":5212,"d":"5,212"}},{"$f":"Ireland!Y16","v":{"v":2555,"d":"2,555"}},{"$f":"Denmark!Y16","v":918},{"$f":"Spain!Y16","v":{"v":7060,"d":"7,060"}},{"$f":"Portugal!Y16","v":710},{"$f":"Austria!Y16","v":472},{"$f":"Sweden!Y16","v":932},{"$f":"Finland!Y16","v":662},{"$f":"SUM(C13:O13)","v":{"v":38697,"d":"38,697"}}]
["engrais/fattening/Mast  ",null,{"$f":"Germany!Y17","v":355},{"$f":"France!Y17","v":{"v":1306,"d":"1,306"}},{"$f":"Italy!Y17","v":735},{"$f":"'The Netherlands'!Y17","v":487},{"$f":"Belgium!Y17","v":364},{"$f":"UK!Y17","v":{"v":1414,"d":"1,414"}},{"$f":"Ireland!Y17","v":{"v":1232,"d":"1,232"}},":",":",{"$f":"Portugal!Y17","v":270},{"$f":"Austria!Y17","v":0},":",":",":"]
["VL/dairy cow/Milchkühe",null,{"$f":"Germany!Y18","v":{"v":6206,"d":"6,206"}},{"$f":"France!Y18","v":{"v":3236,"d":"3,236"}},{"$f":"Italy!Y18","v":{"v":2580,"d":"2,580"}},{"$f":"'The Netherlands'!Y18","v":{"v":2969,"d":"2,969"}},{"$f":"Belgium!Y18","v":646},{"$f":"UK!Y18","v":{"v":3484,"d":"3,484"}},{"$f":"Ireland!Y18","v":{"v":1044,"d":"1,044"}},{"$f":"Denmark!Y18","v":695},":",{"$f":"Portugal!Y18","v":350},{"$f":"Austria!Y18","v":0},":",{"$f":"Finland!Y18","v":0},":"]
["veaux (aliments d'allaitement non compris)/calves ",null,{"$f":"Germany!Y19","v":0},{"$f":"France!Y19","v":0},{"$f":"Italy!Y19","v":0},{"$f":"'The Netherlands'!Y19","v":0},{"$f":"Belgium!Y19","v":100},{"$f":"UK!Y19","v":246},{"$f":"Ireland!Y19","v":180},{"$f":"Denmark!Y19","v":223},":",{"$f":"Portugal!Y19","v":35},{"$f":"Austria!Y19","v":0},":",{"$f":"Finland!Y19","v":0},":"]
["(excluding milk replacers)/Kälber (exkl. Milchaustauscher)"]
["autres/others/Andere",null,{"$f":"Germany!Y20","v":163},{"$f":"France!Y20","v":694},{"$f":"Italy!Y20","v":105},{"$f":"'The Netherlands'!Y20","v":87},{"$f":"Belgium!Y20","v":143},{"$f":"UK!Y20","v":68},{"$f":"Ireland!Y20","v":99},{"$f":"Denmark!Y20","v":0},":",{"$f":"Portugal!Y20","v":55},{"$f":"Austria!Y20","v":0},":",{"$f":"Finland!Y20","v":0},":"]
[]
[]
["Porcins/Pigs/Suini/Schweine",null,{"$f":"Germany!Y23","v":{"v":9721,"d":"9,721"}},{"$f":"France!Y23","v":{"v":5516,"d":"5,516"}},{"$f":"Italy!Y23","v":{"v":3310,"d":"3,310"}},{"$f":"'The Netherlands'!Y23","v":{"v":5451,"d":"5,451"}},{"$f":"Belgium!Y23","v":{"v":3682,"d":"3,682"}},{"$f":"UK!Y23","v":{"v":1858,"d":"1,858"}},{"$f":"Ireland!Y23","v":701},{"$f":"Denmark!Y23","v":{"v":2649,"d":"2,649"}},{"$f":"Spain!Y23","v":{"v":8758,"d":"8,758"}},{"$f":"Portugal!Y23","v":870},{"$f":"Austria!Y23","v":274},{"$f":"Sweden!Y23","v":312},{"$f":"Finland!Y23","v":309},{"$f":"SUM(C21:O21)","v":{"v":43411,"d":"43,411"}}]
["porcelets/piglets/Ferkel",null,{"$f":"Germany!Y24","v":{"v":1775,"d":"1,775"}},{"$f":"France!Y24","v":736},{"$f":"Italy!Y24","v":0},{"$f":"'The Netherlands'!Y24","v":682},{"$f":"Belgium!Y24","v":855},{"$f":"UK!Y24","v":77},{"$f":"Ireland!Y24","v":148},{"$f":"Denmark!Y24","v":539},":",{"$f":"Portugal!Y24","v":110},{"$f":"Austria!Y24","v":0},":",{"$f":"Finland!Y24","v":65},":"]
["porcs engrais/pigs for fattening/Mastschweine",null,{"$f":"Germany!Y25","v":{"v":6306,"d":"6,306"}},{"$f":"France!Y25","v":{"v":3859,"d":"3,859"}},{"$f":"Italy!Y25","v":0},{"$f":"'The Netherlands'!Y25","v":{"v":3581,"d":"3,581"}},{"$f":"Belgium!Y25","v":{"v":2827,"d":"2,827"}},{"$f":"UK!Y25","v":{"v":1313,"d":"1,313"}},{"$f":"Ireland!Y25","v":366},{"$f":"Denmark!Y25","v":{"v":1493,"d":"1,493"}},":",{"$f":"Portugal!Y25","v":585},{"$f":"Austria!Y25","v":0},":",{"$f":"Finland!Y25","v":148},":"]
["reproducteurs/breeding pigs/Zuchtschweine",null,{"$f":"Germany!Y26","v":{"v":1215,"d":"1,215"}},{"$f":"France!Y26","v":921},{"$f":"Italy!Y26","v":0},{"$f":"'The Netherlands'!Y26","v":{"v":1188,"d":"1,188"}},{"$f":"Belgium!Y26","v":0},{"$f":"UK!Y26","v":460},{"$f":"Ireland!Y26","v":120},{"$f":"Denmark!Y26","v":617},":",{"$f":"Portugal!Y26","v":155},{"$f":"Austria!Y26","v":0},":",{"$f":"Finland!Y26","v":51},":"]
["autres/others/Andere",null,{"$f":"Germany!Y27","v":425},{"$f":"France!Y27","v":0},{"$f":"Italy!Y27","v":0},{"$f":"'The Netherlands'!Y27","v":0},{"$f":"Belgium!Y27","v":0},{"$f":"UK!Y27","v":8},{"$f":"Ireland!Y27","v":67},{"$f":"Denmark!Y27","v":0},":",{"$f":"Portugal!Y27","v":20},{"$f":"Austria!Y27","v":0},":",{"$f":"Finland!Y27","v":45},":"]
[{"$nulls":4}," "]
[]
["Volaille/Poultry/Volatili/Geflügel",null,{"$f":"Germany!Y30","v":{"v":6110,"d":"6,110"}},{"$f":"France!Y30","v":{"v":8606,"d":"8,606"}},{"$f":"Italy!Y30","v":{"v":5700,"d":"5,700"}},{"$f":"'The Netherlands'!Y30","v":{"v":3802,"d":"3,802"}},{"$f":"Belgium!Y30","v":{"v":1392,"d":"1,392"}},{"$f":"UK!Y30","v":{"v":6606,"d":"6,606"}},{"$f":"Ireland!Y30","v":501},{"$f":"Denmark!Y30","v":548},{"$f":"Spain!Y30","v":{"v":4409,"d":"4,409"}},{"$f":"Portugal!Y30","v":{"v":1410,"d":"1,410"}},{"$f":"Austria!Y30","v":504},{"$f":"Sweden!Y30","v":554},{"$f":"Finland!Y30","v":317},{"$f":"SUM(C28:O28)","v":{"v":40459,"d":"40,459"}}]
["broilers",null,{"$f":"Germany!Y31","v":{"v":2623,"d":"2,623"}},{"$f":"France!Y31","v":{"v":3330,"d":"3,330"}},{"$f":"Italy!Y31","v":{"v":2855,"d":"2,855"}},{"$f":"'The Netherlands'!Y31","v":{"v":1785,"d":"1,785"}},{"$f":"Belgium!Y31","v":594},{"$f":"UK!Y31","v":{"v":3763,"d":"3,763"}},":",{"$f":"Denmark!Y31","v":168},":",{"$f":"Portugal!Y31","v":870},{"$f":"Austria!Y31","v":0},":",{"$f":"Finland!Y31","v":213},":"]
["poulettes & pondeuses/chicks & layers/Jung- & Legehennen",null,{"$f":"Germany!Y32","v":{"v":2099,"d":"2,099"}},{"$f":"France!Y32","v":{"v":2207,"d":"2,207"}},{"$f":"Italy!Y32","v":{"v":1710,"d":"1,710"}},{"$f":"'The Netherlands'!Y32","v":{"v":2017,"d":"2,017"}},{"$f":"Belgium!Y32","v":546},{"$f":"UK!Y32","v":{"v":1558,"d":"1,558"}},":",{"$f":"Denmark!Y32","v":320},":",{"$f":"Portugal!Y32","v":390},{"$f":"Austria!Y32","v":0},":",{"$f":"Finland!Y32","v":78},":"]
["autres/others/Andere",null,{"$f":"Germany!Y33","v":{"v":1388,"d":"1,388"}},{"$f":"France!Y33","v":{"v":3069,"d":"3,069"}},{"$f":"Italy!Y33","v":{"v":1135,"d":"1,135"}},{"$f":"'The Netherlands'!Y33","v":0},{"$f":"Belgium!Y33","v":252},{"$f":"UK!Y33","v":{"v":1285,"d":"1,285"}},":",{"$f":"Denmark!Y33","v":60},":",{"$f":"Portugal!Y33","v":150},{"$f":"Austria!Y33","v":0},":",{"$f":"Finland!Y33","v":26},":"]
[]
[]
["Al. d'allait./Milk replacers/Sostit. del latte/Milchaust.",null,{"$f":"Germany!Y36","v":150},{"$f":"France!Y36","v":363},{"$f":"Italy!Y36","v":135},{"$f":"'The Netherlands'!Y36","v":616},{"$f":"Belgium!Y36","v":38},{"$f":"UK!Y36","v":2},{"$f":"Ireland!Y36","v":0},{"$f":"Denmark!Y36","v":0},{"$f":"Spain!Y36","v":0},{"$f":"Portugal!Y36","v":0},{"$f":"Austria!Y36","v":0},{"$f":"Sweden!Y36","v":2},{"$f":"Finland!Y36","v":0},{"$f":"SUM(C34:O34)","v":{"v":1306,"d":"1,306"}}]
[]
[{"$nulls":4}," "]
["Autres/others/altri/Andere",null,{"$f":"Germany!Y39","v":732},{"$f":"France!Y39","v":{"v":1490,"d":"1,490"}},{"$f":"Italy!Y39","v":937},{"$f":"'The Netherlands'!Y39","v":429},{"$f":"Belgium!Y39","v":182},{"$f":"UK!Y39","v":{"v":1468,"d":"1,468"}},{"$f":"Ireland!Y39","v":368},{"$f":"Denmark!Y39","v":170},{"$f":"Spain!Y39","v":134},{"$f":"Portugal!Y39","v":210},{"$f":"Austria!Y39","v":120},{"$f":"Sweden!Y39","v":86},{"$f":"Finland!Y39","v":109},{"$f":"SUM(C37:O37)","v":{"v":6435,"d":"6,435"}}]
[]
[]
["TOTAL",null,{"$f":"C37+C34+C28+C21+C13","v":{"v":23437,"d":"23,437"}},{"v":21211,"d":"21,211"},{"v":13502,"d":"13,502"},{"v":13841,"d":"13,841"},{"v":6547,"d":"6,547"},{"v":15146,"d":"15,146"},{"v":4125,"d":"4,125"},{"v":4285,"d":"4,285"},{"v":20361,"d":"20,361"},{"v":3200,"d":"3,200"},{"v":1370,"d":"1,370"},{"v":1886,"d":"1,886"},{"v":1397,"d":"1,397"},{"v":130308,"d":"130,308"}]
[{"$nulls":5}," "]
[]
["* Sans le Luxembourg et la Grèce/ohne Luxemburg und Griechenland/Without Luxemburg and Greece/Senza Lussemburgo e Ella"]
[": non disponible/not available/nicht verfügbar"]
{"$rows_empty":9}
["2014-05-09"]
[]
["PRODUCTION INDUSTRIELLE D'ALIMENTS COMPOSES ",{"$nulls":14},"INDUSTRIELLE  MISCHFUTTERPRODUKTION"]
["PRODUZIONE INDUSTRIALE DI MANGIMI COMPOSTI",{"$nulls":14},"INDUSTRIAL COMPOUND PRODUCTION"]
[2012]
["definitif/final"]
[{"$nulls":12},"(1 000 t)"]
[]
["Catégories d'aliments composés/Mischfutterarten",null,"CY","CZ","EE","HU","LV","LT","PL","SK","SI","BU","RO","EU-12","EU-27"]
["Tipi di mangimi compositi/Types of feed",{"$nulls":12},"**","***"]
[]
[null,null," ",{"$nulls":4}," ",null," "]
["Bovins/Cattle/Bovini/Rinder",null,{"$f":"Cyprus!Y16","v":117},{"$f":"'Czech Rep'!Y16","v":427},{"$f":"Estonia!Y16","v":40},{"$f":"Hungary!Y16","v":530},{"$f":"Latvia!Y16","v":74},{"$f":"Lithuania!Y16","v":59},{"$f":"Poland!Y16","v":962},{"$f":"Slovakia!Y16","v":212},{"$f":"Slovenia!Y16","v":98},{"$f":"Bulgaria!Y16","v":109},{"$f":"Romania!Y17","v":170},{"$f":"SUM(C66:M66)","v":{"v":2798,"d":"2,798"}},{"$f":"P13+N66","v":{"v":41495,"d":"41,495"}}]
["engrais/fattening/Mast  ",null,{"$f":"Cyprus!Y17","v":17},{"$f":"'Czech Rep'!Y17","v":0},{"$f":"Estonia!Y17","v":0},{"$f":"Hungary!Y17","v":0},{"$f":"Latvia!Y17","v":0},{"$f":"Lithuania!Y17","v":10},{"$f":"Poland!Y17","v":0},{"$f":"Slovakia!Y17","v":15},":",":",":",":",":"]
["VL/dairy cow/Milchkühe",null,{"$f":"Cyprus!Y18","v":89},{"$f":"'Czech Rep'!Y18","v":0},{"$f":"Estonia!Y18","v":0},{"$f":"Hungary!Y18","v":0},{"$f":"Latvia!Y18","v":0},{"$f":"Lithuania!Y18","v":46},{"$f":"Poland!Y18","v":0},{"$f":"Slovakia!Y18","v":159},":",":",":",":",":"]
["veaux (aliments d'allaitement non compris)/calves ",null,{"$f":"Cyprus!Y19","v":11},{"$f":"'Czech Rep'!Y19","v":0},{"$f":"Estonia!Y19","v":0},{"$f":"Hungary!Y19","v":0},{"$f":"Latvia!Y19","v":0},{"$f":"Lithuania!Y19","v":3},{"$f":"Poland!Y19","v":0},{"$f":"Slovakia!Y19","v":19},":",":",":",":",":"]
["(excluding milk replacers)/Kälber (exkl. Milchaustauscher)"]
["autres/others/Andere",null,{"$f":"Cyprus!Y20","v":0},{"$f":"'Czech Rep'!Y20","v":0},{"$f":"Estonia!Y20","v":0},{"$f":"Hungary!Y20","v":0},{"$f":"Latvia!Y20","v":0},{"$f":"Lithuania!Y20","v":0},{"$f":"Poland!Y20","v":0},{"$f":"Slovakia!Y20","v":19},":",":",":",":",":"]
[]
[]
["Porcins/Pigs/Suini/Schweine",null,{"$f":"Cyprus!Y23","v":45},{"$f":"'Czech Rep'!Y23","v":735},{"$f":"Estonia!Y23","v":140},{"$f":"Hungary!Y23","v":{"v":1380,"d":"1,380"}},{"$f":"Latvia!Y23","v":100},{"$f":"Lithuania!Y23","v":78},{"$f":"Poland!Y23","v":{"v":1816,"d":"1,816"}},{"$f":"Slovakia!Y23","v":230},{"$f":"Slovenia!Y23","v":59},{"$f":"Bulgaria!Y23","v":246},{"$f":"Romania!Y24","v":{"v":1600,"d":"1,600"}},{"$f":"SUM(C74:M74)","v":{"v":6429,"d":"6,429"}},{"$f":"P21+N74","v":{"v":49840,"d":"49,840"}}]
["porcelets/piglets/Ferkel",null,{"$f":"Cyprus!Y24","v":3},{"$f":"'Czech Rep'!Y24","v":0},{"$f":"Estonia!Y24","v":":"},{"$f":"Hungary!Y24","v":0},{"$f":"Latvia!Y24","v":0},{"$f":"Lithuania!Y24","v":13},{"$f":"Poland!Y24","v":0},{"$f":"Slovakia!Y24","v":21},":",":",":",":",":"]
["porcs engrais/pigs for fattening/Mastschweine",null,{"$f":"Cyprus!Y25","v":30},{"$f":"'Czech Rep'!Y25","v":0},{"$f":"Estonia!Y25","v":":"},{"$f":"Hungary!Y25","v":0},{"$f":"Latvia!Y25","v":0},{"$f":"Lithuania!Y25","v":61},{"$f":"Poland!Y25","v":0},{"$f":"Slovakia!Y25","v":164},":",":",":",":",":"]
["reproducteurs/breeding pigs/Zuchtschweine",null,{"$f":"Cyprus!Y26","v":12},{"$f":"'Czech Rep'!Y26","v":0},{"$f":"Estonia!Y26","v":":"},{"$f":"Hungary!Y26","v":0},{"$f":"Latvia!Y26","v":0},{"$f":"Lithuania!Y26","v":3},{"$f":"Poland!Y26","v":0},{"$f":"Slovakia!Y26","v":34},":",":",":",":",":"]
["autres/others/Andere",null,{"$f":"Cyprus!Y27","v":0},{"$f":"'Czech Rep'!Y27","v":0},{"$f":"Estonia!Y27","v":":"},{"$f":"Hungary!Y27","v":0},{"$f":"Latvia!Y27","v":0},{"$f":"Lithuania!Y27","v":1},{"$f":"Poland!Y27","v":0},{"$f":"Slovakia!Y27","v":11},":",":",":",":",":"]
[{"$nulls":4}," "]
[]
["Volaille/Poultry/Volatili/Geflügel",null,{"$f":"Cyprus!Y30","v":52},{"$f":"'Czech Rep'!Y30","v":853},{"$f":"Estonia!Y30","v":48},{"$f":"Hungary!Y30","v":{"v":1640,"d":"1,640"}},{"$f":"Latvia!Y30","v":165},{"$f":"Lithuania!Y30","v":295},{"$f":"Poland!Y30","v":{"v":5233,"d":"5,233"}},{"$f":"Slovakia!Y30","v":247},{"$f":"Slovenia!Y30","v":208},{"$f":"Bulgaria!Y30","v":499},{"$f":"Romania!Y31","v":{"v":1750,"d":"1,750"}},{"$f":"SUM(C81:M81)","v":{"v":10990,"d":"10,990"}},{"$f":"P28+N81","v":{"v":51449,"d":"51,449"}}]
["broilers",null,{"$f":"Cyprus!Y31","v":35},{"$f":"'Czech Rep'!Y31","v":0},{"$f":"Estonia!Y31","v":":"},{"$f":"Hungary!Y31","v":0},{"$f":"Latvia!Y31","v":0},{"$f":"Lithuania!Y31","v":206},{"$f":"Poland!Y31","v":0},{"$f":"Slovakia!Y31","v":115},":",":",":",":",":"]
["poulettes & pondeuses/chicks & layers/Jung- & Legehennen",null,{"$f":"Cyprus!Y32","v":15},{"$f":"'Czech Rep'!Y32","v":0},{"$f":"Estonia!Y32","v":":"},{"$f":"Hungary!Y32","v":0},{"$f":"Latvia!Y32","v":0},{"$f":"Lithuania!Y32","v":64},{"$f":"Poland!Y32","v":0},{"$f":"Slovakia!Y32","v":121},":",":",":",":",":"]
["autres/others/Andere",null,{"$f":"Cyprus!Y33","v":2},{"$f":"'Czech Rep'!Y33","v":0},{"$f":"Estonia!Y33","v":":"},{"$f":"Hungary!Y33","v":0},{"$f":"Latvia!Y33","v":0},{"$f":"Lithuania!Y33","v":25},{"$f":"Poland!Y33","v":0},{"$f":"Slovakia!Y33","v":11},":",":",":",":",":"]
[]
[]
["Al. d'allait./Milk replacers/Sostit. del latte/Milchaust.",null,{"$f":"Cyprus!Y36","v":1},{"$f":"'Czech Rep'!Y36","v":3},{"$f":"Estonia!Y36","v":0},{"$f":"Hungary!Y36","v":0},{"$f":"Latvia!Y36","v":0},{"$f":"Lithuania!Y36","v":2},{"$f":"Poland!Y36","v":0},{"$f":"Slovakia!Y36","v":0},{"$f":"Slovenia!Y36","v":0},{"$f":"Bulgaria!Y36","v":0},{"$f":"Romania!Y37","v":0},{"$f":"SUM(C87:M87)","v":6},{"$f":"P34+N87","v":{"v":1312,"d":"1,312"}}]
[]
[{"$nulls":4}," "]
["Autres/others/altri/Andere",null,{"$f":"Cyprus!Y39","v":100},{"$f":"'Czech Rep'!Y39","v":72},{"$f":"Estonia!Y39","v":2},{"$f":"Hungary!Y39","v":170},{"$f":"Latvia!Y39","v":22},{"$f":"Lithuania!Y39","v":15},{"$f":"Poland!Y39","v":402},{"$f":"Slovakia!Y39","v":12},{"$f":"Slovenia!Y39","v":14},{"$f":"Bulgaria!Y39","v":24},{"$f":"Romania!Y40","v":0},{"$f":"SUM(C90:M90)","v":833},{"$f":"P37+N90","v":{"v":7268,"d":"7,268"}}]
[]
[]
["TOTAL",null,{"$f":"C90+C87+C81+C74+C66","v":315},{"v":2090,"d":"2,090"},230,{"$f":"F90+F81+F74+F66","v":{"v":3720,"d":"3,720"}},{"$f":"G90+G87+G81+G74+G66","v":361},449,{"v":8413,"d":"8,413"},701,379,878,{"v":3520,"d":"3,520"},{"v":21056,"d":"21,056"},{"v":151364,"d":"151,364"}]
[{"$nulls":5}," "]
[]
["** Sans Malte/Ohne Maltas/Without Malta/Senza Malta"]
["*** Sans le Luxembourg, la Grèce et Malte/Ohne Luxemburg, Griechenland und Maltas/Without Luxemburg, Greece and Malta/Senza Lussemburgo, Ellas e Malta"]
[": non disponible/not available/nicht verfügbar"]

{"sheet":"2012-13","index":47,"n_rows":44,"n_cols":24,"rows_kept":44}
["2014-05-30"]
[]
["PRODUCTION INDUSTRIELLE D'ALIMENTS COMPOSES",{"$nulls":22},"INDUSTRIELLE  MISCHFUTTERPRODUKTION"]
["PRODUZIONE INDUSTRIALE DI MANGIMI COMPOSTI",{"$nulls":11},"2012-2013",{"$nulls":10},"INDUSTRIAL COMPOUND PRODUCTION"]
[{"$nulls":12},"final",{"$nulls":10},"(1 000 t )"]
[]
[]
[]
["PAYS",null,"      BOVINS/RINDER",{"$nulls":3},"    PORCS/SCHWEINE",{"$nulls":3},"     VOLAILLE/GEFLÜGEL",null,"      A. ALLAITEMENT/MILCHAUST.",{"$nulls":5},"     AUTRES/ANDERE",null,null,"       TOTAL/INSGESAMT"]
["LAND",null,"      BOVINI/CATTLE",{"$nulls":3},"    SUINI/PIGS",{"$nulls":3},"     VOLATILI/POULTRY",null,"  SOSTIT. DEL LATTE/MILKREPLACERS",{"$nulls":5},"ALTRI ANIMALI/OTHERS",null,null,"          TOTALE/TOTAL"]
["PAESE"]
["COUNTRY",2012,2013,"%TAV",null,2012,2013,"%TAV",null,2012,2013,"%TAV",null,2012,2013,"%TAV",null,2012,2013,"%TAV",null,2012,2013,"%TAV"]
[]
["DE",{"$f":"Germany!Y$16","v":{"v":6724,"d":"6,724"}},{"$f":"Germany!Z$16","v":{"v":6906,"d":"6,906"}},{"$f":"((C14/B14)-1)*100","v":{"v":2.7067221891731164,"d":"2.7"}},null,{"$f":"Germany!Y$23","v":{"v":9721,"d":"9,721"}},{"$f":"Germany!Z$23","v":{"v":9597,"d":"9,597"}},{"$f":"((G14/F14)-1)*100","v":{"v":-1.2755889311799162,"d":"-1.3"}},null,{"$f":"Germany!Y$30","v":{"v":6110,"d":"6,110"}},{"$f":"Germany!Z$30","v":{"v":6094,"d":"6,094"}},{"$f":"((K14/J14)-1)*100","v":{"v":-0.2618657937806912,"d":"-0.3"}},null,{"$f":"Germany!Y$36","v":150},{"$f":"Germany!Z$36","v":155},{"$f":"((O14/N14)-1)*100","v":{"v":3.3333333333333437,"d":"3.3"}},null,{"$f":"Germany!Y$39","v":732},{"$f":"Germany!Z$39","v":727},{"$f":"((S14/R14)-1)*100","v":{"v":-0.6830601092896127,"d":"-0.7"}},null,{"$f":"R14+N14+J14+F14+B14","v":{"v":23437,"d":"23,437"}},{"v":23479,"d":"23,479"},{"$f":"((W14/V14)-1)*100","v":{"v":0.17920382301488402,"d":"0.2"}}]
["FR",{"$f":"France!Y$16","v":{"v":5236,"d":"5,236"}},{"$f":"France!Z$16","v":{"v":5449,"d":"5,449"}},{"v":4.067990832696711,"d":"4.1"},null,{"$f":"France!Y$23","v":{"v":5516,"d":"5,516"}},{"$f":"France!Z$23","v":{"v":5332,"d":"5,332"}},{"v":-3.3357505438723734,"d":"-3.3"},null,{"$f":"France!Y$30","v":{"v":8606,"d":"8,606"}},{"$f":"France!Z$30","v":{"v":8696,"d":"8,696"}},{"v":1.04578201254939,"d":"1.0"},null,{"$f":"France!Y36","v":363},{"$f":"France!Z36","v":364},{"v":0.2754820936639035,"d":"0.3"},null,{"$f":"France!Y$39","v":{"v":1490,"d":"1,490"}},{"$f":"France!Z$39","v":{"v":1458,"d":"1,458"}},{"v":-2.147651006711404,"d":"-2.1"},null,{"$f":"R15+N15+J15+F15+B15","v":{"v":21211,"d":"21,211"}},{"v":21299,"d":"21,299"},{"v":0.41487907217951925,"d":"0.4"}]
["IT",{"$f":"Italy!Y$16","v":{"v":3420,"d":"3,420"}},{"$f":"Italy!Z$16","v":{"v":3410,"d":"3,410"}},{"v":-0.29239766081871066,"d":"-0.3"},null,{"$f":"Italy!Y$23","v":{"v":3310,"d":"3,310"}},{"$f":"Italy!Z$23","v":{"v":3335,"d":"3,335"}},{"v":0.7552870090634434,"d":"0.8"},null,{"$f":"Italy!Y$30","v":{"v":5700,"d":"5,700"}},{"$f":"Italy!Z$30","v":{"v":5695,"d":"5,695"}},{"v":-0.08771929824561431,"d":"-0.1"},null,{"$f":"Italy!Y$36","v":135},{"$f":"Italy!Z$36","v":110},{"v":-18.518518518518523,"d":"-18.5"},null,{"$f":"+Italy!Y$39","v":937},{"$f":"+Italy!Z$39","v":882},{"v":-5.869797225186768,"d":"-5.9"},null,{"$f":"R16+N16+J16+F16+B16","v":{"v":13502,"d":"13,502"}},{"v":13432,"d":"13,432"},{"v":-0.5184417123389129,"d":"-0.5"}]
["NL   ",{"$f":"'The Netherlands'!Y$16","v":{"v":3543,"d":"3,543"}},{"$f":"'The Netherlands'!Z$16","v":{"v":3543,"d":"3,543"}},{"v":0,"d":"0.0"},null,{"$f":"'The Netherlands'!Y$23","v":{"v":5451,"d":"5,451"}},{"$f":"'The Netherlands'!Z$23","v":{"v":5360,"d":"5,360"}},{"v":-1.6694184553292968,"d":"-1.7"},null,{"$f":"'The Netherlands'!Y$30","v":{"v":3802,"d":"3,802"}},{"$f":"'The Netherlands'!Z$30","v":{"v":3602,"d":"3,602"}},{"v":-5.260389268805888,"d":"-5.3"},null,{"$f":"'The Netherlands'!Y$36","v":616},{"$f":"'The Netherlands'!Z$36","v":616},{"v":0,"d":"0.0"},null,{"$f":"'The Netherlands'!Y$39","v":429},{"$f":"'The Netherlands'!Z$39","v":320},{"v":-25.407925407925404,"d":"-25.4"},null,{"$f":"R17+N17+J17+F17+B17","v":{"v":13841,"d":"13,841"}},{"v":13441,"d":"13,441"},{"v":-2.8899645979336808,"d":"-2.9"}]
["BE",{"$f":"Belgium!Y$16","v":{"v":1253,"d":"1,253"}},{"$f":"Belgium!Z$16","v":{"v":1388,"d":"1,388"}},{"v":10.774142059058267,"d":"10.8"},null,{"$f":"Belgium!Y$23","v":{"v":3682,"d":"3,682"}},{"$f":"Belgium!Z$23","v":{"v":3716,"d":"3,716"}},{"v":0.9234111895708885,"d":"0.9"},null,{"$f":"Belgium!Y$30","v":{"v":1392,"d":"1,392"}},{"$f":"Belgium!Z$30","v":{"v":1458,"d":"1,458"}},{"v":4.741379310344818,"d":"4.7"},null,{"$f":"Belgium!Y$36","v":38},{"$f":"Belgium!Z$36","v":36},{"v":-5.263157894736848,"d":"-5.3"},null,{"$f":"Belgium!Y$39","v":182},{"$f":"Belgium!Z$39","v":186},{"v":2.19780219780219,"d":"2.2"},null,{"$f":"R18+N18+J18+F18+B18","v":{"v":6547,"d":"6,547"}},{"v":6784,"d":"6,784"},{"v":3.61997861616008,"d":"3.6"}]
["UK ",{"$f":"UK!Y$16","v":{"v":5212,"d":"5,212"}},{"$f":"UK!Z$16","v":{"v":5574,"d":"5,574"}},{"v":6.945510360706053,"d":"6.9"},null,{"$f":"UK!Y$23","v":{"v":1858,"d":"1,858"}},{"$f":"UK!Z$23","v":{"v":1842,"d":"1,842"}},{"v":-0.8611410118406937,"d":"-0.9"},null,{"$f":"UK!Y$30","v":{"v":6606,"d":"6,606"}},{"$f":"UK!Z$30","v":{"v":6570,"d":"6,570"}},{"v":-0.544959128065392,"d":"-0.5"},null,{"$f":"UK!Y$36","v":2},{"$f":"UK!Z$36","v":0},{"v":-100,"d":"-100.0"},null,{"$f":"UK!Y$39","v":{"v":1468,"d":"1,468"}},{"$f":"UK!Z$39","v":{"v":1647,"d":"1,647"}},{"v":12.193460490463215,"d":"12.2"},null,{"$f":"R19+N19+J19+F19+B19","v":{"v":15146,"d":"15,146"}},{"v":15633,"d":"15,633"},{"v":3.2153703948237133,"d":"3.2"}]
["IE",{"$f":"Ireland!Y$16","v":{"v":2555,"d":"2,555"}},{"$f":"Ireland!Z$16","v":{"v":2746,"d":"2,746"}},{"v":7.475538160469664,"d":"7.5"},null,{"$f":"Ireland!Y$23","v":701},{"$f":"Ireland!Z$23","v":690},{"v":-1.5691868758915817,"d":"-1.6"},null,{"$f":"Ireland!Y$30","v":501},{"$f":"Ireland!Z$30","v":529},{"v":5.588822355289413,"d":"5.6"},null,{"$f":"Ireland!Y$36","v":0},{"$f":"Ireland!Z$36","v":0},{"v":0,"d":"0.0"},null,{"$f":"Ireland!Y$39","v":368},{"$f":"Ireland!Z$39","v":412},{"v":11.956521739130444,"d":"12.0"},null,{"$f":"R20+N20+J20+F20+B20","v":{"v":4125,"d":"4,125"}},{"v":4377,"d":"4,377"},{"v":6.1090909090909085,"d":"6.1"}]
["DK ",{"$f":"Denmark!Y$16","v":918},{"$f":"Denmark!Z$16","v":939},{"v":2.287581699346397,"d":"2.3"},null,{"$f":"Denmark!Y$23","v":{"v":2649,"d":"2,649"}},{"$f":"Denmark!Z$23","v":{"v":2582,"d":"2,582"}},{"v":-2.529256323140805,"d":"-2.5"},null,{"$f":"Denmark!Y$30","v":548},{"$f":"Denmark!Z$30","v":594},{"v":8.394160583941602,"d":"8.4"},null,{"$f":"Denmark!Y$36","v":0},{"$f":"Denmark!Z$36","v":0},{"v":0,"d":"0.0"},null,{"$f":"Denmark!Y$39","v":170},{"$f":"Denmark!Z$39","v":184},{"v":8.23529411764705,"d":"8.2"},null,{"$f":"R21+N21+J21+F21+B21","v":{"v":4285,"d":"4,285"}},{"v":4299,"d":"4,299"},{"v":0.3267211201867015,"d":"0.3"}]
["ES",{"$f":"Spain!Y$16","v":{"v":7060,"d":"7,060"}},{"$f":"Spain!Z$16","v":{"v":6700,"d":"6,700"}},{"v":-5.099150141643061,"d":"-5.1"},null,{"$f":"Spain!Y$23","v":{"v":8758,"d":"8,758"}},{"$f":"Spain!Z$23","v":{"v":8900,"d":"8,900"}},{"v":1.62137474309203,"d":"1.6"},null,{"$f":"Spain!Y$30","v":{"v":4409,"d":"4,409"}},{"$f":"Spain!Z$30","v":{"v":4400,"d":"4,400"}},{"v":-0.2041279201632995,"d":"-0.2"},null,{"$f":"Spain!Y$36","v":0},{"$f":"Spain!Z$36","v":0},{"v":0,"d":"0.0"},null,{"$f":"Spain!Y$39","v":134},{"$f":"Spain!Z$39","v":150},{"v":11.940298507462677,"d":"11.9"},null,{"$f":"R22+N22+J22+F22+B22","v":{"v":20361,"d":"20,361"}},{"v":20150,"d":"20,150"},{"v":-1.0362948774618186,"d":"-1.0"}]
["PT",{"$f":"Portugal!Y$16","v":710},{"$f":"Portugal!Z$16","v":675},{"v":-4.929577464788737,"d":"-4.9"},null,{"$f":"Portugal!Y$23","v":870},{"$f":"Portugal!Z$23","v":830},{"v":-4.597701149425292,"d":"-4.6"},null,{"$f":"Portugal!Y$30","v":{"v":1410,"d":"1,410"}},{"$f":"Portugal!Z$30","v":{"v":1400,"d":"1,400"}},{"v":-0.7092198581560294,"d":"-0.7"},null,{"$f":"Portugal!Y$36","v":0},{"$f":"Portugal!Z$36","v":0},{"v":0,"d":"0.0"},null,{"$f":"Portugal!Y$39","v":210},{"$f":"Portugal!Z$39","v":195},{"v":-7.14285714285714,"d":"-7.1"},null,{"$f":"R23+N23+J23+F23+B23","v":{"v":3200,"d":"3,200"}},{"v":3100,"d":"3,100"},{"v":-3.125,"d":"-3.1"}]
["AT",{"$f":"Austria!Y$16","v":472},{"$f":"Austria!Z$16","v":482},{"v":2.1186440677966045,"d":"2.1"},null,{"$f":"Austria!Y$23","v":274},{"$f":"Austria!Z$23","v":275},{"v":0.36496350364962904,"d":"0.4"},null,{"$f":"Austria!Y$30","v":504},{"$f":"Austria!Z$30","v":524},{"v":3.9682539682539764,"d":"4.0"},null,{"$f":"Austria!Y$36","v":0},{"$f":"Austria!Z$36","v":0},{"v":0,"d":"0.0"},null,{"$f":"Austria!Y$39","v":120},{"$f":"Austria!Z$39","v":125},{"v":4.166666666666674,"d":"4.2"},null,{"$f":"R24+N24+J24+F24+B24","v":{"v":1370,"d":"1,370"}},{"v":1406,"d":"1,406"},{"v":2.6277372262773824,"d":"2.6"}]
["SE",{"$f":"Sweden!Y$16","v":932},{"$f":"Sweden!Z$16","v":903},{"v":-3.11158798283262,"d":"-3.1"},null,{"$f":"Sweden!Y$23","v":312},{"$f":"Sweden!Z$23","v":297},{"v":-4.807692307692313,"d":"-4.8"},null,{"$f":"Sweden!Y$30","v":554},{"$f":"Sweden!Z$30","v":548},{"v":-1.0830324909747335,"d":"-1.1"},null,{"$f":"Sweden!Y$36","v":2},{"$f":"Sweden!Z$36","v":2},{"$f":"((O25/N25)-1)*100","v":{"v":0,"d":"0.0"}},null,{"$f":"Sweden!Y$39","v":86},{"$f":"Sweden!Z$39","v":138},{"v":60.46511627906976,"d":"60.5"},null,{"$f":"R25+N25+J25+F25+B25","v":{"v":1886,"d":"1,886"}},{"v":1888,"d":"1,888"},{"v":0.10604453870626251,"d":"0.1"}]
["FI",{"$f":"Finland!Y$16","v":662},{"$f":"Finland!Z$16","v":669},{"v":1.0574018126888296,"d":"1.1"},null,{"$f":"Finland!Y$23","v":309},{"$f":"Finland!Z$23","v":293},{"v":-5.177993527508096,"d":"-5.2"},null,{"$f":"Finland!Y$30","v":317},{"$f":"Finland!Z$30","v":324},{"v":2.208201892744488,"d":"2.2"},null,{"$f":"Finland!Y$36","v":0},{"$f":"Finland!Z$36","v":0},{"v":0,"d":"0.0"},null,{"$f":"Finland!Y$39","v":109},{"$f":"Finland!Z$39","v":105},{"v":-3.669724770642202,"d":"-3.7"},null,{"$f":"R26+N26+J26+F26+B26","v":{"v":1397,"d":"1,397"}},{"v":1391,"d":"1,391"},{"v":-0.42949176807444145,"d":"-0.4"}]
["CY",{"$f":"Cyprus!Y$16","v":117},{"$f":"Cyprus!Z$16","v":118},{"v":0.8547008547008517,"d":"0.9"},null,{"$f":"Cyprus!Y$23","v":45},{"$f":"Cyprus!Z$23","v":34},{"v":-24.444444444444446,"d":"-24.4"},null,{"$f":"Cyprus!Y$30","v":52},{"$f":"Cyprus!Z$30","v":48},{"v":-7.692307692307687,"d":"-7.7"},null,{"$f":"Cyprus!Y$36","v":1},{"$f":"Cyprus!Z$36","v":1},{"v":0,"d":"0.0"},null,{"$f":"Cyprus!Y$39","v":100},{"$f":"Cyprus!Z$39","v":100},{"v":0,"d":"0.0"},null,{"$f":"R27+N27+J27+F27+B27","v":315},301,{"v":-4.444444444444439,"d":"-4.4"}]
["CZ",{"$f":"'Czech Rep'!Y$16","v":427},{"$f":"'Czech Rep'!Z$16","v":473},{"v":10.772833723653385,"d":"10.8"},null,{"$f":"'Czech Rep'!Y$23","v":735},{"$f":"'Czech Rep'!Z$23","v":802},{"v":9.115646258503407,"d":"9.1"},null,{"$f":"'Czech Rep'!Y$30","v":853},{"$f":"'Czech Rep'!Z$30","v":902},{"v":5.744431418522855,"d":"5.7"},null,{"$f":"'Czech Rep'!Y$36","v":3},{"$f":"'Czech Rep'!Z$36","v":2},{"$f":"((O28/N28)-1)*100","v":{"v":-33.333333333333336,"d":"-33.3"}},null,{"$f":"'Czech Rep'!Y$39","v":72},{"$f":"'Czech Rep'!Z$39","v":87},{"v":20.833333333333325,"d":"20.8"},null,{"$f":"R28+N28+J28+F28+B28","v":{"v":2090,"d":"2,090"}},{"v":2266,"d":"2,266"},{"v":8.421052631578952,"d":"8.4"}]
["EE",{"$f":"Estonia!Y$16","v":40},{"$f":"Estonia!Z$16","v":40},{"v":0,"d":"0.0"},null,{"$f":"Estonia!Y$23","v":140},{"$f":"Estonia!Z$23","v":140},{"v":0,"d":"0.0"},null,{"$f":"Estonia!Y$30","v":48},{"$f":"Estonia!Z$30","v":48},{"v":0,"d":"0.0"},null,{"$f":"Estonia!Y$36","v":0},{"$f":"Estonia!Z$36","v":0},{"v":0,"d":"0.0"},null,{"$f":"Estonia!Y$39","v":2},{"$f":"Estonia!Z$39","v":2},{"v":0,"d":"0.0"},null,{"$f":"R29+N29+J29+F29+B29","v":230},230,{"v":0,"d":"0.0"}]
["HU",{"$f":"Hungary!Y$16","v":530},{"$f":"Hungary!Z$16","v":570},{"v":7.547169811320753,"d":"7.5"},null,{"$f":"Hungary!Y$23","v":{"v":1380,"d":"1,380"}},{"$f":"Hungary!Z$23","v":{"v":1350,"d":"1,350"}},{"v":-2.1739130434782594,"d":"-2.2"},null,{"$f":"Hungary!Y$30","v":{"v":1640,"d":"1,640"}},{"$f":"Hungary!Z$30","v":{"v":1520,"d":"1,520"}},{"v":-7.317073170731703,"d":"-7.3"},null,{"$f":"Hungary!Y$36","v":0},{"$f":"Hungary!Z$36","v":0},{"v":0,"d":"0.0"},null,{"$f":"Hungary!Y$39","v":170},{"$f":"Hungary!Z$39","v":160},{"v":-5.882352941176472,"d":"-5.9"},null,{"$f":"R30+J30+F30+B30","v":{"v":3720,"d":"3,720"}},{"v":3600,"d":"3,600"},{"v":-3.2258064516129004,"d":"-3.2"}]
["LV",{"$f":"Latvia!Y$16","v":74},{"$f":"Latvia!Z$16","v":115},{"v":55.405405405405396,"d":"55.4"},null,{"$f":"Latvia!Y$23","v":100},{"$f":"Latvia!Z$23","v":109},{"v":9.000000000000007,"d":"9.0"},null,{"$f":"Latvia!Y$30","v":165},{"$f":"Latvia!Z$30","v":161},{"v":-2.4242424242424288,"d":"-2.4"},null,{"$f":"Latvia!Y$36","v":0},{"$f":"Latvia!Z$36","v":0},{"v":0,"d":"0.0"},null,{"$f":"Latvia!Y$39","v":22},{"$f":"Latvia!Z$39","v":11},{"v":-50,"d":"-50.0"},null,{"$f":"R31+N31+J31+F31+B31","v":361},396,{"v":9.695290858725759,"d":"9.7"}]
["LT",{"$f":"Lithuania!Y$16","v":59},{"$f":"Lithuania!Z$16","v":63},{"v":6.779661016949157,"d":"6.8"},null,{"$f":"Lithuania!Y$23","v":78},{"$f":"Lithuania!Z$23","v":78},{"v":0,"d":"0.0"},null,{"$f":"Lithuania!Y$30","v":295},{"$f":"Lithuania!Z$30","v":300},{"v":1.6949152542372836,"d":"1.7"},null,{"$f":"Lithuania!Y$36","v":2},{"$f":"Lithuania!Z$36","v":3},{"$f":"((O32/N32)-1)*100","v":{"v":50,"d":"50.0"}},null,{"$f":"Lithuania!Y$39","v":15},{"$f":"Lithuania!Z$39","v":15},{"v":0,"d":"0.0"},null,{"$f":"R32+N32+J32+F32+B32","v":449},459,{"v":2.2271714922049046,"d":"2.2"}]
["PL",{"$f":"Poland!Y$16","v":962},{"$f":"Poland!Z$16","v":934},{"v":-2.9106029106029108,"d":"-2.9"},null,{"$f":"Poland!Y$23","v":{"v":1816,"d":"1,816"}},{"$f":"Poland!Z$23","v":{"v":1850,"d":"1,850"}},{"v":1.8722466960352513,"d":"1.9"},null,{"$f":"Poland!Y$30","v":{"v":5233,"d":"5,233"}},{"$f":"Poland!Z$30","v":{"v":5259,"d":"5,259"}},{"v":0.4968469329256653,"d":"0.5"},null,{"$f":"Poland!Y$36","v":0},{"$f":"Poland!Z$36","v":0},{"v":0,"d":"0.0"},null,{"$f":"Poland!Y$39","v":402},{"$f":"Poland!Z$39","v":523},{"v":30.09950248756219,"d":"30.1"},null,{"$f":"R33+N33+J33+F33+B33","v":{"v":8413,"d":"8,413"}},{"v":8566,"d":"8,566"},{"v":1.818614049685019,"d":"1.8"}]
["SK",{"$f":"Slovakia!Y$16","v":212},{"$f":"Slovakia!Z$16","v":208},{"v":-1.8867924528301883,"d":"-1.9"},null,{"$f":"Slovakia!Y$23","v":230},{"$f":"Slovakia!Z$23","v":239},{"v":3.913043478260869,"d":"3.9"},null,{"$f":"Slovakia!Y$30","v":247},{"$f":"Slovakia!Z$30","v":241},{"v":-2.429149797570851,"d":"-2.4"},null,{"$f":"Slovakia!Y$36","v":0},{"$f":"Slovakia!Z$36","v":0},{"v":0,"d":"0.0"},null,{"$f":"+Slovakia!Y$39","v":12},{"$f":"+Slovakia!Z$39","v":13},{"v":8.333333333333325,"d":"8.3"},null,{"$f":"R34+N34+J34+F34+B34","v":701},701,{"v":0,"d":"0.0"}]
["SI",{"$f":"Slovenia!Y$16","v":98},{"$f":"Slovenia!Z$16","v":95},{"v":-3.0612244897959218,"d":"-3.1"},null,{"$f":"Slovenia!Y$23","v":59},{"$f":"Slovenia!Z$23","v":59},{"v":0,"d":"0.0"},null,{"$f":"Slovenia!Y$30","v":208},{"$f":"Slovenia!Z$30","v":208},{"v":0,"d":"0.0"},null,{"$f":"Slovenia!Y$36","v":0},{"$f":"Slovenia!Z$36","v":0},{"v":0,"d":"0.0"},null,{"$f":"Slovenia!Y$39","v":14},{"$f":"Slovenia!Z$39","v":13},{"v":-7.14285714285714,"d":"-7.1"},null,{"$f":"R35+N35+J35+F35+B35","v":379},375,{"v":-1.055408970976257,"d":"-1.1"}]
["BU",{"$f":"Bulgaria!Y$16","v":109},{"$f":"Bulgaria!Z$16","v":153},{"v":40.36697247706422,"d":"40.4"},null,{"$f":"Bulgaria!Y$23","v":246},{"$f":"Bulgaria!Z$23","v":285},{"v":15.853658536585357,"d":"15.9"},null,{"$f":"Bulgaria!Y$30","v":499},{"$f":"Bulgaria!Z$30","v":530},{"v":6.212424849699394,"d":"6.2"},null,{"$f":"Bulgaria!Y$36","v":0},{"$f":"Bulgaria!Z$36","v":0},{"v":0,"d":"0.0"},null,{"$f":"Bulgaria!Y$39","v":24},{"$f":"Bulgaria!Z$39","v":25},{"v":4.166666666666674,"d":"4.2"},null,{"$f":"R36+N36+J36+F36+B36","v":878},993,{"v":13.097949886104775,"d":"13.1"}]
["RO",{"$f":"Romania!Y$17","v":170},{"$f":"Romania!Z$17","v":100},{"v":-41.17647058823529,"d":"-41.2"},null,{"$f":"Romania!Y$24","v":{"v":1600,"d":"1,600"}},{"$f":"Romania!Z$24","v":{"v":1000,"d":"1,000"}},-37.5,null,{"$f":"Romania!Y$31","v":{"v":1750,"d":"1,750"}},{"$f":"Romania!Z$31","v":{"v":1500,"d":"1,500"}},{"v":-14.28571428571429,"d":"-14.3"},null,{"$f":"Romania!Y$37","v":0},{"$f":"Romania!Z$37","v":0},{"v":0,"d":"0.0"},null,{"$f":"Romania!Y$40","v":0},{"$f":"Romania!Z$40","v":2},null,null,{"$f":"R37+N37+J37+F37+B37","v":{"v":3520,"d":"3,520"}},{"v":2602,"d":"2,602"},{"v":-26.07954545454545,"d":"-26.1"}]
["HR",{"$f":"Croatia!Y$16","v":120},{"$f":"Croatia!Z$16","v":103},{"v":-14.166666666666671,"d":"-14.2"},null,{"$f":"Croatia!Y$23","v":229},{"$f":"Croatia!Z$23","v":211},{"v":-7.860262008733621,"d":"-7.9"},null,{"$f":"Croatia!Y$30","v":276},{"$f":"Croatia!Z$30","v":261},{"v":-5.434782608695654,"d":"-5.4"},null,{"$f":"Croatia!Y$36","v":0},{"$f":"Croatia!Z$36","v":0},{"v":0,"d":"0.0"},null,{"$f":"Croatia!Y$39","v":10},{"$f":"Croatia!Z$39","v":7},{"$f":"((S38/R38)-1)*100","v":{"v":-30.000000000000004,"d":"-30.0"}},null,{"$f":"R38+N38+J38+F38+B38","v":635},582,{"v":-8.346456692913385,"d":"-8.3"}]
[]
["EUR 28 *",{"$f":"SUM(B14:B38)","v":{"v":41615,"d":"41,615"}},{"v":42356,"d":"42,356"},{"$f":"((C40/B40)-1)*100","v":{"v":1.7806079538627895,"d":"1.8"}},null,{"$f":"SUM(F14:F38)","v":{"v":50069,"d":"50,069"}},{"v":49206,"d":"49,206"},{"$f":"((G40/F40)-1)*100","v":{"v":-1.7236214024646035,"d":"-1.7"}},null,{"$f":"SUM(J14:J38)","v":{"v":51725,"d":"51,725"}},{"v":51412,"d":"51,412"},{"$f":"((K40/J40)-1)*100","v":{"v":-0.6051232479458712,"d":"-0.6"}},null,{"$f":"SUM(N14:N38)","v":{"v":1312,"d":"1,312"}},{"v":1289,"d":"1,289"},{"$f":"((O40/N40)-1)*100","v":{"v":-1.7530487804878092,"d":"-1.8"}},null,{"$f":"SUM(R14:R38)","v":{"v":7278,"d":"7,278"}},{"v":7487,"d":"7,487"},{"$f":"((S40/R40)-1)*100","v":{"v":2.8716680406705164,"d":"2.9"}},null,{"$f":"SUM(V14:V38)","v":{"v":151999,"d":"151,999"}},{"v":151750,"d":"151,750"},{"$f":"((W40/V40)-1)*100","v":{"v":-0.16381686721622657,"d":"-0.2"}}]
[]
[{"$nulls":23}," "]
["* Sans le Luxembourg, la Grèce et Malte/Ohne Luxemburg, Griechenland und Malta/Without Luxemburg, Greece and Malta/Senza Lussemburgo, Ellas e Malta"]
[": non disponible/not available"]

{"sheet":"2013","index":48,"n_rows":98,"n_cols":16,"rows_kept":98,"merged":[[4,0,4,15],[5,0,5,15],[57,0,57,15],[58,0,58,15]]}
["2014-12-18"]
[]
["PRODUCTION INDUSTRIELLE D'ALIMENTS COMPOSES ",{"$nulls":14},"INDUSTRIELLE  MISCHFUTTERPRODUKTION"]
["PRODUZIONE INDUSTRIALE DI MANGIMI COMPOSTI",{"$nulls":14},"INDUSTRIAL COMPOUND PRODUCTION"]
[2013]
["final"]
[{"$nulls":15},"(1 000 t)"]
[]
["Catégories d'aliments composés/Mischfutterarten",null,"DE","FR","IT","NL","BE","UK","IE","DK","ES","PT","AT","SE","FI","EU-15"]
["Tipi di mangimi compositi/Types of feed",{"$nulls":14},"*"]
[]
[null,null," ",{"$nulls":4}," ",null,null," "]
["Bovins/Cattle/Bovini/Rinder",null,{"$f":"Germany!Z16","v":{"v":6906,"d":"6,906"}},{"$f":"France!Z16","v":{"v":5449,"d":"5,449"}},{"$f":"Italy!Z16","v":{"v":3410,"d":"3,410"}},{"$f":"'The Netherlands'!Z16","v":{"v":3543,"d":"3,543"}},{"$f":"Belgium!Z16","v":{"v":1388,"d":"1,388"}},{"$f":"UK!Z16","v":{"v":5574,"d":"5,574"}},{"$f":"Ireland!Z16","v":{"v":2746,"d":"2,746"}},{"$f":"Denmark!Z16","v":939},{"$f":"Spain!Z16","v":{"v":6700,"d":"6,700"}},{"$f":"Portugal!Z16","v":675},{"$f":"Austria!Z16","v":482},{"$f":"Sweden!Z16","v":903},{"$f":"Finland!Z16","v":669},{"$f":"SUM(C13:O13)","v":{"v":39384,"d":"39,384"}}]
["engrais/fattening/Mast  ",null,{"$f":"Germany!Z17","v":343},{"$f":"France!Z17","v":{"v":1316,"d":"1,316"}},{"$f":"Italy!Z17","v":718},{"$f":"'The Netherlands'!Z17","v":487},{"$f":"Belgium!Z17","v":435},{"$f":"UK!Z17","v":{"v":1622,"d":"1,622"}},{"$f":"Ireland!Z17","v":{"v":1150,"d":"1,150"}},":",":",{"$f":"Portugal!Z17","v":250},{"$f":"Austria!Z17","v":0},{"$f":"Sweden!Z17","v":113},":",":"]
["VL/dairy cow/Milchkühe",null,{"$f":"Germany!Z18","v":{"v":6398,"d":"6,398"}},{"$f":"France!Z18","v":{"v":3281,"d":"3,281"}},{"$f":"Italy!Z18","v":{"v":2587,"d":"2,587"}},{"$f":"'The Netherlands'!Z18","v":{"v":2969,"d":"2,969"}},{"$f":"Belgium!Z18","v":691},{"$f":"UK!Z18","v":{"v":3624,"d":"3,624"}},{"$f":"Ireland!Z18","v":{"v":1310,"d":"1,310"}},{"$f":"Denmark!Z18","v":722},":",{"$f":"Portugal!Z18","v":310},{"$f":"Austria!Z18","v":0},{"$f":"Sweden!Z18","v":752},{"$f":"Finland!Z18","v":0},":"]
["veaux (aliments d'allaitement non compris)/calves ",null,{"$f":"Germany!Z19","v":0},{"$f":"France!Z19","v":0},{"$f":"Italy!Z19","v":0},{"$f":"'The Netherlands'!Z19","v":0},{"$f":"Belgium!Z19","v":103},{"$f":"UK!Z19","v":253},{"$f":"Ireland!Z19","v":196},{"$f":"Denmark!Z19","v":217},":",{"$f":"Portugal!Z19","v":35},{"$f":"Austria!Z19","v":0},{"$f":"Sweden!Z19","v":15},{"$f":"Finland!Z19","v":0},":"]
["(excluding milk replacers)/Kälber (exkl. Milchaustauscher)"]
["autres/others/Andere",null,{"$f":"Germany!Z20","v":165},{"$f":"France!Z20","v":852},{"$f":"Italy!Z20","v":105},{"$f":"'The Netherlands'!Z20","v":87},{"$f":"Belgium!Z20","v":159},{"$f":"UK!Z20","v":75},{"$f":"Ireland!Z20","v":90},{"$f":"Denmark!Z20","v":0},":",{"$f":"Portugal!Z20","v":80},{"$f":"Austria!Z20","v":0},{"$f":"Sweden!Z20","v":23},{"$f":"Finland!Z20","v":0},":"]
[]
[]
["Porcins/Pigs/Suini/Schweine",null,{"$f":"Germany!Z23","v":{"v":9597,"d":"9,597"}},{"$f":"France!Z23","v":{"v":5332,"d":"5,332"}},{"$f":"Italy!Z23","v":{"v":3335,"d":"3,335"}},{"$f":"'The Netherlands'!Z23","v":{"v":5360,"d":"5,360"}},{"$f":"Belgium!Z23","v":{"v":3716,"d":"3,716"}},{"$f":"UK!Z23","v":{"v":1842,"d":"1,842"}},{"$f":"Ireland!Z23","v":690},{"$f":"Denmark!Z23","v":{"v":2582,"d":"2,582"}},{"$f":"Spain!Z23","v":{"v":8900,"d":"8,900"}},{"$f":"Portugal!Z23","v":830},{"$f":"Austria!Z23","v":275},{"$f":"Sweden!Z23","v":297},{"$f":"Finland!Z23","v":293},{"$f":"SUM(C21:O21)","v":{"v":43049,"d":"43,049"}}]
["porcelets/piglets/Ferkel",null,{"$f":"Germany!Z24","v":{"v":1777,"d":"1,777"}},{"$f":"France!Z24","v":761},{"$f":"Italy!Z24","v":0},{"$f":"'The Netherlands'!Z24","v":682},{"$f":"Belgium!Z24","v":852},{"$f":"UK!Z24","v":77},{"$f":"Ireland!Z24","v":126},{"$f":"Denmark!Z24","v":505},":",{"$f":"Portugal!Z24","v":95},{"$f":"Austria!Z24","v":0},{"$f":"Sweden!Z24","v":43},{"$f":"Finland!Z24","v":56},":"]
["porcs engrais/pigs for fattening/Mastschweine",null,{"$f":"Germany!Z25","v":{"v":6208,"d":"6,208"}},{"$f":"France!Z25","v":{"v":3679,"d":"3,679"}},{"$f":"Italy!Z25","v":0},{"$f":"'The Netherlands'!Z25","v":{"v":3490,"d":"3,490"}},{"$f":"Belgium!Z25","v":{"v":2864,"d":"2,864"}},{"$f":"UK!Z25","v":{"v":1321,"d":"1,321"}},{"$f":"Ireland!Z25","v":346},{"$f":"Denmark!Z25","v":{"v":1503,"d":"1,503"}},":",{"$f":"Portugal!Z25","v":570},{"$f":"Austria!Z25","v":0},{"$f":"Sweden!Z25","v":177},{"$f":"Finland!Z25","v":131},":"]
["reproducteurs/breeding pigs/Zuchtschweine",null,{"$f":"Germany!Z26","v":{"v":1195,"d":"1,195"}},{"$f":"France!Z26","v":892},{"$f":"Italy!Z26","v":0},{"$f":"'The Netherlands'!Z26","v":{"v":1188,"d":"1,188"}},{"$f":"Belgium!Z26","v":0},{"$f":"UK!Z26","v":434},{"$f":"Ireland!Z26","v":120},{"$f":"Denmark!Z26","v":574},":",{"$f":"Portugal!Z26","v":158},{"$f":"Austria!Z26","v":0},{"$f":"Sweden!Z26","v":76},{"$f":"Finland!Z26","v":62},":"]
["autres/others/Andere",null,{"$f":"Germany!Z27","v":417},{"$f":"France!Z27","v":0},{"$f":"Italy!Z27","v":0},{"$f":"'The Netherlands'!Z27","v":0},{"$f":"Belgium!Z27","v":0},{"$f":"UK!Z27","v":10},{"$f":"Ireland!Z27","v":98},{"$f":"Denmark!Z27","v":0},":",{"$f":"Portugal!Z27","v":7},{"$f":"Austria!Z27","v":0},{"$f":"Sweden!Z27","v":1},{"$f":"Finland!Z27","v":44},":"]
[{"$nulls":4}," "]
[]
["Volaille/Poultry/Volatili/Geflügel",null,{"$f":"Germany!Z30","v":{"v":6094,"d":"6,094"}},{"$f":"France!Z30","v":{"v":8696,"d":"8,696"}},{"$f":"Italy!Z30","v":{"v":5695,"d":"5,695"}},{"$f":"'The Netherlands'!Z30","v":{"v":3602,"d":"3,602"}},{"$f":"Belgium!Z30","v":{"v":1458,"d":"1,458"}},{"$f":"UK!Z30","v":{"v":6570,"d":"6,570"}},{"$f":"Ireland!Z30","v":529},{"$f":"Denmark!Z30","v":594},{"$f":"Spain!Z30","v":{"v":4400,"d":"4,400"}},{"$f":"Portugal!Z30","v":{"v":1400,"d":"1,400"}},{"$f":"Austria!Z30","v":524},{"$f":"Sweden!Z30","v":548},{"$f":"Finland!Z30","v":324},{"$f":"SUM(C28:O28)","v":{"v":40434,"d":"40,434"}}]
["broilers",null,{"$f":"Germany!Z31","v":{"v":2675,"d":"2,675"}},{"$f":"France!Z31","v":{"v":3379,"d":"3,379"}},{"$f":"Italy!Z31","v":{"v":2972,"d":"2,972"}},{"$f":"'The Netherlands'!Z31","v":{"v":1585,"d":"1,585"}},{"$f":"Belgium!Z31","v":632},{"$f":"UK!Z31","v":{"v":3711,"d":"3,711"}},":",{"$f":"Denmark!Z31","v":160},":",{"$f":"Portugal!Z31","v":874},{"$f":"Austria!Z31","v":0},{"$f":"Sweden!Z31","v":226},{"$f":"Finland!Z31","v":217},":"]
["poulettes & pondeuses/chicks & layers/Jung- & Legehennen",null,{"$f":"Germany!Z32","v":{"v":2052,"d":"2,052"}},{"$f":"France!Z32","v":{"v":2391,"d":"2,391"}},{"$f":"Italy!Z32","v":{"v":1615,"d":"1,615"}},{"$f":"'The Netherlands'!Z32","v":{"v":2017,"d":"2,017"}},{"$f":"Belgium!Z32","v":562},{"$f":"UK!Z32","v":{"v":1544,"d":"1,544"}},":",{"$f":"Denmark!Z32","v":378},":",{"$f":"Portugal!Z32","v":360},{"$f":"Austria!Z32","v":0},{"$f":"Sweden!Z32","v":239},{"$f":"Finland!Z32","v":83},":"]
["autres/others/Andere",null,{"$f":"Germany!Z33","v":{"v":1367,"d":"1,367"}},{"$f":"France!Z33","v":{"v":2926,"d":"2,926"}},{"$f":"Italy!Z33","v":{"v":1108,"d":"1,108"}},{"$f":"'The Netherlands'!Z33","v":0},{"$f":"Belgium!Z33","v":264},{"$f":"UK!Z33","v":{"v":1315,"d":"1,315"}},":",{"$f":"Denmark!Z33","v":56},":",{"$f":"Portugal!Z33","v":166},{"$f":"Austria!Z33","v":0},{"$f":"Sweden!Z33","v":83},{"$f":"Finland!Z33","v":24},":"]
[]
[]
["Al. d'allait./Milk replacers/Sostit. del latte/Milchaust.",null,{"$f":"Germany!Z36","v":155},{"$f":"France!Z36","v":364},{"$f":"Italy!Z36","v":110},{"$f":"'The Netherlands'!Z36","v":616},{"$f":"Belgium!Z36","v":36},{"$f":"UK!Z36","v":0},{"$f":"Ireland!Z36","v":0},{"$f":"Denmark!Z36","v":0},{"$f":"Spain!Z36","v":0},{"$f":"Portugal!Z36","v":0},{"$f":"Austria!Z36","v":0},{"$f":"Sweden!Z36","v":2},{"$f":"Finland!Z36","v":0},{"$f":"SUM(C34:O34)","v":{"v":1283,"d":"1,283"}}]
[]
[{"$nulls":4}," "]
["Autres/others/altri/Andere",null,{"$f":"Germany!Z39","v":727},{"$f":"France!Z39","v":{"v":1458,"d":"1,458"}},{"$f":"Italy!Z39","v":882},{"$f":"'The Netherlands'!Z39","v":320},{"$f":"Belgium!Z39","v":186},{"$f":"UK!Z39","v":{"v":1647,"d":"1,647"}},{"$f":"Ireland!Z39","v":412},{"$f":"Denmark!Z39","v":184},{"$f":"Spain!Z39","v":150},{"$f":"Portugal!Z39","v":195},{"$f":"Austria!Z39","v":125},{"$f":"Sweden!Z39","v":138},{"$f":"Finland!Z39","v":105},{"$f":"SUM(C37:O37)","v":{"v":6529,"d":"6,529"}}]
[]
[]
["TOTAL",null,{"$f":"C37+C34+C28+C21+C13","v":{"v":23479,"d":"23,479"}},{"v":21299,"d":"21,299"},{"v":13432,"d":"13,432"},{"v":13441,"d":"13,441"},{"v":6784,"d":"6,784"},{"v":15633,"d":"15,633"},{"v":4377,"d":"4,377"},{"v":4299,"d":"4,299"},{"v":20150,"d":"20,150"},{"v":3100,"d":"3,100"},{"v":1406,"d":"1,406"},{"v":1888,"d":"1,888"},{"v":1391,"d":"1,391"},{"v":130679,"d":"130,679"}]
[{"$nulls":5}," "]
[]
["* Sans le Luxembourg et la Grèce/ohne Luxemburg und Griechenland/Without Luxemburg and Greece/Senza Lussemburgo e Ella"]
[": non disponible/not available/nicht verfügbar"]
{"$rows_empty":9}
["2014-12-18"]
[]
["PRODUCTION INDUSTRIELLE D'ALIMENTS COMPOSES ",{"$nulls":14},"INDUSTRIELLE  MISCHFUTTERPRODUKTION"]
["PRODUZIONE INDUSTRIALE DI MANGIMI COMPOSTI",{"$nulls":14},"INDUSTRIAL COMPOUND PRODUCTION"]
[2013]
["final"]
[{"$nulls":12},"(1 000 t)"]
[]
["Catégories d'aliments composés/Mischfutterarten",null,"CY","CZ","EE","HU","LV","LT","PL","SK","SI","BU","RO","HR","EU-13","EU-28"]
["Tipi di mangimi compositi/Types of feed",{"$nulls":13},"**","***"]
[]
[null,null," ",{"$nulls":4}," ",null," "]
["Bovins/Cattle/Bovini/Rinder",null,{"$f":"Cyprus!Z16","v":118},{"$f":"'Czech Rep'!Z16","v":473},{"$f":"Estonia!Z16","v":40},{"$f":"Hungary!Z16","v":570},{"$f":"Latvia!Z16","v":115},{"$f":"Lithuania!Z16","v":63},{"$f":"Poland!Z16","v":934},{"$f":"Slovakia!Z16","v":208},{"$f":"Slovenia!Z16","v":95},{"$f":"Bulgaria!Z16","v":153},{"$f":"Romania!Z17","v":100},{"$f":"Croatia!Z16","v":103},{"$f":"SUM(C66:N66)","v":{"v":2972,"d":"2,972"}},{"$f":"P13+O66","v":{"v":42356,"d":"42,356"}}]
["engrais/fattening/Mast  ",null,{"$f":"Cyprus!Z17","v":16},{"$f":"'Czech Rep'!Z17","v":0},{"$f":"Estonia!Z17","v":0},{"$f":"Hungary!Z17","v":0},{"$f":"Latvia!Z17","v":0},{"$f":"Lithuania!Z17","v":13},{"$f":"Poland!Z17","v":0},{"$f":"Slovakia!Z17","v":15},":",":",":",":",":",":"]
["VL/dairy cow/Milchkühe",null,{"$f":"Cyprus!Z18","v":92},{"$f":"'Czech Rep'!Z18","v":0},{"$f":"Estonia!Z18","v":0},{"$f":"Hungary!Z18","v":0},{"$f":"Latvia!Z18","v":0},{"$f":"Lithuania!Z18","v":47},{"$f":"Poland!Z18","v":0},{"$f":"Slovakia!Z18","v":157},":",":",":",":",":",":"]
["veaux (aliments d'allaitement non compris)/calves ",null,{"$f":"Cyprus!Z19","v":10},{"$f":"'Czech Rep'!Z19","v":0},{"$f":"Estonia!Z19","v":0},{"$f":"Hungary!Z19","v":0},{"$f":"Latvia!Z19","v":0},{"$f":"Lithuania!Z19","v":3},{"$f":"Poland!Z19","v":0},{"$f":"Slovakia!Z19","v":17},":",":",":",":",":",":"]
["(excluding milk replacers)/Kälber (exkl. Milchaustauscher)"]
["autres/others/Andere",null,{"$f":"Cyprus!Z20","v":0},{"$f":"'Czech Rep'!Z20","v":0},{"$f":"Estonia!Z20","v":0},{"$f":"Hungary!Z20","v":0},{"$f":"Latvia!Z20","v":0},{"$f":"Lithuania!Z20","v":0},{"$f":"Poland!Z20","v":0},{"$f":"Slovakia!Z20","v":19},":",":",":",":",":",":"]
[]
[]
["Porcins/Pigs/Suini/Schweine",null,{"$f":"Cyprus!Z23","v":34},{"$f":"'Czech Rep'!Z23","v":802},{"$f":"Estonia!Z23","v":140},{"$f":"Hungary!Z23","v":{"v":1350,"d":"1,350"}},{"$f":"Latvia!Z23","v":109},{"$f":"Lithuania!Z23","v":78},{"$f":"Poland!Z23","v":{"v":1850,"d":"1,850"}},{"$f":"Slovakia!Z23","v":239},{"$f":"Slovenia!Z23","v":59},{"$f":"Bulgaria!Z23","v":285},{"$f":"Romania!Z24","v":{"v":1000,"d":"1,000"}},{"$f":"Croatia!Z23","v":211},{"$f":"SUM(C74:N74)","v":{"v":6157,"d":"6,157"}},{"$f":"P21+O74","v":{"v":49206,"d":"49,206"}}]
["porcelets/piglets/Ferkel",null,{"$f":"Cyprus!Z24","v":2},{"$f":"'Czech Rep'!Z24","v":0},{"$f":"Estonia!Z24","v":":"},{"$f":"Hungary!Z24","v":0},{"$f":"Latvia!Z24","v":0},{"$f":"Lithuania!Z24","v":10},{"$f":"Poland!Z24","v":0},{"$f":"Slovakia!Z24","v":24},":",":",":",":",":",":"]
["porcs engrais/pigs for fattening/Mastschweine",null,{"$f":"Cyprus!Z25","v":22},{"$f":"'Czech Rep'!Z25","v":0},{"$f":"Estonia!Z25","v":":"},{"$f":"Hungary!Z25","v":0},{"$f":"Latvia!Z25","v":0},{"$f":"Lithuania!Z25","v":64},{"$f":"Poland!Z25","v":0},{"$f":"Slovakia!Z25","v":164},":",":",":",":",":",":"]
["reproducteurs/breeding pigs/Zuchtschweine",null,{"$f":"Cyprus!Z26","v":10},{"$f":"'Czech Rep'!Z26","v":0},{"$f":"Estonia!Z26","v":":"},{"$f":"Hungary!Z26","v":0},{"$f":"Latvia!Z26","v":0},{"$f":"Lithuania!Z26","v":3},{"$f":"Poland!Z26","v":0},{"$f":"Slovakia!Z26","v":12},":",":",":",":",":",":"]
["autres/others/Andere",null,{"$f":"Cyprus!Z27","v":0},{"$f":"'Czech Rep'!Z27","v":0},{"$f":"Estonia!Z27","v":":"},{"$f":"Hungary!Z27","v":0},{"$f":"Latvia!Z27","v":0},{"$f":"Lithuania!Z27","v":1},{"$f":"Poland!Z27","v":0},{"$f":"Slovakia!Z27","v":39},":",":",":",":",":",":"]
[{"$nulls":4}," "]
[]
["Volaille/Poultry/Volatili/Geflügel",null,{"$f":"Cyprus!Z30","v":48},{"$f":"'Czech Rep'!Z30","v":902},{"$f":"Estonia!Z30","v":48},{"$f":"Hungary!Z30","v":{"v":1520,"d":"1,520"}},{"$f":"Latvia!Z30","v":161},{"$f":"Lithuania!Z30","v":300},{"$f":"Poland!Z30","v":{"v":5259,"d":"5,259"}},{"$f":"Slovakia!Z30","v":241},{"$f":"Slovenia!Z30","v":208},{"$f":"Bulgaria!Z30","v":530},{"$f":"Romania!Z31","v":{"v":1500,"d":"1,500"}},{"$f":"Croatia!Z30","v":261},{"$f":"SUM(C81:N81)","v":{"v":10978,"d":"10,978"}},{"$f":"P28+O81","v":{"v":51412,"d":"51,412"}}]
["broilers",null,{"$f":"Cyprus!Z31","v":35},{"$f":"'Czech Rep'!Z31","v":0},{"$f":"Estonia!Z31","v":":"},{"$f":"Hungary!Z31","v":0},{"$f":"Latvia!Z31","v":0},{"$f":"Lithuania!Z31","v":223},{"$f":"Poland!Z31","v":0},{"$f":"Slovakia!Z31","v":113},":",":",":",":",":",":"]
["poulettes & pondeuses/chicks & layers/Jung- & Legehennen",null,{"$f":"Cyprus!Z32","v":11},{"$f":"'Czech Rep'!Z32","v":0},{"$f":"Estonia!Z32","v":":"},{"$f":"Hungary!Z32","v":0},{"$f":"Latvia!Z32","v":0},{"$f":"Lithuania!Z32","v":57},{"$f":"Poland!Z32","v":0},{"$f":"Slovakia!Z32","v":114},":",":",":",":",":",":"]
["autres/others/Andere",null,{"$f":"Cyprus!Z33","v":2},{"$f":"'Czech Rep'!Z33","v":0},{"$f":"Estonia!Z33","v":":"},{"$f":"Hungary!Z33","v":0},{"$f":"Latvia!Z33","v":0},{"$f":"Lithuania!Z33","v":20},{"$f":"Poland!Z33","v":0},{"$f":"Slovakia!Z33","v":14},":",":",":",":",":",":"]
[]
[]
["Al. d'allait./Milk replacers/Sostit. del latte/Milchaust.",null,{"$f":"Cyprus!Z36","v":1},{"$f":"'Czech Rep'!Z36","v":2},{"$f":"Estonia!Z36","v":0},{"$f":"Hungary!Z36","v":0},{"$f":"Latvia!Z36","v":0},{"$f":"Lithuania!Z36","v":3},{"$f":"Poland!Z36","v":0},{"$f":"Slovakia!Z36","v":0},{"$f":"Slovenia!Z36","v":0},{"$f":"Bulgaria!Z36","v":0},{"$f":"Romania!Z37","v":0},{"$f":"Croatia!Z36","v":0},{"$f":"SUM(C87:N87)","v":6},{"$f":"P34+O87","v":{"v":1289,"d":"1,289"}}]
[]
[{"$nulls":4}," "]
["Autres/others/altri/Andere",null,{"$f":"Cyprus!Z39","v":100},{"$f":"'Czech Rep'!Z39","v":87},{"$f":"Estonia!Z39","v":2},{"$f":"Hungary!Z39","v":160},{"$f":"Latvia!Z39","v":11},{"$f":"Lithuania!Z39","v":15},{"$f":"Poland!Z39","v":523},{"$f":"Slovakia!Z39","v":13},{"$f":"Slovenia!Z39","v":13},{"$f":"Bulgaria!Z39","v":25},{"$f":"Romania!Z40","v":2},{"$f":"Croatia!Z39","v":7},{"$f":"SUM(C90:N90)","v":958},{"$f":"P37+O90","v":{"v":7487,"d":"7,487"}}]
[]
[]
["TOTAL",null,{"$f":"C90+C87+C81+C74+C66","v":301},{"v":2266,"d":"2,266"},230,{"v":3600,"d":"3,600"},396,459,{"v":8566,"d":"8,566"},701,375,993,{"v":2602,"d":"2,602"},582,{"v":21071,"d":"21,071"},{"v":151750,"d":"151,750"}]
[{"$nulls":5}," "]
[]
["** Sans Malte/Ohne Maltas/Without Malta/Senza Malta"]
["*** Sans le Luxembourg, la Grèce et Malte/Ohne Luxemburg, Griechenland und Maltas/Without Luxemburg, Greece and Malta/Senza Lussemburgo, Ellas e Malta"]
[": non disponible/not available/nicht verfügbar"]

{"sheet":"2013-14","index":49,"n_rows":44,"n_cols":24,"rows_kept":44}
["2016-04-13"]
[]
["PRODUCTION INDUSTRIELLE D'ALIMENTS COMPOSES",{"$nulls":22},"INDUSTRIELLE  MISCHFUTTERPRODUKTION"]
["PRODUZIONE INDUSTRIALE DI MANGIMI COMPOSTI",{"$nulls":11},"2013-2014",{"$nulls":10},"INDUSTRIAL COMPOUND PRODUCTION"]
[{"$nulls":12},"final",{"$nulls":10},"(1 000 t )"]
[]
[]
[]
["PAYS",null,"      BOVINS/RINDER",{"$nulls":3},"    PORCS/SCHWEINE",{"$nulls":3},"     VOLAILLE/GEFLÜGEL",null,"      A. ALLAITEMENT/MILCHAUST.",{"$nulls":5},"     AUTRES/ANDERE",null,null,"       TOTAL/INSGESAMT"]
["LAND",null,"      BOVINI/CATTLE",{"$nulls":3},"    SUINI/PIGS",{"$nulls":3},"     VOLATILI/POULTRY",null,"  SOSTIT. DEL LATTE/MILKREPLACERS",{"$nulls":5},"ALTRI ANIMALI/OTHERS",null,null,"          TOTALE/TOTAL"]
["PAESE"]
["COUNTRY",2013,2014,"%TAV",null,2013,2014,"%TAV",null,2013,2014,"%TAV",null,2013,2014,"%TAV",null,2013,2014,"%TAV",null,2013,2014,"%TAV"]
[]
["DE",{"$f":"Germany!Z$16","v":{"v":6906,"d":"6,906"}},{"$f":"Germany!#REF!","v":{"$error":"#REF!"}},{"$f":"((C14/B14)-1)*100","v":{"$error":"#REF!"}},null,{"$f":"Germany!Z$23","v":{"v":9597,"d":"9,597"}},{"$f":"Germany!#REF!","v":{"$error":"#REF!"}},{"$f":"((G14/F14)-1)*100","v":{"$error":"#REF!"}},null,{"$f":"Germany!Z$30","v":{"v":6094,"d":"6,094"}},{"$f":"Germany!#REF!","v":{"$error":"#REF!"}},{"$f":"((K14/J14)-1)*100","v":{"$error":"#REF!"}},null,{"$f":"Germany!Z$36","v":155},{"$f":"Germany!#REF!","v":{"$error":"#REF!"}},{"$f":"((O14/N14)-1)*100","v":{"$error":"#REF!"}},null,{"$f":"Germany!Z$39","v":727},{"$f":"Germany!#REF!","v":{"$error":"#REF!"}},{"$f":"((S14/R14)-1)*100","v":{"$error":"#REF!"}},null,{"$f":"R14+N14+J14+F14+B14","v":{"v":23479,"d":"23,479"}},{"$error":"#REF!"},{"$f":"((W14/V14)-1)*100","v":{"$error":"#REF!"}}]
["FR",{"$f":"France!Z$16","v":{"v":5449,"d":"5,449"}},{"$f":"France!AA$16","v":{"v":5494,"d":"5,494"}},{"v":0.8258396035969895,"d":"0.8"},null,{"$f":"France!Z$23","v":{"v":5332,"d":"5,332"}},{"$f":"France!AA$23","v":{"v":5148,"d":"5,148"}},{"v":-3.450862715678915,"d":"-3.5"},null,{"$f":"France!Z$30","v":{"v":8696,"d":"8,696"}},{"$f":"France!AA$30","v":{"v":8680,"d":"8,680"}},{"v":-0.18399264029438367,"d":"-0.2"},null,{"$f":"France!Z36","v":364},{"$f":"France!AA36","v":346},{"v":-4.94505494505495,"d":"-4.9"},null,{"$f":"France!Z$39","v":{"v":1458,"d":"1,458"}},{"$f":"France!AA$39","v":{"v":1502,"d":"1,502"}},{"v":3.0178326474622708,"d":"3.0"},null,{"$f":"R15+N15+J15+F15+B15","v":{"v":21299,"d":"21,299"}},{"v":21170,"d":"21,170"},{"v":-0.6056622376637399,"d":"-0.6"}]
["IT",{"$f":"Italy!Z$16","v":{"v":3410,"d":"3,410"}},{"$f":"Italy!AA$16","v":{"v":3293,"d":"3,293"}},{"v":-3.431085043988269,"d":"-3.4"},null,{"$f":"Italy!Z$23","v":{"v":3335,"d":"3,335"}},{"$f":"Italy!AA$23","v":{"v":3255,"d":"3,255"}},{"v":-2.398800599700146,"d":"-2.4"},null,{"$f":"Italy!Z$30","v":{"v":5695,"d":"5,695"}},{"$f":"Italy!AA$30","v":{"v":5936,"d":"5,936"}},{"v":4.231782265144868,"d":"4.2"},null,{"$f":"Italy!Z$36","v":110},{"$f":"Italy!AA$36","v":109},{"v":-0.9090909090909038,"d":"-0.9"},null,{"$f":"+Italy!Z$39","v":882},{"$f":"+Italy!AA$39","v":896},{"v":1.5873015873015817,"d":"1.6"},null,{"$f":"R16+N16+J16+F16+B16","v":{"v":13432,"d":"13,432"}},{"v":13489,"d":"13,489"},{"v":0.4243597379392394,"d":"0.4"}]
["NL   ",{"$f":"'The Netherlands'!Z$16","v":{"v":3543,"d":"3,543"}},{"$f":"'The Netherlands'!AA$16","v":{"v":3852,"d":"3,852"}},{"v":8.72142252328536,"d":"8.7"},null,{"$f":"'The Netherlands'!Z$23","v":{"v":5360,"d":"5,360"}},{"$f":"'The Netherlands'!AA$23","v":{"v":5349,"d":"5,349"}},{"v":-0.20522388059701635,"d":"-0.2"},null,{"$f":"'The Netherlands'!Z$30","v":{"v":3602,"d":"3,602"}},{"$f":"'The Netherlands'!AA$30","v":{"v":3689,"d":"3,689"}},{"v":2.4153248195446952,"d":"2.4"},null,{"$f":"'The Netherlands'!Z$36","v":616},{"$f":"'The Netherlands'!AA$36","v":595},{"v":-3.409090909090906,"d":"-3.4"},null,{"$f":"'The Netherlands'!Z$39","v":320},{"$f":"'The Netherlands'!AA$39","v":633},{"v":97.81249999999999,"d":"97.8"},null,{"$f":"R17+N17+J17+F17+B17","v":{"v":13441,"d":"13,441"}},{"v":14118,"d":"14,118"},{"v":5.036827616992778,"d":"5.0"}]
["BE",{"$f":"Belgium!Z$16","v":{"v":1388,"d":"1,388"}},{"$f":"Belgium!AA$16","v":{"v":1322,"d":"1,322"}},{"v":-4.7550432276657,"d":"-4.8"},null,{"$f":"Belgium!Z$23","v":{"v":3716,"d":"3,716"}},{"$f":"Belgium!AA$23","v":{"v":3643,"d":"3,643"}},{"v":-1.964477933261577,"d":"-2.0"},null,{"$f":"Belgium!Z$30","v":{"v":1458,"d":"1,458"}},{"$f":"Belgium!AA$30","v":{"v":1235,"d":"1,235"}},{"v":-15.294924554183808,"d":"-15.3"},null,{"$f":"Belgium!Z$36","v":36},{"$f":"Belgium!AA$36","v":46},{"v":27.777777777777768,"d":"27.8"},null,{"$f":"Belgium!Z$39","v":186},{"$f":"Belgium!AA$39","v":357},{"v":91.93548387096774,"d":"91.9"},null,{"$f":"R18+N18+J18+F18+B18","v":{"v":6784,"d":"6,784"}},{"v":6603,"d":"6,603"},{"v":-2.6680424528301883,"d":"-2.7"}]
["UK ",{"$f":"UK!Z$16","v":{"v":5574,"d":"5,574"}},{"$f":"UK!AA$16","v":{"v":5387,"d":"5,387"}},{"v":-3.3548618586293544,"d":"-3.4"},null,{"$f":"UK!Z$23","v":{"v":1842,"d":"1,842"}},{"$f":"UK!AA$23","v":{"v":2002,"d":"2,002"}},{"v":8.686210640608039,"d":"8.7"},null,{"$f":"UK!Z$30","v":{"v":6570,"d":"6,570"}},{"$f":"UK!AA$30","v":{"v":6640,"d":"6,640"}},{"v":1.0654490106544845,"d":"1.1"},null,{"$f":"UK!Z$36","v":0},{"$f":"UK!AA$36","v":0},{"v":0,"d":"0.0"},null,{"$f":"UK!Z$39","v":{"v":1647,"d":"1,647"}},{"$f":"UK!AA$39","v":{"v":1436,"d":"1,436"}},{"v":-12.811171827565271,"d":"-12.8"},null,{"$f":"R19+N19+J19+F19+B19","v":{"v":15633,"d":"15,633"}},{"v":15465,"d":"15,465"},{"v":-1.0746497793129972,"d":"-1.1"}]
["IE",{"$f":"Ireland!Z$16","v":{"v":2746,"d":"2,746"}},{"$f":"Ireland!AA$16","v":{"v":2327,"d":"2,327"}},{"v":-15.258557902403492,"d":"-15.3"},null,{"$f":"Ireland!Z$23","v":690},{"$f":"Ireland!AA$23","v":676},{"v":-2.0289855072463725,"d":"-2.0"},null,{"$f":"Ireland!Z$30","v":529},{"$f":"Ireland!AA$30","v":521},{"v":-1.5122873345935761,"d":"-1.5"},null,{"$f":"Ireland!Z$36","v":0},{"$f":"Ireland!AA$36","v":0},{"v":0,"d":"0.0"},null,{"$f":"Ireland!Z$39","v":412},{"$f":"Ireland!AA$39","v":98},{"v":-76.2135922330097,"d":"-76.2"},null,{"$f":"R20+N20+J20+F20+B20","v":{"v":4377,"d":"4,377"}},{"v":3622,"d":"3,622"},{"v":-17.24925748229381,"d":"-17.2"}]
["DK ",{"$f":"Denmark!Z$16","v":939},{"$f":"Denmark!AA$16","v":917},{"v":-2.3429179978700754,"d":"-2.3"},null,{"$f":"Denmark!Z$23","v":{"v":2582,"d":"2,582"}},{"$f":"Denmark!AA$23","v":{"v":2584,"d":"2,584"}},{"v":0.07745933384972759,"d":"0.1"},null,{"$f":"Denmark!Z$30","v":594},{"$f":"Denmark!AA$30","v":610},{"v":2.6936026936027035,"d":"2.7"},null,{"$f":"Denmark!Z$36","v":0},{"$f":"Denmark!AA$36","v":0},{"v":0,"d":"0.0"},null,{"$f":"Denmark!Z$39","v":184},{"$f":"Denmark!AA$39","v":200},{"v":8.695652173913038,"d":"8.7"},null,{"$f":"R21+N21+J21+F21+B21","v":{"v":4299,"d":"4,299"}},{"v":4311,"d":"4,311"},{"v":0.2791346824843055,"d":"0.3"}]
["ES",{"$f":"Spain!Z$16","v":{"v":6700,"d":"6,700"}},{"$f":"Spain!AA$16","v":{"v":7154,"d":"7,154"}},{"v":6.776119402985081,"d":"6.8"},null,{"$f":"Spain!Z$23","v":{"v":8900,"d":"8,900"}},{"$f":"Spain!AA$23","v":{"v":9625,"d":"9,625"}},{"v":8.14606741573034,"d":"8.1"},null,{"$f":"Spain!Z$30","v":{"v":4400,"d":"4,400"}},{"$f":"Spain!AA$30","v":{"v":4654,"d":"4,654"}},{"v":5.772727272727263,"d":"5.8"},null,{"$f":"Spain!Z$36","v":0},{"$f":"Spain!AA$36","v":0},{"v":0,"d":"0.0"},null,{"$f":"Spain!Z$39","v":150},{"$f":"Spain!AA$39","v":138},{"v":-7.9999999999999964,"d":"-8.0"},null,{"$f":"R22+N22+J22+F22+B22","v":{"v":20150,"d":"20,150"}},{"v":21571,"d":"21,571"},{"v":7.0521091811414305,"d":"7.1"}]
["PT",{"$f":"Portugal!Z$16","v":675},{"$f":"Portugal!AA$16","v":695},{"v":2.9629629629629672,"d":"3.0"},null,{"$f":"Portugal!Z$23","v":830},{"$f":"Portugal!AA$23","v":820},{"v":-1.2048192771084376,"d":"-1.2"},null,{"$f":"Portugal!Z$30","v":{"v":1400,"d":"1,400"}},{"$f":"Portugal!AA$30","v":{"v":1390,"d":"1,390"}},{"v":-0.7142857142857117,"d":"-0.7"},null,{"$f":"Portugal!Z$36","v":0},{"$f":"Portugal!AA$36","v":0},{"v":0,"d":"0.0"},null,{"$f":"Portugal!Z$39","v":195},{"$f":"Portugal!AA$39","v":190},{"v":-2.564102564102566,"d":"-2.6"},null,{"$f":"R23+N23+J23+F23+B23","v":{"v":3100,"d":"3,100"}},{"v":3095,"d":"3,095"},{"v":-0.1612903225806428,"d":"-0.2"}]
["AT",{"$f":"Austria!Z$16","v":482},{"$f":"Austria!AA$16","v":522},{"v":8.298755186721984,"d":"8.3"},null,{"$f":"Austria!Z$23","v":275},{"$f":"Austria!AA$23","v":277},{"v":0.727272727272732,"d":"0.7"},null,{"$f":"Austria!Z$30","v":524},{"$f":"Austria!AA$30","v":547},{"v":4.389312977099236,"d":"4.4"},null,{"$f":"Austria!Z$36","v":0},{"$f":"Austria!AA$36","v":0},{"v":0,"d":"0.0"},null,{"$f":"Austria!Z$39","v":125},{"$f":"Austria!AA$39","v":126},{"v":0.8000000000000007,"d":"0.8"},null,{"$f":"R24+N24+J24+F24+B24","v":{"v":1406,"d":"1,406"}},{"v":1472,"d":"1,472"},{"v":4.694167852062581,"d":"4.7"}]
["SE",{"$f":"Sweden!Z$16","v":903},{"$f":"Sweden!AA$16","v":841},{"v":-6.866002214839428,"d":"-6.9"},null,{"$f":"Sweden!Z$23","v":297},{"$f":"Sweden!AA$23","v":302},{"v":1.683501683501687,"d":"1.7"},null,{"$f":"Sweden!Z$30","v":548},{"$f":"Sweden!AA$30","v":572},{"v":4.379562043795615,"d":"4.4"},null,{"$f":"Sweden!Z$36","v":2},{"$f":"Sweden!AA$36","v":2},{"$f":"((O25/N25)-1)*100","v":{"v":0,"d":"0.0"}},null,{"$f":"Sweden!Z$39","v":138},{"$f":"Sweden!AA$39","v":101},{"v":-26.811594202898547,"d":"-26.8"},null,{"$f":"R25+N25+J25+F25+B25","v":{"v":1888,"d":"1,888"}},{"v":1818,"d":"1,818"},{"v":-3.7076271186440635,"d":"-3.7"}]
["FI",{"$f":"Finland!Z$16","v":669},{"$f":"Finland!AA$16","v":674},{"v":0.7473841554558991,"d":"0.7"},null,{"$f":"Finland!Z$23","v":293},{"$f":"Finland!AA$23","v":275},{"v":-6.1433447098976135,"d":"-6.1"},null,{"$f":"Finland!Z$30","v":324},{"$f":"Finland!AA$30","v":330},{"v":1.85185185185186,"d":"1.9"},null,{"$f":"Finland!Z$36","v":0},{"$f":"Finland!AA$36","v":0},{"v":0,"d":"0.0"},null,{"$f":"Finland!Z$39","v":105},{"$f":"Finland!AA$39","v":113},{"v":7.619047619047614,"d":"7.6"},null,{"$f":"R26+N26+J26+F26+B26","v":{"v":1391,"d":"1,391"}},{"v":1392,"d":"1,392"},{"v":0.07189072609632419,"d":"0.1"}]
["CY",{"$f":"Cyprus!Z$16","v":118},{"$f":"Cyprus!AA$16","v":124},{"v":5.084745762711873,"d":"5.1"},null,{"$f":"Cyprus!Z$23","v":34},{"$f":"Cyprus!AA$23","v":36},{"v":5.882352941176472,"d":"5.9"},null,{"$f":"Cyprus!Z$30","v":48},{"$f":"Cyprus!AA$30","v":49},{"v":2.083333333333326,"d":"2.1"},null,{"$f":"Cyprus!Z$36","v":1},{"$f":"Cyprus!AA$36","v":1},{"v":0,"d":"0.0"},null,{"$f":"Cyprus!Z$39","v":100},{"$f":"Cyprus!AA$39","v":101},{"v":1.0000000000000009,"d":"1.0"},null,{"$f":"R27+N27+J27+F27+B27","v":301},311,{"v":3.322259136212624,"d":"3.3"}]
["CZ",{"$f":"'Czech Rep'!Z$16","v":473},{"$f":"'Czech Rep'!AA$16","v":505},{"v":6.765327695560264,"d":"6.8"},null,{"$f":"'Czech Rep'!Z$23","v":802},{"$f":"'Czech Rep'!AA$23","v":803},{"v":0.12468827930174342,"d":"0.1"},null,{"$f":"'Czech Rep'!Z$30","v":902},{"$f":"'Czech Rep'!AA$30","v":956},{"v":5.986696230598665,"d":"6.0"},null,{"$f":"'Czech Rep'!Z$36","v":2},{"$f":"'Czech Rep'!AA$36","v":2},{"$f":"((O28/N28)-1)*100","v":{"v":0,"d":"0.0"}},null,{"$f":"'Czech Rep'!Z$39","v":87},{"$f":"'Czech Rep'!AA$39","v":84},{"v":-3.4482758620689613,"d":"-3.4"},null,{"$f":"R28+N28+J28+F28+B28","v":{"v":2266,"d":"2,266"}},{"v":2350,"d":"2,350"},{"v":3.7069726390114743,"d":"3.7"}]
["EE",{"$f":"Estonia!Z$16","v":40},{"$f":"Estonia!AA$16","v":40},{"v":0,"d":"0.0"},null,{"$f":"Estonia!Z$23","v":140},{"$f":"Estonia!AA$23","v":140},{"v":0,"d":"0.0"},null,{"$f":"Estonia!Z$30","v":48},{"$f":"Estonia!AA$30","v":48},{"v":0,"d":"0.0"},null,{"$f":"Estonia!Z$36","v":0},{"$f":"Estonia!AA$36","v":0},{"v":0,"d":"0.0"},null,{"$f":"Estonia!Z$39","v":2},{"$f":"Estonia!AA$39","v":2},{"v":0,"d":"0.0"},null,{"$f":"R29+N29+J29+F29+B29","v":230},230,{"v":0,"d":"0.0"}]
["HU",{"$f":"Hungary!Z$16","v":570},{"$f":"Hungary!AA$16","v":600},{"v":5.263157894736836,"d":"5.3"},null,{"$f":"Hungary!Z$23","v":{"v":1350,"d":"1,350"}},{"$f":"Hungary!AA$23","v":{"v":1350,"d":"1,350"}},{"v":0,"d":"0.0"},null,{"$f":"Hungary!Z$30","v":{"v":1520,"d":"1,520"}},{"$f":"Hungary!AA$30","v":{"v":1600,"d":"1,600"}},{"v":5.263157894736836,"d":"5.3"},null,{"$f":"Hungary!Z$36","v":0},{"$f":"Hungary!AA$36","v":0},{"v":0,"d":"0.0"},null,{"$f":"Hungary!Z$39","v":160},{"$f":"Hungary!AA$39","v":160},{"v":0,"d":"0.0"},null,{"$f":"R30+N30+J30+F30+B30","v":{"v":3600,"d":"3,600"}},{"v":3710,"d":"3,710"},{"v":3.0555555555555447,"d":"3.1"}]
["LV",{"$f":"Latvia!Z$16","v":115},{"$f":"Latvia!AA$16","v":62},{"v":-46.08695652173913,"d":"-46.1"},null,{"$f":"Latvia!Z$23","v":109},{"$f":"Latvia!AA$23","v":91},{"v":-16.51376146788991,"d":"-16.5"},null,{"$f":"Latvia!Z$30","v":161},{"$f":"Latvia!AA$30","v":162},{"v":0.6211180124223503,"d":"0.6"},null,{"$f":"Latvia!Z$36","v":0},{"$f":"Latvia!AA$36","v":0},{"v":0,"d":"0.0"},null,{"$f":"Latvia!Z$39","v":11},{"$f":"Latvia!AA$39","v":10},{"v":-9.090909090909093,"d":"-9.1"},null,{"$f":"R31+N31+J31+F31+B31","v":396},325,{"v":-17.929292929292927,"d":"-17.9"}]
["LT",{"$f":"Lithuania!Z$16","v":63},{"$f":"Lithuania!AA$16","v":60},{"v":-4.761904761904767,"d":"-4.8"},null,{"$f":"Lithuania!Z$23","v":78},{"$f":"Lithuania!AA$23","v":60},{"v":-23.076923076923073,"d":"-23.1"},null,{"$f":"Lithuania!Z$30","v":300},{"$f":"Lithuania!AA$30","v":310},{"v":3.3333333333333437,"d":"3.3"},null,{"$f":"Lithuania!Z$36","v":3},{"$f":"Lithuania!AA$36","v":4},{"$f":"((O32/N32)-1)*100","v":{"v":33.33333333333333,"d":"33.3"}},null,{"$f":"Lithuania!Z$39","v":15},{"$f":"Lithuania!AA$39","v":15},{"v":0,"d":"0.0"},null,{"$f":"R32+N32+J32+F32+B32","v":459},449,{"v":-2.178649237472763,"d":"-2.2"}]
["PL",{"$f":"Poland!Z$16","v":934},{"$f":"Poland!AA$16","v":{"v":1032,"d":"1,032"}},{"v":10.492505353319048,"d":"10.5"},null,{"$f":"Poland!Z$23","v":{"v":1850,"d":"1,850"}},{"$f":"Poland!AA$23","v":{"v":1906,"d":"1,906"}},{"v":3.0270270270270183,"d":"3.0"},null,{"$f":"Poland!Z$30","v":{"v":5259,"d":"5,259"}},{"$f":"Poland!AA$30","v":{"v":5370,"d":"5,370"}},{"v":2.110667427267532,"d":"2.1"},null,{"$f":"Poland!Z$36","v":0},{"$f":"Poland!AA$36","v":0},{"v":0,"d":"0.0"},null,{"$f":"Poland!Z$39","v":523},{"$f":"Poland!AA$39","v":557},{"v":6.5009560229445595,"d":"6.5"},null,{"$f":"R33+N33+J33+F33+B33","v":{"v":8566,"d":"8,566"}},{"v":8865,"d":"8,865"},{"v":3.4905440112070973,"d":"3.5"}]
["SK",{"$f":"Slovakia!Z$16","v":208},{"$f":"Slovakia!AA$16","v":223},{"v":7.211538461538458,"d":"7.2"},null,{"$f":"Slovakia!Z$23","v":239},{"$f":"Slovakia!AA$23","v":248},{"v":3.765690376569042,"d":"3.8"},null,{"$f":"Slovakia!Z$30","v":241},{"$f":"Slovakia!AA$30","v":225},{"v":-6.639004149377592,"d":"-6.6"},null,{"$f":"Slovakia!Z$36","v":0},{"$f":"Slovakia!AA$36","v":0},{"v":0,"d":"0.0"},null,{"$f":"+Slovakia!Z$39","v":13},{"$f":"+Slovakia!AA$39","v":14},{"v":7.692307692307687,"d":"7.7"},null,{"$f":"R34+N34+J34+F34+B34","v":701},710,{"v":1.2838801711840153,"d":"1.3"}]
["SI",{"$f":"Slovenia!Z$16","v":95},{"$f":"Slovenia!AA$16","v":84},{"v":-11.578947368421055,"d":"-11.6"},null,{"$f":"Slovenia!Z$23","v":59},{"$f":"Slovenia!AA$23","v":48},{"v":-18.644067796610166,"d":"-18.6"},null,{"$f":"Slovenia!Z$30","v":208},{"$f":"Slovenia!AA$30","v":202},{"v":-2.8846153846153855,"d":"-2.9"},null,{"$f":"Slovenia!Z$36","v":0},{"$f":"Slovenia!AA$36","v":0},{"v":0,"d":"0.0"},null,{"$f":"Slovenia!Z$39","v":13},{"$f":"Slovenia!AA$39","v":24},{"v":84.61538461538463,"d":"84.6"},null,{"$f":"R35+N35+J35+F35+B35","v":375},358,{"v":-4.533333333333333,"d":"-4.5"}]
["BU",{"$f":"Bulgaria!Z$16","v":153},{"$f":"Bulgaria!AA$16","v":125},{"v":-18.300653594771244,"d":"-18.3"},null,{"$f":"Bulgaria!Z$23","v":285},{"$f":"Bulgaria!AA$23","v":291},{"v":2.1052631578947434,"d":"2.1"},null,{"$f":"Bulgaria!Z$30","v":530},{"$f":"Bulgaria!AA$30","v":510},{"v":-3.7735849056603765,"d":"-3.8"},null,{"$f":"Bulgaria!Z$36","v":0},{"$f":"Bulgaria!AA$36","v":0},{"v":0,"d":"0.0"},null,{"$f":"Bulgaria!Z$39","v":25},{"$f":"Bulgaria!AA$39","v":25},{"v":0,"d":"0.0"},null,{"$f":"R36+N36+J36+F36+B36","v":993},951,{"v":-4.229607250755285,"d":"-4.2"}]
["RO",{"$f":"Romania!Z$17","v":100},{"$f":"Romania!AA$17","v":64},{"v":-36,"d":"-36.0"},null,{"$f":"Romania!Z$24","v":{"v":1000,"d":"1,000"}},{"$f":"Romania!AA$24","v":{"v":1011,"d":"1,011"}},{"v":1.0999999999999899,"d":"1.1"},null,{"$f":"Romania!Z$31","v":{"v":1500,"d":"1,500"}},{"$f":"Romania!AA$31","v":{"v":1251,"d":"1,251"}},{"v":-16.600000000000005,"d":"-16.6"},null,{"$f":"Romania!Z$37","v":0},{"$f":"Romania!AA$37","v":0},{"v":0,"d":"0.0"},null,{"$f":"Romania!Z$40","v":2},{"$f":"Romania!AA$40","v":2},{"v":0,"d":"0.0"},null,{"$f":"R37+N37+J37+F37+B37","v":{"v":2602,"d":"2,602"}},{"v":2328,"d":"2,328"},{"v":-10.530361260568789,"d":"-10.5"}]
["HR",{"$f":"Croatia!Z$16","v":103},{"$f":"Croatia!AA$16","v":130},{"v":26.21359223300972,"d":"26.2"},null,{"$f":"Croatia!Z$23","v":211},{"$f":"Croatia!AA$23","v":221},{"v":4.739336492891,"d":"4.7"},null,{"$f":"Croatia!Z$30","v":261},{"$f":"Croatia!AA$30","v":276},{"v":5.747126436781613,"d":"5.7"},null,{"$f":"Croatia!Z$36","v":0},{"$f":"Croatia!AA$36","v":0},{"v":0,"d":"0.0"},null,{"$f":"Croatia!Z$39","v":7},{"$f":"Croatia!AA$39","v":11},{"v":57.14285714285714,"d":"57.1"},null,{"$f":"R38+N38+J38+F38+B38","v":582},638,{"v":9.621993127147777,"d":"9.6"}]
[]
["EUR 28 *",{"$f":"SUM(B14:B38)","v":{"v":42356,"d":"42,356"}},{"$error":"#REF!"},{"$f":"((C40/B40)-1)*100","v":{"$error":"#REF!"}},null,{"$f":"SUM(F14:F38)","v":{"v":49206,"d":"49,206"}},{"$error":"#REF!"},{"$f":"((G40/F40)-1)*100","v":{"$error":"#REF!"}},null,{"$f":"SUM(J14:J38)","v":{"v":51412,"d":"51,412"}},{"$error":"#REF!"},{"$f":"((K40/J40)-1)*100","v":{"$error":"#REF!"}},null,{"$f":"SUM(N14:N38)","v":{"v":1289,"d":"1,289"}},{"$error":"#REF!"},{"$f":"((O40/N40)-1)*100","v":{"$error":"#REF!"}},null,{"$f":"SUM(R14:R38)","v":{"v":7487,"d":"7,487"}},{"$error":"#REF!"},{"$f":"((S40/R40)-1)*100","v":{"$error":"#REF!"}},null,{"$f":"SUM(V14:V38)","v":{"v":151750,"d":"151,750"}},{"$error":"#REF!"},{"$f":"((W40/V40)-1)*100","v":{"$error":"#REF!"}}]
[]
[{"$nulls":23}," "]
["* Sans le Luxembourg, la Grèce et Malte/Ohne Luxemburg, Griechenland und Malta/Without Luxemburg, Greece and Malta/Senza Lussemburgo, Ellas e Malta"]
[": non disponible/not available"]

{"sheet":"2014","index":50,"n_rows":98,"n_cols":16,"rows_kept":98,"merged":[[4,0,4,15],[5,0,5,15],[57,0,57,15],[58,0,58,15]]}
["2016-05-09"]
[]
["PRODUCTION INDUSTRIELLE D'ALIMENTS COMPOSES ",{"$nulls":14},"INDUSTRIELLE  MISCHFUTTERPRODUKTION"]
["PRODUZIONE INDUSTRIALE DI MANGIMI COMPOSTI",{"$nulls":14},"INDUSTRIAL COMPOUND PRODUCTION"]
[2014]
["final"]
[{"$nulls":15},"(1 000 t)"]
[]
["Catégories d'aliments composés/Mischfutterarten",null,"DE","FR","IT","NL","BE","UK","IE","DK","ES","PT","AT","SE","FI","EU-15"]
["Tipi di mangimi compositi/Types of feed",{"$nulls":14},"*"]
[]
[null,null," ",{"$nulls":4}," ",null,null," "]
["Bovins/Cattle/Bovini/Rinder",null,{"$f":"Germany!#REF!","v":{"$error":"#REF!"}},{"$f":"France!AA16","v":{"v":5494,"d":"5,494"}},{"$f":"Italy!AA16","v":{"v":3293,"d":"3,293"}},{"$f":"'The Netherlands'!AA16","v":{"v":3852,"d":"3,852"}},{"$f":"Belgium!AA16","v":{"v":1322,"d":"1,322"}},{"$f":"UK!AA16","v":{"v":5387,"d":"5,387"}},{"$f":"Ireland!AA16","v":{"v":2327,"d":"2,327"}},{"$f":"Denmark!AA16","v":917},{"$f":"Spain!AA16","v":{"v":7154,"d":"7,154"}},{"$f":"Portugal!AA16","v":695},{"$f":"Austria!AA16","v":522},{"$f":"Sweden!AA16","v":841},{"$f":"Finland!AA16","v":674},{"$f":"SUM(C13:O13)","v":{"$error":"#REF!"}}]
["engrais/fattening/Mast  ",null,{"$f":"Germany!#REF!","v":{"$error":"#REF!"}},{"$f":"France!AA17","v":{"v":1664,"d":"1,664"}},{"$f":"Italy!AA17","v":716},{"$f":"'The Netherlands'!AA17","v":0},{"$f":"Belgium!AA17","v":418},{"$f":"UK!AA17","v":{"v":1371,"d":"1,371"}},{"$f":"Ireland!AA17","v":{"v":1113,"d":"1,113"}},":",":",{"$f":"Portugal!AA17","v":258},{"$f":"Austria!AA17","v":0},":",":",":"]
["VL/dairy cow/Milchkühe",null,{"$f":"Germany!#REF!","v":{"$error":"#REF!"}},{"$f":"France!AA18","v":{"v":3830,"d":"3,830"}},{"$f":"Italy!AA18","v":{"v":2473,"d":"2,473"}},{"$f":"'The Netherlands'!AA18","v":0},{"$f":"Belgium!AA18","v":649},{"$f":"UK!AA18","v":{"v":3690,"d":"3,690"}},{"$f":"Ireland!AA18","v":952},{"$f":"Denmark!AA18","v":698},":",{"$f":"Portugal!AA18","v":270},{"$f":"Austria!AA18","v":0},":",{"$f":"Finland!AA18","v":":"},":"]
["veaux (aliments d'allaitement non compris)/calves ",null,{"$f":"Germany!#REF!","v":{"$error":"#REF!"}},{"$f":"France!AA19","v":0},{"$f":"Italy!AA19","v":0},{"$f":"'The Netherlands'!AA19","v":0},{"$f":"Belgium!AA19","v":255},{"$f":"UK!AA19","v":250},{"$f":"Ireland!AA19","v":172},{"$f":"Denmark!AA19","v":219},":",{"$f":"Portugal!AA19","v":40},{"$f":"Austria!AA19","v":0},":",{"$f":"Finland!AA19","v":":"},":"]
["(excluding milk replacers)/Kälber (exkl. Milchaustauscher)"]
["autres/others/Andere",null,{"$f":"Germany!#REF!","v":{"$error":"#REF!"}},{"$f":"France!AA20","v":0},{"$f":"Italy!AA20","v":104},{"$f":"'The Netherlands'!AA20","v":0},{"$f":"Belgium!AA20","v":":"},{"$f":"UK!AA20","v":76},{"$f":"Ireland!AA20","v":90},{"$f":"Denmark!AA20","v":0},":",{"$f":"Portugal!AA20","v":127},{"$f":"Austria!AA20","v":0},":",{"$f":"Finland!AA20","v":":"},":"]
[]
[]
["Porcins/Pigs/Suini/Schweine",null,{"$f":"Germany!#REF!","v":{"$error":"#REF!"}},{"$f":"France!AA23","v":{"v":5148,"d":"5,148"}},{"$f":"Italy!AA23","v":{"v":3255,"d":"3,255"}},{"$f":"'The Netherlands'!AA23","v":{"v":5349,"d":"5,349"}},{"$f":"Belgium!AA23","v":{"v":3643,"d":"3,643"}},{"$f":"UK!AA23","v":{"v":2002,"d":"2,002"}},{"$f":"Ireland!AA23","v":676},{"$f":"Denmark!AA23","v":{"v":2584,"d":"2,584"}},{"$f":"Spain!AA23","v":{"v":9625,"d":"9,625"}},{"$f":"Portugal!AA23","v":820},{"$f":"Austria!AA23","v":277},{"$f":"Sweden!AA23","v":302},{"$f":"Finland!AA23","v":275},{"$f":"SUM(C21:O21)","v":{"$error":"#REF!"}}]
["porcelets/piglets/Ferkel",null,{"$f":"Germany!#REF!","v":{"$error":"#REF!"}},{"$f":"France!AA24","v":744},{"$f":"Italy!AA24","v":0},{"$f":"'The Netherlands'!AA24","v":0},{"$f":"Belgium!AA24","v":{"v":1040,"d":"1,040"}},{"$f":"UK!AA24","v":78},{"$f":"Ireland!AA24","v":117},{"$f":"Denmark!AA24","v":536},":",{"$f":"Portugal!AA24","v":92},{"$f":"Austria!AA24","v":0},":",{"$f":"Finland!AA24","v":55},":"]
["porcs engrais/pigs for fattening/Mastschweine",null,{"$f":"Germany!#REF!","v":{"$error":"#REF!"}},{"$f":"France!AA25","v":{"v":3532,"d":"3,532"}},{"$f":"Italy!AA25","v":0},{"$f":"'The Netherlands'!AA25","v":0},{"$f":"Belgium!AA25","v":{"v":2089,"d":"2,089"}},{"$f":"UK!AA25","v":{"v":1461,"d":"1,461"}},{"$f":"Ireland!AA25","v":392},{"$f":"Denmark!AA25","v":{"v":1477,"d":"1,477"}},":",{"$f":"Portugal!AA25","v":545},{"$f":"Austria!AA25","v":0},":",{"$f":"Finland!AA25","v":110},":"]
["reproducteurs/breeding pigs/Zuchtschweine",null,{"$f":"Germany!#REF!","v":{"$error":"#REF!"}},{"$f":"France!AA26","v":872},{"$f":"Italy!AA26","v":0},{"$f":"'The Netherlands'!AA26","v":0},{"$f":"Belgium!AA26","v":514},{"$f":"UK!AA26","v":452},{"$f":"Ireland!AA26","v":118},{"$f":"Denmark!AA26","v":571},":",{"$f":"Portugal!AA26","v":170},{"$f":"Austria!AA26","v":0},":",{"$f":"Finland!AA26","v":59},":"]
["autres/others/Andere",null,{"$f":"Germany!#REF!","v":{"$error":"#REF!"}},{"$f":"France!AA27","v":0},{"$f":"Italy!AA27","v":0},{"$f":"'The Netherlands'!AA27","v":0},{"$f":"Belgium!AA27","v":0},{"$f":"UK!AA27","v":11},{"$f":"Ireland!AA27","v":49},{"$f":"Denmark!AA27","v":0},":",{"$f":"Portugal!AA27","v":13},{"$f":"Austria!AA27","v":0},":",{"$f":"Finland!AA27","v":51},":"]
[{"$nulls":4}," "]
[]
["Volaille/Poultry/Volatili/Geflügel",null,{"$f":"Germany!#REF!","v":{"$error":"#REF!"}},{"$f":"France!AA30","v":{"v":8680,"d":"8,680"}},{"$f":"Italy!AA30","v":{"v":5936,"d":"5,936"}},{"$f":"'The Netherlands'!AA30","v":{"v":3689,"d":"3,689"}},{"$f":"Belgium!AA30","v":{"v":1235,"d":"1,235"}},{"$f":"UK!AA30","v":{"v":6640,"d":"6,640"}},{"$f":"Ireland!AA30","v":521},{"$f":"Denmark!AA30","v":610},{"$f":"Spain!AA30","v":{"v":4654,"d":"4,654"}},{"$f":"Portugal!AA30","v":{"v":1390,"d":"1,390"}},{"$f":"Austria!AA30","v":547},{"$f":"Sweden!AA30","v":572},{"$f":"Finland!AA30","v":330},{"$f":"SUM(C28:O28)","v":{"$error":"#REF!"}}]
["broilers",null,{"$f":"Germany!#REF!","v":{"$error":"#REF!"}},{"$f":"France!AA31","v":{"v":3265,"d":"3,265"}},{"$f":"Italy!AA31","v":{"v":3114,"d":"3,114"}},{"$f":"'The Netherlands'!AA31","v":0},{"$f":"Belgium!AA31","v":619},{"$f":"UK!AA31","v":{"v":3792,"d":"3,792"}},":",{"$f":"Denmark!AA31","v":158},":",{"$f":"Portugal!AA31","v":850},{"$f":"Austria!AA31","v":0},":",{"$f":"Finland!AA31","v":227},":"]
["poulettes & pondeuses/chicks & layers/Jung- & Legehennen",null,{"$f":"Germany!#REF!","v":{"$error":"#REF!"}},{"$f":"France!AA32","v":{"v":2417,"d":"2,417"}},{"$f":"Italy!AA32","v":{"v":1750,"d":"1,750"}},{"$f":"'The Netherlands'!AA32","v":0},{"$f":"Belgium!AA32","v":441},{"$f":"UK!AA32","v":{"v":1551,"d":"1,551"}},":",{"$f":"Denmark!AA32","v":400},":",{"$f":"Portugal!AA32","v":320},{"$f":"Austria!AA32","v":0},":",{"$f":"Finland!AA32","v":79},":"]
["autres/others/Andere",null,{"$f":"Germany!#REF!","v":{"$error":"#REF!"}},{"$f":"France!AA33","v":{"v":2998,"d":"2,998"}},{"$f":"Italy!AA33","v":{"v":1072,"d":"1,072"}},{"$f":"'The Netherlands'!AA33","v":0},{"$f":"Belgium!AA33","v":175},{"$f":"UK!AA33","v":{"v":1297,"d":"1,297"}},":",{"$f":"Denmark!AA33","v":52},":",{"$f":"Portugal!AA33","v":220},{"$f":"Austria!AA33","v":0},":",{"$f":"Finland!AA33","v":24},":"]
[]
[]
["Al. d'allait./Milk replacers/Sostit. del latte/Milchaust.",null,{"$f":"Germany!#REF!","v":{"$error":"#REF!"}},{"$f":"France!AA36","v":346},{"$f":"Italy!AA36","v":109},{"$f":"'The Netherlands'!AA36","v":595},{"$f":"Belgium!AA36","v":46},{"$f":"UK!AA36","v":0},{"$f":"Ireland!AA36","v":0},{"$f":"Denmark!AA36","v":0},{"$f":"Spain!AA36","v":0},{"$f":"Portugal!AA36","v":0},{"$f":"Austria!AA36","v":0},{"$f":"Sweden!AA36","v":2},{"$f":"Finland!AA36","v":0},{"$f":"SUM(C34:O34)","v":{"$error":"#REF!"}}]
[]
[{"$nulls":4}," "]
["Autres/others/altri/Andere",null,{"$f":"Germany!#REF!","v":{"$error":"#REF!"}},{"$f":"France!AA39","v":{"v":1502,"d":"1,502"}},{"$f":"Italy!AA39","v":896},{"$f":"'The Netherlands'!AA39","v":633},{"$f":"Belgium!AA39","v":357},{"$f":"UK!AA39","v":{"v":1436,"d":"1,436"}},{"$f":"Ireland!AA39","v":98},{"$f":"Denmark!AA39","v":200},{"$f":"Spain!AA39","v":138},{"$f":"Portugal!AA39","v":190},{"$f":"Austria!AA39","v":126},{"$f":"Sweden!AA39","v":101},{"$f":"Finland!AA39","v":113},{"$f":"SUM(C37:O37)","v":{"$error":"#REF!"}}]
[]
[]
["TOTAL",null,{"$f":"C37+C34+C28+C21+C13","v":{"$error":"#REF!"}},{"v":21170,"d":"21,170"},{"v":13489,"d":"13,489"},{"v":14118,"d":"14,118"},{"v":6603,"d":"6,603"},{"v":15465,"d":"15,465"},{"v":3622,"d":"3,622"},{"v":4311,"d":"4,311"},{"v":21571,"d":"21,571"},{"v":3095,"d":"3,095"},{"v":1472,"d":"1,472"},{"v":1818,"d":"1,818"},{"v":1392,"d":"1,392"},{"$error":"#REF!"}]
[{"$nulls":5}," "]
[]
["* Sans le Luxembourg et la Grèce/ohne Luxemburg und Griechenland/Without Luxemburg and Greece/Senza Lussemburgo e Ella"]
[": non disponible/not available/nicht verfügbar"]
{"$rows_empty":9}
["2016-05-09"]
[]
["PRODUCTION INDUSTRIELLE D'ALIMENTS COMPOSES ",{"$nulls":14},"INDUSTRIELLE  MISCHFUTTERPRODUKTION"]
["PRODUZIONE INDUSTRIALE DI MANGIMI COMPOSTI",{"$nulls":14},"INDUSTRIAL COMPOUND PRODUCTION"]
[2014]
["final"]
[{"$nulls":15},"(1 000 t)"]
[]
["Catégories d'aliments composés/Mischfutterarten",null,"CY","CZ","EE","HU","LV","LT","PL","SK","SI","BU","RO","HR","EU-13","EU-28"]
["Tipi di mangimi compositi/Types of feed",{"$nulls":13},"**","***"]
[]
[null,null," ",{"$nulls":4}," ",null," "]
["Bovins/Cattle/Bovini/Rinder",null,{"$f":"Cyprus!AA16","v":124},{"$f":"'Czech Rep'!AA16","v":505},{"$f":"Estonia!AA16","v":40},{"$f":"Hungary!AA16","v":600},{"$f":"Latvia!AA16","v":62},{"$f":"Lithuania!AA16","v":60},{"$f":"Poland!AA16","v":{"v":1032,"d":"1,032"}},{"$f":"Slovakia!AA16","v":223},{"$f":"Slovenia!AA16","v":84},{"$f":"Bulgaria!AA16","v":125},{"$f":"Romania!AA17","v":64},{"$f":"Croatia!AA16","v":130},{"$f":"SUM(C66:N66)","v":{"v":3049,"d":"3,049"}},{"$f":"P13+O66","v":{"$error":"#REF!"}}]
["engrais/fattening/Mast  ",null,{"$f":"Cyprus!AA17","v":16},{"$f":"'Czech Rep'!AA17","v":":"},{"$f":"Estonia!AA17","v":0},{"$f":"Hungary!AA17","v":0},{"$f":"Latvia!AA17","v":0},{"$f":"Lithuania!AA17","v":13},{"$f":"Poland!AA17","v":0},{"$f":"Slovakia!AA17","v":17},":",":",":",":",":",":"]
["VL/dairy cow/Milchkühe",null,{"$f":"Cyprus!AA18","v":98},{"$f":"'Czech Rep'!AA18","v":":"},{"$f":"Estonia!AA18","v":0},{"$f":"Hungary!AA18","v":0},{"$f":"Latvia!AA18","v":0},{"$f":"Lithuania!AA18","v":44},{"$f":"Poland!AA18","v":0},{"$f":"Slovakia!AA18","v":170},":",":",":",":",":",":"]
["veaux (aliments d'allaitement non compris)/calves ",null,{"$f":"Cyprus!AA19","v":10},{"$f":"'Czech Rep'!AA19","v":":"},{"$f":"Estonia!AA19","v":0},{"$f":"Hungary!AA19","v":0},{"$f":"Latvia!AA19","v":0},{"$f":"Lithuania!AA19","v":3},{"$f":"Poland!AA19","v":0},{"$f":"Slovakia!AA19","v":17},":",":",":",":",":",":"]
["(excluding milk replacers)/Kälber (exkl. Milchaustauscher)"]
["autres/others/Andere",null,{"$f":"Cyprus!AA20","v":0},{"$f":"'Czech Rep'!AA20","v":":"},{"$f":"Estonia!AA20","v":0},{"$f":"Hungary!AA20","v":0},{"$f":"Latvia!AA20","v":0},{"$f":"Lithuania!AA20","v":0},{"$f":"Poland!AA20","v":0},{"$f":"Slovakia!AA20","v":19},":",":",":",":",":",":"]
[]
[]
["Porcins/Pigs/Suini/Schweine",null,{"$f":"Cyprus!AA23","v":36},{"$f":"'Czech Rep'!AA23","v":803},{"$f":"Estonia!AA23","v":140},{"$f":"Hungary!AA23","v":{"v":1350,"d":"1,350"}},{"$f":"Latvia!AA23","v":91},{"$f":"Lithuania!AA23","v":60},{"$f":"Poland!AA23","v":{"v":1906,"d":"1,906"}},{"$f":"Slovakia!AA23","v":248},{"$f":"Slovenia!AA23","v":48},{"$f":"Bulgaria!AA23","v":291},{"$f":"Romania!AA24","v":{"v":1011,"d":"1,011"}},{"$f":"Croatia!AA23","v":221},{"$f":"SUM(C74:N74)","v":{"v":6205,"d":"6,205"}},{"$f":"P21+O74","v":{"$error":"#REF!"}}]
["porcelets/piglets/Ferkel",null,{"$f":"Cyprus!AA24","v":2},{"$f":"'Czech Rep'!AA24","v":":"},{"$f":"Estonia!AA24","v":":"},{"$f":"Hungary!AA24","v":0},{"$f":"Latvia!AA24","v":0},{"$f":"Lithuania!AA24","v":5},{"$f":"Poland!AA24","v":0},{"$f":"Slovakia!AA24","v":25},":",":",":",":",":",":"]
["porcs engrais/pigs for fattening/Mastschweine",null,{"$f":"Cyprus!AA25","v":26},{"$f":"'Czech Rep'!AA25","v":":"},{"$f":"Estonia!AA25","v":":"},{"$f":"Hungary!AA25","v":0},{"$f":"Latvia!AA25","v":0},{"$f":"Lithuania!AA25","v":54},{"$f":"Poland!AA25","v":0},{"$f":"Slovakia!AA25","v":162},":",":",":",":",":",":"]
["reproducteurs/breeding pigs/Zuchtschweine",null,{"$f":"Cyprus!AA26","v":8},{"$f":"'Czech Rep'!AA26","v":":"},{"$f":"Estonia!AA26","v":":"},{"$f":"Hungary!AA26","v":0},{"$f":"Latvia!AA26","v":0},{"$f":"Lithuania!AA26","v":1},{"$f":"Poland!AA26","v":0},{"$f":"Slovakia!AA26","v":40},":",":",":",":",":",":"]
["autres/others/Andere",null,{"$f":"Cyprus!AA27","v":0},{"$f":"'Czech Rep'!AA27","v":":"},{"$f":"Estonia!AA27","v":":"},{"$f":"Hungary!AA27","v":0},{"$f":"Latvia!AA27","v":0},{"$f":"Lithuania!AA27","v":0},{"$f":"Poland!AA27","v":0},{"$f":"Slovakia!AA27","v":21},":",":",":",":",":",":"]
[{"$nulls":4}," "]
[]
["Volaille/Poultry/Volatili/Geflügel",null,{"$f":"Cyprus!AA30","v":49},{"$f":"'Czech Rep'!AA30","v":956},{"$f":"Estonia!AA30","v":48},{"$f":"Hungary!AA30","v":{"v":1600,"d":"1,600"}},{"$f":"Latvia!AA30","v":162},{"$f":"Lithuania!AA30","v":310},{"$f":"Poland!AA30","v":{"v":5370,"d":"5,370"}},{"$f":"Slovakia!AA30","v":225},{"$f":"Slovenia!AA30","v":202},{"$f":"Bulgaria!AA30","v":510},{"$f":"Romania!AA31","v":{"v":1251,"d":"1,251"}},{"$f":"Croatia!AA30","v":276},{"$f":"SUM(C81:N81)","v":{"v":10959,"d":"10,959"}},{"$f":"P28+O81","v":{"$error":"#REF!"}}]
["broilers",null,{"$f":"Cyprus!AA31","v":37},{"$f":"'Czech Rep'!AA31","v":":"},{"$f":"Estonia!AA31","v":":"},{"$f":"Hungary!AA31","v":0},{"$f":"Latvia!AA31","v":0},{"$f":"Lithuania!AA31","v":218},{"$f":"Poland!AA31","v":0},{"$f":"Slovakia!AA31","v":99},":",":",":",":",":",":"]
["poulettes & pondeuses/chicks & layers/Jung- & Legehennen",null,{"$f":"Cyprus!AA32","v":10},{"$f":"'Czech Rep'!AA32","v":":"},{"$f":"Estonia!AA32","v":":"},{"$f":"Hungary!AA32","v":0},{"$f":"Latvia!AA32","v":0},{"$f":"Lithuania!AA32","v":63},{"$f":"Poland!AA32","v":0},{"$f":"Slovakia!AA32","v":111},":",":",":",":",":",":"]
["autres/others/Andere",null,{"$f":"Cyprus!AA33","v":2},{"$f":"'Czech Rep'!AA33","v":":"},{"$f":"Estonia!AA33","v":":"},{"$f":"Hungary!AA33","v":0},{"$f":"Latvia!AA33","v":0},{"$f":"Lithuania!AA33","v":29},{"$f":"Poland!AA33","v":0},{"$f":"Slovakia!AA33","v":15},":",":",":",":",":",":"]
[]
[]
["Al. d'allait./Milk replacers/Sostit. del latte/Milchaust.",null,{"$f":"Cyprus!AA36","v":1},{"$f":"'Czech Rep'!AA36","v":2},{"$f":"Estonia!AA36","v":0},{"$f":"Hungary!AA36","v":0},{"$f":"Latvia!AA36","v":0},{"$f":"Lithuania!AA36","v":4},{"$f":"Poland!AA36","v":0},{"$f":"Slovakia!AA36","v":0},{"$f":"Slovenia!AA36","v":0},{"$f":"Bulgaria!AA36","v":0},{"$f":"Romania!AA37","v":0},{"$f":"Croatia!AA36","v":0},{"$f":"SUM(C87:N87)","v":7},{"$f":"P34+O87","v":{"$error":"#REF!"}}]
[]
[{"$nulls":4}," "]
["Autres/others/altri/Andere",null,{"$f":"Cyprus!AA39","v":101},{"$f":"'Czech Rep'!AA39","v":84},{"$f":"Estonia!AA39","v":2},{"$f":"Hungary!AA39","v":160},{"$f":"Latvia!AA39","v":10},{"$f":"Lithuania!AA39","v":15},{"$f":"Poland!AA39","v":557},{"$f":"Slovakia!AA39","v":14},{"$f":"Slovenia!AA39","v":24},{"$f":"Bulgaria!AA39","v":25},{"$f":"Romania!AA40","v":2},{"$f":"Croatia!AA39","v":11},{"$f":"SUM(C90:N90)","v":{"v":1005,"d":"1,005"}},{"$f":"P37+O90","v":{"$error":"#REF!"}}]
[]
[]
["TOTAL",null,{"$f":"C90+C87+C81+C74+C66","v":311},{"v":2350,"d":"2,350"},230,{"v":3710,"d":"3,710"},325,449,{"v":8865,"d":"8,865"},710,358,951,{"v":2328,"d":"2,328"},638,{"v":21225,"d":"21,225"},{"$error":"#REF!"}]
[{"$nulls":5}," "]
[]
["** Sans Malte/Ohne Maltas/Without Malta/Senza Malta"]
["*** Sans le Luxembourg, la Grèce et Malte/Ohne Luxemburg, Griechenland und Maltas/Without Luxemburg, Greece and Malta/Senza Lussemburgo, Ellas e Malta"]
[": non disponible/not available/nicht verfügbar"]

{"sheet":"2014-15","index":51,"n_rows":45,"n_cols":24,"rows_kept":45}
["2016-08-28"]
[]
["PRODUCTION INDUSTRIELLE D'ALIMENTS COMPOSES",{"$nulls":22},"INDUSTRIELLE  MISCHFUTTERPRODUKTION"]
["PRODUZIONE INDUSTRIALE DI MANGIMI COMPOSTI",{"$nulls":11},"2014-2015",{"$nulls":10},"INDUSTRIAL COMPOUND PRODUCTION"]
[{"$nulls":12},"final",{"$nulls":10},"(1 000 t )"]
[]
[]
[]
["PAYS",null,"      BOVINS/RINDER",{"$nulls":3},"    PORCS/SCHWEINE",{"$nulls":3},"     VOLAILLE/GEFLÜGEL",null,"      A. ALLAITEMENT/MILCHAUST.",{"$nulls":5},"     AUTRES/ANDERE",null,null,"       TOTAL/INSGESAMT"]
["LAND",null,"      BOVINI/CATTLE",{"$nulls":3},"    SUINI/PIGS",{"$nulls":3},"     VOLATILI/POULTRY",null,"  SOSTIT. DEL LATTE/MILKREPLACERS",{"$nulls":5},"ALTRI ANIMALI/OTHERS",null,null,"          TOTALE/TOTAL"]
["PAESE"]
["COUNTRY",2014,2015,"%TAV",null,2014,2015,"%TAV",null,2014,2015,"%TAV",null,2014,2015,"%TAV",null,2014,2015,"%TAV",null,2014,2015,"%TAV"]
[]
["DE",{"$f":"Germany!#REF!","v":{"$error":"#REF!"}},{"$f":"Germany!AB$16","v":{"v":6716,"d":"6,716"}},{"$f":"((C14/B14)-1)*100","v":{"$error":"#REF!"}},null,{"$f":"Germany!#REF!","v":{"$error":"#REF!"}},{"$f":"Germany!AB$23","v":{"v":9649,"d":"9,649"}},{"$f":"((G14/F14)-1)*100","v":{"$error":"#REF!"}},null,{"$f":"Germany!#REF!","v":{"$error":"#REF!"}},{"$f":"Germany!AB$30","v":{"v":6535,"d":"6,535"}},{"$f":"((K14/J14)-1)*100","v":{"$error":"#REF!"}},null,{"$f":"Germany!#REF!","v":{"$error":"#REF!"}},{"$f":"Germany!AB$36","v":155},{"$f":"((O14/N14)-1)*100","v":{"$error":"#REF!"}},null,{"$f":"Germany!#REF!","v":{"$error":"#REF!"}},{"$f":"Germany!AB$39","v":734},{"$f":"((S14/R14)-1)*100","v":{"$error":"#REF!"}},null,{"$f":"R14+N14+J14+F14+B14","v":{"$error":"#REF!"}},{"v":23789,"d":"23,789"},{"$f":"((W14/V14)-1)*100","v":{"$error":"#REF!"}}]
["FR",{"$f":"France!AA$16","v":{"v":5494,"d":"5,494"}},{"$f":"France!AB$16","v":{"v":5351,"d":"5,351"}},{"v":-2.602839461230433,"d":"-2.6"},null,{"$f":"France!AA$23","v":{"v":5148,"d":"5,148"}},{"$f":"France!AB$23","v":{"v":5070,"d":"5,070"}},{"v":-1.5151515151515138,"d":"-1.5"},null,{"$f":"France!AA$30","v":{"v":8680,"d":"8,680"}},{"$f":"France!AB$30","v":{"v":8854,"d":"8,854"}},{"v":2.0046082949308763,"d":"2.0"},null,{"$f":"France!AA36","v":346},{"$f":"France!AB36","v":337},{"v":-2.6011560693641633,"d":"-2.6"},null,{"$f":"France!AA$39","v":{"v":1502,"d":"1,502"}},{"$f":"France!AB$39","v":{"v":1513,"d":"1,513"}},{"v":0.7323568575233086,"d":"0.7"},null,{"$f":"R15+N15+J15+F15+B15","v":{"v":21170,"d":"21,170"}},{"v":21125,"d":"21,125"},{"v":-0.21256495040151702,"d":"-0.2"}]
["IT",{"$f":"Italy!AA$16","v":{"v":3293,"d":"3,293"}},{"$f":"Italy!AB$16","v":{"v":3172,"d":"3,172"}},{"v":-3.6744609778317616,"d":"-3.7"},null,{"$f":"Italy!AA$23","v":{"v":3255,"d":"3,255"}},{"$f":"Italy!AB$23","v":{"v":3558,"d":"3,558"}},{"v":9.308755760368669,"d":"9.3"},null,{"$f":"Italy!AA$30","v":{"v":5936,"d":"5,936"}},{"$f":"Italy!AB$30","v":{"v":5741,"d":"5,741"}},{"v":-3.28504043126685,"d":"-3.3"},null,{"$f":"Italy!AA$36","v":109},{"$f":"Italy!AB$36","v":105},{"v":-3.669724770642202,"d":"-3.7"},null,{"$f":"+Italy!AA$39","v":896},{"$f":"+Italy!AB$39","v":880},{"v":-1.7857142857142905,"d":"-1.8"},null,{"$f":"R16+N16+J16+F16+B16","v":{"v":13489,"d":"13,489"}},{"v":13456,"d":"13,456"},{"v":-0.24464378382386132,"d":"-0.2"}]
["NL   ",{"$f":"'The Netherlands'!AA$16","v":{"v":3852,"d":"3,852"}},{"$f":"'The Netherlands'!AB$16","v":{"v":4098,"d":"4,098"}},{"v":6.386292834890961,"d":"6.4"},null,{"$f":"'The Netherlands'!AA$23","v":{"v":5349,"d":"5,349"}},{"$f":"'The Netherlands'!AB$23","v":{"v":5362,"d":"5,362"}},{"v":0.24303608151057254,"d":"0.2"},null,{"$f":"'The Netherlands'!AA$30","v":{"v":3689,"d":"3,689"}},{"$f":"'The Netherlands'!AB$30","v":{"v":3856,"d":"3,856"}},{"v":4.526972079154246,"d":"4.5"},null,{"$f":"'The Netherlands'!AA$36","v":595},{"$f":"'The Netherlands'!AB$36","v":550},{"v":-7.563025210084029,"d":"-7.6"},null,{"$f":"'The Netherlands'!AA$39","v":633},{"$f":"'The Netherlands'!AB$39","v":646},{"v":2.0537124802527673,"d":"2.1"},null,{"$f":"R17+N17+J17+F17+B17","v":{"v":14118,"d":"14,118"}},{"v":14512,"d":"14,512"},{"v":2.7907635642442363,"d":"2.8"}]
["BE",{"$f":"Belgium!AA$16","v":{"v":1322,"d":"1,322"}},{"$f":"Belgium!AB$16","v":{"v":1332,"d":"1,332"}},{"v":0.7564296520423675,"d":"0.8"},null,{"$f":"Belgium!AA$23","v":{"v":3643,"d":"3,643"}},{"$f":"Belgium!AB$23","v":{"v":3592,"d":"3,592"}},{"v":-1.399945100192146,"d":"-1.4"},null,{"$f":"Belgium!AA$30","v":{"v":1235,"d":"1,235"}},{"$f":"Belgium!AB$30","v":{"v":1297,"d":"1,297"}},{"v":5.020242914979756,"d":"5.0"},null,{"$f":"Belgium!AA$36","v":46},{"$f":"Belgium!AB$36","v":51},{"v":10.869565217391308,"d":"10.9"},null,{"$f":"Belgium!AA$39","v":357},{"$f":"Belgium!AB$39","v":378},{"v":5.882352941176472,"d":"5.9"},null,{"$f":"R18+N18+J18+F18+B18","v":{"v":6603,"d":"6,603"}},{"v":6650,"d":"6,650"},{"v":0.711797667726799,"d":"0.7"}]
["UK ",{"$f":"UK!AA$16","v":{"v":5387,"d":"5,387"}},{"$f":"UK!AB$16","v":{"v":5224,"d":"5,224"}},{"v":-3.0258028587339947,"d":"-3.0"},null,{"$f":"UK!AA$23","v":{"v":2002,"d":"2,002"}},{"$f":"UK!AB$23","v":{"v":2075,"d":"2,075"}},{"v":3.6463536463536395,"d":"3.6"},null,{"$f":"UK!AA$30","v":{"v":6640,"d":"6,640"}},{"$f":"UK!AB$30","v":{"v":6674,"d":"6,674"}},{"v":0.5120481927710863,"d":"0.5"},null,{"$f":"UK!AA$36","v":0},{"$f":"UK!AB$36","v":0},{"v":0,"d":"0.0"},null,{"$f":"UK!AA$39","v":{"v":1436,"d":"1,436"}},{"$f":"UK!AB$39","v":{"v":1587,"d":"1,587"}},{"v":10.515320334261835,"d":"10.5"},null,{"$f":"R19+N19+J19+F19+B19","v":{"v":15465,"d":"15,465"}},{"v":15560,"d":"15,560"},{"v":0.6142903330100147,"d":"0.6"}]
["IE",{"$f":"Ireland!AA$16","v":{"v":2327,"d":"2,327"}},{"$f":"Ireland!AB$16","v":{"v":2544,"d":"2,544"}},{"v":9.325311559948425,"d":"9.3"},null,{"$f":"Ireland!AA$23","v":676},{"$f":"Ireland!AB$23","v":696},{"v":2.9585798816567976,"d":"3.0"},null,{"$f":"Ireland!AA$30","v":521},{"$f":"Ireland!AB$30","v":576},{"v":10.556621880998085,"d":"10.6"},null,{"$f":"Ireland!AA$36","v":0},{"$f":"Ireland!AB$36","v":0},{"v":0,"d":"0.0"},null,{"$f":"Ireland!AA$39","v":98},{"$f":"Ireland!AB$39","v":172},{"v":75.51020408163265,"d":"75.5"},null,{"$f":"R20+N20+J20+F20+B20","v":{"v":3622,"d":"3,622"}},{"v":3988,"d":"3,988"},{"v":10.104914411927112,"d":"10.1"}]
["DK ",{"$f":"Denmark!AA$16","v":917},{"$f":"Denmark!AB$16","v":897},{"v":-2.181025081788446,"d":"-2.2"},null,{"$f":"Denmark!AA$23","v":{"v":2584,"d":"2,584"}},{"$f":"Denmark!AB$23","v":{"v":2421,"d":"2,421"}},{"v":-6.30804953560371,"d":"-6.3"},null,{"$f":"Denmark!AA$30","v":610},{"$f":"Denmark!AB$30","v":598},{"v":-1.967213114754096,"d":"-2.0"},null,{"$f":"Denmark!AA$36","v":0},{"$f":"Denmark!AB$36","v":0},{"v":0,"d":"0.0"},null,{"$f":"Denmark!AA$39","v":200},{"$f":"Denmark!AB$39","v":200},{"v":0,"d":"0.0"},null,{"$f":"R21+N21+J21+F21+B21","v":{"v":4311,"d":"4,311"}},{"v":4116,"d":"4,116"},{"v":-4.523312456506612,"d":"-4.5"}]
["ES",{"$f":"Spain!AA$16","v":{"v":7154,"d":"7,154"}},{"$f":"Spain!AB$16","v":{"v":7447,"d":"7,447"}},{"v":4.095610847078568,"d":"4.1"},null,{"$f":"Spain!AA$23","v":{"v":9625,"d":"9,625"}},{"$f":"Spain!AB$23","v":{"v":9937,"d":"9,937"}},{"v":3.2415584415584453,"d":"3.2"},null,{"$f":"Spain!AA$30","v":{"v":4654,"d":"4,654"}},{"$f":"Spain!AB$30","v":{"v":4205,"d":"4,205"}},{"v":-9.647614954877525,"d":"-9.6"},null,{"$f":"Spain!AA$36","v":0},{"$f":"Spain!AB$36","v":0},{"v":0,"d":"0.0"},null,{"$f":"Spain!AA$39","v":138},{"$f":"Spain!AB$39","v":147},{"v":6.521739130434789,"d":"6.5"},null,{"$f":"R22+N22+J22+F22+B22","v":{"v":21571,"d":"21,571"}},{"v":21736,"d":"21,736"},{"v":0.7649158592554883,"d":"0.8"}]
["PT",{"$f":"Portugal!AA$16","v":695},{"$f":"Portugal!AB$16","v":890},{"v":28.057553956834536,"d":"28.1"},null,{"$f":"Portugal!AA$23","v":820},{"$f":"Portugal!AB$23","v":{"v":1136,"d":"1,136"}},{"v":38.53658536585365,"d":"38.5"},null,{"$f":"Portugal!AA$30","v":{"v":1390,"d":"1,390"}},{"$f":"Portugal!AB$30","v":{"v":1436,"d":"1,436"}},{"v":3.3093525179856087,"d":"3.3"},null,{"$f":"Portugal!AA$36","v":0},{"$f":"Portugal!AB$36","v":0},{"v":0,"d":"0.0"},null,{"$f":"Portugal!AA$39","v":190},{"$f":"Portugal!AB$39","v":258},{"v":35.78947368421053,"d":"35.8"},null,{"$f":"R23+N23+J23+F23+B23","v":{"v":3095,"d":"3,095"}},{"v":3720,"d":"3,720"},{"v":20.19386106623586,"d":"20.2"}]
["AT",{"$f":"Austria!AA$16","v":522},{"$f":"Austria!AB$16","v":556},{"v":6.513409961685834,"d":"6.5"},null,{"$f":"Austria!AA$23","v":277},{"$f":"Austria!AB$23","v":273},{"v":-1.4440433212996373,"d":"-1.4"},null,{"$f":"Austria!AA$30","v":547},{"$f":"Austria!AB$30","v":570},{"v":4.20475319926874,"d":"4.2"},null,{"$f":"Austria!AA$36","v":0},{"$f":"Austria!AB$36","v":0},{"v":0,"d":"0.0"},null,{"$f":"Austria!AA$39","v":126},{"$f":"Austria!AB$39","v":138},{"v":9.523809523809534,"d":"9.5"},null,{"$f":"R24+N24+J24+F24+B24","v":{"v":1472,"d":"1,472"}},{"v":1537,"d":"1,537"},{"v":4.415760869565211,"d":"4.4"}]
["SE",{"$f":"Sweden!AA$16","v":841},{"$f":"Sweden!AB$16","v":872},{"v":3.6860879904875077,"d":"3.7"},null,{"$f":"Sweden!AA$23","v":302},{"$f":"Sweden!AB$23","v":308},{"v":1.9867549668874274,"d":"2.0"},null,{"$f":"Sweden!AA$30","v":572},{"$f":"Sweden!AB$30","v":627},{"v":9.615384615384626,"d":"9.6"},null,{"$f":"Sweden!AA$36","v":2},{"$f":"Sweden!AB$36","v":2},{"$f":"((O25/N25)-1)*100","v":{"v":0,"d":"0.0"}},null,{"$f":"Sweden!AA$39","v":101},{"$f":"Sweden!AB$39","v":123},{"v":21.78217821782178,"d":"21.8"},null,{"$f":"R25+N25+J25+F25+B25","v":{"v":1818,"d":"1,818"}},{"v":1932,"d":"1,932"},{"v":6.270627062706269,"d":"6.3"}]
["FI",{"$f":"Finland!AA$16","v":674},{"$f":"Finland!AB$16","v":681},{"v":1.0385756676557945,"d":"1.0"},null,{"$f":"Finland!AA$23","v":275},{"$f":"Finland!AB$23","v":279},{"v":1.454545454545464,"d":"1.5"},null,{"$f":"Finland!AA$30","v":330},{"$f":"Finland!AB$30","v":347},{"v":5.151515151515151,"d":"5.2"},null,{"$f":"Finland!AA$36","v":0},{"$f":"Finland!AB$36","v":0},{"v":0,"d":"0.0"},null,{"$f":"Finland!AA$39","v":113},{"$f":"Finland!AB$39","v":125},{"v":10.619469026548668,"d":"10.6"},null,{"$f":"R26+N26+J26+F26+B26","v":{"v":1392,"d":"1,392"}},{"v":1432,"d":"1,432"},{"v":2.8735632183908066,"d":"2.9"}]
["CY",{"$f":"Cyprus!AA$16","v":124},{"$f":"Cyprus!AB$16","v":127},{"v":2.4193548387096753,"d":"2.4"},null,{"$f":"Cyprus!AA$23","v":36},{"$f":"Cyprus!AB$23","v":34},{"v":-5.555555555555558,"d":"-5.6"},null,{"$f":"Cyprus!AA$30","v":49},{"$f":"Cyprus!AB$30","v":46},{"v":-6.122448979591832,"d":"-6.1"},null,{"$f":"Cyprus!AA$36","v":1},{"$f":"Cyprus!AB$36","v":1},{"v":0,"d":"0.0"},null,{"$f":"Cyprus!AA$39","v":101},{"$f":"Cyprus!AB$39","v":99},{"v":-1.980198019801982,"d":"-2.0"},null,{"$f":"R27+N27+J27+F27+B27","v":311},307,{"v":-1.2861736334405127,"d":"-1.3"}]
["CZ",{"$f":"'Czech Rep'!AA$16","v":505},{"$f":"'Czech Rep'!AB$16","v":520},{"v":2.970297029702973,"d":"3.0"},null,{"$f":"'Czech Rep'!AA$23","v":803},{"$f":"'Czech Rep'!AB$23","v":786},{"v":-2.1170610211706076,"d":"-2.1"},null,{"$f":"'Czech Rep'!AA$30","v":956},{"$f":"'Czech Rep'!AB$30","v":949},{"v":-0.7322175732217606,"d":"-0.7"},null,{"$f":"'Czech Rep'!AA$36","v":2},{"$f":"'Czech Rep'!AB$36","v":2},{"$f":"((O28/N28)-1)*100","v":{"v":0,"d":"0.0"}},null,{"$f":"'Czech Rep'!AA$39","v":84},{"$f":"'Czech Rep'!AB$39","v":94},{"v":11.904761904761907,"d":"11.9"},null,{"$f":"R28+N28+J28+F28+B28","v":{"v":2350,"d":"2,350"}},{"v":2351,"d":"2,351"},{"v":0.04255319148935843,"d":"0.0"}]
["EE",{"$f":"Estonia!AA$16","v":40},{"$f":"Estonia!AB$16","v":40},{"v":0,"d":"0.0"},null,{"$f":"Estonia!AA$23","v":140},{"$f":"Estonia!AB$23","v":140},{"v":0,"d":"0.0"},null,{"$f":"Estonia!AA$30","v":48},{"$f":"Estonia!AB$30","v":48},{"v":0,"d":"0.0"},null,{"$f":"Estonia!AA$36","v":0},{"$f":"Estonia!AB$36","v":0},{"v":0,"d":"0.0"},null,{"$f":"Estonia!AA$39","v":2},{"$f":"Estonia!AB$39","v":2},{"v":0,"d":"0.0"},null,{"$f":"R29+N29+J29+F29+B29","v":230},230,{"v":0,"d":"0.0"}]
["HU",{"$f":"Hungary!AA$16","v":600},{"$f":"Hungary!AB$16","v":312},{"v":-48,"d":"-48.0"},null,{"$f":"Hungary!AA$23","v":{"v":1350,"d":"1,350"}},{"$f":"Hungary!AB$23","v":{"v":1204,"d":"1,204"}},{"v":-10.81481481481481,"d":"-10.8"},null,{"$f":"Hungary!AA$30","v":{"v":1600,"d":"1,600"}},{"$f":"Hungary!AB$30","v":{"v":1681,"d":"1,681"}},{"v":5.062499999999992,"d":"5.1"},null,{"$f":"Hungary!AA$36","v":0},{"$f":"Hungary!AB$36","v":0},{"v":0,"d":"0.0"},null,{"$f":"Hungary!AA$39","v":160},{"$f":"Hungary!AB$39","v":122},{"v":-23.750000000000004,"d":"-23.8"},null,{"$f":"R30+N30+J30+F30+B30","v":{"v":3710,"d":"3,710"}},{"v":3319,"d":"3,319"},{"v":-10.539083557951479,"d":"-10.5"}]
["LV",{"$f":"Latvia!AA$16","v":62},{"$f":"Latvia!AB$16","v":57},{"v":-8.064516129032262,"d":"-8.1"},null,{"$f":"Latvia!AA$23","v":91},{"$f":"Latvia!AB$23","v":85},{"v":-6.593406593406592,"d":"-6.6"},null,{"$f":"Latvia!AA$30","v":162},{"$f":"Latvia!AB$30","v":173},{"v":6.790123456790131,"d":"6.8"},null,{"$f":"Latvia!AA$36","v":0},{"$f":"Latvia!AB$36","v":0},{"v":0,"d":"0.0"},null,{"$f":"Latvia!AA$39","v":10},{"$f":"Latvia!AB$39","v":11},{"v":10.000000000000009,"d":"10.0"},null,{"$f":"R31+N31+J31+F31+B31","v":325},326,{"v":0.3076923076922977,"d":"0.3"}]
["LT",{"$f":"Lithuania!AA$16","v":60},{"$f":"Lithuania!AB$16","v":113},{"v":88.33333333333333,"d":"88.3"},null,{"$f":"Lithuania!AA$23","v":60},{"$f":"Lithuania!AB$23","v":40},{"v":-33.333333333333336,"d":"-33.3"},null,{"$f":"Lithuania!AA$30","v":310},{"$f":"Lithuania!AB$30","v":241},{"v":-22.25806451612903,"d":"-22.3"},null,{"$f":"Lithuania!AA$36","v":4},{"$f":"Lithuania!AB$36","v":0},{"$f":"((O32/N32)-1)*100","v":{"v":-100,"d":"-100.0"}},null,{"$f":"Lithuania!AA$39","v":15},{"$f":"Lithuania!AB$39","v":127},{"v":746.6666666666666,"d":"746.7"},null,{"$f":"R32+N32+J32+F32+B32","v":449},521,{"v":16.03563474387528,"d":"16.0"}]
["PL",{"$f":"Poland!AA$16","v":{"v":1032,"d":"1,032"}},{"$f":"Poland!AB$16","v":847},{"v":-17.926356589147286,"d":"-17.9"},null,{"$f":"Poland!AA$23","v":{"v":1906,"d":"1,906"}},{"$f":"Poland!AB$23","v":{"v":1940,"d":"1,940"}},{"v":1.783840503672618,"d":"1.8"},null,{"$f":"Poland!AA$30","v":{"v":5370,"d":"5,370"}},{"$f":"Poland!AB$30","v":{"v":5929,"d":"5,929"}},{"v":10.409683426443195,"d":"10.4"},null,{"$f":"Poland!AA$36","v":0},{"$f":"Poland!AB$36","v":0},{"v":0,"d":"0.0"},null,{"$f":"Poland!AA$39","v":557},{"$f":"Poland!AB$39","v":592},{"v":6.283662477558338,"d":"6.3"},null,{"$f":"R33+N33+J33+F33+B33","v":{"v":8865,"d":"8,865"}},{"v":9308,"d":"9,308"},{"v":4.9971799210377865,"d":"5.0"}]
["SK",{"$f":"Slovakia!AA$16","v":223},{"$f":"Slovakia!AB$16","v":206},{"v":-7.623318385650224,"d":"-7.6"},null,{"$f":"Slovakia!AA$23","v":248},{"$f":"Slovakia!AB$23","v":246},{"v":-0.8064516129032251,"d":"-0.8"},null,{"$f":"Slovakia!AA$30","v":225},{"$f":"Slovakia!AB$30","v":229},{"v":1.777777777777767,"d":"1.8"},null,{"$f":"Slovakia!AA$36","v":0},{"$f":"Slovakia!AB$36","v":0},{"v":0,"d":"0.0"},null,{"$f":"+Slovakia!AA$39","v":14},{"$f":"+Slovakia!AB$39","v":15},{"v":7.14285714285714,"d":"7.1"},null,{"$f":"R34+N34+J34+F34+B34","v":710},696,{"v":-1.9718309859154903,"d":"-2.0"}]
["SI",{"$f":"Slovenia!AA$16","v":84},{"$f":"Slovenia!AB$16","v":85},{"v":1.1904761904761862,"d":"1.2"},null,{"$f":"Slovenia!AA$23","v":48},{"$f":"Slovenia!AB$23","v":50},{"v":4.166666666666674,"d":"4.2"},null,{"$f":"Slovenia!AA$30","v":202},{"$f":"Slovenia!AB$30","v":200},{"v":-0.990099009900991,"d":"-1.0"},null,{"$f":"Slovenia!AA$36","v":0},{"$f":"Slovenia!AB$36","v":0},{"v":0,"d":"0.0"},null,{"$f":"Slovenia!AA$39","v":24},{"$f":"Slovenia!AB$39","v":25},{"v":4.166666666666674,"d":"4.2"},null,{"$f":"R35+N35+J35+F35+B35","v":358},360,{"v":0.5586592178770999,"d":"0.6"}]
["BU",{"$f":"Bulgaria!AA$16","v":125},{"$f":"Bulgaria!AB$16","v":141},{"v":12.79999999999999,"d":"12.8"},null,{"$f":"Bulgaria!AA$23","v":291},{"$f":"Bulgaria!AB$23","v":367},{"v":26.116838487972505,"d":"26.1"},null,{"$f":"Bulgaria!AA$30","v":510},{"$f":"Bulgaria!AB$30","v":614},{"v":20.392156862745093,"d":"20.4"},null,{"$f":"Bulgaria!AA$36","v":0},{"$f":"Bulgaria!AB$36","v":0},{"v":0,"d":"0.0"},null,{"$f":"Bulgaria!AA$39","v":25},{"$f":"Bulgaria!AB$39","v":30},{"v":19.999999999999996,"d":"20.0"},null,{"$f":"R36+N36+J36+F36+B36","v":951},{"v":1152,"d":"1,152"},{"v":21.13564668769716,"d":"21.1"}]
["RO",{"$f":"Romania!AA$17","v":64},{"$f":"Romania!AB$17","v":75},{"v":17.1875,"d":"17.2"},null,{"$f":"Romania!AA$24","v":{"v":1011,"d":"1,011"}},{"$f":"Romania!AB$24","v":{"v":1120,"d":"1,120"}},{"v":10.781404549950535,"d":"10.8"},null,{"$f":"Romania!AA$31","v":{"v":1251,"d":"1,251"}},{"$f":"Romania!AB$31","v":{"v":1300,"d":"1,300"}},{"v":3.9168665067945696,"d":"3.9"},null,{"$f":"Romania!AA$37","v":0},{"$f":"Romania!AB$37","v":0},{"v":0,"d":"0.0"},null,{"$f":"Romania!AA$40","v":2},{"$f":"Romania!AB$40","v":2},{"v":0,"d":"0.0"},null,{"$f":"R37+N37+J37+F37+B37","v":{"v":2328,"d":"2,328"}},{"v":2497,"d":"2,497"},{"v":7.259450171821302,"d":"7.3"}]
["HR",{"$f":"Croatia!AA$16","v":130},{"$f":"Croatia!AB$16","v":129},{"v":-0.7692307692307665,"d":"-0.8"},null,{"$f":"Croatia!AA$23","v":221},{"$f":"Croatia!AB$23","v":223},{"v":0.9049773755656076,"d":"0.9"},null,{"$f":"Croatia!AA$30","v":276},{"$f":"Croatia!AB$30","v":288},{"v":4.347826086956519,"d":"4.3"},null,{"$f":"Croatia!AA$36","v":0},{"$f":"Croatia!AB$36","v":0},{"v":0,"d":"0.0"},null,{"$f":"Croatia!AA$39","v":11},{"$f":"Croatia!AB$39","v":8},{"v":-27.27272727272727,"d":"-27.3"},null,{"$f":"R38+N38+J38+F38+B38","v":638},648,{"v":1.5673981191222541,"d":"1.6"}]
[]
["EUR 28 *",{"$f":"SUM(B14:B38)","v":{"$error":"#REF!"}},{"v":42432,"d":"42,432"},{"$f":"((C40/B40)-1)*100","v":{"$error":"#REF!"}},null,{"$f":"SUM(F14:F38)","v":{"$error":"#REF!"}},{"v":50591,"d":"50,591"},{"$f":"((G40/F40)-1)*100","v":{"$error":"#REF!"}},null,{"$f":"SUM(J14:J38)","v":{"$error":"#REF!"}},{"v":53014,"d":"53,014"},{"$f":"((K40/J40)-1)*100","v":{"$error":"#REF!"}},null,{"$f":"SUM(N14:N38)","v":{"$error":"#REF!"}},{"v":1203,"d":"1,203"},{"$f":"((O40/N40)-1)*100","v":{"$error":"#REF!"}},null,{"$f":"SUM(R14:R38)","v":{"$error":"#REF!"}},{"v":8028,"d":"8,028"},{"$f":"((S40/R40)-1)*100","v":{"$error":"#REF!"}},null,{"$f":"SUM(V14:V38)","v":{"$error":"#REF!"}},{"v":155268,"d":"155,268"},{"$f":"((W40/V40)-1)*100","v":{"$error":"#REF!"}}]
[]
[{"$nulls":23}," "]
["* Sans le Luxembourg, la Grèce et Malte/Ohne Luxemburg, Griechenland und Malta/Without Luxemburg, Greece and Malta/Senza Lussemburgo, Ellas e Malta"]
[": non disponible/not available"]
[null,"From 2015 on, the Dutch production of milk replacers is a rough estimate, due to statistical confidentiality "]

{"sheet":"2015","index":52,"n_rows":98,"n_cols":16,"rows_kept":98,"merged":[[4,0,4,15],[5,0,5,15],[57,0,57,15],[58,0,58,15]]}
["2017-05-22"]
[]
["PRODUCTION INDUSTRIELLE D'ALIMENTS COMPOSES ",{"$nulls":14},"INDUSTRIELLE  MISCHFUTTERPRODUKTION"]
["PRODUZIONE INDUSTRIALE DI MANGIMI COMPOSTI",{"$nulls":14},"INDUSTRIAL COMPOUND PRODUCTION"]
[2015]
["final"]
[{"$nulls":15},"(1 000 t)"]
[]
["Catégories d'aliments composés/Mischfutterarten",null,"DE","FR","IT","NL","BE","UK","IE","DK","ES","PT","AT","SE","FI","EU-15*"]
["Tipi di mangimi compositi/Types of feed"]
[]
[null,null," ",{"$nulls":4}," ",null,null," "]
["Bovins/Cattle/Bovini/Rinder",null,{"$f":"Germany!AB16","v":{"v":6716,"d":"6,716"}},{"$f":"France!AB16","v":{"v":5351,"d":"5,351"}},{"$f":"Italy!AB16","v":{"v":3172,"d":"3,172"}},{"$f":"'The Netherlands'!AB16","v":{"v":4098,"d":"4,098"}},{"$f":"Belgium!AB16","v":{"v":1332,"d":"1,332"}},{"$f":"UK!AB16","v":{"v":5224,"d":"5,224"}},{"$f":"Ireland!AB16","v":{"v":2544,"d":"2,544"}},{"$f":"Denmark!AB16","v":897},{"$f":"Spain!AB16","v":{"v":7447,"d":"7,447"}},{"$f":"Portugal!AB16","v":890},{"$f":"Austria!AB16","v":556},{"$f":"Sweden!AB16","v":872},{"$f":"Finland!AB16","v":681},{"$f":"SUM(C13:O13)","v":{"v":39780,"d":"39,780"}}]
["engrais/fattening/Mast  ",null,{"$f":"Germany!AB17","v":":"},{"$f":"France!AB17","v":{"v":1709,"d":"1,709"}},{"$f":"Italy!AB17","v":721},{"$f":"'The Netherlands'!AB17","v":474},{"$f":"Belgium!AB17","v":427},{"$f":"UK!AB17","v":{"v":1285,"d":"1,285"}},{"$f":"Ireland!AB17","v":{"v":1093,"d":"1,093"}},":",":",{"$f":"Portugal!AB17","v":317},{"$f":"Austria!AB17","v":":"},":",":",":"]
["VL/dairy cow/Milchkühe",null,{"$f":"Germany!AB18","v":":"},{"$f":"France!AB18","v":{"v":3642,"d":"3,642"}},{"$f":"Italy!AB18","v":{"v":2349,"d":"2,349"}},{"$f":"'The Netherlands'!AB18","v":{"v":3395,"d":"3,395"}},{"$f":"Belgium!AB18","v":658},{"$f":"UK!AB18","v":{"v":3596,"d":"3,596"}},{"$f":"Ireland!AB18","v":{"v":1128,"d":"1,128"}},{"$f":"Denmark!AB18","v":678},":",{"$f":"Portugal!AB18","v":384},{"$f":"Austria!AB18","v":":"},":",{"$f":"Finland!AB18","v":":"},":"]
["veaux (aliments d'allaitement non compris)/calves ",null,{"$f":"Germany!AB19","v":":"},{"$f":"France!AB19","v":":"},{"$f":"Italy!AB19","v":":"},{"$f":"'The Netherlands'!AB19","v":229},{"$f":"Belgium!AB19","v":247},{"$f":"UK!AB19","v":264},{"$f":"Ireland!AB19","v":251},{"$f":"Denmark!AB19","v":219},":",{"$f":"Portugal!AB19","v":46},{"$f":"Austria!AB19","v":":"},":",{"$f":"Finland!AB19","v":":"},":"]
["(excluding milk replacers)/Kälber (exkl. Milchaustauscher)"]
["autres/others/Andere",null,{"$f":"Germany!AB20","v":":"},{"$f":"France!AB20","v":":"},{"$f":"Italy!AB20","v":102},{"$f":"'The Netherlands'!AB20","v":":"},{"$f":"Belgium!AB20","v":":"},{"$f":"UK!AB20","v":79},{"$f":"Ireland!AB20","v":72},{"$f":"Denmark!AB20","v":":"},":",{"$f":"Portugal!AB20","v":143},{"$f":"Austria!AB20","v":":"},":",{"$f":"Finland!AB20","v":":"},":"]
[]
[]
["Porcins/Pigs/Suini/Schweine",null,{"$f":"Germany!AB23","v":{"v":9649,"d":"9,649"}},{"$f":"France!AB23","v":{"v":5070,"d":"5,070"}},{"$f":"Italy!AB23","v":{"v":3558,"d":"3,558"}},{"$f":"'The Netherlands'!AB23","v":{"v":5362,"d":"5,362"}},{"$f":"Belgium!AB23","v":{"v":3592,"d":"3,592"}},{"$f":"UK!AB23","v":{"v":2075,"d":"2,075"}},{"$f":"Ireland!AB23","v":696},{"$f":"Denmark!AB23","v":{"v":2421,"d":"2,421"}},{"$f":"Spain!AB23","v":{"v":9937,"d":"9,937"}},{"$f":"Portugal!AB23","v":{"v":1136,"d":"1,136"}},{"$f":"Austria!AB23","v":273},{"$f":"Sweden!AB23","v":308},{"$f":"Finland!AB23","v":279},{"$f":"SUM(C21:O21)","v":{"v":44356,"d":"44,356"}}]
["porcelets/piglets/Ferkel",null,{"$f":"Germany!AB24","v":":"},{"$f":"France!AB24","v":734},{"$f":"Italy!AB24","v":":"},{"$f":"'The Netherlands'!AB24","v":714},{"$f":"Belgium!AB24","v":{"v":1028,"d":"1,028"}},{"$f":"UK!AB24","v":79},{"$f":"Ireland!AB24","v":137},{"$f":"Denmark!AB24","v":512},":",{"$f":"Portugal!AB24","v":111},{"$f":"Austria!AB24","v":":"},":",{"$f":"Finland!AB24","v":54},":"]
["porcs engrais/pigs for fattening/Mastschweine",null,{"$f":"Germany!AB25","v":":"},{"$f":"France!AB25","v":{"v":3479,"d":"3,479"}},{"$f":"Italy!AB25","v":":"},{"$f":"'The Netherlands'!AB25","v":{"v":3483,"d":"3,483"}},{"$f":"Belgium!AB25","v":{"v":2072,"d":"2,072"}},{"$f":"UK!AB25","v":{"v":1534,"d":"1,534"}},{"$f":"Ireland!AB25","v":388},{"$f":"Denmark!AB25","v":{"v":1371,"d":"1,371"}},":",{"$f":"Portugal!AB25","v":757},{"$f":"Austria!AB25","v":":"},":",{"$f":"Finland!AB25","v":120},":"]
["reproducteurs/breeding pigs/Zuchtschweine",null,{"$f":"Germany!AB26","v":":"},{"$f":"France!AB26","v":857},{"$f":"Italy!AB26","v":":"},{"$f":"'The Netherlands'!AB26","v":{"v":1165,"d":"1,165"}},{"$f":"Belgium!AB26","v":492},{"$f":"UK!AB26","v":452},{"$f":"Ireland!AB26","v":115},{"$f":"Denmark!AB26","v":538},":",{"$f":"Portugal!AB26","v":230},{"$f":"Austria!AB26","v":":"},":",{"$f":"Finland!AB26","v":55},":"]
["autres/others/Andere",null,{"$f":"Germany!AB27","v":":"},{"$f":"France!AB27","v":":"},{"$f":"Italy!AB27","v":":"},{"$f":"'The Netherlands'!AB27","v":":"},{"$f":"Belgium!AB27","v":":"},{"$f":"UK!AB27","v":10},{"$f":"Ireland!AB27","v":56},{"$f":"Denmark!AB27","v":":"},":",{"$f":"Portugal!AB27","v":38},{"$f":"Austria!AB27","v":":"},":",{"$f":"Finland!AB27","v":50},":"]
[{"$nulls":4}," "]
[]
["Volaille/Poultry/Volatili/Geflügel",null,{"$f":"Germany!AB30","v":{"v":6535,"d":"6,535"}},{"$f":"France!AB30","v":{"v":8854,"d":"8,854"}},{"$f":"Italy!AB30","v":{"v":5741,"d":"5,741"}},{"$f":"'The Netherlands'!AB30","v":{"v":3856,"d":"3,856"}},{"$f":"Belgium!AB30","v":{"v":1297,"d":"1,297"}},{"$f":"UK!AB30","v":{"v":6674,"d":"6,674"}},{"$f":"Ireland!AB30","v":576},{"$f":"Denmark!AB30","v":598},{"$f":"Spain!AB30","v":{"v":4205,"d":"4,205"}},{"$f":"Portugal!AB30","v":{"v":1436,"d":"1,436"}},{"$f":"Austria!AB30","v":570},{"$f":"Sweden!AB30","v":627},{"$f":"Finland!AB30","v":347},{"$f":"SUM(C28:O28)","v":{"v":41316,"d":"41,316"}}]
["broilers",null,{"$f":"Germany!AB31","v":{"v":4176,"d":"4,176"}},{"$f":"France!AB31","v":{"v":3408,"d":"3,408"}},{"$f":"Italy!AB31","v":{"v":2845,"d":"2,845"}},{"$f":"'The Netherlands'!AB31","v":{"v":1783,"d":"1,783"}},{"$f":"Belgium!AB31","v":665},{"$f":"UK!AB31","v":{"v":3747,"d":"3,747"}},":",{"$f":"Denmark!AB31","v":179},":",{"$f":"Portugal!AB31","v":882},{"$f":"Austria!AB31","v":":"},":",{"$f":"Finland!AB31","v":237},":"]
["poulettes & pondeuses/chicks & layers/Jung- & Legehennen",null,{"$f":"Germany!AB32","v":{"v":2359,"d":"2,359"}},{"$f":"France!AB32","v":{"v":2464,"d":"2,464"}},{"$f":"Italy!AB32","v":{"v":1914,"d":"1,914"}},{"$f":"'The Netherlands'!AB32","v":{"v":2073,"d":"2,073"}},{"$f":"Belgium!AB32","v":495},{"$f":"UK!AB32","v":{"v":1738,"d":"1,738"}},":",{"$f":"Denmark!AB32","v":399},":",{"$f":"Portugal!AB32","v":349},{"$f":"Austria!AB32","v":":"},":",{"$f":"Finland!AB32","v":87},":"]
["autres/others/Andere",null,{"$f":"Germany!AB33","v":":"},{"$f":"France!AB33","v":{"v":2982,"d":"2,982"}},{"$f":"Italy!AB33","v":982},{"$f":"'The Netherlands'!AB33","v":":"},{"$f":"Belgium!AB33","v":137},{"$f":"UK!AB33","v":{"v":1189,"d":"1,189"}},":",{"$f":"Denmark!AB33","v":20},":",{"$f":"Portugal!AB33","v":205},{"$f":"Austria!AB33","v":":"},":",{"$f":"Finland!AB33","v":23},":"]
[]
[]
["Al. d'allait./Milk replacers/Sostit. del latte/Milchaust.",null,{"$f":"Germany!AB36","v":155},{"$f":"France!AB36","v":337},{"$f":"Italy!AB36","v":105},{"$f":"'The Netherlands'!AB36","v":550},{"$f":"Belgium!AB36","v":51},{"$f":"UK!AB36","v":0},{"$f":"Ireland!AB36","v":0},{"$f":"Denmark!AB36","v":0},{"$f":"Spain!AB36","v":0},{"$f":"Portugal!AB36","v":0},{"$f":"Austria!AB36","v":0},{"$f":"Sweden!AB36","v":2},{"$f":"Finland!AB36","v":0},{"$f":"SUM(C34:O34)","v":{"v":1200,"d":"1,200"}}]
[]
[{"$nulls":4}," "]
["Autres/others/altri/Andere",null,{"$f":"Germany!AB39","v":734},{"$f":"France!AB39","v":{"v":1513,"d":"1,513"}},{"$f":"Italy!AB39","v":880},{"$f":"'The Netherlands'!AB39","v":646},{"$f":"Belgium!AB39","v":378},{"$f":"UK!AB39","v":{"v":1587,"d":"1,587"}},{"$f":"Ireland!AB39","v":172},{"$f":"Denmark!AB39","v":200},{"$f":"Spain!AB39","v":147},{"$f":"Portugal!AB39","v":258},{"$f":"Austria!AB39","v":138},{"$f":"Sweden!AB39","v":123},{"$f":"Finland!AB39","v":125},{"$f":"SUM(C37:O37)","v":{"v":6901,"d":"6,901"}}]
[]
[]
["TOTAL",null,{"$f":"C37+C34+C28+C21+C13","v":{"v":23789,"d":"23,789"}},{"v":21125,"d":"21,125"},{"v":13456,"d":"13,456"},{"v":14512,"d":"14,512"},{"v":6650,"d":"6,650"},{"v":15560,"d":"15,560"},{"v":3988,"d":"3,988"},{"v":4116,"d":"4,116"},{"v":21736,"d":"21,736"},{"v":3720,"d":"3,720"},{"v":1537,"d":"1,537"},{"v":1932,"d":"1,932"},{"v":1432,"d":"1,432"},{"v":133553,"d":"133,553"}]
[{"$nulls":5}," "]
[]
["* Without Luxemburg and Greece"]
[": not available"]
["From 2015 on, the Dutch production of milk replacers is a rough estimate, due to statistical confidentiality "]
{"$rows_empty":8}
["2017-05-22"]
[]
["PRODUCTION INDUSTRIELLE D'ALIMENTS COMPOSES ",{"$nulls":14},"INDUSTRIELLE  MISCHFUTTERPRODUKTION"]
["PRODUZIONE INDUSTRIALE DI MANGIMI COMPOSTI",{"$nulls":14},"INDUSTRIAL COMPOUND PRODUCTION"]
[2015]
["final"]
[{"$nulls":15},"(1 000 t)"]
[]
["Catégories d'aliments composés/Mischfutterarten",null,"CY","CZ","EE","HU","LV","LT","PL","SK","SI","BU","RO","HR","EU-13","EU-28"]
["Tipi di mangimi compositi/Types of feed",{"$nulls":13},"**","***"]
[]
[null,null," ",{"$nulls":4}," ",null," "]
["Bovins/Cattle/Bovini/Rinder",null,{"$f":"Cyprus!AB16","v":127},{"$f":"'Czech Rep'!AB16","v":520},{"$f":"Estonia!AB16","v":40},{"$f":"Hungary!AB16","v":312},{"$f":"Latvia!AB16","v":57},{"$f":"Lithuania!AB16","v":113},{"$f":"Poland!AB16","v":847},{"$f":"Slovakia!AB16","v":206},{"$f":"Slovenia!AB16","v":85},{"$f":"Bulgaria!AB16","v":141},{"$f":"Romania!AB17","v":75},{"$f":"Croatia!AB16","v":129},{"$f":"SUM(C66:N66)","v":{"v":2652,"d":"2,652"}},{"$f":"P13+O66","v":{"v":42432,"d":"42,432"}}]
["engrais/fattening/Mast  ",null,{"$f":"Cyprus!AB17","v":16},{"$f":"'Czech Rep'!AB17","v":":"},{"$f":"Estonia!AB17","v":":"},{"$f":"Hungary!AB17","v":":"},{"$f":"Latvia!AB17","v":":"},{"$f":"Lithuania!AB17","v":3},{"$f":"Poland!AB17","v":":"},{"$f":"Slovakia!AB17","v":15},":",":",":",":",":",":"]
["VL/dairy cow/Milchkühe",null,{"$f":"Cyprus!AB18","v":100},{"$f":"'Czech Rep'!AB18","v":":"},{"$f":"Estonia!AB18","v":":"},{"$f":"Hungary!AB18","v":":"},{"$f":"Latvia!AB18","v":":"},{"$f":"Lithuania!AB18","v":98},{"$f":"Poland!AB18","v":":"},{"$f":"Slovakia!AB18","v":156},":",":",":",":",":",":"]
["veaux (aliments d'allaitement non compris)/calves ",null,{"$f":"Cyprus!AB19","v":11},{"$f":"'Czech Rep'!AB19","v":":"},{"$f":"Estonia!AB19","v":":"},{"$f":"Hungary!AB19","v":":"},{"$f":"Latvia!AB19","v":":"},{"$f":"Lithuania!AB19","v":8},{"$f":"Poland!AB19","v":":"},{"$f":"Slovakia!AB19","v":15},":",":",":",":",":",":"]
["(excluding milk replacers)/Kälber (exkl. Milchaustauscher)"]
["autres/others/Andere",null,{"$f":"Cyprus!AB20","v":":"},{"$f":"'Czech Rep'!AB20","v":":"},{"$f":"Estonia!AB20","v":":"},{"$f":"Hungary!AB20","v":":"},{"$f":"Latvia!AB20","v":":"},{"$f":"Lithuania!AB20","v":4},{"$f":"Poland!AB20","v":":"},{"$f":"Slovakia!AB20","v":20},":",":",":",":",":",":"]
[]
[]
["Porcins/Pigs/Suini/Schweine",null,{"$f":"Cyprus!AB23","v":34},{"$f":"'Czech Rep'!AB23","v":786},{"$f":"Estonia!AB23","v":140},{"$f":"Hungary!AB23","v":{"v":1204,"d":"1,204"}},{"$f":"Latvia!AB23","v":85},{"$f":"Lithuania!AB23","v":40},{"$f":"Poland!AB23","v":{"v":1940,"d":"1,940"}},{"$f":"Slovakia!AB23","v":246},{"$f":"Slovenia!AB23","v":50},{"$f":"Bulgaria!AB23","v":367},{"$f":"Romania!AB24","v":{"v":1120,"d":"1,120"}},{"$f":"Croatia!AB23","v":223},{"$f":"SUM(C74:N74)","v":{"v":6235,"d":"6,235"}},{"$f":"P21+O74","v":{"v":50591,"d":"50,591"}}]
["porcelets/piglets/Ferkel",null,{"$f":"Cyprus!AB24","v":2},{"$f":"'Czech Rep'!AB24","v":":"},{"$f":"Estonia!AB24","v":":"},{"$f":"Hungary!AB24","v":":"},{"$f":"Latvia!AB24","v":":"},{"$f":"Lithuania!AB24","v":14},{"$f":"Poland!AB24","v":":"},{"$f":"Slovakia!AB24","v":26},":",":",":",":",":",":"]
["porcs engrais/pigs for fattening/Mastschweine",null,{"$f":"Cyprus!AB25","v":24},{"$f":"'Czech Rep'!AB25","v":":"},{"$f":"Estonia!AB25","v":":"},{"$f":"Hungary!AB25","v":":"},{"$f":"Latvia!AB25","v":":"},{"$f":"Lithuania!AB25","v":18},{"$f":"Poland!AB25","v":":"},{"$f":"Slovakia!AB25","v":161},":",":",":",":",":",":"]
["reproducteurs/breeding pigs/Zuchtschweine",null,{"$f":"Cyprus!AB26","v":8},{"$f":"'Czech Rep'!AB26","v":":"},{"$f":"Estonia!AB26","v":":"},{"$f":"Hungary!AB26","v":":"},{"$f":"Latvia!AB26","v":":"},{"$f":"Lithuania!AB26","v":7},{"$f":"Poland!AB26","v":":"},{"$f":"Slovakia!AB26","v":37},":",":",":",":",":",":"]
["autres/others/Andere",null,{"$f":"Cyprus!AB27","v":":"},{"$f":"'Czech Rep'!AB27","v":":"},{"$f":"Estonia!AB27","v":":"},{"$f":"Hungary!AB27","v":":"},{"$f":"Latvia!AB27","v":":"},{"$f":"Lithuania!AB27","v":1},{"$f":"Poland!AB27","v":":"},{"$f":"Slovakia!AB27","v":22},":",":",":",":",":",":"]
[{"$nulls":4}," "]
[]
["Volaille/Poultry/Volatili/Geflügel",null,{"$f":"Cyprus!AB30","v":46},{"$f":"'Czech Rep'!AB30","v":949},{"$f":"Estonia!AB30","v":48},{"$f":"Hungary!AB30","v":{"v":1681,"d":"1,681"}},{"$f":"Latvia!AB30","v":173},{"$f":"Lithuania!AB30","v":241},{"$f":"Poland!AB30","v":{"v":5929,"d":"5,929"}},{"$f":"Slovakia!AB30","v":229},{"$f":"Slovenia!AB30","v":200},{"$f":"Bulgaria!AB30","v":614},{"$f":"Romania!AB31","v":{"v":1300,"d":"1,300"}},{"$f":"Croatia!AB30","v":288},{"$f":"SUM(C81:N81)","v":{"v":11698,"d":"11,698"}},{"$f":"P28+O81","v":{"v":53014,"d":"53,014"}}]
["broilers",null,{"$f":"Cyprus!AB31","v":34},{"$f":"'Czech Rep'!AB31","v":":"},{"$f":"Estonia!AB31","v":":"},{"$f":"Hungary!AB31","v":":"},{"$f":"Latvia!AB31","v":":"},{"$f":"Lithuania!AB31","v":174},{"$f":"Poland!AB31","v":":"},{"$f":"Slovakia!AB31","v":98},":",":",":",":",":",":"]
["poulettes & pondeuses/chicks & layers/Jung- & Legehennen",null,{"$f":"Cyprus!AB32","v":10},{"$f":"'Czech Rep'!AB32","v":":"},{"$f":"Estonia!AB32","v":":"},{"$f":"Hungary!AB32","v":":"},{"$f":"Latvia!AB32","v":":"},{"$f":"Lithuania!AB32","v":60},{"$f":"Poland!AB32","v":":"},{"$f":"Slovakia!AB32","v":116},":",":",":",":",":",":"]
["autres/others/Andere",null,{"$f":"Cyprus!AB33","v":2},{"$f":"'Czech Rep'!AB33","v":":"},{"$f":"Estonia!AB33","v":":"},{"$f":"Hungary!AB33","v":":"},{"$f":"Latvia!AB33","v":":"},{"$f":"Lithuania!AB33","v":7},{"$f":"Poland!AB33","v":":"},{"$f":"Slovakia!AB33","v":15},":",":",":",":",":",":"]
[]
[]
["Al. d'allait./Milk replacers/Sostit. del latte/Milchaust.",null,{"$f":"Cyprus!AB36","v":1},{"$f":"'Czech Rep'!AB36","v":2},{"$f":"Estonia!AB36","v":0},{"$f":"Hungary!AB36","v":0},{"$f":"Latvia!AB36","v":0},{"$f":"Lithuania!AB36","v":0},{"$f":"Poland!AB36","v":0},{"$f":"Slovakia!AB36","v":0},{"$f":"Slovenia!AB36","v":0},{"$f":"Bulgaria!AB36","v":0},{"$f":"Romania!AB37","v":0},{"$f":"Croatia!AB36","v":0},{"$f":"SUM(C87:N87)","v":3},{"$f":"P34+O87","v":{"v":1203,"d":"1,203"}}]
[]
[{"$nulls":4}," "]
["Autres/others/altri/Andere",null,{"$f":"Cyprus!AB39","v":99},{"$f":"'Czech Rep'!AB39","v":94},{"$f":"Estonia!AB39","v":2},{"$f":"Hungary!AB39","v":122},{"$f":"Latvia!AB39","v":11},{"$f":"Lithuania!AB39","v":127},{"$f":"Poland!AB39","v":592},{"$f":"Slovakia!AB39","v":15},{"$f":"Slovenia!AB39","v":25},{"$f":"Bulgaria!AB39","v":30},{"$f":"Romania!AB40","v":2},{"$f":"Croatia!AB39","v":8},{"$f":"SUM(C90:N90)","v":{"v":1127,"d":"1,127"}},{"$f":"P37+O90","v":{"v":8028,"d":"8,028"}}]
[]
[]
["TOTAL",null,{"$f":"C90+C87+C81+C74+C66","v":307},{"v":2351,"d":"2,351"},230,{"v":3319,"d":"3,319"},326,521,{"v":9308,"d":"9,308"},696,360,{"v":1152,"d":"1,152"},{"v":2497,"d":"2,497"},648,{"v":21715,"d":"21,715"},{"v":155268,"d":"155,268"}]
[{"$nulls":5}," "]
[]
["** Without Malta"]
["*** Without Luxemburg, Greece and Malta"]
[": not available"]

{"sheet":"2015-16","index":53,"n_rows":44,"n_cols":24,"rows_kept":44,"merged":[[8,1,8,3],[8,5,8,7],[8,9,8,11],[8,13,8,15],[8,17,8,19],[8,21,8,23]]}
["2017-12-26"]
["TAV: Year-to-year variation"]
["EU 28"]
[{"$nulls":12},"2015-2016",{"$nulls":10},"INDUSTRIAL COMPOUND PRODUCTION"]
[{"$nulls":12},"final",{"$nulls":10},"(1 000 t )"]
[]
[]
[]
["COUNTRY","  CATTLE",{"$nulls":3},"PIGS",{"$nulls":3},"POULTRY",{"$nulls":3},"MILKREPLACERS",{"$nulls":3},"OTHERS",{"$nulls":3},"TOTAL"]
[]
[null,2015,2016,"%TAV",null,2015,2016,"%TAV",null,2015,2016,"%TAV",null,2015,2016,"%TAV",null,2015,2016,"%TAV",null,2015,2016,"%TAV"]
[]
["DE",{"$f":"Germany!AB$16","v":{"v":6716,"d":"6,716"}},{"$f":"Germany!AC$16","v":{"v":7327.575,"d":"7,328"}},{"$f":"((C13/B13)-1)*100","v":{"v":9.10623883263848,"d":"9.1"}},null,{"$f":"Germany!AB$23","v":{"v":9649,"d":"9,649"}},{"$f":"Germany!AC$23","v":{"v":9769.2,"d":"9,769"}},{"$f":"((G13/F13)-1)*100","v":{"v":1.245724945590232,"d":"1.2"}},null,{"$f":"Germany!AB$30","v":{"v":6535,"d":"6,535"}},{"$f":"Germany!AC$30","v":{"v":6520.6,"d":"6,521"}},{"$f":"((K13/J13)-1)*100","v":{"v":-0.2203519510328933,"d":"-0.2"}},null,{"$f":"Germany!AB$36","v":155},{"$f":"Germany!AC$36","v":159},{"$f":"((O13/N13)-1)*100","v":{"v":2.580645161290329,"d":"2.6"}},null,{"$f":"Germany!AB$39","v":734},{"$f":"Germany!AC$39","v":636},{"$f":"((S13/R13)-1)*100","v":{"v":-13.351498637602177,"d":"-13.4"}},null,{"$f":"R13+N13+J13+F13+B13","v":{"v":23789,"d":"23,789"}},{"v":24412.375000000004,"d":"24,412"},{"$f":"((W13/V13)-1)*100","v":{"v":2.6204338139476313,"d":"2.6"}}]
["FR",{"$f":"France!AB$16","v":{"v":5351,"d":"5,351"}},{"$f":"France!AC$16","v":{"v":5168,"d":"5,168"}},{"v":-3.419921509998136,"d":"-3.4"},null,{"$f":"France!AB$23","v":{"v":5070,"d":"5,070"}},{"$f":"France!AC$23","v":{"v":4989,"d":"4,989"}},{"v":-1.5976331360946783,"d":"-1.6"},null,{"$f":"France!AB$30","v":{"v":8854,"d":"8,854"}},{"$f":"France!AC$30","v":{"v":8656,"d":"8,656"}},{"v":-2.2362773887508514,"d":"-2.2"},null,{"$f":"France!AB36","v":337},{"$f":"France!AC36","v":338},{"v":0.29673590504450953,"d":"0.3"},null,{"$f":"France!AB$39","v":{"v":1513,"d":"1,513"}},{"$f":"France!AC$39","v":{"v":1515,"d":"1,515"}},{"v":0.13218770654328527,"d":"0.1"},null,{"$f":"R14+N14+J14+F14+B14","v":{"v":21125,"d":"21,125"}},{"v":20666,"d":"20,666"},{"v":-2.172781065088758,"d":"-2.2"}]
["IT",{"$f":"Italy!AB$16","v":{"v":3172,"d":"3,172"}},{"$f":"Italy!AC$16","v":{"v":3136,"d":"3,136"}},{"v":-1.1349306431273631,"d":"-1.1"},null,{"$f":"Italy!AB$23","v":{"v":3558,"d":"3,558"}},{"$f":"Italy!AC$23","v":{"v":3598,"d":"3,598"}},{"v":1.1242270938729648,"d":"1.1"},null,{"$f":"Italy!AB$30","v":{"v":5741,"d":"5,741"}},{"$f":"Italy!AC$30","v":{"v":5887,"d":"5,887"}},{"v":2.543110956279393,"d":"2.5"},null,{"$f":"Italy!AB$36","v":105},{"$f":"Italy!AC$36","v":100},{"v":-4.761904761904767,"d":"-4.8"},null,{"$f":"+Italy!AB$39","v":880},{"$f":"+Italy!AC$39","v":910},{"v":3.409090909090917,"d":"3.4"},null,{"$f":"R15+N15+J15+F15+B15","v":{"v":13456,"d":"13,456"}},{"v":13631,"d":"13,631"},{"v":1.3005350772889335,"d":"1.3"}]
["NL   ",{"$f":"'The Netherlands'!AB$16","v":{"v":4098,"d":"4,098"}},{"$f":"'The Netherlands'!AC$16","v":{"v":4419,"d":"4,419"}},{"v":7.8330893118594425,"d":"7.8"},null,{"$f":"'The Netherlands'!AB$23","v":{"v":5362,"d":"5,362"}},{"$f":"'The Netherlands'!AC$23","v":{"v":5132,"d":"5,132"}},{"v":-4.289444237224915,"d":"-4.3"},null,{"$f":"'The Netherlands'!AB$30","v":{"v":3856,"d":"3,856"}},{"$f":"'The Netherlands'!AC$30","v":{"v":3840,"d":"3,840"}},{"v":-0.4149377593360981,"d":"-0.4"},null,{"$f":"'The Netherlands'!AB$36","v":550},{"$f":"'The Netherlands'!AC$36","v":520},{"v":-5.454545454545457,"d":"-5.5"},null,{"$f":"'The Netherlands'!AB$39","v":646},{"$f":"'The Netherlands'!AC$39","v":538},{"v":-16.718266253869974,"d":"-16.7"},null,{"$f":"R16+N16+J16+F16+B16","v":{"v":14512,"d":"14,512"}},{"v":14449,"d":"14,449"},{"v":-0.43412348401322687,"d":"-0.4"}]
["BE",{"$f":"Belgium!AB$16","v":{"v":1332,"d":"1,332"}},{"$f":"Belgium!AC$16","v":{"v":1350,"d":"1,350"}},{"v":1.3513513513513598,"d":"1.4"},null,{"$f":"Belgium!AB$23","v":{"v":3592,"d":"3,592"}},{"$f":"Belgium!AC$23","v":{"v":3500,"d":"3,500"}},{"v":-2.5612472160356337,"d":"-2.6"},null,{"$f":"Belgium!AB$30","v":{"v":1297,"d":"1,297"}},{"$f":"Belgium!AC$30","v":{"v":1312,"d":"1,312"}},{"v":1.156515034695449,"d":"1.2"},null,{"$f":"Belgium!AB$36","v":51},{"$f":"Belgium!AC$36","v":55},{"v":7.843137254901955,"d":"7.8"},null,{"$f":"Belgium!AB$39","v":378},{"$f":"Belgium!AC$39","v":374},{"v":-1.0582010582010581,"d":"-1.1"},null,{"$f":"R17+N17+J17+F17+B17","v":{"v":6650,"d":"6,650"}},{"v":6591,"d":"6,591"},{"v":-0.8872180451127809,"d":"-0.9"}]
["UK ",{"$f":"UK!AB$16","v":{"v":5224,"d":"5,224"}},{"$f":"UK!AC$16","v":{"v":5071,"d":"5,071"}},{"v":-2.928790199081166,"d":"-2.9"},null,{"$f":"UK!AB$23","v":{"v":2075,"d":"2,075"}},{"$f":"UK!AC$23","v":{"v":2028,"d":"2,028"}},{"v":-2.2650602409638565,"d":"-2.3"},null,{"$f":"UK!AB$30","v":{"v":6674,"d":"6,674"}},{"$f":"UK!AC$30","v":{"v":6990,"d":"6,990"}},{"v":4.734791729097987,"d":"4.7"},null,{"$f":"UK!AB$36","v":0},{"$f":"UK!AC$36","v":0},{"v":0,"d":"0.0"},null,{"$f":"UK!AB$39","v":{"v":1587,"d":"1,587"}},{"$f":"UK!AC$39","v":{"v":1546,"d":"1,546"}},{"v":-2.5834908632640152,"d":"-2.6"},null,{"$f":"R18+N18+J18+F18+B18","v":{"v":15560,"d":"15,560"}},{"v":15635,"d":"15,635"},{"v":0.4820051413881643,"d":"0.5"}]
["IE",{"$f":"Ireland!AB$16","v":{"v":2544,"d":"2,544"}},{"$f":"Ireland!AC$16","v":{"v":2573,"d":"2,573"}},{"v":1.139937106918243,"d":"1.1"},null,{"$f":"Ireland!AB$23","v":696},{"$f":"Ireland!AC$23","v":669},{"v":-3.879310344827591,"d":"-3.9"},null,{"$f":"Ireland!AB$30","v":576},{"$f":"Ireland!AC$30","v":655},{"v":13.715277777777768,"d":"13.7"},null,{"$f":"Ireland!AB$36","v":0},{"$f":"Ireland!AC$36","v":0},{"v":0,"d":"0.0"},null,{"$f":"Ireland!AB$39","v":172},{"$f":"Ireland!AC$39","v":108},{"v":-37.2093023255814,"d":"-37.2"},null,{"$f":"R19+N19+J19+F19+B19","v":{"v":3988,"d":"3,988"}},{"v":4005,"d":"4,005"},{"v":0.42627883650951937,"d":"0.4"}]
["DK ",{"$f":"Denmark!AB$16","v":897},{"$f":"Denmark!AC$16","v":981},{"v":9.364548494983271,"d":"9.4"},null,{"$f":"Denmark!AB$23","v":{"v":2421,"d":"2,421"}},{"$f":"Denmark!AC$23","v":{"v":2312,"d":"2,312"}},{"v":-4.502271788517143,"d":"-4.5"},null,{"$f":"Denmark!AB$30","v":598},{"$f":"Denmark!AC$30","v":615},{"v":2.842809364548504,"d":"2.8"},null,{"$f":"Denmark!AB$36","v":0},{"$f":"Denmark!AC$36","v":0},{"v":0,"d":"0.0"},null,{"$f":"Denmark!AB$39","v":200},{"$f":"Denmark!AC$39","v":190},{"v":-5.000000000000004,"d":"-5.0"},null,{"$f":"R20+N20+J20+F20+B20","v":{"v":4116,"d":"4,116"}},{"v":4098,"d":"4,098"},{"v":-0.4373177842565634,"d":"-0.4"}]
["ES",{"$f":"Spain!AB$16","v":{"v":7447,"d":"7,447"}},{"$f":"Spain!AC$16","v":{"v":7799,"d":"7,799"}},{"v":4.726735598227472,"d":"4.7"},null,{"$f":"Spain!AB$23","v":{"v":9937,"d":"9,937"}},{"$f":"Spain!AC$23","v":{"v":10420,"d":"10,420"}},{"v":4.860621918083918,"d":"4.9"},null,{"$f":"Spain!AB$30","v":{"v":4205,"d":"4,205"}},{"$f":"Spain!AC$30","v":{"v":4401,"d":"4,401"}},{"v":4.661117717003571,"d":"4.7"},null,{"$f":"Spain!AB$36","v":0},{"$f":"Spain!AC$36","v":0},{"v":0,"d":"0.0"},null,{"$f":"Spain!AB$39","v":147},{"$f":"Spain!AC$39","v":151},{"v":2.7210884353741527,"d":"2.7"},null,{"$f":"R21+N21+J21+F21+B21","v":{"v":21736,"d":"21,736"}},{"v":22771,"d":"22,771"},{"v":4.761685682738315,"d":"4.8"}]
["PT",{"$f":"Portugal!AB$16","v":890},{"$f":"Portugal!AC$16","v":903},{"v":1.4606741573033766,"d":"1.5"},null,{"$f":"Portugal!AB$23","v":{"v":1136,"d":"1,136"}},{"$f":"Portugal!AC$23","v":{"v":1156,"d":"1,156"}},{"v":1.760563380281699,"d":"1.8"},null,{"$f":"Portugal!AB$30","v":{"v":1436,"d":"1,436"}},{"$f":"Portugal!AC$30","v":{"v":1630,"d":"1,630"}},{"v":13.509749303621167,"d":"13.5"},null,{"$f":"Portugal!AB$36","v":0},{"$f":"Portugal!AC$36","v":0},{"v":0,"d":"0.0"},null,{"$f":"Portugal!AB$39","v":258},{"$f":"Portugal!AC$39","v":210},{"v":-18.6046511627907,"d":"-18.6"},null,{"$f":"R22+N22+J22+F22+B22","v":{"v":3720,"d":"3,720"}},{"v":3899,"d":"3,899"},{"v":4.811827956989245,"d":"4.8"}]
["AT",{"$f":"Austria!AB$16","v":556},{"$f":"Austria!AC$16","v":543},{"v":-2.3381294964028743,"d":"-2.3"},null,{"$f":"Austria!AB$23","v":273},{"$f":"Austria!AC$23","v":257},{"v":-5.860805860805862,"d":"-5.9"},null,{"$f":"Austria!AB$30","v":570},{"$f":"Austria!AC$30","v":601},{"v":5.438596491228065,"d":"5.4"},null,{"$f":"Austria!AB$36","v":0},{"$f":"Austria!AC$36","v":0},{"v":0,"d":"0.0"},null,{"$f":"Austria!AB$39","v":138},{"$f":"Austria!AC$39","v":125},{"v":-9.420289855072461,"d":"-9.4"},null,{"$f":"R23+N23+J23+F23+B23","v":{"v":1537,"d":"1,537"}},{"v":1526,"d":"1,526"},{"v":-0.7156798959011113,"d":"-0.7"}]
["SE",{"$f":"Sweden!AB$16","v":872},{"$f":"Sweden!AC$16","v":867},{"v":-0.5733944954128489,"d":"-0.6"},null,{"$f":"Sweden!AB$23","v":308},{"$f":"Sweden!AC$23","v":308},{"v":0,"d":"0.0"},null,{"$f":"Sweden!AB$30","v":627},{"$f":"Sweden!AC$30","v":667},{"v":6.379585326953752,"d":"6.4"},null,{"$f":"Sweden!AB$36","v":2},{"$f":"Sweden!AC$36","v":3},{"$f":"((O24/N24)-1)*100","v":{"v":50,"d":"50.0"}},null,{"$f":"Sweden!AB$39","v":123},{"$f":"Sweden!AC$39","v":88},{"v":-28.455284552845526,"d":"-28.5"},null,{"$f":"R24+N24+J24+F24+B24","v":{"v":1932,"d":"1,932"}},{"v":1933,"d":"1,933"},{"v":0.051759834368536595,"d":"0.1"}]
["FI",{"$f":"Finland!AB$16","v":681},{"$f":"Finland!AC$16","v":677},{"v":-0.5873715124816492,"d":"-0.6"},null,{"$f":"Finland!AB$23","v":279},{"$f":"Finland!AC$23","v":262},{"v":-6.093189964157708,"d":"-6.1"},null,{"$f":"Finland!AB$30","v":347},{"$f":"Finland!AC$30","v":351},{"v":1.1527377521613813,"d":"1.2"},null,{"$f":"Finland!AB$36","v":0},{"$f":"Finland!AC$36","v":0},{"v":0,"d":"0.0"},null,{"$f":"Finland!AB$39","v":125},{"$f":"Finland!AC$39","v":115},{"v":-7.9999999999999964,"d":"-8.0"},null,{"$f":"R25+N25+J25+F25+B25","v":{"v":1432,"d":"1,432"}},{"v":1405,"d":"1,405"},{"v":-1.88547486033519,"d":"-1.9"}]
["CY",{"$f":"Cyprus!AB$16","v":127},{"$f":"Cyprus!AC$16","v":132},{"v":3.937007874015741,"d":"3.9"},null,{"$f":"Cyprus!AB$23","v":34},{"$f":"Cyprus!AC$23","v":33},{"v":-2.941176470588236,"d":"-2.9"},null,{"$f":"Cyprus!AB$30","v":46},{"$f":"Cyprus!AC$30","v":46},{"v":0,"d":"0.0"},null,{"$f":"Cyprus!AB$36","v":1},{"$f":"Cyprus!AC$36","v":1},{"v":0,"d":"0.0"},null,{"$f":"Cyprus!AB$39","v":99},{"$f":"Cyprus!AC$39","v":112},{"v":13.131313131313128,"d":"13.1"},null,{"$f":"R26+N26+J26+F26+B26","v":307},324,{"v":5.537459283387625,"d":"5.5"}]
["CZ",{"$f":"'Czech Rep'!AB$16","v":520},{"$f":"'Czech Rep'!AC$16","v":533},{"v":2.499999999999991,"d":"2.5"},null,{"$f":"'Czech Rep'!AB$23","v":786},{"$f":"'Czech Rep'!AC$23","v":765},{"v":-2.6717557251908386,"d":"-2.7"},null,{"$f":"'Czech Rep'!AB$30","v":949},{"$f":"'Czech Rep'!AC$30","v":983},{"v":3.5827186512118026,"d":"3.6"},null,{"$f":"'Czech Rep'!AB$36","v":2},{"$f":"'Czech Rep'!AC$36","v":2},{"$f":"((O27/N27)-1)*100","v":{"v":0,"d":"0.0"}},null,{"$f":"'Czech Rep'!AB$39","v":94},{"$f":"'Czech Rep'!AC$39","v":75},{"v":-20.21276595744681,"d":"-20.2"},null,{"$f":"R27+N27+J27+F27+B27","v":{"v":2351,"d":"2,351"}},{"v":2358,"d":"2,358"},{"v":0.2977456401531242,"d":"0.3"}]
["EE",{"$f":"Estonia!AB$16","v":40},{"$f":"Estonia!AC$16","v":40},{"v":0,"d":"0.0"},null,{"$f":"Estonia!AB$23","v":140},{"$f":"Estonia!AC$23","v":140},{"v":0,"d":"0.0"},null,{"$f":"Estonia!AB$30","v":48},{"$f":"Estonia!AC$30","v":48},{"v":0,"d":"0.0"},null,{"$f":"Estonia!AB$36","v":0},{"$f":"Estonia!AC$36","v":0},{"v":0,"d":"0.0"},null,{"$f":"Estonia!AB$39","v":2},{"$f":"Estonia!AC$39","v":2},{"v":0,"d":"0.0"},null,{"$f":"R28+N28+J28+F28+B28","v":230},230,{"v":0,"d":"0.0"}]
["HU",{"$f":"Hungary!AB$16","v":312},{"$f":"Hungary!AC$16","v":378},{"v":21.153846153846146,"d":"21.2"},null,{"$f":"Hungary!AB$23","v":{"v":1204,"d":"1,204"}},{"$f":"Hungary!AC$23","v":{"v":1259,"d":"1,259"}},{"v":4.568106312292364,"d":"4.6"},null,{"$f":"Hungary!AB$30","v":{"v":1681,"d":"1,681"}},{"$f":"Hungary!AC$30","v":{"v":1902,"d":"1,902"}},{"v":13.146936347412264,"d":"13.1"},null,{"$f":"Hungary!AB$36","v":0},{"$f":"Hungary!AC$36","v":0},{"v":0,"d":"0.0"},null,{"$f":"Hungary!AB$39","v":122},{"$f":"Hungary!AC$39","v":127},{"v":4.098360655737698,"d":"4.1"},null,{"$f":"R29+N29+J29+F29+B29","v":{"v":3319,"d":"3,319"}},{"v":3666,"d":"3,666"},{"v":10.454956312142215,"d":"10.5"}]
["LV",{"$f":"Latvia!AB$16","v":57},{"$f":"Latvia!AC$16","v":55},{"v":-3.508771929824561,"d":"-3.5"},null,{"$f":"Latvia!AB$23","v":85},{"$f":"Latvia!AC$23","v":73},{"v":-14.117647058823534,"d":"-14.1"},null,{"$f":"Latvia!AB$30","v":173},{"$f":"Latvia!AC$30","v":178},{"v":2.8901734104046284,"d":"2.9"},null,{"$f":"Latvia!AB$36","v":0},{"$f":"Latvia!AC$36","v":0},{"v":0,"d":"0.0"},null,{"$f":"Latvia!AB$39","v":11},{"$f":"Latvia!AC$39","v":9},{"v":-18.181818181818176,"d":"-18.2"},null,{"$f":"R30+N30+J30+F30+B30","v":326},315,{"v":-3.3742331288343586,"d":"-3.4"}]
["LT",{"$f":"Lithuania!AB$16","v":113},{"$f":"Lithuania!AC$16","v":148},{"v":30.973451327433633,"d":"31.0"},null,{"$f":"Lithuania!AB$23","v":40},{"$f":"Lithuania!AC$23","v":36},{"v":-9.999999999999998,"d":"-10.0"},null,{"$f":"Lithuania!AB$30","v":241},{"$f":"Lithuania!AC$30","v":245},{"v":1.6597510373443924,"d":"1.7"},null,{"$f":"Lithuania!AB$36","v":0},{"$f":"Lithuania!AC$36","v":0},{"v":0,"d":"0.0"},null,{"$f":"Lithuania!AB$39","v":127},{"$f":"Lithuania!AC$39","v":178},{"v":40.15748031496062,"d":"40.2"},null,{"$f":"R31+N31+J31+F31+B31","v":521},607,{"v":16.5067178502879,"d":"16.5"}]
["PL",{"$f":"Poland!AB$16","v":847},{"$f":"Poland!AC$16","v":857},{"v":1.1806375442739103,"d":"1.2"},null,{"$f":"Poland!AB$23","v":{"v":1940,"d":"1,940"}},{"$f":"Poland!AC$23","v":{"v":2061,"d":"2,061"}},{"v":6.237113402061856,"d":"6.2"},null,{"$f":"Poland!AB$30","v":{"v":5929,"d":"5,929"}},{"$f":"Poland!AC$30","v":{"v":6504,"d":"6,504"}},{"v":9.698094113678524,"d":"9.7"},null,{"$f":"Poland!AB$36","v":0},{"$f":"Poland!AC$36","v":0},{"v":0,"d":"0.0"},null,{"$f":"Poland!AB$39","v":592},{"$f":"Poland!AC$39","v":671},{"v":13.344594594594605,"d":"13.3"},null,{"$f":"R32+N32+J32+F32+B32","v":{"v":9308,"d":"9,308"}},{"v":10093,"d":"10,093"},{"v":8.433605500644603,"d":"8.4"}]
["SK",{"$f":"Slovakia!AB$16","v":206},{"$f":"Slovakia!AC$16","v":200},{"v":-2.9126213592232997,"d":"-2.9"},null,{"$f":"Slovakia!AB$23","v":246},{"$f":"Slovakia!AC$23","v":224},{"v":-8.943089430894313,"d":"-8.9"},null,{"$f":"Slovakia!AB$30","v":229},{"$f":"Slovakia!AC$30","v":222},{"v":-3.056768558951961,"d":"-3.1"},null,{"$f":"Slovakia!AB$36","v":0},{"$f":"Slovakia!AC$36","v":0},{"v":0,"d":"0.0"},null,{"$f":"+Slovakia!AB$39","v":15},{"$f":"+Slovakia!AC$39","v":16},{"v":6.666666666666665,"d":"6.7"},null,{"$f":"R33+N33+J33+F33+B33","v":696},662,{"v":-4.885057471264364,"d":"-4.9"}]
["SI",{"$f":"Slovenia!AB$16","v":85},{"$f":"Slovenia!AC$16","v":92},{"v":8.23529411764705,"d":"8.2"},null,{"$f":"Slovenia!AB$23","v":50},{"$f":"Slovenia!AC$23","v":51},{"v":2.0000000000000018,"d":"2.0"},null,{"$f":"Slovenia!AB$30","v":200},{"$f":"Slovenia!AC$30","v":228},{"v":13.99999999999999,"d":"14.0"},null,{"$f":"Slovenia!AB$36","v":0},{"$f":"Slovenia!AC$36","v":0},{"v":0,"d":"0.0"},null,{"$f":"Slovenia!AB$39","v":25},{"$f":"Slovenia!AC$39","v":16},{"v":-36,"d":"-36.0"},null,{"$f":"R34+N34+J34+F34+B34","v":360},387,{"v":7.499999999999996,"d":"7.5"}]
["BU",{"$f":"Bulgaria!AB$16","v":141},{"$f":"Bulgaria!AC$16","v":168},{"v":19.14893617021276,"d":"19.1"},null,{"$f":"Bulgaria!AB$23","v":367},{"$f":"Bulgaria!AC$23","v":343},{"v":-6.539509536784738,"d":"-6.5"},null,{"$f":"Bulgaria!AB$30","v":614},{"$f":"Bulgaria!AC$30","v":638},{"v":3.9087947882736174,"d":"3.9"},null,{"$f":"Bulgaria!AB$36","v":0},{"$f":"Bulgaria!AC$36","v":0},{"v":0,"d":"0.0"},null,{"$f":"Bulgaria!AB$39","v":30},{"$f":"Bulgaria!AC$39","v":41},{"v":36.66666666666667,"d":"36.7"},null,{"$f":"R35+N35+J35+F35+B35","v":{"v":1152,"d":"1,152"}},{"v":1190,"d":"1,190"},{"v":3.298611111111116,"d":"3.3"}]
["RO",{"$f":"Romania!AB$17","v":75},{"$f":"Romania!AC$17","v":49},{"v":-34.66666666666667,"d":"-34.7"},null,{"$f":"Romania!AB$24","v":{"v":1120,"d":"1,120"}},{"$f":"Romania!AC$24","v":{"v":1176,"d":"1,176"}},{"v":5.000000000000004,"d":"5.0"},null,{"$f":"Romania!AB$31","v":{"v":1300,"d":"1,300"}},{"$f":"Romania!AC$31","v":{"v":1529,"d":"1,529"}},{"v":17.61538461538461,"d":"17.6"},null,{"$f":"Romania!AB$37","v":0},{"$f":"Romania!AC$37","v":0},{"v":0,"d":"0.0"},null,{"$f":"Romania!AB$40","v":2},{"$f":"Romania!AC$40","v":2},{"v":0,"d":"0.0"},null,{"$f":"R36+N36+J36+F36+B36","v":{"v":2497,"d":"2,497"}},{"v":2756,"d":"2,756"},{"v":10.372446936323598,"d":"10.4"}]
["HR",{"$f":"Croatia!AB$16","v":129},{"$f":"Croatia!AC$16","v":113},{"v":-12.4031007751938,"d":"-12.4"},null,{"$f":"Croatia!AB$23","v":223},{"$f":"Croatia!AC$23","v":248},{"v":11.210762331838575,"d":"11.2"},null,{"$f":"Croatia!AB$30","v":288},{"$f":"Croatia!AC$30","v":288},{"v":0,"d":"0.0"},null,{"$f":"Croatia!AB$36","v":0},{"$f":"Croatia!AC$36","v":0},{"v":0,"d":"0.0"},null,{"$f":"Croatia!AB$39","v":8},{"$f":"Croatia!AC$39","v":12},{"v":50,"d":"50.0"},null,{"$f":"R37+N37+J37+F37+B37","v":648},661,{"v":2.0061728395061706,"d":"2.0"}]
[]
["EUR 28 *",{"$f":"SUM(B13:B37)","v":{"v":42432,"d":"42,432"}},{"v":43579.575,"d":"43,580"},{"$f":"((C39/B39)-1)*100","v":{"v":2.704503676470571,"d":"2.7"}},null,{"$f":"SUM(F13:F37)","v":{"v":50591,"d":"50,591"}},{"v":50809.2,"d":"50,809"},{"$f":"((G39/F39)-1)*100","v":{"v":0.4313020102389764,"d":"0.4"}},null,{"$f":"SUM(J13:J37)","v":{"v":53014,"d":"53,014"}},{"v":54936.6,"d":"54,937"},{"$f":"((K39/J39)-1)*100","v":{"v":3.626589202852082,"d":"3.6"}},null,{"$f":"SUM(N13:N37)","v":{"v":1203,"d":"1,203"}},{"v":1178,"d":"1,178"},{"$f":"((O39/N39)-1)*100","v":{"v":-2.0781379883624274,"d":"-2.1"}},null,{"$f":"SUM(R13:R37)","v":{"v":8028,"d":"8,028"}},{"v":7767,"d":"7,767"},{"$f":"((S39/R39)-1)*100","v":{"v":-3.2511210762331877,"d":"-3.3"}},null,{"$f":"SUM(V13:V37)","v":{"v":155268,"d":"155,268"}},{"v":158270.375,"d":"158,270"},{"$f":"((W39/V39)-1)*100","v":{"v":1.9336727464770664,"d":"1.9"}}]
[]
[{"$nulls":23}," "]
["* Without Luxemburg, Greece and Malta"]
[": not available"]
["From 2015 on, the Dutch production of milk replacers is a rough estimate, due to statistical confidentiality "]

{"sheet":"2016","index":54,"n_rows":90,"n_cols":15,"rows_kept":90,"merged":[[2,0,2,14],[3,0,3,14],[51,0,51,14],[52,0,52,14]]}
["2018-06-06"]
[{"$nulls":14},"INDUSTRIAL COMPOUND PRODUCTION"]
[2016]
["final"]
[{"$nulls":14},"(1 000 t)"]
[]
["Types of feed","DE","FR","IT","NL","BE","UK","IE","DK","ES","PT","AT","SE","FI","EU-15*"]
[]
[null," ",{"$nulls":4}," ",null,null," "]
["Cattle",{"$f":"Germany!AC16","v":{"v":7327.575,"d":"7,328"}},{"$f":"France!AC16","v":{"v":5168,"d":"5,168"}},{"$f":"Italy!AC16","v":{"v":3136,"d":"3,136"}},{"$f":"'The Netherlands'!AC16","v":{"v":4419,"d":"4,419"}},{"$f":"Belgium!AC16","v":{"v":1350,"d":"1,350"}},{"$f":"UK!AC16","v":{"v":5071,"d":"5,071"}},{"$f":"Ireland!AC16","v":{"v":2573,"d":"2,573"}},{"$f":"Denmark!AC16","v":981},{"$f":"Spain!AC16","v":{"v":7799,"d":"7,799"}},{"$f":"Portugal!AC16","v":903},{"$f":"Austria!AC16","v":543},{"$f":"Sweden!AC16","v":867},{"$f":"Finland!AC16","v":677},{"$f":"SUM(B10:N10)","v":{"v":40814.575,"d":"40,815"}}]
["fattening",{"$f":"Germany!AC17","v":":"},{"$f":"France!AC17","v":{"v":1771,"d":"1,771"}},{"$f":"Italy!AC17","v":651},{"$f":"'The Netherlands'!AC17","v":508},{"$f":"Belgium!AC17","v":443},{"$f":"UK!AC17","v":{"v":1291,"d":"1,291"}},{"$f":"Ireland!AC17","v":{"v":1124,"d":"1,124"}},":",":",{"$f":"Portugal!AC17","v":325},{"$f":"Austria!AC17","v":":"},":",":",":"]
["dairy cow",{"$f":"Germany!AC18","v":":"},{"$f":"France!AC18","v":{"v":3397,"d":"3,397"}},{"$f":"Italy!AC18","v":{"v":2365,"d":"2,365"}},{"$f":"'The Netherlands'!AC18","v":{"v":3667,"d":"3,667"}},{"$f":"Belgium!AC18","v":657},{"$f":"UK!AC18","v":{"v":3441,"d":"3,441"}},{"$f":"Ireland!AC18","v":{"v":1154,"d":"1,154"}},{"$f":"Denmark!AC18","v":741},":",{"$f":"Portugal!AC18","v":421},{"$f":"Austria!AC18","v":":"},":",{"$f":"Finland!AC18","v":":"},":"]
["calves (excl. milk replacers)",{"$f":"Germany!AC19","v":{"v":292.575,"d":"293"}},{"$f":"France!AC19","v":0},{"$f":"Italy!AC19","v":":"},{"$f":"'The Netherlands'!AC19","v":244},{"$f":"Belgium!AC19","v":250},{"$f":"UK!AC19","v":256},{"$f":"Ireland!AC19","v":222},{"$f":"Denmark!AC19","v":240},":",{"$f":"Portugal!AC19","v":46},{"$f":"Austria!AC19","v":":"},":",{"$f":"Finland!AC19","v":":"},":"]
["others",{"$f":"Germany!AC20","v":":"},{"$f":"France!AC20","v":0},{"$f":"Italy!AC20","v":120},{"$f":"'The Netherlands'!AC20","v":":"},{"$f":"Belgium!AC20","v":":"},{"$f":"UK!AC20","v":83},{"$f":"Ireland!AC20","v":73},{"$f":"Denmark!AC20","v":":"},":",{"$f":"Portugal!AC20","v":111},{"$f":"Austria!AC20","v":":"},":",{"$f":"Finland!AC20","v":":"},":"]
[]
[]
["Pigs",{"$f":"Germany!AC23","v":{"v":9769.2,"d":"9,769"}},{"$f":"France!AC23","v":{"v":4989,"d":"4,989"}},{"$f":"Italy!AC23","v":{"v":3598,"d":"3,598"}},{"$f":"'The Netherlands'!AC23","v":{"v":5132,"d":"5,132"}},{"$f":"Belgium!AC23","v":{"v":3500,"d":"3,500"}},{"$f":"UK!AC23","v":{"v":2028,"d":"2,028"}},{"$f":"Ireland!AC23","v":669},{"$f":"Denmark!AC23","v":{"v":2312,"d":"2,312"}},{"$f":"Spain!AC23","v":{"v":10420,"d":"10,420"}},{"$f":"Portugal!AC23","v":{"v":1156,"d":"1,156"}},{"$f":"Austria!AC23","v":257},{"$f":"Sweden!AC23","v":308},{"$f":"Finland!AC23","v":262},{"$f":"SUM(B17:N17)","v":{"v":44400.2,"d":"44,400"}}]
["piglets",{"$f":"Germany!AC24","v":":"},{"$f":"France!AC24","v":752},{"$f":"Italy!AC24","v":":"},{"$f":"'The Netherlands'!AC24","v":752},{"$f":"Belgium!AC24","v":993},{"$f":"UK!AC24","v":72},{"$f":"Ireland!AC24","v":122},{"$f":"Denmark!AC24","v":498},":",{"$f":"Portugal!AC24","v":113},{"$f":"Austria!AC24","v":":"},":",{"$f":"Finland!AC24","v":50},":"]
["pigs for fattening",{"$f":"Germany!AC25","v":":"},{"$f":"France!AC25","v":{"v":3400,"d":"3,400"}},{"$f":"Italy!AC25","v":":"},{"$f":"'The Netherlands'!AC25","v":{"v":3289,"d":"3,289"}},{"$f":"Belgium!AC25","v":{"v":2033,"d":"2,033"}},{"$f":"UK!AC25","v":{"v":1512,"d":"1,512"}},{"$f":"Ireland!AC25","v":387},{"$f":"Denmark!AC25","v":{"v":1298,"d":"1,298"}},":",{"$f":"Portugal!AC25","v":795},{"$f":"Austria!AC25","v":":"},":",{"$f":"Finland!AC25","v":113},":"]
["breeding pigs",{"$f":"Germany!AC26","v":":"},{"$f":"France!AC26","v":837},{"$f":"Italy!AC26","v":":"},{"$f":"'The Netherlands'!AC26","v":{"v":1091,"d":"1,091"}},{"$f":"Belgium!AC26","v":474},{"$f":"UK!AC26","v":434},{"$f":"Ireland!AC26","v":109},{"$f":"Denmark!AC26","v":516},":",{"$f":"Portugal!AC26","v":202},{"$f":"Austria!AC26","v":":"},":",{"$f":"Finland!AC26","v":53},":"]
["others",{"$f":"Germany!AC27","v":":"},{"$f":"France!AC27","v":0},{"$f":"Italy!AC27","v":":"},{"$f":"'The Netherlands'!AC27","v":":"},{"$f":"Belgium!AC27","v":":"},{"$f":"UK!AC27","v":10},{"$f":"Ireland!AC27","v":51},{"$f":"Denmark!AC27","v":":"},":",{"$f":"Portugal!AC27","v":46},{"$f":"Austria!AC27","v":":"},":",{"$f":"Finland!AC27","v":46},":"]
[{"$nulls":3}," "]
[]
["Poultry",{"$f":"Germany!AC30","v":{"v":6520.6,"d":"6,521"}},{"$f":"France!AC30","v":{"v":8656,"d":"8,656"}},{"$f":"Italy!AC30","v":{"v":5887,"d":"5,887"}},{"$f":"'The Netherlands'!AC30","v":{"v":3840,"d":"3,840"}},{"$f":"Belgium!AC30","v":{"v":1312,"d":"1,312"}},{"$f":"UK!AC30","v":{"v":6990,"d":"6,990"}},{"$f":"Ireland!AC30","v":655},{"$f":"Denmark!AC30","v":615},{"$f":"Spain!AC30","v":{"v":4401,"d":"4,401"}},{"$f":"Portugal!AC30","v":{"v":1630,"d":"1,630"}},{"$f":"Austria!AC30","v":601},{"$f":"Sweden!AC30","v":667},{"$f":"Finland!AC30","v":351},{"$f":"SUM(B24:N24)","v":{"v":42125.6,"d":"42,126"}}]
["broilers",{"$f":"Germany!AC31","v":{"v":4178,"d":"4,178"}},{"$f":"France!AC31","v":{"v":3421,"d":"3,421"}},{"$f":"Italy!AC31","v":{"v":2920,"d":"2,920"}},{"$f":"'The Netherlands'!AC31","v":{"v":1970,"d":"1,970"}},{"$f":"Belgium!AC31","v":702},{"$f":"UK!AC31","v":{"v":3890,"d":"3,890"}},":",{"$f":"Denmark!AC31","v":199},":",{"$f":"Portugal!AC31","v":{"v":1026,"d":"1,026"}},{"$f":"Austria!AC31","v":":"},":",{"$f":"Finland!AC31","v":241},":"]
["chicks & layers",{"$f":"Germany!AC32","v":{"v":2342.6,"d":"2,343"}},{"$f":"France!AC32","v":{"v":2480,"d":"2,480"}},{"$f":"Italy!AC32","v":{"v":1929,"d":"1,929"}},{"$f":"'The Netherlands'!AC32","v":{"v":1870,"d":"1,870"}},{"$f":"Belgium!AC32","v":476},{"$f":"UK!AC32","v":{"v":1773,"d":"1,773"}},":",{"$f":"Denmark!AC32","v":378},":",{"$f":"Portugal!AC32","v":393},{"$f":"Austria!AC32","v":":"},":",{"$f":"Finland!AC32","v":87},":"]
["others",{"$f":"Germany!AC33","v":":"},{"$f":"France!AC33","v":{"v":2755,"d":"2,755"}},{"$f":"Italy!AC33","v":{"v":1038,"d":"1,038"}},{"$f":"'The Netherlands'!AC33","v":":"},{"$f":"Belgium!AC33","v":134},{"$f":"UK!AC33","v":{"v":1327,"d":"1,327"}},":",{"$f":"Denmark!AC33","v":38},":",{"$f":"Portugal!AC33","v":211},{"$f":"Austria!AC33","v":":"},":",{"$f":"Finland!AC33","v":23},":"]
[]
[]
["Milk replacers",{"$f":"Germany!AC36","v":159},{"$f":"France!AC36","v":338},{"$f":"Italy!AC36","v":100},{"$f":"'The Netherlands'!AC36","v":520},{"$f":"Belgium!AC36","v":55},{"$f":"UK!AC36","v":0},{"$f":"Ireland!AC36","v":0},{"$f":"Denmark!AC36","v":0},{"$f":"Spain!AC36","v":0},{"$f":"Portugal!AC36","v":0},{"$f":"Austria!AC36","v":0},{"$f":"Sweden!AC36","v":3},{"$f":"Finland!AC36","v":0},{"$f":"SUM(B30:N30)","v":{"v":1175,"d":"1,175"}}]
[]
[{"$nulls":3}," "]
["Others",{"$f":"Germany!AC39","v":636},{"$f":"France!AC39","v":{"v":1515,"d":"1,515"}},{"$f":"Italy!AC39","v":910},{"$f":"'The Netherlands'!AC39","v":538},{"$f":"Belgium!AC39","v":374},{"$f":"UK!AC39","v":{"v":1546,"d":"1,546"}},{"$f":"Ireland!AC39","v":108},{"$f":"Denmark!AC39","v":190},{"$f":"Spain!AC39","v":151},{"$f":"Portugal!AC39","v":210},{"$f":"Austria!AC39","v":125},{"$f":"Sweden!AC39","v":88},{"$f":"Finland!AC39","v":115},{"$f":"SUM(B33:N33)","v":{"v":6506,"d":"6,506"}}]
[]
[]
["TOTAL",{"$f":"B33+B30+B24+B17+B10","v":{"v":24412.375000000004,"d":"24,412"}},{"v":20666,"d":"20,666"},{"v":13631,"d":"13,631"},{"v":14449,"d":"14,449"},{"v":6591,"d":"6,591"},{"v":15635,"d":"15,635"},{"v":4005,"d":"4,005"},{"v":4098,"d":"4,098"},{"v":22771,"d":"22,771"},{"v":3899,"d":"3,899"},{"v":1526,"d":"1,526"},{"v":1933,"d":"1,933"},{"v":1405,"d":"1,405"},{"v":135021.375,"d":"135,021"}]
[{"$nulls":4}," "]
[]
["* Without Luxemburg and Greece"]
[": not available"]
["From 2015 on, the Dutch production of milk replacers is a rough estimate, due to statistical confidentiality "]
{"$rows_empty":8}
["2018-06-06"]
[{"$nulls":14},"INDUSTRIAL COMPOUND PRODUCTION"]
[2016]
["final"]
[{"$nulls":14},"(1 000 t)"]
[]
["Types of feed","CY","CZ","EE","HU","LV","LT","PL","SK","SI","BU","RO","HR","EU-13**","EU-28***"]
[]
[null," ",{"$nulls":4}," ",null," "]
["Cattle",{"$f":"Cyprus!AC16","v":132},{"$f":"'Czech Rep'!AC16","v":533},{"$f":"Estonia!AC16","v":40},{"$f":"Hungary!AC16","v":378},{"$f":"Latvia!AC16","v":55},{"$f":"Lithuania!AC16","v":148},{"$f":"Poland!AC16","v":857},{"$f":"Slovakia!AC16","v":200},{"$f":"Slovenia!AC16","v":92},{"$f":"Bulgaria!AC16","v":168},{"$f":"Romania!AC17","v":49},{"$f":"Croatia!AC16","v":113},{"$f":"SUM(B59:M59)","v":{"v":2765,"d":"2,765"}},{"$f":"O10+N59","v":{"v":43579.575,"d":"43,580"}}]
["fattening",{"$f":"Cyprus!AC17","v":16},{"$f":"'Czech Rep'!AC17","v":":"},{"$f":"Estonia!AC17","v":":"},{"$f":"Hungary!AC17","v":":"},{"$f":"Latvia!AC17","v":":"},{"$f":"Lithuania!AC17","v":1},{"$f":"Poland!AC17","v":":"},{"$f":"Slovakia!AC17","v":16},":",":",":",":",":",":"]
["dairy cow",{"$f":"Cyprus!AC18","v":105},{"$f":"'Czech Rep'!AC18","v":":"},{"$f":"Estonia!AC18","v":":"},{"$f":"Hungary!AC18","v":":"},{"$f":"Latvia!AC18","v":":"},{"$f":"Lithuania!AC18","v":142},{"$f":"Poland!AC18","v":":"},{"$f":"Slovakia!AC18","v":151},":",":",":",":",":",":"]
["calves (excl. milk replacers)",{"$f":"Cyprus!AC19","v":11},{"$f":"'Czech Rep'!AC19","v":":"},{"$f":"Estonia!AC19","v":":"},{"$f":"Hungary!AC19","v":":"},{"$f":"Latvia!AC19","v":":"},{"$f":"Lithuania!AC19","v":2},{"$f":"Poland!AC19","v":":"},{"$f":"Slovakia!AC19","v":14},":",":",":",":",":",":"]
["others",{"$f":"Cyprus!AC20","v":":"},{"$f":"'Czech Rep'!AC20","v":":"},{"$f":"Estonia!AC20","v":":"},{"$f":"Hungary!AC20","v":":"},{"$f":"Latvia!AC20","v":":"},{"$f":"Lithuania!AC20","v":3},{"$f":"Poland!AC20","v":":"},{"$f":"Slovakia!AC20","v":19},":",":",":",":",":",":"]
[]
[]
["Pigs",{"$f":"Cyprus!AC23","v":33},{"$f":"'Czech Rep'!AC23","v":765},{"$f":"Estonia!AC23","v":140},{"$f":"Hungary!AC23","v":{"v":1259,"d":"1,259"}},{"$f":"Latvia!AC23","v":73},{"$f":"Lithuania!AC23","v":36},{"$f":"Poland!AC23","v":{"v":2061,"d":"2,061"}},{"$f":"Slovakia!AC23","v":224},{"$f":"Slovenia!AC23","v":51},{"$f":"Bulgaria!AC23","v":343},{"$f":"Romania!AC24","v":{"v":1176,"d":"1,176"}},{"$f":"Croatia!AC23","v":248},{"$f":"SUM(B66:M66)","v":{"v":6409,"d":"6,409"}},{"$f":"O17+N66","v":{"v":50809.2,"d":"50,809"}}]
["piglets",{"$f":"Cyprus!AC24","v":2},{"$f":"'Czech Rep'!AC24","v":":"},{"$f":"Estonia!AC24","v":":"},{"$f":"Hungary!AC24","v":":"},{"$f":"Latvia!AC24","v":":"},{"$f":"Lithuania!AC24","v":8},{"$f":"Poland!AC24","v":":"},{"$f":"Slovakia!AC24","v":25},":",":",":",":",":",":"]
["pigs for fattening",{"$f":"Cyprus!AC25","v":23},{"$f":"'Czech Rep'!AC25","v":":"},{"$f":"Estonia!AC25","v":":"},{"$f":"Hungary!AC25","v":":"},{"$f":"Latvia!AC25","v":":"},{"$f":"Lithuania!AC25","v":20},{"$f":"Poland!AC25","v":":"},{"$f":"Slovakia!AC25","v":147},":",":",":",":",":",":"]
["breeding pigs",{"$f":"Cyprus!AC26","v":8},{"$f":"'Czech Rep'!AC26","v":":"},{"$f":"Estonia!AC26","v":":"},{"$f":"Hungary!AC26","v":":"},{"$f":"Latvia!AC26","v":":"},{"$f":"Lithuania!AC26","v":7},{"$f":"Poland!AC26","v":":"},{"$f":"Slovakia!AC26","v":34},":",":",":",":",":",":"]
["others",{"$f":"Cyprus!AC27","v":":"},{"$f":"'Czech Rep'!AC27","v":":"},{"$f":"Estonia!AC27","v":":"},{"$f":"Hungary!AC27","v":":"},{"$f":"Latvia!AC27","v":":"},{"$f":"Lithuania!AC27","v":1},{"$f":"Poland!AC27","v":":"},{"$f":"Slovakia!AC27","v":18},":",":",":",":",":",":"]
[{"$nulls":3}," "]
[]
["Poultry",{"$f":"Cyprus!AC30","v":46},{"$f":"'Czech Rep'!AC30","v":983},{"$f":"Estonia!AC30","v":48},{"$f":"Hungary!AC30","v":{"v":1902,"d":"1,902"}},{"$f":"Latvia!AC30","v":178},{"$f":"Lithuania!AC30","v":245},{"$f":"Poland!AC30","v":{"v":6504,"d":"6,504"}},{"$f":"Slovakia!AC30","v":222},{"$f":"Slovenia!AC30","v":228},{"$f":"Bulgaria!AC30","v":638},{"$f":"Romania!AC31","v":{"v":1529,"d":"1,529"}},{"$f":"Croatia!AC30","v":288},{"$f":"SUM(B73:M73)","v":{"v":12811,"d":"12,811"}},{"$f":"O24+N73","v":{"v":54936.6,"d":"54,937"}}]
["broilers",{"$f":"Cyprus!AC31","v":34},{"$f":"'Czech Rep'!AC31","v":":"},{"$f":"Estonia!AC31","v":":"},{"$f":"Hungary!AC31","v":":"},{"$f":"Latvia!AC31","v":":"},{"$f":"Lithuania!AC31","v":175},{"$f":"Poland!AC31","v":":"},{"$f":"Slovakia!AC31","v":88},":",":",":",":",":",":"]
["chicks & layers",{"$f":"Cyprus!AC32","v":10},{"$f":"'Czech Rep'!AC32","v":":"},{"$f":"Estonia!AC32","v":":"},{"$f":"Hungary!AC32","v":":"},{"$f":"Latvia!AC32","v":":"},{"$f":"Lithuania!AC32","v":65},{"$f":"Poland!AC32","v":":"},{"$f":"Slovakia!AC32","v":119},":",":",":",":",":",":"]
["others",{"$f":"Cyprus!AC33","v":2},{"$f":"'Czech Rep'!AC33","v":":"},{"$f":"Estonia!AC33","v":":"},{"$f":"Hungary!AC33","v":":"},{"$f":"Latvia!AC33","v":":"},{"$f":"Lithuania!AC33","v":5},{"$f":"Poland!AC33","v":":"},{"$f":"Slovakia!AC33","v":15},":",":",":",":",":",":"]
[]
[]
["Milk replacers",{"$f":"Cyprus!AC36","v":1},{"$f":"'Czech Rep'!AC36","v":2},{"$f":"Estonia!AC36","v":0},{"$f":"Hungary!AC36","v":0},{"$f":"Latvia!AC36","v":0},{"$f":"Lithuania!AC36","v":0},{"$f":"Poland!AC36","v":0},{"$f":"Slovakia!AC36","v":0},{"$f":"Slovenia!AC36","v":0},{"$f":"Bulgaria!AC36","v":0},{"$f":"Romania!AC37","v":0},{"$f":"Croatia!AC36","v":0},{"$f":"SUM(B79:M79)","v":3},{"$f":"O30+N79","v":{"v":1178,"d":"1,178"}}]
[]
[{"$nulls":3}," "]
["Others",{"$f":"Cyprus!AC39","v":112},{"$f":"'Czech Rep'!AC39","v":75},{"$f":"Estonia!AC39","v":2},{"$f":"Hungary!AC39","v":127},{"$f":"Latvia!AC39","v":9},{"$f":"Lithuania!AC39","v":178},{"$f":"Poland!AC39","v":671},{"$f":"Slovakia!AC39","v":16},{"$f":"Slovenia!AC39","v":16},{"$f":"Bulgaria!AC39","v":41},{"$f":"Romania!AC40","v":2},{"$f":"Croatia!AC39","v":12},{"$f":"SUM(B82:M82)","v":{"v":1261,"d":"1,261"}},{"$f":"O33+N82","v":{"v":7767,"d":"7,767"}}]
[]
[]
["TOTAL",{"$f":"B82+B79+B73+B66+B59","v":324},{"v":2358,"d":"2,358"},230,{"v":3666,"d":"3,666"},315,607,{"v":10093,"d":"10,093"},662,387,{"v":1190,"d":"1,190"},{"v":2756,"d":"2,756"},661,{"v":23249,"d":"23,249"},{"v":158270.375,"d":"158,270"}]
[{"$nulls":4}," "]
[]
["** Without Malta"]
["*** Without Luxemburg, Greece and Malta"]
[": not available"]

{"sheet":"2016-17","index":55,"n_rows":44,"n_cols":24,"rows_kept":44,"merged":[[8,1,8,3],[8,5,8,7],[8,9,8,11],[8,13,8,15],[8,17,8,19],[8,21,8,23]]}
["5.6.2019"]
["TAV: Year-to-year variation"]
["EU 28"]
[{"$nulls":12},"2016-2017",{"$nulls":10},"INDUSTRIAL COMPOUND PRODUCTION"]
[{"$nulls":12},"final",{"$nulls":10},"(1 000 t )"]
[]
[]
[]
["COUNTRY","  CATTLE",{"$nulls":3},"PIGS",{"$nulls":3},"POULTRY",{"$nulls":3},"MILKREPLACERS",{"$nulls":3},"OTHERS",{"$nulls":3},"TOTAL"]
[]
[null,2016,2017,"%TAV",null,2016,2017,"%TAV",null,2016,2017,"%TAV",null,2016,2017,"%TAV",null,2016,2017,"%TAV",null,2016,2017,"%TAV"]
[]
["DE",{"$f":"Germany!AC$16","v":{"v":7327.575,"d":"7,328"}},{"$f":"Germany!AD$16","v":{"v":7238.285,"d":"7,238"}},{"$f":"((C13/B13)-1)*100","v":{"v":-1.218547746014198,"d":"-1.2"}},null,{"$f":"Germany!AC$23","v":{"v":9769.2,"d":"9,769"}},{"$f":"Germany!AD$23","v":{"v":9766.432,"d":"9,766"}},{"$f":"((G13/F13)-1)*100","v":{"v":-0.028333947508496493,"d":"-0.0"}},null,{"$f":"Germany!AC$30","v":{"v":6520.6,"d":"6,521"}},{"$f":"Germany!AD$30","v":{"v":6435.741,"d":"6,436"}},{"$f":"((K13/J13)-1)*100","v":{"v":-1.3013986442965475,"d":"-1.3"}},null,{"$f":"Germany!AC$36","v":159},{"$f":"Germany!AD$36","v":145},{"$f":"((O13/N13)-1)*100","v":{"v":-8.805031446540879,"d":"-8.8"}},null,{"$f":"Germany!AC$39","v":636},{"$f":"Germany!AD$39","v":{"v":642.683,"d":"643"}},{"$f":"((S13/R13)-1)*100","v":{"v":1.0507861635220106,"d":"1.1"}},null,{"$f":"R13+N13+J13+F13+B13","v":{"v":24412.375000000004,"d":"24,412"}},{"v":24228.141,"d":"24,228"},{"$f":"((W13/V13)-1)*100","v":{"v":-0.7546746271102411,"d":"-0.8"}}]
["FR",{"$f":"France!AC$16","v":{"v":5168,"d":"5,168"}},{"$f":"France!AD$16","v":{"v":5266,"d":"5,266"}},{"v":1.896284829721373,"d":"1.9"},null,{"$f":"France!AC$23","v":{"v":4989,"d":"4,989"}},{"$f":"France!AD$23","v":{"v":4997,"d":"4,997"}},{"v":0.16035277610744192,"d":"0.2"},null,{"$f":"France!AC$30","v":{"v":8656,"d":"8,656"}},{"$f":"France!AD$30","v":{"v":8547,"d":"8,547"}},{"v":-1.2592421441774526,"d":"-1.3"},null,{"$f":"France!AC36","v":338},{"$f":"France!AD36","v":321},{"v":-5.029585798816571,"d":"-5.0"},null,{"$f":"France!AC$39","v":{"v":1515,"d":"1,515"}},{"$f":"France!AD$39","v":{"v":1511,"d":"1,511"}},{"v":-0.26402640264026056,"d":"-0.3"},null,{"$f":"R14+N14+J14+F14+B14","v":{"v":20666,"d":"20,666"}},{"v":20642,"d":"20,642"},{"v":-0.11613277847672965,"d":"-0.1"}]
["IT",{"$f":"Italy!AC$16","v":{"v":3136,"d":"3,136"}},{"$f":"Italy!AD$16","v":{"v":3150,"d":"3,150"}},{"v":0.44642857142858094,"d":"0.4"},null,{"$f":"Italy!AC$23","v":{"v":3598,"d":"3,598"}},{"$f":"Italy!AD$23","v":{"v":3605,"d":"3,605"}},{"v":0.1945525291828787,"d":"0.2"},null,{"$f":"Italy!AC$30","v":{"v":5887,"d":"5,887"}},{"$f":"Italy!AD$30","v":{"v":5915,"d":"5,915"}},{"v":0.47562425683709275,"d":"0.5"},null,{"$f":"Italy!AC$36","v":100},{"$f":"Italy!AD$36","v":100},{"v":0,"d":"0.0"},null,{"$f":"+Italy!AC$39","v":910},{"$f":"+Italy!AD$39","v":920},{"v":1.098901098901095,"d":"1.1"},null,{"$f":"R15+N15+J15+F15+B15","v":{"v":13631,"d":"13,631"}},{"v":13690,"d":"13,690"},{"v":0.43283691585356276,"d":"0.4"}]
["NL   ",{"$f":"'The Netherlands'!AC$16","v":{"v":4419,"d":"4,419"}},{"$f":"'The Netherlands'!AD$16","v":{"v":4587,"d":"4,587"}},{"v":3.801765105227428,"d":"3.8"},null,{"$f":"'The Netherlands'!AC$23","v":{"v":5132,"d":"5,132"}},{"$f":"'The Netherlands'!AD$23","v":{"v":5264,"d":"5,264"}},{"v":2.5720966484801266,"d":"2.6"},null,{"$f":"'The Netherlands'!AC$30","v":{"v":3840,"d":"3,840"}},{"$f":"'The Netherlands'!AD$30","v":{"v":3987,"d":"3,987"}},{"v":3.8281250000000044,"d":"3.8"},null,{"$f":"'The Netherlands'!AC$36","v":520},{"$f":"'The Netherlands'!AD$36","v":520},{"v":0,"d":"0.0"},null,{"$f":"'The Netherlands'!AC$39","v":538},{"$f":"'The Netherlands'!AD$39","v":593},{"v":10.22304832713754,"d":"10.2"},null,{"$f":"R16+N16+J16+F16+B16","v":{"v":14449,"d":"14,449"}},{"v":14951,"d":"14,951"},{"v":3.474288878123044,"d":"3.5"}]
["BE",{"$f":"Belgium!AC$16","v":{"v":1350,"d":"1,350"}},{"$f":"Belgium!AD$16","v":{"v":1426,"d":"1,426"}},{"v":5.629629629629629,"d":"5.6"},null,{"$f":"Belgium!AC$23","v":{"v":3500,"d":"3,500"}},{"$f":"Belgium!AD$23","v":{"v":3497,"d":"3,497"}},{"v":-0.08571428571428896,"d":"-0.1"},null,{"$f":"Belgium!AC$30","v":{"v":1312,"d":"1,312"}},{"$f":"Belgium!AD$30","v":{"v":1349,"d":"1,349"}},{"v":2.820121951219523,"d":"2.8"},null,{"$f":"Belgium!AC$36","v":55},{"$f":"Belgium!AD$36","v":52},{"v":-5.454545454545457,"d":"-5.5"},null,{"$f":"Belgium!AC$39","v":374},{"$f":"Belgium!AD$39","v":383},{"v":2.406417112299475,"d":"2.4"},null,{"$f":"R17+N17+J17+F17+B17","v":{"v":6591,"d":"6,591"}},{"v":6707,"d":"6,707"},{"v":1.7599757244727732,"d":"1.8"}]
["UK ",{"$f":"UK!AC$16","v":{"v":5071,"d":"5,071"}},{"$f":"UK!AD$16","v":{"v":5439,"d":"5,439"}},{"v":7.256951291658442,"d":"7.3"},null,{"$f":"UK!AC$23","v":{"v":2028,"d":"2,028"}},{"$f":"UK!AD$23","v":{"v":2056,"d":"2,056"}},{"v":1.3806706114398493,"d":"1.4"},null,{"$f":"UK!AC$30","v":{"v":6990,"d":"6,990"}},{"$f":"UK!AD$30","v":{"v":7035,"d":"7,035"}},{"v":0.6437768240343367,"d":"0.6"},null,{"$f":"UK!AC$36","v":0},{"$f":"UK!AD$36","v":0},{"v":0,"d":"0.0"},null,{"$f":"UK!AC$39","v":{"v":1546,"d":"1,546"}},{"$f":"UK!AD$39","v":{"v":1737,"d":"1,737"}},{"v":12.354463130659777,"d":"12.4"},null,{"$f":"R18+N18+J18+F18+B18","v":{"v":15635,"d":"15,635"}},{"v":16267,"d":"16,267"},{"v":4.04221298369043,"d":"4.0"}]
["IE",{"$f":"Ireland!AC$16","v":{"v":2573,"d":"2,573"}},{"$f":"Ireland!AD$16","v":{"v":2919,"d":"2,919"}},{"v":13.447337738048981,"d":"13.4"},null,{"$f":"Ireland!AC$23","v":669},{"$f":"Ireland!AD$23","v":692},{"v":3.4379671150971625,"d":"3.4"},null,{"$f":"Ireland!AC$30","v":655},{"$f":"Ireland!AD$30","v":640},{"v":-2.2900763358778664,"d":"-2.3"},null,{"$f":"Ireland!AC$36","v":0},{"$f":"Ireland!AD$36","v":0},{"v":0,"d":"0.0"},null,{"$f":"Ireland!AC$39","v":108},{"$f":"Ireland!AD$39","v":115},{"v":6.481481481481488,"d":"6.5"},null,{"$f":"R19+N19+J19+F19+B19","v":{"v":4005,"d":"4,005"}},{"v":4366,"d":"4,366"},{"v":9.013732833957544,"d":"9.0"}]
["DK ",{"$f":"Denmark!AC$16","v":981},{"$f":"Denmark!AD$16","v":971},{"v":-1.0193679918450549,"d":"-1.0"},null,{"$f":"Denmark!AC$23","v":{"v":2312,"d":"2,312"}},{"$f":"Denmark!AD$23","v":{"v":2364,"d":"2,364"}},{"v":2.249134948096887,"d":"2.2"},null,{"$f":"Denmark!AC$30","v":615},{"$f":"Denmark!AD$30","v":646},{"v":5.040650406504055,"d":"5.0"},null,{"$f":"Denmark!AC$36","v":0},{"$f":"Denmark!AD$36","v":0},{"v":0,"d":"0.0"},null,{"$f":"Denmark!AC$39","v":190},{"$f":"Denmark!AD$39","v":207},{"v":8.947368421052637,"d":"8.9"},null,{"$f":"R20+N20+J20+F20+B20","v":{"v":4098,"d":"4,098"}},{"v":4188,"d":"4,188"},{"v":2.196193265007329,"d":"2.2"}]
["ES",{"$f":"Spain!AC$16","v":{"v":7799,"d":"7,799"}},{"$f":"Spain!AD$16","v":{"v":8443,"d":"8,443"}},{"v":8.257468906270038,"d":"8.3"},null,{"$f":"Spain!AC$23","v":{"v":10420,"d":"10,420"}},{"$f":"Spain!AD$23","v":{"v":10440,"d":"10,440"}},{"v":0.19193857965451588,"d":"0.2"},null,{"$f":"Spain!AC$30","v":{"v":4401,"d":"4,401"}},{"$f":"Spain!AD$30","v":{"v":4198,"d":"4,198"}},{"v":-4.612588048170874,"d":"-4.6"},null,{"$f":"Spain!AC$36","v":0},{"$f":"Spain!AD$36","v":0},{"v":0,"d":"0.0"},null,{"$f":"Spain!AC$39","v":151},{"$f":"Spain!AD$39","v":166},{"v":9.933774834437092,"d":"9.9"},null,{"$f":"R21+N21+J21+F21+B21","v":{"v":22771,"d":"22,771"}},{"v":23247,"d":"23,247"},{"v":2.0903781125115373,"d":"2.1"}]
["PT",{"$f":"Portugal!AC$16","v":903},{"$f":"Portugal!AD$16","v":997},{"v":10.409745293466234,"d":"10.4"},null,{"$f":"Portugal!AC$23","v":{"v":1156,"d":"1,156"}},{"$f":"Portugal!AD$23","v":{"v":1124,"d":"1,124"}},{"v":-2.768166089965396,"d":"-2.8"},null,{"$f":"Portugal!AC$30","v":{"v":1630,"d":"1,630"}},{"$f":"Portugal!AD$30","v":{"v":1638,"d":"1,638"}},{"v":0.4907975460122671,"d":"0.5"},null,{"$f":"Portugal!AC$36","v":0},{"$f":"Portugal!AD$36","v":0},{"v":0,"d":"0.0"},null,{"$f":"Portugal!AC$39","v":210},{"$f":"Portugal!AD$39","v":229},{"v":9.047619047619037,"d":"9.0"},null,{"$f":"R22+N22+J22+F22+B22","v":{"v":3899,"d":"3,899"}},{"v":3988,"d":"3,988"},{"v":2.282636573480379,"d":"2.3"}]
["AT",{"$f":"Austria!AC$16","v":543},{"$f":"Austria!AD$16","v":588},{"v":8.287292817679548,"d":"8.3"},null,{"$f":"Austria!AC$23","v":257},{"$f":"Austria!AD$23","v":263},{"v":2.3346303501945442,"d":"2.3"},null,{"$f":"Austria!AC$30","v":601},{"$f":"Austria!AD$30","v":628},{"v":4.492512479201327,"d":"4.5"},null,{"$f":"Austria!AC$36","v":0},{"$f":"Austria!AD$36","v":0},{"v":0,"d":"0.0"},null,{"$f":"Austria!AC$39","v":125},{"$f":"Austria!AD$39","v":139},{"v":11.20000000000001,"d":"11.2"},null,{"$f":"R23+N23+J23+F23+B23","v":{"v":1526,"d":"1,526"}},{"v":1618,"d":"1,618"},{"v":6.02883355176933,"d":"6.0"}]
["SE",{"$f":"Sweden!AC$16","v":867},{"$f":"Sweden!AD$16","v":868},{"v":0.11534025374855261,"d":"0.1"},null,{"$f":"Sweden!AC$23","v":308},{"$f":"Sweden!AD$23","v":322},{"v":4.545454545454541,"d":"4.5"},null,{"$f":"Sweden!AC$30","v":667},{"$f":"Sweden!AD$30","v":667},{"v":0,"d":"0.0"},null,{"$f":"Sweden!AC$36","v":3},{"$f":"Sweden!AD$36","v":3},{"$f":"((O24/N24)-1)*100","v":{"v":0,"d":"0.0"}},null,{"$f":"Sweden!AC$39","v":88},{"$f":"Sweden!AD$39","v":67},{"v":-23.863636363636363,"d":"-23.9"},null,{"$f":"R24+N24+J24+F24+B24","v":{"v":1933,"d":"1,933"}},{"v":1927,"d":"1,927"},{"v":-0.3103983445421621,"d":"-0.3"}]
["FI",{"$f":"Finland!AC$16","v":677},{"$f":"Finland!AD$16","v":671},{"v":-0.8862629246676468,"d":"-0.9"},null,{"$f":"Finland!AC$23","v":262},{"$f":"Finland!AD$23","v":246},{"v":-6.106870229007633,"d":"-6.1"},null,{"$f":"Finland!AC$30","v":351},{"$f":"Finland!AD$30","v":364},{"v":3.703703703703698,"d":"3.7"},null,{"$f":"Finland!AC$36","v":0},{"$f":"Finland!AD$36","v":0},{"v":0,"d":"0.0"},null,{"$f":"Finland!AC$39","v":115},{"$f":"Finland!AD$39","v":120},{"v":4.347826086956519,"d":"4.3"},null,{"$f":"R25+N25+J25+F25+B25","v":{"v":1405,"d":"1,405"}},{"v":1401,"d":"1,401"},{"v":-0.2846975088967918,"d":"-0.3"}]
["CY",{"$f":"Cyprus!AC$16","v":132},{"$f":"Cyprus!AD$16","v":132},{"v":0,"d":"0.0"},null,{"$f":"Cyprus!AC$23","v":33},{"$f":"Cyprus!AD$23","v":36},{"v":9.090909090909083,"d":"9.1"},null,{"$f":"Cyprus!AC$30","v":46},{"$f":"Cyprus!AD$30","v":47},{"v":2.1739130434782705,"d":"2.2"},null,{"$f":"Cyprus!AC$36","v":1},{"$f":"Cyprus!AD$36","v":1},{"v":0,"d":"0.0"},null,{"$f":"Cyprus!AC$39","v":112},{"$f":"Cyprus!AD$39","v":120},{"v":7.14285714285714,"d":"7.1"},null,{"$f":"R26+N26+J26+F26+B26","v":324},336,{"v":3.703703703703698,"d":"3.7"}]
["CZ",{"$f":"'Czech Rep'!AC$16","v":533},{"$f":"'Czech Rep'!AD$16","v":533},{"v":0,"d":"0.0"},null,{"$f":"'Czech Rep'!AC$23","v":765},{"$f":"'Czech Rep'!AD$23","v":775},{"v":1.3071895424836555,"d":"1.3"},null,{"$f":"'Czech Rep'!AC$30","v":983},{"$f":"'Czech Rep'!AD$30","v":{"v":1009,"d":"1,009"}},{"v":2.64496439471007,"d":"2.6"},null,{"$f":"'Czech Rep'!AC$36","v":2},{"$f":"'Czech Rep'!AD$36","v":1},{"$f":"((O27/N27)-1)*100","v":{"v":-50,"d":"-50.0"}},null,{"$f":"'Czech Rep'!AC$39","v":75},{"$f":"'Czech Rep'!AD$39","v":73},{"v":-2.6666666666666616,"d":"-2.7"},null,{"$f":"R27+N27+J27+F27+B27","v":{"v":2358,"d":"2,358"}},{"v":2391,"d":"2,391"},{"v":1.3994910941475869,"d":"1.4"}]
["EE",{"$f":"Estonia!AC$16","v":40},{"$f":"Estonia!AD$16","v":40},{"v":0,"d":"0.0"},null,{"$f":"Estonia!AC$23","v":140},{"$f":"Estonia!AD$23","v":140},{"v":0,"d":"0.0"},null,{"$f":"Estonia!AC$30","v":48},{"$f":"Estonia!AD$30","v":48},{"v":0,"d":"0.0"},null,{"$f":"Estonia!AC$36","v":0},{"$f":"Estonia!AD$36","v":0},{"v":0,"d":"0.0"},null,{"$f":"Estonia!AC$39","v":2},{"$f":"Estonia!AD$39","v":2},{"v":0,"d":"0.0"},null,{"$f":"R28+N28+J28+F28+B28","v":230},230,{"v":0,"d":"0.0"}]
["HU",{"$f":"Hungary!AC$16","v":378},{"$f":"Hungary!AD$16","v":350},{"v":-7.4074074074074066,"d":"-7.4"},null,{"$f":"Hungary!AC$23","v":{"v":1259,"d":"1,259"}},{"$f":"Hungary!AD$23","v":{"v":1255,"d":"1,255"}},{"v":-0.3177124702144596,"d":"-0.3"},null,{"$f":"Hungary!AC$30","v":{"v":1902,"d":"1,902"}},{"$f":"Hungary!AD$30","v":{"v":1793,"d":"1,793"}},{"v":-5.730809674027338,"d":"-5.7"},null,{"$f":"Hungary!AC$36","v":0},{"$f":"Hungary!AD$36","v":0},{"v":0,"d":"0.0"},null,{"$f":"Hungary!AC$39","v":127},{"$f":"Hungary!AD$39","v":128},{"v":0.7874015748031482,"d":"0.8"},null,{"$f":"R29+N29+J29+F29+B29","v":{"v":3666,"d":"3,666"}},{"v":3526,"d":"3,526"},{"v":-3.8188761593016873,"d":"-3.8"}]
["LV",{"$f":"Latvia!AC$16","v":55},{"$f":"Latvia!AD$16","v":64},{"v":16.36363636363636,"d":"16.4"},null,{"$f":"Latvia!AC$23","v":73},{"$f":"Latvia!AD$23","v":66},{"v":-9.589041095890416,"d":"-9.6"},null,{"$f":"Latvia!AC$30","v":178},{"$f":"Latvia!AD$30","v":202},{"v":13.483146067415742,"d":"13.5"},null,{"$f":"Latvia!AC$36","v":0},{"$f":"Latvia!AD$36","v":0},{"v":0,"d":"0.0"},null,{"$f":"Latvia!AC$39","v":9},{"$f":"Latvia!AD$39","v":14},{"v":55.55555555555556,"d":"55.6"},null,{"$f":"R30+N30+J30+F30+B30","v":315},346,{"v":9.84126984126985,"d":"9.8"}]
["LT",{"$f":"Lithuania!AC$16","v":148},{"$f":"Lithuania!AD$16","v":151},{"v":2.0270270270270174,"d":"2.0"},null,{"$f":"Lithuania!AC$23","v":36},{"$f":"Lithuania!AD$23","v":34},{"v":-5.555555555555558,"d":"-5.6"},null,{"$f":"Lithuania!AC$30","v":245},{"$f":"Lithuania!AD$30","v":268},{"v":9.387755102040817,"d":"9.4"},null,{"$f":"Lithuania!AC$36","v":0},{"$f":"Lithuania!AD$36","v":0},{"v":0,"d":"0.0"},null,{"$f":"Lithuania!AC$39","v":178},{"$f":"Lithuania!AD$39","v":177},{"v":-0.5617977528089901,"d":"-0.6"},null,{"$f":"R31+N31+J31+F31+B31","v":607},630,{"v":3.789126853377267,"d":"3.8"}]
["PL",{"$f":"Poland!AC$16","v":857},{"$f":"Poland!AD$16","v":{"v":1071,"d":"1,071"}},{"v":24.9708284714119,"d":"25.0"},null,{"$f":"Poland!AC$23","v":{"v":2061,"d":"2,061"}},{"$f":"Poland!AD$23","v":{"v":2453,"d":"2,453"}},{"v":19.019893255701128,"d":"19.0"},null,{"$f":"Poland!AC$30","v":{"v":6504,"d":"6,504"}},{"$f":"Poland!AD$30","v":{"v":6752,"d":"6,752"}},{"v":3.8130381303812966,"d":"3.8"},null,{"$f":"Poland!AC$36","v":0},{"$f":"Poland!AD$36","v":0},{"v":0,"d":"0.0"},null,{"$f":"Poland!AC$39","v":671},{"$f":"Poland!AD$39","v":719},{"v":7.153502235469444,"d":"7.2"},null,{"$f":"R32+N32+J32+F32+B32","v":{"v":10093,"d":"10,093"}},{"v":10995,"d":"10,995"},{"v":8.936886951352419,"d":"8.9"}]
["SK",{"$f":"Slovakia!AC$16","v":200},{"$f":"Slovakia!AD$16","v":190},{"v":-5.000000000000004,"d":"-5.0"},null,{"$f":"Slovakia!AC$23","v":224},{"$f":"Slovakia!AD$23","v":229},{"v":2.2321428571428603,"d":"2.2"},null,{"$f":"Slovakia!AC$30","v":222},{"$f":"Slovakia!AD$30","v":221},{"v":-0.45045045045044585,"d":"-0.5"},null,{"$f":"Slovakia!AC$36","v":0},{"$f":"Slovakia!AD$36","v":0},{"v":0,"d":"0.0"},null,{"$f":"+Slovakia!AC$39","v":16},{"$f":"+Slovakia!AD$39","v":16},{"v":0,"d":"0.0"},null,{"$f":"R33+N33+J33+F33+B33","v":662},656,{"v":-0.9063444108761365,"d":"-0.9"}]
["SI",{"$f":"Slovenia!AC$16","v":92},{"$f":"Slovenia!AD$16","v":85},{"v":-7.608695652173914,"d":"-7.6"},null,{"$f":"Slovenia!AC$23","v":51},{"$f":"Slovenia!AD$23","v":39},{"v":-23.529411764705888,"d":"-23.5"},null,{"$f":"Slovenia!AC$30","v":228},{"$f":"Slovenia!AD$30","v":239},{"v":4.824561403508776,"d":"4.8"},null,{"$f":"Slovenia!AC$36","v":0},{"$f":"Slovenia!AD$36","v":0},{"v":0,"d":"0.0"},null,{"$f":"Slovenia!AC$39","v":16},{"$f":"Slovenia!AD$39","v":9},{"v":-43.75,"d":"-43.8"},null,{"$f":"R34+N34+J34+F34+B34","v":387},372,{"v":-3.875968992248058,"d":"-3.9"}]
["BU",{"$f":"Bulgaria!AC$16","v":168},{"$f":"Bulgaria!AD$16","v":192},{"v":14.28571428571428,"d":"14.3"},null,{"$f":"Bulgaria!AC$23","v":343},{"$f":"Bulgaria!AD$23","v":320},{"v":-6.705539358600587,"d":"-6.7"},null,{"$f":"Bulgaria!AC$30","v":638},{"$f":"Bulgaria!AD$30","v":560},{"v":-12.225705329153602,"d":"-12.2"},null,{"$f":"Bulgaria!AC$36","v":0},{"$f":"Bulgaria!AD$36","v":0},{"v":0,"d":"0.0"},null,{"$f":"Bulgaria!AC$39","v":41},{"$f":"Bulgaria!AD$39","v":80},{"v":95.1219512195122,"d":"95.1"},null,{"$f":"R35+N35+J35+F35+B35","v":{"v":1190,"d":"1,190"}},{"v":1152,"d":"1,152"},{"v":-3.1932773109243695,"d":"-3.2"}]
["RO",{"$f":"Romania!AC$17","v":49},{"$f":"Romania!AD$17","v":50},{"v":2.0408163265306145,"d":"2.0"},null,{"$f":"Romania!AC$24","v":{"v":1176,"d":"1,176"}},{"$f":"Romania!AD$24","v":{"v":1200,"d":"1,200"}},{"v":2.0408163265306145,"d":"2.0"},null,{"$f":"Romania!AC$31","v":{"v":1529,"d":"1,529"}},{"$f":"Romania!AD$31","v":{"v":1600,"d":"1,600"}},{"v":4.643557880967952,"d":"4.6"},null,{"$f":"Romania!AC$37","v":0},{"$f":"Romania!AD$37","v":0},{"v":0,"d":"0.0"},null,{"$f":"Romania!AC$40","v":2},{"$f":"Romania!AD$40","v":2},{"v":0,"d":"0.0"},null,{"$f":"R36+N36+J36+F36+B36","v":{"v":2756,"d":"2,756"}},{"v":2852,"d":"2,852"},{"v":3.4833091436865082,"d":"3.5"}]
["HR",{"$f":"Croatia!AC$16","v":113},{"$f":"Croatia!AD$16","v":98},{"v":-13.27433628318584,"d":"-13.3"},null,{"$f":"Croatia!AC$23","v":248},{"$f":"Croatia!AD$23","v":249},{"v":0.40322580645162365,"d":"0.4"},null,{"$f":"Croatia!AC$30","v":288},{"$f":"Croatia!AD$30","v":288},{"v":0,"d":"0.0"},null,{"$f":"Croatia!AC$36","v":0},{"$f":"Croatia!AC$36","v":0},{"v":0,"d":"0.0"},null,{"$f":"Croatia!AC$39","v":12},{"$f":"Croatia!AD$39","v":10},{"v":-16.666666666666664,"d":"-16.7"},null,{"$f":"R37+N37+J37+F37+B37","v":661},645,{"v":-2.4205748865355536,"d":"-2.4"}]
[]
["EUR 28 *",{"$f":"SUM(B13:B37)","v":{"v":43579.575,"d":"43,580"}},{"v":45519.285,"d":"45,519"},{"$f":"((C39/B39)-1)*100","v":{"v":4.450961258800734,"d":"4.5"}},null,{"$f":"SUM(F13:F37)","v":{"v":50809.2,"d":"50,809"}},{"v":51432.432,"d":"51,432"},{"$f":"((G39/F39)-1)*100","v":{"v":1.2266125032474484,"d":"1.2"}},null,{"$f":"SUM(J13:J37)","v":{"v":54936.6,"d":"54,937"}},{"v":55076.741,"d":"55,077"},{"$f":"((K39/J39)-1)*100","v":{"v":0.25509587415311064,"d":"0.3"}},null,{"$f":"SUM(N13:N37)","v":{"v":1178,"d":"1,178"}},{"v":1143,"d":"1,143"},{"$f":"((O39/N39)-1)*100","v":{"v":-2.971137521222411,"d":"-3.0"}},null,{"$f":"SUM(R13:R37)","v":{"v":7767,"d":"7,767"}},{"v":8179.683,"d":"8,180"},{"$f":"((S39/R39)-1)*100","v":{"v":5.313286983391263,"d":"5.3"}},null,{"$f":"SUM(V13:V37)","v":{"v":158270.375,"d":"158,270"}},{"v":161351.141,"d":"161,351"},{"$f":"((W39/V39)-1)*100","v":{"v":1.9465209455654664,"d":"1.9"}}]
[]
[{"$nulls":23}," "]
["* Sans le Luxembourg, la Grèce et Malte/Ohne Luxemburg, Griechenland und Malta/Without Luxemburg, Greece and Malta/Senza Lussemburgo, Ellas e Malta"]
[": non disponible/not available"]
["From 2015 on, the Dutch production of milk replacers is a rough estimate, due to statistical confidentiality "]

{"sheet":"2017","index":56,"n_rows":90,"n_cols":15,"rows_kept":90,"merged":[[2,0,2,14],[3,0,3,14],[51,0,51,14],[52,0,52,14]]}
["2020-01-05"]
[{"$nulls":14},"INDUSTRIAL COMPOUND FEED PRODUCTION"]
[2017]
["final"]
[{"$nulls":14},"(1 000 t)"]
[]
["Types of coumpound feed","DE","FR","IT","NL","BE","UK","IE","DK","ES","PT","AT","SE","FI","EU-15*"]
[]
[null," ",{"$nulls":4}," ",null,null," "]
["Cattle",{"$f":"Germany!AD16","v":{"v":7238.285,"d":"7,238"}},{"$f":"France!AD16","v":{"v":5266,"d":"5,266"}},{"$f":"Italy!AD16","v":{"v":3150,"d":"3,150"}},{"$f":"'The Netherlands'!AD16","v":{"v":4587,"d":"4,587"}},{"$f":"Belgium!AD16","v":{"v":1426,"d":"1,426"}},{"$f":"UK!AD16","v":{"v":5439,"d":"5,439"}},{"$f":"Ireland!AD16","v":{"v":2919,"d":"2,919"}},{"$f":"Denmark!AD16","v":971},{"$f":"Spain!AD16","v":{"v":8443,"d":"8,443"}},{"$f":"Portugal!AD16","v":997},{"$f":"Austria!AD16","v":588},{"$f":"Sweden!AD16","v":868},{"$f":"Finland!AD16","v":671},{"$f":"SUM(B10:N10)","v":{"v":42563.285,"d":"42,563"}}]
["fattening",{"$f":"Germany!AD17","v":":"},{"$f":"France!AD17","v":{"v":1882,"d":"1,882"}},{"$f":"Italy!AD17","v":":"},{"$f":"'The Netherlands'!AD17","v":163},{"$f":"Belgium!AD17","v":474},{"$f":"UK!AD17","v":{"v":1385,"d":"1,385"}},{"$f":"Ireland!AD17","v":{"v":1278,"d":"1,278"}},":",":",{"$f":"Portugal!AD17","v":363},{"$f":"Austria!AD17","v":":"},":",":",":"]
["dairy cow",{"$f":"Germany!AD18","v":":"},{"$f":"France!AD18","v":{"v":3385,"d":"3,385"}},{"$f":"Italy!AD18","v":":"},{"$f":"'The Netherlands'!AD18","v":{"v":3699,"d":"3,699"}},{"$f":"Belgium!AD18","v":689},{"$f":"UK!AD18","v":{"v":3658,"d":"3,658"}},{"$f":"Ireland!AD18","v":{"v":1326,"d":"1,326"}},{"$f":"Denmark!AD18","v":748},":",{"$f":"Portugal!AD18","v":466},{"$f":"Austria!AD18","v":":"},":",{"$f":"Finland!AD18","v":":"},":"]
["calves (excl. milk replacers)",{"$f":"Germany!AD19","v":{"v":301.647,"d":"302"}},{"$f":"France!AD19","v":0},{"$f":"Italy!AD19","v":":"},{"$f":"'The Netherlands'!AD19","v":725},{"$f":"Belgium!AD19","v":263},{"$f":"UK!AD19","v":314},{"$f":"Ireland!AD19","v":233},{"$f":"Denmark!AD19","v":224},":",{"$f":"Portugal!AD19","v":52},{"$f":"Austria!AD19","v":":"},":",{"$f":"Finland!AD19","v":":"},":"]
["others",{"$f":"Germany!AD20","v":":"},{"$f":"France!AD20","v":0},{"$f":"Italy!AD20","v":":"},{"$f":"'The Netherlands'!AD20","v":":"},{"$f":"Belgium!AD20","v":":"},{"$f":"UK!AD20","v":82},{"$f":"Ireland!AD20","v":82},{"$f":"Denmark!AD20","v":":"},":",{"$f":"Portugal!AD20","v":116},{"$f":"Austria!AD20","v":":"},":",{"$f":"Finland!AD20","v":":"},":"]
[]
[]
["Pigs",{"$f":"Germany!AD23","v":{"v":9766.432,"d":"9,766"}},{"$f":"France!AD23","v":{"v":4997,"d":"4,997"}},{"$f":"Italy!AD23","v":{"v":3605,"d":"3,605"}},{"$f":"'The Netherlands'!AD23","v":{"v":5264,"d":"5,264"}},{"$f":"Belgium!AD23","v":{"v":3497,"d":"3,497"}},{"$f":"UK!AD23","v":{"v":2056,"d":"2,056"}},{"$f":"Ireland!AD23","v":692},{"$f":"Denmark!AD23","v":{"v":2364,"d":"2,364"}},{"$f":"Spain!AD23","v":{"v":10440,"d":"10,440"}},{"$f":"Portugal!AD23","v":{"v":1124,"d":"1,124"}},{"$f":"Austria!AD23","v":263},{"$f":"Sweden!AD23","v":322},{"$f":"Finland!AD23","v":246},{"$f":"SUM(B17:N17)","v":{"v":44636.432,"d":"44,636"}}]
["piglets",{"$f":"Germany!AD24","v":":"},{"$f":"France!AD24","v":768},{"$f":"Italy!AD24","v":":"},{"$f":"'The Netherlands'!AD24","v":766},{"$f":"Belgium!AD24","v":{"v":1024,"d":"1,024"}},{"$f":"UK!AD24","v":234},{"$f":"Ireland!AD24","v":153},{"$f":"Denmark!AD24","v":491},":",{"$f":"Portugal!AD24","v":112},{"$f":"Austria!AD24","v":":"},":",{"$f":"Finland!AD24","v":47},":"]
["pigs for fattening",{"$f":"Germany!AD25","v":":"},{"$f":"France!AD25","v":{"v":3396,"d":"3,396"}},{"$f":"Italy!AD25","v":":"},{"$f":"'The Netherlands'!AD25","v":{"v":3388,"d":"3,388"}},{"$f":"Belgium!AD25","v":{"v":1982,"d":"1,982"}},{"$f":"UK!AD25","v":{"v":1391,"d":"1,391"}},{"$f":"Ireland!AD25","v":376},{"$f":"Denmark!AD25","v":{"v":1334,"d":"1,334"}},":",{"$f":"Portugal!AD25","v":306},{"$f":"Austria!AD25","v":":"},":",{"$f":"Finland!AD25","v":97},":"]
["breeding pigs",{"$f":"Germany!AD26","v":":"},{"$f":"France!AD26","v":833},{"$f":"Italy!AD26","v":":"},{"$f":"'The Netherlands'!AD26","v":{"v":1110,"d":"1,110"}},{"$f":"Belgium!AD26","v":491},{"$f":"UK!AD26","v":426},{"$f":"Ireland!AD26","v":107},{"$f":"Denmark!AD26","v":538},":",{"$f":"Portugal!AD26","v":430},{"$f":"Austria!AD26","v":":"},":",{"$f":"Finland!AD26","v":56},":"]
["others",{"$f":"Germany!AD27","v":":"},{"$f":"France!AD27","v":0},{"$f":"Italy!AD27","v":":"},{"$f":"'The Netherlands'!AD27","v":":"},{"$f":"Belgium!AD27","v":":"},{"$f":"UK!AD27","v":5},{"$f":"Ireland!AD27","v":56},{"$f":"Denmark!AD27","v":":"},":",{"$f":"Portugal!AD27","v":276},{"$f":"Austria!AD27","v":":"},":",{"$f":"Finland!AD27","v":46},":"]
[{"$nulls":3}," "]
[]
["Poultry",{"$f":"Germany!AD30","v":{"v":6435.741,"d":"6,436"}},{"$f":"France!AD30","v":{"v":8547,"d":"8,547"}},{"$f":"Italy!AD30","v":{"v":5915,"d":"5,915"}},{"$f":"'The Netherlands'!AD30","v":{"v":3987,"d":"3,987"}},{"$f":"Belgium!AD30","v":{"v":1349,"d":"1,349"}},{"$f":"UK!AD30","v":{"v":7035,"d":"7,035"}},{"$f":"Ireland!AD30","v":640},{"$f":"Denmark!AD30","v":646},{"$f":"Spain!AD30","v":{"v":4198,"d":"4,198"}},{"$f":"Portugal!AD30","v":{"v":1638,"d":"1,638"}},{"$f":"Austria!AD30","v":628},{"$f":"Sweden!AD30","v":667},{"$f":"Finland!AD30","v":364},{"$f":"SUM(B24:N24)","v":{"v":42049.741,"d":"42,050"}}]
["broilers",{"$f":"Germany!AD31","v":{"v":4109.552,"d":"4,110"}},{"$f":"France!AD31","v":{"v":3489,"d":"3,489"}},{"$f":"Italy!AD31","v":":"},{"$f":"'The Netherlands'!AD31","v":{"v":1946,"d":"1,946"}},{"$f":"Belgium!AD31","v":733},{"$f":"UK!AD31","v":{"v":4057,"d":"4,057"}},":",{"$f":"Denmark!AD31","v":377},":",{"$f":"Portugal!AD31","v":{"v":1043,"d":"1,043"}},{"$f":"Austria!AD31","v":":"},":",{"$f":"Finland!AD31","v":251},":"]
["chicks & layers",{"$f":"Germany!AD32","v":{"v":2326.189,"d":"2,326"}},{"$f":"France!AD32","v":{"v":2499,"d":"2,499"}},{"$f":"Italy!AD32","v":":"},{"$f":"'The Netherlands'!AD32","v":{"v":2041,"d":"2,041"}},{"$f":"Belgium!AD32","v":483},{"$f":"UK!AD32","v":{"v":1595,"d":"1,595"}},":",{"$f":"Denmark!AD32","v":239},":",{"$f":"Portugal!AD32","v":426},{"$f":"Austria!AD32","v":":"},":",{"$f":"Finland!AD32","v":89},":"]
["others",{"$f":"Germany!AD33","v":":"},{"$f":"France!AD33","v":{"v":2559,"d":"2,559"}},{"$f":"Italy!AD33","v":":"},{"$f":"'The Netherlands'!AD33","v":":"},{"$f":"Belgium!AD33","v":133},{"$f":"UK!AD33","v":{"v":1383,"d":"1,383"}},":",{"$f":"Denmark!AD33","v":30},":",{"$f":"Portugal!AD33","v":169},{"$f":"Austria!AD33","v":":"},":",{"$f":"Finland!AD33","v":24},":"]
[]
[]
["Milk replacers",{"$f":"Germany!AD36","v":145},{"$f":"France!AD36","v":321},{"$f":"Italy!AD36","v":100},{"$f":"'The Netherlands'!AD36","v":520},{"$f":"Belgium!AD36","v":52},{"$f":"UK!AD36","v":0},{"$f":"Ireland!AD36","v":0},{"$f":"Denmark!AD36","v":0},{"$f":"Spain!AD36","v":0},{"$f":"Portugal!AD36","v":0},{"$f":"Austria!AD36","v":0},{"$f":"Sweden!AD36","v":3},{"$f":"Finland!AD36","v":0},{"$f":"SUM(B30:N30)","v":{"v":1141,"d":"1,141"}}]
[]
[{"$nulls":3}," "]
["Others",{"$f":"Germany!AD39","v":{"v":642.683,"d":"643"}},{"$f":"France!AD39","v":{"v":1511,"d":"1,511"}},{"$f":"Italy!AD39","v":920},{"$f":"'The Netherlands'!AD39","v":593},{"$f":"Belgium!AD39","v":383},{"$f":"UK!AD39","v":{"v":1737,"d":"1,737"}},{"$f":"Ireland!AD39","v":115},{"$f":"Denmark!AD39","v":207},{"$f":"Spain!AD39","v":166},{"$f":"Portugal!AD39","v":229},{"$f":"Austria!AD39","v":139},{"$f":"Sweden!AD39","v":67},{"$f":"Finland!AD39","v":120},{"$f":"SUM(B33:N33)","v":{"v":6829.683,"d":"6,830"}}]
[]
[]
["TOTAL",{"$f":"B33+B30+B24+B17+B10","v":{"v":24228.141,"d":"24,228"}},{"v":20642,"d":"20,642"},{"v":13690,"d":"13,690"},{"v":14951,"d":"14,951"},{"v":6707,"d":"6,707"},{"v":16267,"d":"16,267"},{"v":4366,"d":"4,366"},{"v":4188,"d":"4,188"},{"v":23247,"d":"23,247"},{"v":3988,"d":"3,988"},{"v":1618,"d":"1,618"},{"v":1927,"d":"1,927"},{"v":1401,"d":"1,401"},{"v":137220.141,"d":"137,220"}]
[{"$nulls":4}," "]
[]
["* Without Luxemburg and Greece"]
[": not available"]
["From 2015 on, the Dutch production of milk replacers is a rough estimate, due to statistical confidentiality "]
{"$rows_empty":8}
["2019-06-04"]
[{"$nulls":14},"INDUSTRIAL COMPOUND PRODUCTION"]
[2017]
["final"]
[{"$nulls":14},"(1 000 t)"]
[]
["Types of feed","CY","CZ","EE","HU","LV","LT","PL","SK","SI","BU","RO","HR","EU-13**","EU-28***"]
[]
[null," ",{"$nulls":4}," ",null," "]
["Cattle",{"$f":"Cyprus!AD16","v":132},{"$f":"'Czech Rep'!AD16","v":533},{"$f":"Estonia!AD16","v":40},{"$f":"Hungary!AD16","v":350},{"$f":"Latvia!AD16","v":64},{"$f":"Lithuania!AD16","v":151},{"$f":"Poland!AD16","v":{"v":1071,"d":"1,071"}},{"$f":"Slovakia!AD16","v":190},{"$f":"Slovenia!AD16","v":85},{"$f":"Bulgaria!AD16","v":192},{"$f":"Romania!AD17","v":50},{"$f":"Croatia!AD16","v":98},{"$f":"SUM(B59:M59)","v":{"v":2956,"d":"2,956"}},{"$f":"O10+N59","v":{"v":45519.285,"d":"45,519"}}]
["fattening",{"$f":"Cyprus!AD17","v":16},{"$f":"'Czech Rep'!AD17","v":":"},{"$f":"Estonia!AD17","v":":"},{"$f":"Hungary!AD17","v":":"},{"$f":"Latvia!AD17","v":":"},{"$f":"Lithuania!AD17","v":3},{"$f":"Poland!AD17","v":":"},{"$f":"Slovakia!AD17","v":16},":",":",":",":",":",":"]
["dairy cow",{"$f":"Cyprus!AD18","v":105},{"$f":"'Czech Rep'!AD18","v":":"},{"$f":"Estonia!AD18","v":":"},{"$f":"Hungary!AD18","v":":"},{"$f":"Latvia!AD18","v":":"},{"$f":"Lithuania!AD18","v":145},{"$f":"Poland!AD18","v":":"},{"$f":"Slovakia!AD18","v":144},":",":",":",":",":",":"]
["calves (excl. milk replacers)",{"$f":"Cyprus!AD19","v":11},{"$f":"'Czech Rep'!AD19","v":":"},{"$f":"Estonia!AD19","v":":"},{"$f":"Hungary!AD19","v":":"},{"$f":"Latvia!AD19","v":":"},{"$f":"Lithuania!AD19","v":2},{"$f":"Poland!AD19","v":":"},{"$f":"Slovakia!AD19","v":13},":",":",":",":",":",":"]
["others",{"$f":"Cyprus!AD20","v":":"},{"$f":"'Czech Rep'!AD20","v":":"},{"$f":"Estonia!AD20","v":":"},{"$f":"Hungary!AD20","v":":"},{"$f":"Latvia!AD20","v":":"},{"$f":"Lithuania!AD20","v":1},{"$f":"Poland!AD20","v":":"},{"$f":"Slovakia!AD20","v":17},":",":",":",":",":",":"]
[]
[]
["Pigs",{"$f":"Cyprus!AD23","v":36},{"$f":"'Czech Rep'!AD23","v":775},{"$f":"Estonia!AD23","v":140},{"$f":"Hungary!AD23","v":{"v":1255,"d":"1,255"}},{"$f":"Latvia!AD23","v":66},{"$f":"Lithuania!AD23","v":34},{"$f":"Poland!AD23","v":{"v":2453,"d":"2,453"}},{"$f":"Slovakia!AD23","v":229},{"$f":"Slovenia!AD23","v":39},{"$f":"Bulgaria!AD23","v":320},{"$f":"Romania!AD24","v":{"v":1200,"d":"1,200"}},{"$f":"Croatia!AD23","v":249},{"$f":"SUM(B66:M66)","v":{"v":6796,"d":"6,796"}},{"$f":"O17+N66","v":{"v":51432.432,"d":"51,432"}}]
["piglets",{"$f":"Cyprus!AD24","v":2},{"$f":"'Czech Rep'!AD24","v":":"},{"$f":"Estonia!AD24","v":":"},{"$f":"Hungary!AD24","v":":"},{"$f":"Latvia!AD24","v":":"},{"$f":"Lithuania!AD24","v":7},{"$f":"Poland!AD24","v":":"},{"$f":"Slovakia!AD24","v":33},":",":",":",":",":",":"]
["pigs for fattening",{"$f":"Cyprus!AD25","v":25},{"$f":"'Czech Rep'!AD25","v":":"},{"$f":"Estonia!AD25","v":":"},{"$f":"Hungary!AD25","v":":"},{"$f":"Latvia!AD25","v":":"},{"$f":"Lithuania!AD25","v":20},{"$f":"Poland!AD25","v":":"},{"$f":"Slovakia!AD25","v":139},":",":",":",":",":",":"]
["breeding pigs",{"$f":"Cyprus!AD26","v":9},{"$f":"'Czech Rep'!AD26","v":":"},{"$f":"Estonia!AD26","v":":"},{"$f":"Hungary!AD26","v":":"},{"$f":"Latvia!AD26","v":":"},{"$f":"Lithuania!AD26","v":7},{"$f":"Poland!AD26","v":":"},{"$f":"Slovakia!AD26","v":21},":",":",":",":",":",":"]
["others",{"$f":"Cyprus!AD27","v":":"},{"$f":"'Czech Rep'!AD27","v":":"},{"$f":"Estonia!AD27","v":":"},{"$f":"Hungary!AD27","v":":"},{"$f":"Latvia!AD27","v":":"},{"$f":"Lithuania!AD27","v":0},{"$f":"Poland!AD27","v":":"},{"$f":"Slovakia!AD27","v":36},":",":",":",":",":",":"]
[{"$nulls":3}," "]
[]
["Poultry",{"$f":"Cyprus!AD30","v":47},{"$f":"'Czech Rep'!AD30","v":{"v":1009,"d":"1,009"}},{"$f":"Estonia!AD30","v":48},{"$f":"Hungary!AD30","v":{"v":1793,"d":"1,793"}},{"$f":"Latvia!AD30","v":202},{"$f":"Lithuania!AD30","v":268},{"$f":"Poland!AD30","v":{"v":6752,"d":"6,752"}},{"$f":"Slovakia!AD30","v":221},{"$f":"Slovenia!AD30","v":239},{"$f":"Bulgaria!AD30","v":560},{"$f":"Romania!AD31","v":{"v":1600,"d":"1,600"}},{"$f":"Croatia!AD30","v":288},{"$f":"SUM(B73:M73)","v":{"v":13027,"d":"13,027"}},{"$f":"O24+N73","v":{"v":55076.741,"d":"55,077"}}]
["broilers",{"$f":"Cyprus!AD31","v":35},{"$f":"'Czech Rep'!AD31","v":":"},{"$f":"Estonia!AD31","v":":"},{"$f":"Hungary!AD31","v":":"},{"$f":"Latvia!AD31","v":":"},{"$f":"Lithuania!AD31","v":198},{"$f":"Poland!AD31","v":":"},{"$f":"Slovakia!AD31","v":84},":",":",":",":",":",":"]
["chicks & layers",{"$f":"Cyprus!AD32","v":10},{"$f":"'Czech Rep'!AD32","v":":"},{"$f":"Estonia!AD32","v":":"},{"$f":"Hungary!AD32","v":":"},{"$f":"Latvia!AD32","v":":"},{"$f":"Lithuania!AD32","v":65},{"$f":"Poland!AD32","v":":"},{"$f":"Slovakia!AD32","v":121},":",":",":",":",":",":"]
["others",{"$f":"Cyprus!AD33","v":2},{"$f":"'Czech Rep'!AD33","v":":"},{"$f":"Estonia!AD33","v":":"},{"$f":"Hungary!AD33","v":":"},{"$f":"Latvia!AD33","v":":"},{"$f":"Lithuania!AD33","v":5},{"$f":"Poland!AD33","v":":"},{"$f":"Slovakia!AD33","v":16},":",":",":",":",":",":"]
[]
[]
["Milk replacers",{"$f":"Cyprus!AD36","v":1},{"$f":"'Czech Rep'!AD36","v":1},{"$f":"Estonia!AD36","v":0},{"$f":"Hungary!AD36","v":0},{"$f":"Latvia!AD36","v":0},{"$f":"Lithuania!AD36","v":0},{"$f":"Poland!AD36","v":0},{"$f":"Slovakia!AD36","v":0},{"$f":"Slovenia!AD36","v":0},{"$f":"Bulgaria!AD36","v":0},{"$f":"Romania!AD37","v":0},{"$f":"Croatia!AD36","v":0},{"$f":"SUM(B79:M79)","v":2},{"$f":"O30+N79","v":{"v":1143,"d":"1,143"}}]
[]
[{"$nulls":3}," "]
["Others",{"$f":"Cyprus!AD39","v":120},{"$f":"'Czech Rep'!AD39","v":73},{"$f":"Estonia!AD39","v":2},{"$f":"Hungary!AD39","v":128},{"$f":"Latvia!AD39","v":14},{"$f":"Lithuania!AD39","v":177},{"$f":"Poland!AD39","v":719},{"$f":"Slovakia!AD39","v":16},{"$f":"Slovenia!AD39","v":9},{"$f":"Bulgaria!AD39","v":80},{"$f":"Romania!AD40","v":2},{"$f":"Croatia!AD39","v":10},{"$f":"SUM(B82:M82)","v":{"v":1350,"d":"1,350"}},{"$f":"O33+N82","v":{"v":8179.683,"d":"8,180"}}]
[]
[]
["TOTAL",{"$f":"B82+B79+B73+B66+B59","v":336},{"v":2391,"d":"2,391"},230,{"v":3526,"d":"3,526"},346,630,{"v":10995,"d":"10,995"},656,372,{"v":1152,"d":"1,152"},{"v":2852,"d":"2,852"},645,{"v":24131,"d":"24,131"},{"v":161351.141,"d":"161,351"}]
[{"$nulls":4}," "]
[]
["** Without Malta"]
["*** Without Luxemburg, Greece and Malta"]
[": not available"]

{"sheet":"2017-18","index":57,"n_rows":44,"n_cols":24,"rows_kept":44,"merged":[[8,1,8,3],[8,5,8,7],[8,9,8,11],[8,13,8,15],[8,17,8,19],[8,21,8,23]]}
["2020-01-05"]
["TAV: Year-to-year variation"]
["EU 28"]
[{"$nulls":12},"2017-2018",{"$nulls":10},"INDUSTRIAL COMPOUND PRODUCTION"]
[{"$nulls":12},"final",{"$nulls":10},"(1 000 t )"]
[]
[]
[]
["COUNTRY","  CATTLE",{"$nulls":3},"PIGS",{"$nulls":3},"POULTRY",{"$nulls":3},"MILK REPLACERS",{"$nulls":3},"OTHERS",{"$nulls":3},"TOTAL"]
[]
[null,2017,2018,"%TAV",null,2017,2018,"%TAV",null,2017,2018,"%TAV",null,2017,2018,"%TAV",null,2017,2018,"%TAV",null,2017,2018,"%TAV"]
[]
["DE",{"$f":"Germany!AD$16","v":{"v":7238.285,"d":"7,238"}},{"$f":"Germany!AE$16","v":{"v":7352.085,"d":"7,352"}},{"$f":"((C13/B13)-1)*100","v":{"v":1.5721956236871115,"d":"1.6"}},null,{"$f":"Germany!AD$23","v":{"v":9766.432,"d":"9,766"}},{"$f":"Germany!AE$23","v":{"v":9520.096,"d":"9,520"}},{"$f":"((G13/F13)-1)*100","v":{"v":-2.522272207496057,"d":"-2.5"}},null,{"$f":"Germany!AD$30","v":{"v":6435.741,"d":"6,436"}},{"$f":"Germany!AE$30","v":{"v":6388.191,"d":"6,388"}},{"$f":"((K13/J13)-1)*100","v":{"v":-0.7388426600759779,"d":"-0.7"}},null,{"$f":"Germany!AD$36","v":145},{"$f":"Germany!AE$36","v":155},{"$f":"((O13/N13)-1)*100","v":{"v":6.896551724137923,"d":"6.9"}},null,{"$f":"Germany!AD$39","v":{"v":642.683,"d":"643"}},{"$f":"Germany!AE$39","v":{"v":613.988,"d":"614"}},{"$f":"((S13/R13)-1)*100","v":{"v":-4.464876152006503,"d":"-4.5"}},null,{"$f":"R13+N13+J13+F13+B13","v":{"v":24228.141,"d":"24,228"}},{"v":24029.36,"d":"24,029"},{"$f":"((W13/V13)-1)*100","v":{"v":-0.8204550237676078,"d":"-0.82"}}]
["FR",{"$f":"France!AD$16","v":{"v":5266,"d":"5,266"}},{"$f":"France!AE$16","v":{"v":5413,"d":"5,413"}},{"v":2.791492593999245,"d":"2.8"},null,{"$f":"France!AD$23","v":{"v":4997,"d":"4,997"}},{"$f":"France!AE$23","v":{"v":4918,"d":"4,918"}},{"v":-1.5809485691414826,"d":"-1.6"},null,{"$f":"France!AD$30","v":{"v":8547,"d":"8,547"}},{"$f":"France!AE$30","v":{"v":8699,"d":"8,699"}},{"v":1.7784017784017836,"d":"1.8"},null,{"$f":"France!AD36","v":321},{"$f":"France!AE36","v":319},{"v":-0.6230529595015577,"d":"-0.6"},null,{"$f":"France!AD$39","v":{"v":1511,"d":"1,511"}},{"$f":"France!AE$39","v":{"v":1496,"d":"1,496"}},{"v":-0.992720052945073,"d":"-1.0"},null,{"$f":"R14+N14+J14+F14+B14","v":{"v":20642,"d":"20,642"}},{"v":20845,"d":"20,845"},{"v":0.9834318380002038,"d":"0.98"}]
["IT",{"$f":"Italy!AD$16","v":{"v":3150,"d":"3,150"}},{"$f":"Italy!AE$16","v":{"v":3314,"d":"3,314"}},{"v":5.2063492063492145,"d":"5.2"},null,{"$f":"Italy!AD$23","v":{"v":3605,"d":"3,605"}},{"$f":"Italy!AE$23","v":{"v":3731,"d":"3,731"}},{"v":3.495145631067964,"d":"3.5"},null,{"$f":"Italy!AD$30","v":{"v":5915,"d":"5,915"}},{"$f":"Italy!AE$30","v":{"v":5870,"d":"5,870"}},{"v":-0.7607776838546076,"d":"-0.8"},null,{"$f":"Italy!AD$36","v":100},{"$f":"Italy!AE$36","v":85},{"v":-15.000000000000002,"d":"-15.0"},null,{"$f":"+Italy!AD$39","v":920},{"$f":"+Italy!AE$39","v":985},{"v":7.065217391304346,"d":"7.1"},null,{"$f":"R15+N15+J15+F15+B15","v":{"v":13690,"d":"13,690"}},{"v":13985,"d":"13,985"},{"v":2.1548575602629683,"d":"2.15"}]
["NL   ",{"$f":"'The Netherlands'!AD$16","v":{"v":4587,"d":"4,587"}},{"$f":"'The Netherlands'!AE$16","v":{"v":4553,"d":"4,553"}},{"v":-0.7412252016568588,"d":"-0.7"},null,{"$f":"'The Netherlands'!AD$23","v":{"v":5264,"d":"5,264"}},{"$f":"'The Netherlands'!AE$23","v":{"v":5106,"d":"5,106"}},{"v":-3.0015197568389107,"d":"-3.0"},null,{"$f":"'The Netherlands'!AD$30","v":{"v":3987,"d":"3,987"}},{"$f":"'The Netherlands'!AE$30","v":{"v":4101,"d":"4,101"}},{"v":2.859292701279159,"d":"2.9"},null,{"$f":"'The Netherlands'!AD$36","v":520},{"$f":"'The Netherlands'!AE$36","v":520},{"v":0,"d":"0.0"},null,{"$f":"'The Netherlands'!AD$39","v":593},{"$f":"'The Netherlands'!AE$39","v":580},{"v":-2.1922428330522714,"d":"-2.2"},null,{"$f":"R16+N16+J16+F16+B16","v":{"v":14951,"d":"14,951"}},{"v":14860,"d":"14,860"},{"v":-0.6086549394689333,"d":"-0.61"}]
["BE",{"$f":"Belgium!AD$16","v":{"v":1426,"d":"1,426"}},{"$f":"Belgium!AE$16","v":{"v":1411,"d":"1,411"}},{"v":-1.051893408134641,"d":"-1.1"},null,{"$f":"Belgium!AD$23","v":{"v":3497,"d":"3,497"}},{"$f":"Belgium!AE$23","v":{"v":3529,"d":"3,529"}},{"v":0.9150700600514705,"d":"0.9"},null,{"$f":"Belgium!AD$30","v":{"v":1349,"d":"1,349"}},{"$f":"Belgium!AE$30","v":{"v":1368,"d":"1,368"}},{"v":1.4084507042253502,"d":"1.4"},null,{"$f":"Belgium!AD$36","v":52},{"$f":"Belgium!AE$36","v":53},{"v":1.9230769230769162,"d":"1.9"},null,{"$f":"Belgium!AD$39","v":383},{"$f":"Belgium!AE$39","v":379},{"v":-1.0443864229765065,"d":"-1.0"},null,{"$f":"R17+N17+J17+F17+B17","v":{"v":6707,"d":"6,707"}},{"v":6740,"d":"6,740"},{"v":0.49202325928134893,"d":"0.49"}]
["UK ",{"$f":"UK!AD$16","v":{"v":5439,"d":"5,439"}},{"$f":"UK!AE$16","v":{"v":5695,"d":"5,695"}},{"v":4.706747563890423,"d":"4.7"},null,{"$f":"UK!AD$23","v":{"v":2056,"d":"2,056"}},{"$f":"UK!AE$23","v":{"v":2052,"d":"2,052"}},{"v":-0.1945525291828787,"d":"-0.2"},null,{"$f":"UK!AD$30","v":{"v":7035,"d":"7,035"}},{"$f":"UK!AE$30","v":{"v":7225,"d":"7,225"}},{"v":2.7007818052594113,"d":"2.7"},null,{"$f":"UK!AD$36","v":0},{"$f":"UK!AE$36","v":0},{"v":0,"d":"0.0"},null,{"$f":"UK!AD$39","v":{"v":1737,"d":"1,737"}},{"$f":"UK!AE$39","v":{"v":1826,"d":"1,826"}},{"v":5.1237766263672935,"d":"5.1"},null,{"$f":"R18+N18+J18+F18+B18","v":{"v":16267,"d":"16,267"}},{"v":16798,"d":"16,798"},{"v":3.264277371365343,"d":"3.26"}]
["IE",{"$f":"Ireland!AD$16","v":{"v":2919,"d":"2,919"}},{"$f":"Ireland!AE$16","v":{"v":3807,"d":"3,807"}},{"v":30.421377183967113,"d":"30.4"},null,{"$f":"Ireland!AD$23","v":692},{"$f":"Ireland!AE$23","v":712},{"v":2.8901734104046284,"d":"2.9"},null,{"$f":"Ireland!AD$30","v":640},{"$f":"Ireland!AE$30","v":632},{"v":-1.2499999999999956,"d":"-1.3"},null,{"$f":"Ireland!AD$36","v":0},{"$f":"Ireland!AE$36","v":0},{"v":0,"d":"0.0"},null,{"$f":"Ireland!AD$39","v":115},{"$f":"Ireland!AE$39","v":128},{"v":11.304347826086957,"d":"11.3"},null,{"$f":"R19+N19+J19+F19+B19","v":{"v":4366,"d":"4,366"}},{"v":5279,"d":"5,279"},{"v":20.91158955565735,"d":"20.91"}]
["DK ",{"$f":"Denmark!AD$16","v":971},{"$f":"Denmark!AE$16","v":{"v":1043,"d":"1,043"}},{"v":7.415036045314105,"d":"7.4"},null,{"$f":"Denmark!AD$23","v":{"v":2364,"d":"2,364"}},{"$f":"Denmark!AE$23","v":{"v":2417,"d":"2,417"}},{"v":2.2419627749576954,"d":"2.2"},null,{"$f":"Denmark!AD$30","v":646},{"$f":"Denmark!AE$30","v":673},{"v":4.179566563467496,"d":"4.2"},null,{"$f":"Denmark!AD$36","v":0},{"$f":"Denmark!AE$36","v":0},{"v":0,"d":"0.0"},null,{"$f":"Denmark!AD$39","v":207},{"$f":"Denmark!AE$39","v":212},{"v":2.4154589371980784,"d":"2.4"},null,{"$f":"R20+N20+J20+F20+B20","v":{"v":4188,"d":"4,188"}},{"v":4345,"d":"4,345"},{"v":3.7488061127029626,"d":"3.75"}]
["ES",{"$f":"Spain!AD$16","v":{"v":8443,"d":"8,443"}},{"$f":"Spain!AE$16","v":{"v":9178,"d":"9,178"}},{"v":8.705436456235937,"d":"8.7"},null,{"$f":"Spain!AD$23","v":{"v":10440,"d":"10,440"}},{"$f":"Spain!AE$23","v":{"v":10589,"d":"10,589"}},{"v":1.4272030651341083,"d":"1.4"},null,{"$f":"Spain!AD$30","v":{"v":4198,"d":"4,198"}},{"$f":"Spain!AE$30","v":{"v":4314,"d":"4,314"}},{"v":2.7632205812291533,"d":"2.8"},null,{"$f":"Spain!AD$36","v":0},{"$f":"Spain!AE$36","v":0},{"v":0,"d":"0.0"},null,{"$f":"Spain!AD$39","v":166},{"$f":"Spain!AE$39","v":175},{"v":5.421686746987953,"d":"5.4"},null,{"$f":"R21+N21+J21+F21+B21","v":{"v":23247,"d":"23,247"}},{"v":24256,"d":"24,256"},{"v":4.340344990751488,"d":"4.34"}]
["PT",{"$f":"Portugal!AD$16","v":997},{"$f":"Portugal!AE$16","v":{"v":1059,"d":"1,059"}},{"v":6.218655967903719,"d":"6.2"},null,{"$f":"Portugal!AD$23","v":{"v":1124,"d":"1,124"}},{"$f":"Portugal!AE$23","v":973},{"v":-13.434163701067614,"d":"-13.4"},null,{"$f":"Portugal!AD$30","v":{"v":1638,"d":"1,638"}},{"$f":"Portugal!AE$30","v":{"v":1559,"d":"1,559"}},{"v":-4.822954822954828,"d":"-4.8"},null,{"$f":"Portugal!AD$36","v":0},{"$f":"Portugal!AE$36","v":0},{"v":0,"d":"0.0"},null,{"$f":"Portugal!AD$39","v":229},{"$f":"Portugal!AE$39","v":235},{"v":2.6200873362445476,"d":"2.6"},null,{"$f":"R22+N22+J22+F22+B22","v":{"v":3988,"d":"3,988"}},{"v":3826,"d":"3,826"},{"v":-4.062186559679038,"d":"-4.06"}]
["AT",{"$f":"Austria!AD$16","v":588},{"$f":"Austria!AE$16","v":585},{"v":-0.5102040816326481,"d":"-0.5"},null,{"$f":"Austria!AD$23","v":263},{"$f":"Austria!AE$23","v":251},{"v":-4.562737642585546,"d":"-4.6"},null,{"$f":"Austria!AD$30","v":628},{"$f":"Austria!AE$30","v":608},{"v":-3.1847133757961776,"d":"-3.2"},null,{"$f":"Austria!AD$36","v":0},{"$f":"Austria!AE$36","v":0},{"v":0,"d":"0.0"},null,{"$f":"Austria!AD$39","v":139},{"$f":"Austria!AE$39","v":154},{"v":10.79136690647482,"d":"10.8"},null,{"$f":"R23+N23+J23+F23+B23","v":{"v":1618,"d":"1,618"}},{"v":1598,"d":"1,598"},{"v":-1.2360939431396822,"d":"-1.24"}]
["SE",{"$f":"Sweden!AD$16","v":868},{"$f":"Sweden!AE$16","v":931},{"v":7.258064516129026,"d":"7.3"},null,{"$f":"Sweden!AD$23","v":322},{"$f":"Sweden!AE$23","v":339},{"v":5.2795031055900665,"d":"5.3"},null,{"$f":"Sweden!AD$30","v":667},{"$f":"Sweden!AE$30","v":676},{"v":1.3493253373313419,"d":"1.3"},null,{"$f":"Sweden!AD$36","v":3},{"$f":"Sweden!AE$36","v":3},{"$f":"((O24/N24)-1)*100","v":{"v":0,"d":"0.0"}},null,{"$f":"Sweden!AD$39","v":67},{"$f":"Sweden!AE$39","v":71},{"v":5.970149253731338,"d":"6.0"},null,{"$f":"R24+N24+J24+F24+B24","v":{"v":1927,"d":"1,927"}},{"v":2020,"d":"2,020"},{"v":4.82615464452516,"d":"4.83"}]
["FI",{"$f":"Finland!AD$16","v":671},{"$f":"Finland!AE$16","v":670},{"v":-0.14903129657227732,"d":"-0.1"},null,{"$f":"Finland!AD$23","v":246},{"$f":"Finland!AE$23","v":238},{"v":-3.2520325203251987,"d":"-3.3"},null,{"$f":"Finland!AD$30","v":364},{"$f":"Finland!AE$30","v":383},{"v":5.219780219780223,"d":"5.2"},null,{"$f":"Finland!AD$36","v":0},{"$f":"Finland!AE$36","v":0},{"v":0,"d":"0.0"},null,{"$f":"Finland!AD$39","v":120},{"$f":"Finland!AE$39","v":120},{"v":0,"d":"0.0"},null,{"$f":"R25+N25+J25+F25+B25","v":{"v":1401,"d":"1,401"}},{"v":1411,"d":"1,411"},{"v":0.7137758743754441,"d":"0.71"}]
["CY",{"$f":"Cyprus!AD$16","v":132},{"$f":"Cyprus!AE$16","v":131},{"v":-0.7575757575757569,"d":"-0.8"},null,{"$f":"Cyprus!AD$23","v":36},{"$f":"Cyprus!AE$23","v":37},{"v":2.777777777777768,"d":"2.8"},null,{"$f":"Cyprus!AD$30","v":47},{"$f":"Cyprus!AE$30","v":47},{"v":0,"d":"0.0"},null,{"$f":"Cyprus!AD$36","v":1},{"$f":"Cyprus!AE$36","v":1},{"v":0,"d":"0.0"},null,{"$f":"Cyprus!AD$39","v":120},{"$f":"Cyprus!AE$39","v":125},{"v":4.166666666666674,"d":"4.2"},null,{"$f":"R26+N26+J26+F26+B26","v":336},341,{"v":1.4880952380952328,"d":"1.49"}]
["CZ",{"$f":"'Czech Rep'!AD$16","v":533},{"$f":"'Czech Rep'!AE$16","v":525},{"v":-1.5009380863039379,"d":"-1.5"},null,{"$f":"'Czech Rep'!AD$23","v":775},{"$f":"'Czech Rep'!AE$23","v":764},{"v":-1.4193548387096744,"d":"-1.4"},null,{"$f":"'Czech Rep'!AD$30","v":{"v":1009,"d":"1,009"}},{"$f":"'Czech Rep'!AE$30","v":{"v":1065,"d":"1,065"}},{"v":5.550049554013881,"d":"5.6"},null,{"$f":"'Czech Rep'!AD$36","v":1},{"$f":"'Czech Rep'!AE$36","v":1},{"$f":"((O27/N27)-1)*100","v":{"v":0,"d":"0.0"}},null,{"$f":"'Czech Rep'!AD$39","v":73},{"$f":"'Czech Rep'!AE$39","v":77},{"v":5.47945205479452,"d":"5.5"},null,{"$f":"R27+N27+J27+F27+B27","v":{"v":2391,"d":"2,391"}},{"v":2432,"d":"2,432"},{"v":1.7147636971978297,"d":"1.71"}]
["EE",{"$f":"Estonia!AD$16","v":40},{"$f":"Estonia!AE$16","v":40},{"v":0,"d":"0.0"},null,{"$f":"Estonia!AD$23","v":140},{"$f":"Estonia!AE$23","v":140},{"v":0,"d":"0.0"},null,{"$f":"Estonia!AD$30","v":48},{"$f":"Estonia!AE$30","v":48},{"v":0,"d":"0.0"},null,{"$f":"Estonia!AD$36","v":0},{"$f":"Estonia!AE$36","v":0},{"v":0,"d":"0.0"},null,{"$f":"Estonia!AD$39","v":2},{"$f":"Estonia!AE$39","v":2},{"v":0,"d":"0.0"},null,{"$f":"R28+N28+J28+F28+B28","v":230},230,{"v":0,"d":"0.00"}]
["HU",{"$f":"Hungary!AD$16","v":350},{"$f":"Hungary!AE$16","v":377},{"v":7.714285714285718,"d":"7.7"},null,{"$f":"Hungary!AD$23","v":{"v":1255,"d":"1,255"}},{"$f":"Hungary!AE$23","v":{"v":1319,"d":"1,319"}},{"v":5.099601593625502,"d":"5.1"},null,{"$f":"Hungary!AD$30","v":{"v":1793,"d":"1,793"}},{"$f":"Hungary!AE$30","v":{"v":1944,"d":"1,944"}},{"v":8.421639709983264,"d":"8.4"},null,{"$f":"Hungary!AD$36","v":0},{"$f":"Hungary!AE$36","v":0},{"v":0,"d":"0.0"},null,{"$f":"Hungary!AD$39","v":128},{"$f":"Hungary!AE$39","v":142},{"v":10.9375,"d":"10.9"},null,{"$f":"R29+N29+J29+F29+B29","v":{"v":3526,"d":"3,526"}},{"v":3782,"d":"3,782"},{"v":7.260351673284182,"d":"7.26"}]
["LV",{"$f":"Latvia!AD$16","v":64},{"$f":"Latvia!AE$16","v":64},{"v":0,"d":"0.0"},null,{"$f":"Latvia!AD$23","v":66},{"$f":"Latvia!AE$23","v":66},{"v":0,"d":"0.0"},null,{"$f":"Latvia!AD$30","v":202},{"$f":"Latvia!AE$30","v":202},{"v":0,"d":"0.0"},null,{"$f":"Latvia!AD$36","v":0},{"$f":"Latvia!AE$36","v":0},{"v":0,"d":"0.0"},null,{"$f":"Latvia!AD$39","v":14},{"$f":"Latvia!AE$39","v":14},{"v":0,"d":"0.0"},null,{"$f":"R30+N30+J30+F30+B30","v":346},346,{"v":0,"d":"0.00"}]
["LT",{"$f":"Lithuania!AD$16","v":151},{"$f":"Lithuania!AE$16","v":155},{"v":2.6490066225165476,"d":"2.6"},null,{"$f":"Lithuania!AD$23","v":34},{"$f":"Lithuania!AE$23","v":31},{"v":-8.823529411764708,"d":"-8.8"},null,{"$f":"Lithuania!AD$30","v":268},{"$f":"Lithuania!AE$30","v":272},{"v":1.4925373134328401,"d":"1.5"},null,{"$f":"Lithuania!AD$36","v":0},{"$f":"Lithuania!AE$36","v":0},{"v":0,"d":"0.0"},null,{"$f":"Lithuania!AD$39","v":177},{"$f":"Lithuania!AE$39","v":177},{"v":0,"d":"0.0"},null,{"$f":"R31+N31+J31+F31+B31","v":630},635,{"v":0.7936507936507908,"d":"0.79"}]
["PL",{"$f":"Poland!AD$16","v":{"v":1071,"d":"1,071"}},{"$f":"Poland!AE$16","v":{"v":1190,"d":"1,190"}},{"v":11.111111111111116,"d":"11.1"},null,{"$f":"Poland!AD$23","v":{"v":2453,"d":"2,453"}},{"$f":"Poland!AE$23","v":{"v":2465,"d":"2,465"}},{"v":0.48919690175295294,"d":"0.5"},null,{"$f":"Poland!AD$30","v":{"v":6752,"d":"6,752"}},{"$f":"Poland!AE$30","v":{"v":6815,"d":"6,815"}},{"v":0.9330568720379073,"d":"0.9"},null,{"$f":"Poland!AD$36","v":0},{"$f":"Poland!AE$36","v":0},{"v":0,"d":"0.0"},null,{"$f":"Poland!AD$39","v":719},{"$f":"Poland!AE$39","v":758},{"v":5.424200278164126,"d":"5.4"},null,{"$f":"R32+N32+J32+F32+B32","v":{"v":10995,"d":"10,995"}},{"v":11228,"d":"11,228"},{"v":2.1191450659390654,"d":"2.12"}]
["SK",{"$f":"Slovakia!AD$16","v":190},{"$f":"Slovakia!AE$16","v":{"v":186.787,"d":"187"}},{"v":-1.6910526315789487,"d":"-1.7"},null,{"$f":"Slovakia!AD$23","v":229},{"$f":"Slovakia!AE$23","v":{"v":247.049,"d":"247"}},{"v":7.881659388646289,"d":"7.9"},null,{"$f":"Slovakia!AD$30","v":221},{"$f":"Slovakia!AE$30","v":{"v":198.663,"d":"199"}},{"v":-10.107239819004521,"d":"-10.1"},null,{"$f":"Slovakia!AD$36","v":0},{"$f":"Slovakia!AE$36","v":0},{"v":0,"d":"0.0"},null,{"$f":"+Slovakia!AD$39","v":16},{"$f":"+Slovakia!AE$39","v":13},{"v":-18.75,"d":"-18.8"},null,{"$f":"R33+N33+J33+F33+B33","v":656},{"v":645.499,"d":"645"},{"v":-1.600762195121952,"d":"-1.60"}]
["SI",{"$f":"Slovenia!AD$16","v":85},{"$f":"Slovenia!AE$16","v":90},{"v":5.882352941176472,"d":"5.9"},null,{"$f":"Slovenia!AD$23","v":39},{"$f":"Slovenia!AE$23","v":43},{"v":10.256410256410264,"d":"10.3"},null,{"$f":"Slovenia!AD$30","v":239},{"$f":"Slovenia!AE$30","v":246},{"v":2.9288702928870203,"d":"2.9"},null,{"$f":"Slovenia!AD$36","v":0},{"$f":"Slovenia!AE$36","v":0},{"v":0,"d":"0.0"},null,{"$f":"Slovenia!AD$39","v":9},{"$f":"Slovenia!AE$39","v":13},{"v":44.44444444444444,"d":"44.4"},null,{"$f":"R34+N34+J34+F34+B34","v":372},392,{"v":5.376344086021501,"d":"5.38"}]
["BU",{"$f":"Bulgaria!AD$16","v":192},{"$f":"Bulgaria!AE$16","v":168},-12.5,null,{"$f":"Bulgaria!AD$23","v":320},{"$f":"Bulgaria!AE$23","v":353},{"v":10.312499999999991,"d":"10.3"},null,{"$f":"Bulgaria!AD$30","v":560},{"$f":"Bulgaria!AE$30","v":542},{"v":-3.214285714285714,"d":"-3.2"},null,{"$f":"Bulgaria!AD$36","v":0},{"$f":"Bulgaria!AE$36","v":0},{"v":0,"d":"0.0"},null,{"$f":"Bulgaria!AD$39","v":80},{"$f":"Bulgaria!AE$39","v":48},{"v":-40,"d":"-40.0"},null,{"$f":"R35+N35+J35+F35+B35","v":{"v":1152,"d":"1,152"}},{"v":1111,"d":"1,111"},{"v":-3.559027777777779,"d":"-3.56"}]
["RO",{"$f":"Romania!AD$17","v":50},{"$f":"Romania!AE$17","v":71},{"v":41.99999999999999,"d":"42.0"},null,{"$f":"Romania!AD$24","v":{"v":1200,"d":"1,200"}},{"$f":"Romania!AE$24","v":{"v":1380,"d":"1,380"}},{"v":14.999999999999991,"d":"15.0"},null,{"$f":"Romania!AD$31","v":{"v":1600,"d":"1,600"}},{"$f":"Romania!AE$31","v":{"v":1546,"d":"1,546"}},{"v":-3.3749999999999947,"d":"-3.4"},null,{"$f":"Romania!AD$37","v":0},{"$f":"Romania!AE$37","v":0},{"v":0,"d":"0.0"},null,{"$f":"Romania!AD$40","v":2},{"$f":"Romania!AE$40","v":102},{"v":5000,"d":"5,000.0"},null,{"$f":"R36+N36+J36+F36+B36","v":{"v":2852,"d":"2,852"}},{"v":3099,"d":"3,099"},{"v":8.660589060308554,"d":"8.66"}]
["HR",{"$f":"Croatia!AD$16","v":98},{"$f":"Croatia!AE$16","v":101},{"v":3.0612244897959107,"d":"3.1"},null,{"$f":"Croatia!AD$23","v":249},{"$f":"Croatia!AE$23","v":269},{"v":8.032128514056236,"d":"8.0"},null,{"$f":"Croatia!AD$30","v":288},{"$f":"Croatia!AE$30","v":291},{"v":1.041666666666674,"d":"1.0"},null,{"$f":"Croatia!AD$36","v":0},{"$f":"Croatia!AC$36","v":0},{"v":0,"d":"0.0"},null,{"$f":"Croatia!AD$39","v":10},{"$f":"Croatia!AE$39","v":15},{"v":50,"d":"50.0"},null,{"$f":"R37+N37+J37+F37+B37","v":645},676,{"v":4.806201550387601,"d":"4.81"}]
[]
["EUR 28 *",{"$f":"SUM(B13:B37)","v":{"v":45519.285,"d":"45,519"}},{"v":48109.871999999996,"d":"48,110"},{"$f":"((C39/B39)-1)*100","v":{"v":5.691185615064009,"d":"5.69"}},null,{"$f":"SUM(F13:F37)","v":{"v":51432.432,"d":"51,432"}},{"v":51489.145,"d":"51,489"},{"$f":"((G39/F39)-1)*100","v":{"v":0.1102670004015982,"d":"0.11"}},null,{"$f":"SUM(J13:J37)","v":{"v":55076.741,"d":"55,077"}},{"v":55712.854,"d":"55,713"},{"$f":"((K39/J39)-1)*100","v":{"v":1.1549575890846597,"d":"1.15"}},null,{"$f":"SUM(N13:N37)","v":{"v":1143,"d":"1,143"}},{"v":1137,"d":"1,137"},{"$f":"((O39/N39)-1)*100","v":{"v":-0.5249343832021025,"d":"-0.5"}},null,{"$f":"SUM(R13:R37)","v":{"v":8179.683,"d":"8,180"}},{"v":8460.988000000001,"d":"8,461"},{"$f":"((S39/R39)-1)*100","v":{"v":3.4390697047795182,"d":"3.4"}},null,{"$f":"SUM(V13:V37)","v":{"v":161351.141,"d":"161,351"}},{"v":164909.859,"d":"164,910"},{"$f":"((W39/V39)-1)*100","v":{"v":2.2055734951387684,"d":"2.21"}}]
[]
[{"$nulls":23}," "]
["* Without Luxemburg, Greece and Malta"]
[": not available"]
["From 2015 on, the Dutch production of milk replacers is a rough estimate, due to statistical confidentiality "]

{"sheet":"2018","index":58,"n_rows":90,"n_cols":15,"rows_kept":90,"merged":[[2,0,2,14],[3,0,3,14],[51,0,51,14],[52,0,52,14]]}
["2020-01-05"]
[{"$nulls":14},"INDUSTRIAL COMPOUND FEED PRODUCTION"]
[2018]
["final"]
[{"$nulls":14},"(1 000 t)"]
[]
["Types of feed","DE","FR","IT","NL","BE","UK","IE","DK","ES","PT","AT","SE","FI","EU-15*"]
[]
[null," ",{"$nulls":4}," ",null,null," "]
["Cattle",{"$f":"Germany!AE16","v":{"v":7352.085,"d":"7,352"}},{"$f":"France!AE16","v":{"v":5413,"d":"5,413"}},{"$f":"Italy!AE16","v":{"v":3314,"d":"3,314"}},{"$f":"'The Netherlands'!AE16","v":{"v":4553,"d":"4,553"}},{"$f":"Belgium!AE16","v":{"v":1411,"d":"1,411"}},{"$f":"UK!AE16","v":{"v":5695,"d":"5,695"}},{"$f":"Ireland!AE16","v":{"v":3807,"d":"3,807"}},{"$f":"Denmark!AE16","v":{"v":1043,"d":"1,043"}},{"$f":"Spain!AE16","v":{"v":9178,"d":"9,178"}},{"$f":"Portugal!AE16","v":{"v":1059,"d":"1,059"}},{"$f":"Austria!AE16","v":585},{"$f":"Sweden!AE16","v":931},{"$f":"Finland!AE16","v":670},{"$f":"SUM(B10:N10)","v":{"v":45011.085,"d":"45,011"}}]
["fattening",{"$f":"Germany!AE17","v":":"},{"$f":"France!AE17","v":{"v":1933,"d":"1,933"}},{"$f":"Italy!AE17","v":":"},{"$f":"'The Netherlands'!AE17","v":156},{"$f":"Belgium!AE17","v":465},{"$f":"UK!AE17","v":{"v":1465,"d":"1,465"}},{"$f":"Ireland!AE17","v":{"v":1576,"d":"1,576"}},":",":",{"$f":"Portugal!AE17","v":385},{"$f":"Austria!AE17","v":":"},":",":",":"]
["dairy cow",{"$f":"Germany!AE18","v":":"},{"$f":"France!AE18","v":{"v":3480,"d":"3,480"}},{"$f":"Italy!AE18","v":":"},{"$f":"'The Netherlands'!AE18","v":{"v":3586,"d":"3,586"}},{"$f":"Belgium!AE18","v":712},{"$f":"UK!AE18","v":{"v":3558,"d":"3,558"}},{"$f":"Ireland!AE18","v":{"v":1843,"d":"1,843"}},{"$f":"Denmark!AE18","v":801},":",{"$f":"Portugal!AE18","v":591},{"$f":"Austria!AE18","v":":"},":",{"$f":"Finland!AE18","v":":"},":"]
["calves (excl. milk replacers)",{"$f":"Germany!AE19","v":{"v":304.622,"d":"305"}},{"$f":"France!AE19","v":0},{"$f":"Italy!AE19","v":":"},{"$f":"'The Netherlands'!AE19","v":811},{"$f":"Belgium!AE19","v":234},{"$f":"UK!AE19","v":330},{"$f":"Ireland!AE19","v":263},{"$f":"Denmark!AE19","v":242},":",{"$f":"Portugal!AE19","v":74},{"$f":"Austria!AE19","v":":"},":",{"$f":"Finland!AE19","v":":"},":"]
["others",{"$f":"Germany!AE20","v":":"},{"$f":"France!AE20","v":0},{"$f":"Italy!AE20","v":":"},{"$f":"'The Netherlands'!AE20","v":":"},{"$f":"Belgium!AE20","v":":"},{"$f":"UK!AE20","v":342},{"$f":"Ireland!AE20","v":125},{"$f":"Denmark!AE20","v":":"},":",{"$f":"Portugal!AE20","v":9},{"$f":"Austria!AE20","v":":"},":",{"$f":"Finland!AE20","v":":"},":"]
[]
[]
["Pigs",{"$f":"Germany!AE23","v":{"v":9520.096,"d":"9,520"}},{"$f":"France!AE23","v":{"v":4918,"d":"4,918"}},{"$f":"Italy!AE23","v":{"v":3731,"d":"3,731"}},{"$f":"'The Netherlands'!AE23","v":{"v":5106,"d":"5,106"}},{"$f":"Belgium!AE23","v":{"v":3529,"d":"3,529"}},{"$f":"UK!AE23","v":{"v":2052,"d":"2,052"}},{"$f":"Ireland!AE23","v":712},{"$f":"Denmark!AE23","v":{"v":2417,"d":"2,417"}},{"$f":"Spain!AE23","v":{"v":10589,"d":"10,589"}},{"$f":"Portugal!AE23","v":973},{"$f":"Austria!AE23","v":251},{"$f":"Sweden!AE23","v":339},{"$f":"Finland!AE23","v":238},{"$f":"SUM(B17:N17)","v":{"v":44375.096,"d":"44,375"}}]
["piglets",{"$f":"Germany!AE24","v":":"},{"$f":"France!AE24","v":768},{"$f":"Italy!AE24","v":":"},{"$f":"'The Netherlands'!AE24","v":694},{"$f":"Belgium!AE24","v":{"v":1034,"d":"1,034"}},{"$f":"UK!AE24","v":217},{"$f":"Ireland!AE24","v":138},{"$f":"Denmark!AE24","v":485},":",{"$f":"Portugal!AE24","v":76},{"$f":"Austria!AE24","v":":"},":",{"$f":"Finland!AE24","v":47},":"]
["pigs for fattening",{"$f":"Germany!AE25","v":":"},{"$f":"France!AE25","v":{"v":3330,"d":"3,330"}},{"$f":"Italy!AE25","v":":"},{"$f":"'The Netherlands'!AE25","v":{"v":3303,"d":"3,303"}},{"$f":"Belgium!AE25","v":{"v":1994,"d":"1,994"}},{"$f":"UK!AE25","v":{"v":1390,"d":"1,390"}},{"$f":"Ireland!AE25","v":421},{"$f":"Denmark!AE25","v":{"v":1380,"d":"1,380"}},":",{"$f":"Portugal!AE25","v":663},{"$f":"Austria!AE25","v":":"},":",{"$f":"Finland!AE25","v":89},":"]
["breeding pigs",{"$f":"Germany!AE26","v":":"},{"$f":"France!AE26","v":820},{"$f":"Italy!AE26","v":":"},{"$f":"'The Netherlands'!AE26","v":{"v":1109,"d":"1,109"}},{"$f":"Belgium!AE26","v":501},{"$f":"UK!AE26","v":445},{"$f":"Ireland!AE26","v":100},{"$f":"Denmark!AE26","v":552},":",{"$f":"Portugal!AE26","v":216},{"$f":"Austria!AE26","v":":"},":",{"$f":"Finland!AE26","v":54},":"]
["others",{"$f":"Germany!AE27","v":":"},{"$f":"France!AE27","v":0},{"$f":"Italy!AE27","v":":"},{"$f":"'The Netherlands'!AE27","v":":"},{"$f":"Belgium!AE27","v":":"},{"$f":"UK!AE27","v":0},{"$f":"Ireland!AE27","v":53},{"$f":"Denmark!AE27","v":":"},":",{"$f":"Portugal!AE27","v":18},{"$f":"Austria!AE27","v":":"},":",{"$f":"Finland!AE27","v":48},":"]
[{"$nulls":3}," "]
[]
["Poultry",{"$f":"Germany!AE30","v":{"v":6388.191,"d":"6,388"}},{"$f":"France!AE30","v":{"v":8699,"d":"8,699"}},{"$f":"Italy!AE30","v":{"v":5870,"d":"5,870"}},{"$f":"'The Netherlands'!AE30","v":{"v":4101,"d":"4,101"}},{"$f":"Belgium!AE30","v":{"v":1368,"d":"1,368"}},{"$f":"UK!AE30","v":{"v":7225,"d":"7,225"}},{"$f":"Ireland!AE30","v":632},{"$f":"Denmark!AE30","v":673},{"$f":"Spain!AE30","v":{"v":4314,"d":"4,314"}},{"$f":"Portugal!AE30","v":{"v":1559,"d":"1,559"}},{"$f":"Austria!AE30","v":608},{"$f":"Sweden!AE30","v":676},{"$f":"Finland!AE30","v":383},{"$f":"SUM(B24:N24)","v":{"v":42496.191,"d":"42,496"}}]
["broilers",{"$f":"Germany!AE31","v":{"v":4149.07,"d":"4,149"}},{"$f":"France!AE31","v":{"v":3486,"d":"3,486"}},{"$f":"Italy!AE31","v":":"},{"$f":"'The Netherlands'!AE31","v":{"v":2025,"d":"2,025"}},{"$f":"Belgium!AE31","v":743},{"$f":"UK!AE31","v":{"v":4148,"d":"4,148"}},":",{"$f":"Denmark!AE31","v":371},":",{"$f":"Portugal!AE31","v":814},{"$f":"Austria!AE31","v":":"},":",{"$f":"Finland!AE31","v":264},":"]
["chicks & layers",{"$f":"Germany!AE32","v":{"v":2239.121,"d":"2,239"}},{"$f":"France!AE32","v":{"v":2517,"d":"2,517"}},{"$f":"Italy!AE32","v":":"},{"$f":"'The Netherlands'!AE32","v":{"v":2076,"d":"2,076"}},{"$f":"Belgium!AE32","v":480},{"$f":"UK!AE32","v":{"v":1630,"d":"1,630"}},":",{"$f":"Denmark!AE32","v":245},":",{"$f":"Portugal!AE32","v":540},{"$f":"Austria!AE32","v":":"},":",{"$f":"Finland!AE32","v":94},":"]
["others",{"$f":"Germany!AE33","v":":"},{"$f":"France!AE33","v":{"v":2696,"d":"2,696"}},{"$f":"Italy!AE33","v":":"},{"$f":"'The Netherlands'!AE33","v":":"},{"$f":"Belgium!AE33","v":145},{"$f":"UK!AE33","v":{"v":1447,"d":"1,447"}},":",{"$f":"Denmark!AE33","v":57},":",{"$f":"Portugal!AE33","v":205},{"$f":"Austria!AE33","v":":"},":",{"$f":"Finland!AE33","v":25},":"]
[]
[]
["Milk replacers",{"$f":"Germany!AE36","v":155},{"$f":"France!AE36","v":319},{"$f":"Italy!AE36","v":85},{"$f":"'The Netherlands'!AE36","v":520},{"$f":"Belgium!AE36","v":53},{"$f":"UK!AE36","v":0},{"$f":"Ireland!AE36","v":0},{"$f":"Denmark!AE36","v":0},{"$f":"Spain!AE36","v":0},{"$f":"Portugal!AE36","v":0},{"$f":"Austria!AE36","v":0},{"$f":"Sweden!AE36","v":3},{"$f":"Finland!AE36","v":0},{"$f":"SUM(B30:N30)","v":{"v":1135,"d":"1,135"}}]
[]
[{"$nulls":3}," "]
["Others",{"$f":"Germany!AE39","v":{"v":613.988,"d":"614"}},{"$f":"France!AE39","v":{"v":1496,"d":"1,496"}},{"$f":"Italy!AE39","v":985},{"$f":"'The Netherlands'!AE39","v":580},{"$f":"Belgium!AE39","v":379},{"$f":"UK!AE39","v":{"v":1826,"d":"1,826"}},{"$f":"Ireland!AE39","v":128},{"$f":"Denmark!AE39","v":212},{"$f":"Spain!AE39","v":175},{"$f":"Portugal!AE39","v":235},{"$f":"Austria!AE39","v":154},{"$f":"Sweden!AE39","v":71},{"$f":"Finland!AE39","v":120},{"$f":"SUM(B33:N33)","v":{"v":6974.988,"d":"6,975"}}]
[]
[]
["TOTAL",{"$f":"B33+B30+B24+B17+B10","v":{"v":24029.36,"d":"24,029"}},{"v":20845,"d":"20,845"},{"v":13985,"d":"13,985"},{"v":14860,"d":"14,860"},{"v":6740,"d":"6,740"},{"v":16798,"d":"16,798"},{"v":5279,"d":"5,279"},{"v":4345,"d":"4,345"},{"v":24256,"d":"24,256"},{"v":3826,"d":"3,826"},{"v":1598,"d":"1,598"},{"v":2020,"d":"2,020"},{"v":1411,"d":"1,411"},{"v":139992.36,"d":"139,992"}]
[{"$nulls":4}," "]
[]
["* Without Luxemburg and Greece"]
[": not available"]
["From 2015 on, the Dutch production of milk replacers is a rough estimate, due to statistical confidentiality "]
{"$rows_empty":8}
["2019-06-04"]
[{"$nulls":14},"INDUSTRIAL COMPOUND PRODUCTION"]
[2018]
["final"]
[{"$nulls":14},"(1 000 t)"]
[]
["Types of feed","CY","CZ","EE","HU","LV","LT","PL","SK","SI","BU","RO","HR","EU-13**","EU-28***"]
[]
[null," ",{"$nulls":4}," ",null," "]
["Cattle",{"$f":"Cyprus!AE16","v":131},{"$f":"'Czech Rep'!AE16","v":525},{"$f":"Estonia!AE16","v":40},{"$f":"Hungary!AE16","v":377},{"$f":"Latvia!AE16","v":64},{"$f":"Lithuania!AE16","v":155},{"$f":"Poland!AE16","v":{"v":1190,"d":"1,190"}},{"$f":"Slovakia!AE16","v":{"v":186.787,"d":"187"}},{"$f":"Slovenia!AE16","v":90},{"$f":"Bulgaria!AE16","v":168},{"$f":"Romania!AE17","v":71},{"$f":"Croatia!AE16","v":101},{"$f":"SUM(B59:M59)","v":{"v":3098.787,"d":"3,099"}},{"$f":"O10+N59","v":{"v":48109.871999999996,"d":"48,110"}}]
["fattening",{"$f":"Cyprus!AE17","v":16},{"$f":"'Czech Rep'!AE17","v":65},{"$f":"Estonia!AE17","v":":"},{"$f":"Hungary!AE17","v":":"},{"$f":"Latvia!AE17","v":":"},{"$f":"Lithuania!AE17","v":5},{"$f":"Poland!AE17","v":":"},{"$f":"Slovakia!AE17","v":{"v":12.75,"d":"13"}},":",":",":",":",":",":"]
["dairy cow",{"$f":"Cyprus!AE18","v":104},{"$f":"'Czech Rep'!AE18","v":360},{"$f":"Estonia!AE18","v":":"},{"$f":"Hungary!AE18","v":":"},{"$f":"Latvia!AE18","v":":"},{"$f":"Lithuania!AE18","v":145},{"$f":"Poland!AE18","v":":"},{"$f":"Slovakia!AE18","v":145},":",":",":",":",":",":"]
["calves (excl. milk replacers)",{"$f":"Cyprus!AE19","v":11},{"$f":"'Czech Rep'!AE19","v":50},{"$f":"Estonia!AE19","v":":"},{"$f":"Hungary!AE19","v":":"},{"$f":"Latvia!AE19","v":":"},{"$f":"Lithuania!AE19","v":3},{"$f":"Poland!AE19","v":":"},{"$f":"Slovakia!AE19","v":{"v":12.037,"d":"12"}},":",":",":",":",":",":"]
["others",{"$f":"Cyprus!AE20","v":":"},{"$f":"'Czech Rep'!AE20","v":50},{"$f":"Estonia!AE20","v":":"},{"$f":"Hungary!AE20","v":":"},{"$f":"Latvia!AE20","v":":"},{"$f":"Lithuania!AE20","v":2},{"$f":"Poland!AE20","v":":"},{"$f":"Slovakia!AE20","v":17},":",":",":",":",":",":"]
[]
[]
["Pigs",{"$f":"Cyprus!AE23","v":37},{"$f":"'Czech Rep'!AE23","v":764},{"$f":"Estonia!AE23","v":140},{"$f":"Hungary!AE23","v":{"v":1319,"d":"1,319"}},{"$f":"Latvia!AE23","v":66},{"$f":"Lithuania!AE23","v":31},{"$f":"Poland!AE23","v":{"v":2465,"d":"2,465"}},{"$f":"Slovakia!AE23","v":{"v":247.049,"d":"247"}},{"$f":"Slovenia!AE23","v":43},{"$f":"Bulgaria!AE23","v":353},{"$f":"Romania!AE24","v":{"v":1380,"d":"1,380"}},{"$f":"Croatia!AE23","v":269},{"$f":"SUM(B66:M66)","v":{"v":7114.049,"d":"7,114"}},{"$f":"O17+N66","v":{"v":51489.145,"d":"51,489"}}]
["piglets",{"$f":"Cyprus!AE24","v":3},{"$f":"'Czech Rep'!AE24","v":93},{"$f":"Estonia!AE24","v":":"},{"$f":"Hungary!AE24","v":":"},{"$f":"Latvia!AE24","v":":"},{"$f":"Lithuania!AE24","v":6},{"$f":"Poland!AE24","v":":"},{"$f":"Slovakia!AE24","v":31},":",":",":",":",":",":"]
["pigs for fattening",{"$f":"Cyprus!AE25","v":25},{"$f":"'Czech Rep'!AE25","v":519},{"$f":"Estonia!AE25","v":":"},{"$f":"Hungary!AE25","v":":"},{"$f":"Latvia!AE25","v":":"},{"$f":"Lithuania!AE25","v":19},{"$f":"Poland!AE25","v":":"},{"$f":"Slovakia!AE25","v":{"v":157.604,"d":"158"}},":",":",":",":",":",":"]
["breeding pigs",{"$f":"Cyprus!AE26","v":9},{"$f":"'Czech Rep'!AE26","v":135},{"$f":"Estonia!AE26","v":":"},{"$f":"Hungary!AE26","v":":"},{"$f":"Latvia!AE26","v":":"},{"$f":"Lithuania!AE26","v":6},{"$f":"Poland!AE26","v":":"},{"$f":"Slovakia!AE26","v":{"v":19.47,"d":"19"}},":",":",":",":",":",":"]
["others",{"$f":"Cyprus!AE27","v":":"},{"$f":"'Czech Rep'!AE27","v":17},{"$f":"Estonia!AE27","v":":"},{"$f":"Hungary!AE27","v":":"},{"$f":"Latvia!AE27","v":":"},{"$f":"Lithuania!AE27","v":0},{"$f":"Poland!AE27","v":":"},{"$f":"Slovakia!AE27","v":{"v":38.975,"d":"39"}},":",":",":",":",":",":"]
[{"$nulls":3}," "]
[]
["Poultry",{"$f":"Cyprus!AE30","v":47},{"$f":"'Czech Rep'!AE30","v":{"v":1065,"d":"1,065"}},{"$f":"Estonia!AE30","v":48},{"$f":"Hungary!AE30","v":{"v":1944,"d":"1,944"}},{"$f":"Latvia!AE30","v":202},{"$f":"Lithuania!AE30","v":272},{"$f":"Poland!AE30","v":{"v":6815,"d":"6,815"}},{"$f":"Slovakia!AE30","v":{"v":198.663,"d":"199"}},{"$f":"Slovenia!AE30","v":246},{"$f":"Bulgaria!AE30","v":542},{"$f":"Romania!AE31","v":{"v":1546,"d":"1,546"}},{"$f":"Croatia!AE30","v":291},{"$f":"SUM(B73:M73)","v":{"v":13216.663,"d":"13,217"}},{"$f":"O24+N73","v":{"v":55712.854,"d":"55,713"}}]
["broilers",{"$f":"Cyprus!AE31","v":35},{"$f":"'Czech Rep'!AE31","v":553},{"$f":"Estonia!AE31","v":":"},{"$f":"Hungary!AE31","v":":"},{"$f":"Latvia!AE31","v":":"},{"$f":"Lithuania!AE31","v":198},{"$f":"Poland!AE31","v":":"},{"$f":"Slovakia!AE31","v":{"v":70.08,"d":"70"}},":",":",":",":",":",":"]
["chicks & layers",{"$f":"Cyprus!AE32","v":10},{"$f":"'Czech Rep'!AE32","v":158},{"$f":"Estonia!AE32","v":":"},{"$f":"Hungary!AE32","v":":"},{"$f":"Latvia!AE32","v":":"},{"$f":"Lithuania!AE32","v":68},{"$f":"Poland!AE32","v":":"},{"$f":"Slovakia!AE32","v":{"v":114.583,"d":"115"}},":",":",":",":",":",":"]
["others",{"$f":"Cyprus!AE33","v":2},{"$f":"'Czech Rep'!AE33","v":354},{"$f":"Estonia!AE33","v":":"},{"$f":"Hungary!AE33","v":":"},{"$f":"Latvia!AE33","v":":"},{"$f":"Lithuania!AE33","v":6},{"$f":"Poland!AE33","v":":"},{"$f":"Slovakia!AE33","v":14},":",":",":",":",":",":"]
[]
[]
["Milk replacers",{"$f":"Cyprus!AE36","v":1},{"$f":"'Czech Rep'!AE36","v":1},{"$f":"Estonia!AE36","v":0},{"$f":"Hungary!AE36","v":0},{"$f":"Latvia!AE36","v":0},{"$f":"Lithuania!AE36","v":0},{"$f":"Poland!AE36","v":0},{"$f":"Slovakia!AE36","v":0},{"$f":"Slovenia!AE36","v":0},{"$f":"Bulgaria!AE36","v":0},{"$f":"Romania!AE37","v":0},{"$f":"Croatia!AE36","v":0},{"$f":"SUM(B79:M79)","v":2},{"$f":"O30+N79","v":{"v":1137,"d":"1,137"}}]
[]
[{"$nulls":3}," "]
["Others",{"$f":"Cyprus!AE39","v":125},{"$f":"'Czech Rep'!AE39","v":77},{"$f":"Estonia!AE39","v":2},{"$f":"Hungary!AE39","v":142},{"$f":"Latvia!AE39","v":14},{"$f":"Lithuania!AE39","v":177},{"$f":"Poland!AE39","v":758},{"$f":"Slovakia!AE39","v":13},{"$f":"Slovenia!AE39","v":13},{"$f":"Bulgaria!AE39","v":48},{"$f":"Romania!AE40","v":102},{"$f":"Croatia!AE39","v":15},{"$f":"SUM(B82:M82)","v":{"v":1486,"d":"1,486"}},{"$f":"O33+N82","v":{"v":8460.988000000001,"d":"8,461"}}]
[]
[]
["TOTAL",{"$f":"B82+B79+B73+B66+B59","v":341},{"v":2432,"d":"2,432"},230,{"v":3782,"d":"3,782"},346,635,{"v":11228,"d":"11,228"},{"v":645.499,"d":"645"},392,{"v":1111,"d":"1,111"},{"v":3099,"d":"3,099"},676,{"v":24917.499,"d":"24,917"},{"v":164909.859,"d":"164,910"}]
[{"$nulls":4}," "]
[]
["** Without Malta"]
["*** Without Luxemburg, Greece and Malta"]
[": not available"]

{"sheet":"2018-19","index":59,"n_rows":46,"n_cols":24,"rows_kept":46,"merged":[[9,1,9,3],[9,5,9,7],[9,9,9,11],[9,13,9,15],[9,17,9,19],[9,21,9,23]]}
["2020-07-15"]
["TAV: Year-to-year variation"]
["EU 27"]
[]
[{"$nulls":12},"2018-2019",{"$nulls":10},"INDUSTRIAL COMPOUND PRODUCTION"]
[{"$nulls":12},"final",{"$nulls":10},"(1 000 t )"]
[]
[]
[]
["COUNTRY","  CATTLE",{"$nulls":3},"PIGS",{"$nulls":3},"POULTRY",{"$nulls":3},"MILK REPLACERS",{"$nulls":3},"OTHERS",{"$nulls":3},"TOTAL"]
[]
[null,2018,2019,"%TAV",null,2018,2019,"%TAV",null,2018,2019,"%TAV",null,2018,2019,"%TAV",null,2018,2019,"%TAV",null,2018,2019,"%TAV"]
[]
["DE",{"$f":"Germany!AE$16","v":{"v":7352.085,"d":"7,352"}},{"$f":"Germany!AF$16","v":{"v":7377.921,"d":"7,378"}},{"$f":"((C14/B14)-1)*100","v":{"v":0.35141051824074676,"d":"0.4"}},null,{"$f":"Germany!AE$23","v":{"v":9520.096,"d":"9,520"}},{"$f":"Germany!AF$23","v":{"v":9576.417,"d":"9,576"}},{"$f":"((G14/F14)-1)*100","v":{"v":0.5916011771309959,"d":"0.6"}},null,{"$f":"Germany!AE$30","v":{"v":6388.191,"d":"6,388"}},{"$f":"Germany!AF$30","v":{"v":6392.019,"d":"6,392"}},{"$f":"((K14/J14)-1)*100","v":{"v":0.059923067422373855,"d":"0.1"}},null,{"$f":"Germany!AE$36","v":155},{"$f":"Germany!AF$36","v":150},{"$f":"((O14/N14)-1)*100","v":{"v":-3.2258064516129004,"d":"-3.2"}},null,{"$f":"Germany!AE$39","v":{"v":613.988,"d":"614"}},{"$f":"Germany!AF$39","v":{"v":615.0329999999994,"d":"615"}},{"$f":"((S14/R14)-1)*100","v":{"v":0.17019876609956075,"d":"0.2"}},null,{"$f":"R14+N14+J14+F14+B14","v":{"v":24029.36,"d":"24,029"}},{"v":24111.39,"d":"24,111"},{"$f":"((W14/V14)-1)*100","v":{"v":0.3413740524092157,"d":"0.3"}}]
["FR",{"$f":"France!AE$16","v":{"v":5413,"d":"5,413"}},{"$f":"France!AF$16","v":{"v":5457,"d":"5,457"}},{"v":0.8128579346018849,"d":"0.8"},null,{"$f":"France!AE$23","v":{"v":4918,"d":"4,918"}},{"$f":"France!AF$23","v":{"v":4963,"d":"4,963"}},{"v":0.9150061000406717,"d":"0.9"},null,{"$f":"France!AE$30","v":{"v":8699,"d":"8,699"}},{"$f":"France!AF$30","v":{"v":8645,"d":"8,645"}},{"v":-0.6207610070123049,"d":"-0.6"},null,{"$f":"France!AE36","v":319},{"$f":"France!AF36","v":323},{"v":1.2539184952978122,"d":"1.3"},null,{"$f":"France!AE$39","v":{"v":1496,"d":"1,496"}},{"$f":"France!AF$39","v":{"v":1526,"d":"1,526"}},{"v":2.0053475935828846,"d":"2.0"},null,{"$f":"R15+N15+J15+F15+B15","v":{"v":20845,"d":"20,845"}},{"v":20914,"d":"20,914"},{"v":0.3310146318061813,"d":"0.3"}]
["IT",{"$f":"Italy!AE$16","v":{"v":3314,"d":"3,314"}},{"$f":"Italy!AF$16","v":{"v":3377,"d":"3,377"}},{"v":1.90102595051298,"d":"1.9"},null,{"$f":"Italy!AE$23","v":{"v":3731,"d":"3,731"}},{"$f":"Italy!AF$23","v":{"v":3745,"d":"3,745"}},{"v":0.37523452157599557,"d":"0.4"},null,{"$f":"Italy!AE$30","v":{"v":5870,"d":"5,870"}},{"$f":"Italy!AF$30","v":{"v":5975,"d":"5,975"}},{"v":1.7887563884156688,"d":"1.8"},null,{"$f":"Italy!AE$36","v":85},{"$f":"Italy!AF$36","v":90},{"v":5.882352941176472,"d":"5.9"},null,{"$f":"+Italy!AE$39","v":985},{"$f":"+Italy!AF$39","v":978},{"v":-0.7106598984771617,"d":"-0.7"},null,{"$f":"R16+N16+J16+F16+B16","v":{"v":13985,"d":"13,985"}},{"v":14165,"d":"14,165"},{"v":1.2870933142652863,"d":"1.3"}]
["NL   ",{"$f":"'The Netherlands'!AE$16","v":{"v":4553,"d":"4,553"}},{"$f":"'The Netherlands'!AF$16","v":{"v":4503,"d":"4,503"}},{"v":-1.0981770261366153,"d":"-1.1"},null,{"$f":"'The Netherlands'!AE$23","v":{"v":5106,"d":"5,106"}},{"$f":"'The Netherlands'!AF$23","v":{"v":5029,"d":"5,029"}},{"v":-1.5080297688993327,"d":"-1.5"},null,{"$f":"'The Netherlands'!AE$30","v":{"v":4101,"d":"4,101"}},{"$f":"'The Netherlands'!AF$30","v":{"v":4044,"d":"4,044"}},{"v":-1.3899049012435993,"d":"-1.4"},null,{"$f":"'The Netherlands'!AE$36","v":520},{"$f":"'The Netherlands'!AF$36","v":520},{"v":0,"d":"0.0"},null,{"$f":"'The Netherlands'!AE$39","v":580},{"$f":"'The Netherlands'!AF$39","v":614},{"v":5.862068965517242,"d":"5.9"},null,{"$f":"R17+N17+J17+F17+B17","v":{"v":14860,"d":"14,860"}},{"v":14710,"d":"14,710"},{"v":-1.0094212651413192,"d":"-1.0"}]
["BE",{"$f":"Belgium!AE$16","v":{"v":1411,"d":"1,411"}},{"$f":"Belgium!AF$16","v":{"v":1447,"d":"1,447"}},{"v":2.551381998582558,"d":"2.6"},null,{"$f":"Belgium!AE$23","v":{"v":3529,"d":"3,529"}},{"$f":"Belgium!AF$23","v":{"v":3504,"d":"3,504"}},{"v":-0.7084159818645519,"d":"-0.7"},null,{"$f":"Belgium!AE$30","v":{"v":1368,"d":"1,368"}},{"$f":"Belgium!AF$30","v":{"v":1220,"d":"1,220"}},{"v":-10.818713450292394,"d":"-10.8"},null,{"$f":"Belgium!AE$36","v":53},{"$f":"Belgium!AF$36","v":58},{"v":9.433962264150942,"d":"9.4"},null,{"$f":"Belgium!AE$39","v":379},{"$f":"Belgium!AF$39","v":390},{"v":2.902374670184704,"d":"2.9"},null,{"$f":"R18+N18+J18+F18+B18","v":{"v":6740,"d":"6,740"}},{"v":6619,"d":"6,619"},{"v":-1.7952522255192838,"d":"-1.8"}]
["UK ",{"$f":"UK!AE$16","v":{"v":5695,"d":"5,695"}},{"$f":"UK!AF$16","v":{"v":5324,"d":"5,324"}},{"v":-6.51448639157155,"d":"-6.5"},null,{"$f":"UK!AE$23","v":{"v":2052,"d":"2,052"}},{"$f":"UK!AF$23","v":{"v":2168,"d":"2,168"}},{"v":5.653021442495132,"d":"5.7"},null,{"$f":"UK!AE$30","v":{"v":7225,"d":"7,225"}},{"$f":"UK!AF$30","v":{"v":7191,"d":"7,191"}},{"v":-0.47058823529412264,"d":"-0.5"},null,{"$f":"UK!AE$36","v":0},{"$f":"UK!AF$36","v":0},{"v":0,"d":"0.0"},null,{"$f":"UK!AE$39","v":{"v":1826,"d":"1,826"}},{"$f":"UK!AF$39","v":{"v":1468,"d":"1,468"}},{"v":-19.60569550930996,"d":"-19.6"},null,{"$f":"R19+N19+J19+F19+B19","v":{"v":16798,"d":"16,798"}},{"v":16151,"d":"16,151"},{"v":-3.8516490058340236,"d":"-3.9"}]
["IE",{"$f":"Ireland!AE$16","v":{"v":3807,"d":"3,807"}},{"$f":"Ireland!AF$16","v":{"v":3116,"d":"3,116"}},{"v":-18.150774888363543,"d":"-18.2"},null,{"$f":"Ireland!AE$23","v":712},{"$f":"Ireland!AF$23","v":706},{"v":-0.8426966292134797,"d":"-0.8"},null,{"$f":"Ireland!AE$30","v":632},{"$f":"Ireland!AF$30","v":631},{"v":-0.15822784810126667,"d":"-0.2"},null,{"$f":"Ireland!AE$36","v":0},{"$f":"Ireland!AF$36","v":0},{"v":0,"d":"0.0"},null,{"$f":"Ireland!AE$39","v":128},{"$f":"Ireland!AF$39","v":187},{"v":46.09375,"d":"46.1"},null,{"$f":"R20+N20+J20+F20+B20","v":{"v":5279,"d":"5,279"}},{"v":4640,"d":"4,640"},{"v":-12.104565258571698,"d":"-12.1"}]
["DK ",{"$f":"Denmark!AE$16","v":{"v":1043,"d":"1,043"}},{"$f":"Denmark!AF$16","v":{"v":1071,"d":"1,071"}},{"v":2.684563758389258,"d":"2.7"},null,{"$f":"Denmark!AE$23","v":{"v":2417,"d":"2,417"}},{"$f":"Denmark!AF$23","v":{"v":2362,"d":"2,362"}},{"v":-2.2755482002482452,"d":"-2.3"},null,{"$f":"Denmark!AE$30","v":673},{"$f":"Denmark!AF$30","v":677},{"v":0.5943536404160454,"d":"0.6"},null,{"$f":"Denmark!AE$36","v":0},{"$f":"Denmark!AF$36","v":0},{"v":0,"d":"0.0"},null,{"$f":"Denmark!AE$39","v":212},{"$f":"Denmark!AF$39","v":199},{"v":-6.132075471698117,"d":"-6.1"},null,{"$f":"R21+N21+J21+F21+B21","v":{"v":4345,"d":"4,345"}},{"v":4309,"d":"4,309"},{"v":-0.8285385500575337,"d":"-0.8"}]
["ES",{"$f":"Spain!AE$16","v":{"v":9178,"d":"9,178"}},{"$f":"Spain!AF$16","v":{"v":9489,"d":"9,489"}},{"v":3.388537807801262,"d":"3.4"},null,{"$f":"Spain!AE$23","v":{"v":10589,"d":"10,589"}},{"$f":"Spain!AF$23","v":{"v":11054,"d":"11,054"}},{"v":4.391349513646237,"d":"4.4"},null,{"$f":"Spain!AE$30","v":{"v":4314,"d":"4,314"}},{"$f":"Spain!AF$30","v":{"v":4478,"d":"4,478"}},{"v":3.8015762633286876,"d":"3.8"},null,{"$f":"Spain!AE$36","v":0},{"$f":"Spain!AF$36","v":0},{"v":0,"d":"0.0"},null,{"$f":"Spain!AE$39","v":175},{"$f":"Spain!AF$39","v":182},{"v":4.0000000000000036,"d":"4.0"},null,{"$f":"R22+N22+J22+F22+B22","v":{"v":24256,"d":"24,256"}},{"v":25203,"d":"25,203"},{"v":3.9041886543535576,"d":"3.9"}]
["PT",{"$f":"Portugal!AE$16","v":{"v":1059,"d":"1,059"}},{"$f":"Portugal!AF$16","v":983},{"v":-7.1765816808309735,"d":"-7.2"},null,{"$f":"Portugal!AE$23","v":973},{"$f":"Portugal!AF$23","v":{"v":1074,"d":"1,074"}},{"v":10.380267214799588,"d":"10.4"},null,{"$f":"Portugal!AE$30","v":{"v":1559,"d":"1,559"}},{"$f":"Portugal!AF$30","v":{"v":1638,"d":"1,638"}},{"v":5.0673508659397015,"d":"5.1"},null,{"$f":"Portugal!AE$36","v":0},{"$f":"Portugal!AF$36","v":0},{"v":0,"d":"0.0"},null,{"$f":"Portugal!AE$39","v":235},{"$f":"Portugal!AF$39","v":232},{"v":-1.276595744680853,"d":"-1.3"},null,{"$f":"R23+N23+J23+F23+B23","v":{"v":3826,"d":"3,826"}},{"v":3927,"d":"3,927"},{"v":2.6398327234709917,"d":"2.6"}]
["AT",{"$f":"Austria!AE$16","v":585},{"$f":"Austria!AF$16","v":605},{"v":3.418803418803429,"d":"3.4"},null,{"$f":"Austria!AE$23","v":251},{"$f":"Austria!AF$23","v":252},{"v":0.3984063745019917,"d":"0.4"},null,{"$f":"Austria!AE$30","v":608},{"$f":"Austria!AF$30","v":651},{"v":7.072368421052633,"d":"7.1"},null,{"$f":"Austria!AE$36","v":0},{"$f":"Austria!AF$36","v":0},{"v":0,"d":"0.0"},null,{"$f":"Austria!AE$39","v":154},{"$f":"Austria!AF$39","v":137},{"v":-11.038961038961038,"d":"-11.0"},null,{"$f":"R24+N24+J24+F24+B24","v":{"v":1598,"d":"1,598"}},{"v":1645,"d":"1,645"},{"v":2.941176470588225,"d":"2.9"}]
["SE",{"$f":"Sweden!AE$16","v":931},{"$f":"Sweden!AF$16","v":981},{"v":5.370569280343718,"d":"5.4"},null,{"$f":"Sweden!AE$23","v":339},{"$f":"Sweden!AF$23","v":341},{"v":0.5899705014749346,"d":"0.6"},null,{"$f":"Sweden!AE$30","v":676},{"$f":"Sweden!AF$30","v":718},{"v":6.213017751479288,"d":"6.2"},null,{"$f":"Sweden!AE$36","v":3},{"$f":"Sweden!AF$36","v":3},{"$f":"((O25/N25)-1)*100","v":{"v":0,"d":"0.0"}},null,{"$f":"Sweden!AE$39","v":71},{"$f":"Sweden!AF$39","v":67},{"v":-5.633802816901412,"d":"-5.6"},null,{"$f":"R25+N25+J25+F25+B25","v":{"v":2020,"d":"2,020"}},{"v":2110,"d":"2,110"},{"v":4.455445544554459,"d":"4.5"}]
["FI",{"$f":"Finland!AE$16","v":670},{"$f":"Finland!AF$16","v":693},{"v":3.43283582089553,"d":"3.4"},null,{"$f":"Finland!AE$23","v":238},{"$f":"Finland!AF$23","v":222},{"v":-6.72268907563025,"d":"-6.7"},null,{"$f":"Finland!AE$30","v":383},{"$f":"Finland!AF$30","v":385},{"v":0.5221932114882533,"d":"0.5"},null,{"$f":"Finland!AE$36","v":0},{"$f":"Finland!AF$36","v":0},{"v":0,"d":"0.0"},null,{"$f":"Finland!AE$39","v":120},{"$f":"Finland!AF$39","v":126},{"v":5.000000000000004,"d":"5.0"},null,{"$f":"R26+N26+J26+F26+B26","v":{"v":1411,"d":"1,411"}},{"v":1426,"d":"1,426"},{"v":1.0630758327427436,"d":"1.1"}]
["CY**",{"$f":"Cyprus!AE$16","v":131},{"$f":"Cyprus!AF$16","v":200},{"v":52.67175572519085,"d":"52.7"},null,{"$f":"Cyprus!AE$23","v":37},{"$f":"Cyprus!AF$23","v":5},{"v":-86.48648648648648,"d":"-86.5"},null,{"$f":"Cyprus!AE$30","v":47},{"$f":"Cyprus!AF$30","v":42},{"v":-10.63829787234043,"d":"-10.6"},null,{"$f":"Cyprus!AE$36","v":1},{"$f":"Cyprus!AF$36","v":0},{"v":0,"d":"0.0"},null,{"$f":"Cyprus!AE$39","v":125},{"$f":"Cyprus!AF$39","v":140},{"v":12.00000000000001,"d":"12.0"},null,{"$f":"R27+N27+J27+F27+B27","v":341},387,{"v":13.489736070381241,"d":"13.5"}]
["CZ",{"$f":"'Czech Rep'!AE$16","v":525},{"$f":"'Czech Rep'!AF$16","v":563},{"v":7.2380952380952435,"d":"7.2"},null,{"$f":"'Czech Rep'!AE$23","v":764},{"$f":"'Czech Rep'!AF$23","v":759},{"v":-0.654450261780104,"d":"-0.7"},null,{"$f":"'Czech Rep'!AE$30","v":{"v":1065,"d":"1,065"}},{"$f":"'Czech Rep'!AF$30","v":{"v":1062,"d":"1,062"}},{"v":-0.28169014084507005,"d":"-0.3"},null,{"$f":"'Czech Rep'!AE$36","v":1},{"$f":"'Czech Rep'!AF$36","v":1},{"$f":"((O28/N28)-1)*100","v":{"v":0,"d":"0.0"}},null,{"$f":"'Czech Rep'!AE$39","v":77},{"$f":"'Czech Rep'!AF$39","v":71},{"v":-7.792207792207795,"d":"-7.8"},null,{"$f":"R28+N28+J28+F28+B28","v":{"v":2432,"d":"2,432"}},{"v":2456,"d":"2,456"},{"v":0.9868421052631637,"d":"1.0"}]
["EE",{"$f":"Estonia!AE$16","v":40},{"$f":"Estonia!AF$16","v":40},{"v":0,"d":"0.0"},null,{"$f":"Estonia!AE$23","v":140},{"$f":"Estonia!AF$23","v":140},{"v":0,"d":"0.0"},null,{"$f":"Estonia!AE$30","v":48},{"$f":"Estonia!AF$30","v":48},{"v":0,"d":"0.0"},null,{"$f":"Estonia!AE$36","v":0},{"$f":"Estonia!AF$36","v":0},{"v":0,"d":"0.0"},null,{"$f":"Estonia!AE$39","v":2},{"$f":"Estonia!AF$39","v":2},{"v":0,"d":"0.0"},null,{"$f":"R29+N29+J29+F29+B29","v":230},230,{"v":0,"d":"0.0"}]
["HU",{"$f":"Hungary!AE$16","v":377},{"$f":"Hungary!AF$16","v":380},{"v":0.7957559681697646,"d":"0.8"},null,{"$f":"Hungary!AE$23","v":{"v":1319,"d":"1,319"}},{"$f":"Hungary!AF$23","v":{"v":1342,"d":"1,342"}},{"v":1.74374526156178,"d":"1.7"},null,{"$f":"Hungary!AE$30","v":{"v":1944,"d":"1,944"}},{"$f":"Hungary!AF$30","v":{"v":1913,"d":"1,913"}},{"v":-1.5946502057613166,"d":"-1.6"},null,{"$f":"Hungary!AE$36","v":0},{"$f":"Hungary!AF$36","v":0},{"v":0,"d":"0.0"},null,{"$f":"Hungary!AE$39","v":142},{"$f":"Hungary!AF$39","v":143},{"v":0.7042253521126751,"d":"0.7"},null,{"$f":"R30+N30+J30+F30+B30","v":{"v":3782,"d":"3,782"}},{"v":3778,"d":"3,778"},{"v":-0.10576414595452333,"d":"-0.1"}]
["LV",{"$f":"Latvia!AE$16","v":64},{"$f":"Latvia!AF$16","v":64},{"v":0,"d":"0.0"},null,{"$f":"Latvia!AE$23","v":66},{"$f":"Latvia!AF$23","v":66},{"v":0,"d":"0.0"},null,{"$f":"Latvia!AE$30","v":202},{"$f":"Latvia!AF$30","v":202},{"v":0,"d":"0.0"},null,{"$f":"Latvia!AE$36","v":0},{"$f":"Latvia!AF$36","v":0},{"v":0,"d":"0.0"},null,{"$f":"Latvia!AE$39","v":14},{"$f":"Latvia!AF$39","v":14},{"v":0,"d":"0.0"},null,{"$f":"R31+N31+J31+F31+B31","v":346},346,{"v":0,"d":"0.0"}]
["LT",{"$f":"Lithuania!AE$16","v":155},{"$f":"Lithuania!AF$16","v":152},{"v":-1.9354838709677469,"d":"-1.9"},null,{"$f":"Lithuania!AE$23","v":31},{"$f":"Lithuania!AF$23","v":28},{"v":-9.677419354838712,"d":"-9.7"},null,{"$f":"Lithuania!AE$30","v":272},{"$f":"Lithuania!AF$30","v":275},{"v":1.1029411764705843,"d":"1.1"},null,{"$f":"Lithuania!AE$36","v":0},{"$f":"Lithuania!AF$36","v":0},{"v":0,"d":"0.0"},null,{"$f":"Lithuania!AE$39","v":177},{"$f":"Lithuania!AF$39","v":177},{"v":0,"d":"0.0"},null,{"$f":"R32+N32+J32+F32+B32","v":635},632,{"v":-0.47244094488189115,"d":"-0.5"}]
["PL",{"$f":"Poland!AE$16","v":{"v":1190,"d":"1,190"}},{"$f":"Poland!AF$16","v":{"v":1227,"d":"1,227"}},{"v":3.1092436974789806,"d":"3.1"},null,{"$f":"Poland!AE$23","v":{"v":2465,"d":"2,465"}},{"$f":"Poland!AF$23","v":{"v":2417,"d":"2,417"}},{"v":-1.947261663286004,"d":"-1.9"},null,{"$f":"Poland!AE$30","v":{"v":6815,"d":"6,815"}},{"$f":"Poland!AF$30","v":{"v":6905,"d":"6,905"}},{"v":1.3206162876008731,"d":"1.3"},null,{"$f":"Poland!AE$36","v":0},{"$f":"Poland!AF$36","v":0},{"v":0,"d":"0.0"},null,{"$f":"Poland!AE$39","v":758},{"$f":"Poland!AF$39","v":668},{"v":-11.87335092348285,"d":"-11.9"},null,{"$f":"R33+N33+J33+F33+B33","v":{"v":11228,"d":"11,228"}},{"v":11217,"d":"11,217"},{"v":-0.09796936230851427,"d":"-0.1"}]
["SK",{"$f":"Slovakia!AE$16","v":{"v":186.787,"d":"187"}},{"$f":"Slovakia!AF$16","v":{"v":187.78499999999997,"d":"188"}},{"v":0.5342984254792738,"d":"0.5"},null,{"$f":"Slovakia!AE$23","v":{"v":247.049,"d":"247"}},{"$f":"Slovakia!AF$23","v":{"v":244.92999999999998,"d":"245"}},{"v":-0.8577245809535894,"d":"-0.9"},null,{"$f":"Slovakia!AE$30","v":{"v":198.663,"d":"199"}},{"$f":"Slovakia!AF$30","v":{"v":197.76100000000002,"d":"198"}},{"v":-0.454035225482341,"d":"-0.5"},null,{"$f":"Slovakia!AE$36","v":0},{"$f":"Slovakia!AF$36","v":0},{"v":0,"d":"0.0"},null,{"$f":"+Slovakia!AE$39","v":13},{"$f":"+Slovakia!AF$39","v":{"v":12.6,"d":"13"}},{"v":-3.076923076923077,"d":"-3.1"},null,{"$f":"R34+N34+J34+F34+B34","v":{"v":645.499,"d":"645"}},{"v":643.076,"d":"643"},{"v":-0.37536851335168153,"d":"-0.4"}]
["SI",{"$f":"Slovenia!AE$16","v":90},{"$f":"Slovenia!AF$16","v":{"v":83.883,"d":"84"}},{"v":-6.796666666666673,"d":"-6.8"},null,{"$f":"Slovenia!AE$23","v":43},{"$f":"Slovenia!AF$23","v":{"v":42.572,"d":"43"}},{"v":-0.9953488372092978,"d":"-1.0"},null,{"$f":"Slovenia!AE$30","v":246},{"$f":"Slovenia!AF$30","v":{"v":246.342,"d":"246"}},{"v":0.13902439024391366,"d":"0.1"},null,{"$f":"Slovenia!AE$36","v":0},{"$f":"Slovenia!AF$36","v":0},{"v":0,"d":"0.0"},null,{"$f":"Slovenia!AE$39","v":13},{"$f":"Slovenia!AF$39","v":{"v":13.902,"d":"14"}},{"v":6.938461538461538,"d":"6.9"},null,{"$f":"R35+N35+J35+F35+B35","v":392},{"v":386.699,"d":"387"},{"v":-1.352295918367341,"d":"-1.4"}]
["BU",{"$f":"Bulgaria!AE$16","v":168},{"$f":"Bulgaria!AF$16","v":176},{"v":4.761904761904767,"d":"4.8"},null,{"$f":"Bulgaria!AE$23","v":353},{"$f":"Bulgaria!AF$23","v":322},{"v":-8.78186968838527,"d":"-8.8"},null,{"$f":"Bulgaria!AE$30","v":542},{"$f":"Bulgaria!AF$30","v":565},{"v":4.243542435424352,"d":"4.2"},null,{"$f":"Bulgaria!AE$36","v":0},{"$f":"Bulgaria!AF$36","v":0},{"v":0,"d":"0.0"},null,{"$f":"Bulgaria!AE$39","v":48},{"$f":"Bulgaria!AF$39","v":53},{"v":10.416666666666675,"d":"10.4"},null,{"$f":"R36+N36+J36+F36+B36","v":{"v":1111,"d":"1,111"}},{"v":1116,"d":"1,116"},{"v":0.4500450045004545,"d":"0.5"}]
["RO",{"$f":"Romania!AE$17","v":71},{"$f":"Romania!AF$17","v":{"v":80.2,"d":"80"}},{"v":12.957746478873243,"d":"13.0"},null,{"$f":"Romania!AE$24","v":{"v":1380,"d":"1,380"}},{"$f":"Romania!AF$24","v":{"v":1100,"d":"1,100"}},{"v":-20.28985507246377,"d":"-20.3"},null,{"$f":"Romania!AE$31","v":{"v":1546,"d":"1,546"}},{"$f":"Romania!AF$31","v":{"v":1615,"d":"1,615"}},{"v":4.463130659767134,"d":"4.5"},null,{"$f":"Romania!AE$37","v":0},{"$f":"Romania!AF$37","v":0},{"v":0,"d":"0.0"},null,{"$f":"Romania!AE$40","v":102},{"$f":"Romania!AF$40","v":122},{"v":19.6078431372549,"d":"19.6"},null,{"$f":"R37+N37+J37+F37+B37","v":{"v":3099,"d":"3,099"}},{"v":2917.2,"d":"2,917"},{"v":-5.866408518877064,"d":"-5.9"}]
["HR",{"$f":"Croatia!AE$16","v":101},{"$f":"Croatia!AF$16","v":113},{"v":11.881188118811892,"d":"11.9"},null,{"$f":"Croatia!AE$23","v":269},{"$f":"Croatia!AF$23","v":265},{"v":-1.486988847583648,"d":"-1.5"},null,{"$f":"Croatia!AE$30","v":291},{"$f":"Croatia!AF$30","v":293},{"v":0.6872852233676952,"d":"0.7"},null,{"$f":"Croatia!AE$36","v":0},{"$f":"Croatia!AC$36","v":0},{"v":0,"d":"0.0"},null,{"$f":"Croatia!AE$39","v":15},{"$f":"Croatia!AF$39","v":16},{"v":6.666666666666665,"d":"6.7"},null,{"$f":"R38+N38+J38+F38+B38","v":676},687,{"v":1.6272189349112454,"d":"1.6"}]
[]
["EUR 28 *",{"$f":"SUM(B14:B38)","v":{"v":48109.871999999996,"d":"48,110"}},{"v":47690.789000000004,"d":"47,691"},{"$f":"((C40/B40)-1)*100","v":{"v":-0.8710956454009877,"d":"-0.9"}},null,{"$f":"SUM(F14:F38)","v":{"v":51489.145,"d":"51,489"}},{"v":51727.919,"d":"51,728"},{"$f":"((G40/F40)-1)*100","v":{"v":0.4637365798169757,"d":"0.5"}},null,{"$f":"SUM(J14:J38)","v":{"v":55712.854,"d":"55,713"}},{"v":56009.121999999996,"d":"56,009"},{"$f":"((K40/J40)-1)*100","v":{"v":0.5317767422218234,"d":"0.5"}},null,{"$f":"SUM(N14:N38)","v":{"v":1137,"d":"1,137"}},{"v":1145,"d":"1,145"},{"$f":"((O40/N40)-1)*100","v":{"v":0.7036059806508455,"d":"0.7"}},null,{"$f":"SUM(R14:R38)","v":{"v":8460.988000000001,"d":"8,461"}},{"v":8153.535,"d":"8,154"},{"$f":"((S40/R40)-1)*100","v":{"v":-3.633771847921319,"d":"-3.6"}},null,{"$f":"SUM(V14:V38)","v":{"v":164909.859,"d":"164,910"}},{"v":164726.36500000002,"d":"164,726"},{"$f":"((W40/V40)-1)*100","v":{"v":-0.11126927226344785,"d":"-0.1"}}]
[]
[{"$nulls":23}," "]
["* Without Luxemburg, Greece and Malta"]
[": not available"]
["From 2015 on, the Dutch production of milk replacers is a rough estimate, due to statistical confidentiality "]
["** Due to change of statistical methdology from authorities, the results from Cyprus in 2019 are not comparable to 2018"]

{"sheet":"2019","index":60,"n_rows":90,"n_cols":15,"rows_kept":90,"merged":[[2,0,2,14],[3,0,3,14],[51,0,51,14],[52,0,52,14]]}
["2020-07-15"]
[{"$nulls":14},"INDUSTRIAL COMPOUND FEED PRODUCTION"]
[2019]
["final"]
[{"$nulls":14},"(1 000 t)"]
[]
["Types of feed","DE","FR","IT","NL","BE","UK","IE","DK","ES","PT","AT","SE","FI","EU-15*"]
[]
[null," ",{"$nulls":4}," ",null,null," "]
["Cattle",{"$f":"Germany!AF16","v":{"v":7377.921,"d":"7,378"}},{"$f":"France!AF16","v":{"v":5457,"d":"5,457"}},{"$f":"Italy!AF16","v":{"v":3377,"d":"3,377"}},{"$f":"'The Netherlands'!AF16","v":{"v":4503,"d":"4,503"}},{"$f":"Belgium!AF16","v":{"v":1447,"d":"1,447"}},{"$f":"UK!AF16","v":{"v":5324,"d":"5,324"}},{"$f":"Ireland!AF16","v":{"v":3116,"d":"3,116"}},{"$f":"Denmark!AF16","v":{"v":1071,"d":"1,071"}},{"$f":"Spain!AF16","v":{"v":9489,"d":"9,489"}},{"$f":"Portugal!AF16","v":983},{"$f":"Austria!AF16","v":605},{"$f":"Sweden!AF16","v":981},{"$f":"Finland!AF16","v":693},{"$f":"SUM(B10:N10)","v":{"v":44423.921,"d":"44,424"}}]
["fattening",{"$f":"Germany!AF17","v":":"},{"$f":"France!AF17","v":{"v":1941,"d":"1,941"}},{"$f":"Italy!AF17","v":0},{"$f":"'The Netherlands'!AF17","v":157},{"$f":"Belgium!AF17","v":470},{"$f":"UK!AF17","v":{"v":1297,"d":"1,297"}},{"$f":"Ireland!AF17","v":{"v":1160,"d":"1,160"}},":",":",{"$f":"Portugal!AF17","v":372},{"$f":"Austria!AF17","v":":"},":",":",":"]
["dairy cow",{"$f":"Germany!AF18","v":":"},{"$f":"France!AF18","v":{"v":3516,"d":"3,516"}},{"$f":"Italy!AF18","v":0},{"$f":"'The Netherlands'!AF18","v":{"v":3509,"d":"3,509"}},{"$f":"Belgium!AF18","v":724},{"$f":"UK!AF18","v":{"v":3681,"d":"3,681"}},{"$f":"Ireland!AF18","v":{"v":1546,"d":"1,546"}},{"$f":"Denmark!AF18","v":":"},":",{"$f":"Portugal!AF18","v":561},{"$f":"Austria!AF18","v":":"},":",{"$f":"Finland!AF18","v":":"},":"]
["calves (excl. milk replacers)",{"$f":"Germany!AF19","v":{"v":309.756,"d":"310"}},{"$f":"France!AF19","v":0},{"$f":"Italy!AF19","v":0},{"$f":"'The Netherlands'!AF19","v":837},{"$f":"Belgium!AF19","v":253},{"$f":"UK!AF19","v":250},{"$f":"Ireland!AF19","v":0},{"$f":"Denmark!AF19","v":":"},":",{"$f":"Portugal!AF19","v":39},{"$f":"Austria!AF19","v":":"},":",{"$f":"Finland!AF19","v":":"},":"]
["others",{"$f":"Germany!AF20","v":":"},{"$f":"France!AF20","v":0},{"$f":"Italy!AF20","v":0},{"$f":"'The Netherlands'!AF20","v":0},{"$f":"Belgium!AF20","v":":"},{"$f":"UK!AF20","v":96},{"$f":"Ireland!AF20","v":410},{"$f":"Denmark!AF20","v":":"},":",{"$f":"Portugal!AF20","v":11},{"$f":"Austria!AF20","v":":"},":",{"$f":"Finland!AF20","v":":"},":"]
[]
[]
["Pigs",{"$f":"Germany!AF23","v":{"v":9576.417,"d":"9,576"}},{"$f":"France!AF23","v":{"v":4963,"d":"4,963"}},{"$f":"Italy!AF23","v":{"v":3745,"d":"3,745"}},{"$f":"'The Netherlands'!AF23","v":{"v":5029,"d":"5,029"}},{"$f":"Belgium!AF23","v":{"v":3504,"d":"3,504"}},{"$f":"UK!AF23","v":{"v":2168,"d":"2,168"}},{"$f":"Ireland!AF23","v":706},{"$f":"Denmark!AF23","v":{"v":2362,"d":"2,362"}},{"$f":"Spain!AF23","v":{"v":11054,"d":"11,054"}},{"$f":"Portugal!AF23","v":{"v":1074,"d":"1,074"}},{"$f":"Austria!AF23","v":252},{"$f":"Sweden!AF23","v":341},{"$f":"Finland!AF23","v":222},{"$f":"SUM(B17:N17)","v":{"v":44996.417,"d":"44,996"}}]
["piglets",{"$f":"Germany!AF24","v":":"},{"$f":"France!AF24","v":762},{"$f":"Italy!AF24","v":0},{"$f":"'The Netherlands'!AF24","v":683},{"$f":"Belgium!AF24","v":{"v":1.02,"d":"1"}},{"$f":"UK!AF24","v":227},{"$f":"Ireland!AF24","v":0},{"$f":"Denmark!AF24","v":":"},":",{"$f":"Portugal!AF24","v":103},{"$f":"Austria!AF24","v":":"},":",{"$f":"Finland!AF24","v":46},":"]
["pigs for fattening",{"$f":"Germany!AF25","v":":"},{"$f":"France!AF25","v":{"v":3399,"d":"3,399"}},{"$f":"Italy!AF25","v":0},{"$f":"'The Netherlands'!AF25","v":{"v":3260,"d":"3,260"}},{"$f":"Belgium!AF25","v":{"v":2.004,"d":"2"}},{"$f":"UK!AF25","v":{"v":1460,"d":"1,460"}},{"$f":"Ireland!AF25","v":0},{"$f":"Denmark!AF25","v":":"},":",{"$f":"Portugal!AF25","v":721},{"$f":"Austria!AF25","v":":"},":",{"$f":"Finland!AF25","v":89},":"]
["breeding pigs",{"$f":"Germany!AF26","v":":"},{"$f":"France!AF26","v":802},{"$f":"Italy!AF26","v":0},{"$f":"'The Netherlands'!AF26","v":{"v":1086,"d":"1,086"}},{"$f":"Belgium!AF26","v":480},{"$f":"UK!AF26","v":469},{"$f":"Ireland!AF26","v":0},{"$f":"Denmark!AF26","v":":"},":",{"$f":"Portugal!AF26","v":239},{"$f":"Austria!AF26","v":":"},":",{"$f":"Finland!AF26","v":50},":"]
["others",{"$f":"Germany!AF27","v":":"},{"$f":"France!AF27","v":0},{"$f":"Italy!AF27","v":0},{"$f":"'The Netherlands'!AF27","v":0},{"$f":"Belgium!AF27","v":":"},{"$f":"UK!AF27","v":12},{"$f":"Ireland!AF27","v":0},{"$f":"Denmark!AF27","v":":"},":",{"$f":"Portugal!AF27","v":11},{"$f":"Austria!AF27","v":":"},":",{"$f":"Finland!AF27","v":37},":"]
[{"$nulls":3}," "]
[]
["Poultry",{"$f":"Germany!AF30","v":{"v":6392.019,"d":"6,392"}},{"$f":"France!AF30","v":{"v":8645,"d":"8,645"}},{"$f":"Italy!AF30","v":{"v":5975,"d":"5,975"}},{"$f":"'The Netherlands'!AF30","v":{"v":4044,"d":"4,044"}},{"$f":"Belgium!AF30","v":{"v":1220,"d":"1,220"}},{"$f":"UK!AF30","v":{"v":7191,"d":"7,191"}},{"$f":"Ireland!AF30","v":631},{"$f":"Denmark!AF30","v":677},{"$f":"Spain!AF30","v":{"v":4478,"d":"4,478"}},{"$f":"Portugal!AF30","v":{"v":1638,"d":"1,638"}},{"$f":"Austria!AF30","v":651},{"$f":"Sweden!AF30","v":718},{"$f":"Finland!AF30","v":385},{"$f":"SUM(B24:N24)","v":{"v":42645.019,"d":"42,645"}}]
["broilers",{"$f":"Germany!AF31","v":{"v":4151.566,"d":"4,152"}},{"$f":"France!AF31","v":{"v":3468,"d":"3,468"}},{"$f":"Italy!AF31","v":0},{"$f":"'The Netherlands'!AF31","v":{"v":2042,"d":"2,042"}},{"$f":"Belgium!AF31","v":730},{"$f":"UK!AF31","v":{"v":4107,"d":"4,107"}},":",{"$f":"Denmark!AF31","v":":"},":",{"$f":"Portugal!AF31","v":875},{"$f":"Austria!AF31","v":":"},":",{"$f":"Finland!AF31","v":263},":"]
["chicks & layers",{"$f":"Germany!AF32","v":{"v":2240.453,"d":"2,240"}},{"$f":"France!AF32","v":{"v":2551,"d":"2,551"}},{"$f":"Italy!AF32","v":0},{"$f":"'The Netherlands'!AF32","v":{"v":2002,"d":"2,002"}},{"$f":"Belgium!AF32","v":367},{"$f":"UK!AF32","v":{"v":1765,"d":"1,765"}},":",{"$f":"Denmark!AF32","v":":"},":",{"$f":"Portugal!AF32","v":548},{"$f":"Austria!AF32","v":":"},":",{"$f":"Finland!AF32","v":98},":"]
["others",{"$f":"Germany!AF33","v":":"},{"$f":"France!AF33","v":{"v":2626,"d":"2,626"}},{"$f":"Italy!AF33","v":0},{"$f":"'The Netherlands'!AF33","v":0},{"$f":"Belgium!AF33","v":123},{"$f":"UK!AF33","v":{"v":1319,"d":"1,319"}},":",{"$f":"Denmark!AF33","v":":"},":",{"$f":"Portugal!AF33","v":215},{"$f":"Austria!AF33","v":":"},":",{"$f":"Finland!AF33","v":24},":"]
[]
[]
["Milk replacers",{"$f":"Germany!AF36","v":150},{"$f":"France!AF36","v":323},{"$f":"Italy!AF36","v":90},{"$f":"'The Netherlands'!AF36","v":520},{"$f":"Belgium!AF36","v":58},{"$f":"UK!AF36","v":0},{"$f":"Ireland!AF36","v":0},{"$f":"Denmark!AF36","v":0},{"$f":"Spain!AF36","v":0},{"$f":"Portugal!AF36","v":0},{"$f":"Austria!AF36","v":0},{"$f":"Sweden!AF36","v":3},{"$f":"Finland!AF36","v":0},{"$f":"SUM(B30:N30)","v":{"v":1144,"d":"1,144"}}]
[]
[{"$nulls":3}," "]
["Others",{"$f":"Germany!AF39","v":{"v":615.0329999999994,"d":"615"}},{"$f":"France!AF39","v":{"v":1526,"d":"1,526"}},{"$f":"Italy!AF39","v":978},{"$f":"'The Netherlands'!AF39","v":614},{"$f":"Belgium!AF39","v":390},{"$f":"UK!AF39","v":{"v":1468,"d":"1,468"}},{"$f":"Ireland!AF39","v":187},{"$f":"Denmark!AF39","v":199},{"$f":"Spain!AF39","v":182},{"$f":"Portugal!AF39","v":232},{"$f":"Austria!AF39","v":137},{"$f":"Sweden!AF39","v":67},{"$f":"Finland!AF39","v":126},{"$f":"SUM(B33:N33)","v":{"v":6721.032999999999,"d":"6,721"}}]
[]
[]
["TOTAL",{"$f":"B33+B30+B24+B17+B10","v":{"v":24111.39,"d":"24,111"}},{"v":20914,"d":"20,914"},{"v":14165,"d":"14,165"},{"v":14710,"d":"14,710"},{"v":6619,"d":"6,619"},{"v":16151,"d":"16,151"},{"v":4640,"d":"4,640"},{"v":4309,"d":"4,309"},{"v":25203,"d":"25,203"},{"v":3927,"d":"3,927"},{"v":1645,"d":"1,645"},{"v":2110,"d":"2,110"},{"v":1426,"d":"1,426"},{"v":139930.39,"d":"139,930"}]
[{"$nulls":4}," "]
[]
["* Without Luxemburg and Greece"]
[": not available"]
["From 2015 on, the Dutch production of milk replacers is a rough estimate, due to statistical confidentiality "]
{"$rows_empty":8}
["2019-06-04"]
[{"$nulls":14},"INDUSTRIAL COMPOUND PRODUCTION"]
[2019]
["final"]
[{"$nulls":14},"(1 000 t)"]
[]
["Types of feed","CY","CZ","EE","HU","LV","LT","PL","SK","SI","BU","RO","HR","EU-13**","EU-28***"]
[]
[null," ",{"$nulls":4}," ",null," "]
["Cattle",{"$f":"Cyprus!AF16","v":200},{"$f":"'Czech Rep'!AF16","v":563},{"$f":"Estonia!AF16","v":40},{"$f":"Hungary!AF16","v":380},{"$f":"Latvia!AF16","v":64},{"$f":"Lithuania!AF16","v":152},{"$f":"Poland!AF16","v":{"v":1227,"d":"1,227"}},{"$f":"Slovakia!AF16","v":{"v":187.78499999999997,"d":"188"}},{"$f":"Slovenia!AF16","v":{"v":83.883,"d":"84"}},{"$f":"Bulgaria!AF16","v":176},{"$f":"Romania!AF17","v":{"v":80.2,"d":"80"}},{"$f":"Croatia!AF16","v":113},{"$f":"SUM(B59:M59)","v":{"v":3266.8679999999995,"d":"3,267"}},{"$f":"O10+N59","v":{"v":47690.789000000004,"d":"47,691"}}]
["fattening",{"$f":"Cyprus!AF17","v":15},{"$f":"'Czech Rep'!AF17","v":72},{"$f":"Estonia!AF17","v":":"},{"$f":"Hungary!AF17","v":0},{"$f":"Latvia!AF17","v":":"},{"$f":"Lithuania!AF17","v":5},{"$f":"Poland!AF17","v":0},{"$f":"Slovakia!AF17","v":{"v":15.03,"d":"15"}},":",":",":",":",":",":"]
["dairy cow",{"$f":"Cyprus!AF18","v":145},{"$f":"'Czech Rep'!AF18","v":312},{"$f":"Estonia!AF18","v":":"},{"$f":"Hungary!AF18","v":0},{"$f":"Latvia!AF18","v":":"},{"$f":"Lithuania!AF18","v":142},{"$f":"Poland!AF18","v":0},{"$f":"Slovakia!AF18","v":{"v":144.896,"d":"145"}},":",":",":",":",":",":"]
["calves (excl. milk replacers)",{"$f":"Cyprus!AF19","v":25},{"$f":"'Czech Rep'!AF19","v":115},{"$f":"Estonia!AF19","v":":"},{"$f":"Hungary!AF19","v":0},{"$f":"Latvia!AF19","v":":"},{"$f":"Lithuania!AF19","v":3},{"$f":"Poland!AF19","v":0},{"$f":"Slovakia!AF19","v":{"v":11.969,"d":"12"}},":",":",":",":",":",":"]
["others",{"$f":"Cyprus!AF20","v":0},{"$f":"'Czech Rep'!AF20","v":65},{"$f":"Estonia!AF20","v":":"},{"$f":"Hungary!AF20","v":0},{"$f":"Latvia!AF20","v":":"},{"$f":"Lithuania!AF20","v":2},{"$f":"Poland!AF20","v":0},{"$f":"Slovakia!AF20","v":{"v":15.89,"d":"16"}},":",":",":",":",":",":"]
[]
[]
["Pigs",{"$f":"Cyprus!AF23","v":5},{"$f":"'Czech Rep'!AF23","v":759},{"$f":"Estonia!AF23","v":140},{"$f":"Hungary!AF23","v":{"v":1342,"d":"1,342"}},{"$f":"Latvia!AF23","v":66},{"$f":"Lithuania!AF23","v":28},{"$f":"Poland!AF23","v":{"v":2417,"d":"2,417"}},{"$f":"Slovakia!AF23","v":{"v":244.92999999999998,"d":"245"}},{"$f":"Slovenia!AF23","v":{"v":42.572,"d":"43"}},{"$f":"Bulgaria!AF23","v":322},{"$f":"Romania!AF24","v":{"v":1100,"d":"1,100"}},{"$f":"Croatia!AF23","v":265},{"$f":"SUM(B66:M66)","v":{"v":6731.502,"d":"6,732"}},{"$f":"O17+N66","v":{"v":51727.919,"d":"51,728"}}]
["piglets",{"$f":"Cyprus!AF24","v":0},{"$f":"'Czech Rep'!AF24","v":103},{"$f":"Estonia!AF24","v":":"},{"$f":"Hungary!AF24","v":0},{"$f":"Latvia!AF24","v":":"},{"$f":"Lithuania!AF24","v":5},{"$f":"Poland!AF24","v":0},{"$f":"Slovakia!AF24","v":{"v":29.592,"d":"30"}},":",":",":",":",":",":"]
["pigs for fattening",{"$f":"Cyprus!AF25","v":5},{"$f":"'Czech Rep'!AF25","v":515},{"$f":"Estonia!AF25","v":":"},{"$f":"Hungary!AF25","v":0},{"$f":"Latvia!AF25","v":":"},{"$f":"Lithuania!AF25","v":18},{"$f":"Poland!AF25","v":0},{"$f":"Slovakia!AF25","v":{"v":150.375,"d":"150"}},":",":",":",":",":",":"]
["breeding pigs",{"$f":"Cyprus!AF26","v":0},{"$f":"'Czech Rep'!AF26","v":137},{"$f":"Estonia!AF26","v":":"},{"$f":"Hungary!AF26","v":0},{"$f":"Latvia!AF26","v":":"},{"$f":"Lithuania!AF26","v":5},{"$f":"Poland!AF26","v":0},{"$f":"Slovakia!AF26","v":{"v":25.594,"d":"26"}},":",":",":",":",":",":"]
["others",{"$f":"Cyprus!AF27","v":0},{"$f":"'Czech Rep'!AF27","v":7},{"$f":"Estonia!AF27","v":":"},{"$f":"Hungary!AF27","v":0},{"$f":"Latvia!AF27","v":":"},{"$f":"Lithuania!AF27","v":0},{"$f":"Poland!AF27","v":0},{"$f":"Slovakia!AF27","v":{"v":39.369,"d":"39"}},":",":",":",":",":",":"]
[{"$nulls":3}," "]
[]
["Poultry",{"$f":"Cyprus!AF30","v":42},{"$f":"'Czech Rep'!AF30","v":{"v":1062,"d":"1,062"}},{"$f":"Estonia!AF30","v":48},{"$f":"Hungary!AF30","v":{"v":1913,"d":"1,913"}},{"$f":"Latvia!AF30","v":202},{"$f":"Lithuania!AF30","v":275},{"$f":"Poland!AF30","v":{"v":6905,"d":"6,905"}},{"$f":"Slovakia!AF30","v":{"v":197.76100000000002,"d":"198"}},{"$f":"Slovenia!AF30","v":{"v":246.342,"d":"246"}},{"$f":"Bulgaria!AF30","v":565},{"$f":"Romania!AF31","v":{"v":1615,"d":"1,615"}},{"$f":"Croatia!AF30","v":293},{"$f":"SUM(B73:M73)","v":{"v":13364.103000000001,"d":"13,364"}},{"$f":"O24+N73","v":{"v":56009.122,"d":"56,009"}}]
["broilers",{"$f":"Cyprus!AF31","v":27},{"$f":"'Czech Rep'!AF31","v":571},{"$f":"Estonia!AF31","v":":"},{"$f":"Hungary!AF31","v":806},{"$f":"Latvia!AF31","v":":"},{"$f":"Lithuania!AF31","v":201},{"$f":"Poland!AF31","v":0},{"$f":"Slovakia!AF31","v":{"v":76.135,"d":"76"}},":",":",":",":",":",":"]
["chicks & layers",{"$f":"Cyprus!AF32","v":14},{"$f":"'Czech Rep'!AF32","v":169},{"$f":"Estonia!AF32","v":":"},{"$f":"Hungary!AF32","v":323},{"$f":"Latvia!AF32","v":":"},{"$f":"Lithuania!AF32","v":68},{"$f":"Poland!AF32","v":0},{"$f":"Slovakia!AF32","v":{"v":107.626,"d":"108"}},":",":",":",":",":",":"]
["others",{"$f":"Cyprus!AF33","v":1},{"$f":"'Czech Rep'!AF33","v":321},{"$f":"Estonia!AF33","v":":"},{"$f":"Hungary!AF33","v":785},{"$f":"Latvia!AF33","v":":"},{"$f":"Lithuania!AF33","v":6},{"$f":"Poland!AF33","v":0},{"$f":"Slovakia!AF33","v":14},":",":",":",":",":",":"]
[]
[]
["Milk replacers",{"$f":"Cyprus!AF36","v":0},{"$f":"'Czech Rep'!AF36","v":1},{"$f":"Estonia!AF36","v":0},{"$f":"Hungary!AF36","v":0},{"$f":"Latvia!AF36","v":0},{"$f":"Lithuania!AF36","v":0},{"$f":"Poland!AF36","v":0},{"$f":"Slovakia!AF36","v":0},{"$f":"Slovenia!AF36","v":0},{"$f":"Bulgaria!AF36","v":0},{"$f":"Romania!AF37","v":0},{"$f":"Croatia!AF36","v":0},{"$f":"SUM(B79:M79)","v":1},{"$f":"O30+N79","v":{"v":1145,"d":"1,145"}}]
[]
[{"$nulls":3}," "]
["Others",{"$f":"Cyprus!AF39","v":140},{"$f":"'Czech Rep'!AF39","v":71},{"$f":"Estonia!AF39","v":2},{"$f":"Hungary!AF39","v":143},{"$f":"Latvia!AF39","v":14},{"$f":"Lithuania!AF39","v":177},{"$f":"Poland!AF39","v":668},{"$f":"Slovakia!AF39","v":{"v":12.6,"d":"13"}},{"$f":"Slovenia!AF39","v":{"v":13.902,"d":"14"}},{"$f":"Bulgaria!AF39","v":53},{"$f":"Romania!AF40","v":122},{"$f":"Croatia!AF39","v":16},{"$f":"SUM(B82:M82)","v":{"v":1432.502,"d":"1,433"}},{"$f":"O33+N82","v":{"v":8153.535,"d":"8,154"}}]
[]
[]
["TOTAL",{"$f":"B82+B79+B73+B66+B59","v":387},{"v":2456,"d":"2,456"},230,{"v":3778,"d":"3,778"},346,632,{"v":11217,"d":"11,217"},{"v":643.076,"d":"643"},{"v":386.699,"d":"387"},{"v":1116,"d":"1,116"},{"v":2917.2,"d":"2,917"},687,{"v":24795.975000000002,"d":"24,796"},{"v":164726.365,"d":"164,726"}]
[{"$nulls":4}," "]
[]
["** Without Malta"]
["*** Without Luxemburg, Greece and Malta"]
[": not available"]

{"sheet":"2019-20","index":61,"n_rows":92,"n_cols":24,"rows_kept":92,"merged":[[9,1,9,3],[9,5,9,7],[9,9,9,11],[9,13,9,15],[9,17,9,19],[9,21,9,23],[56,1,56,3],[56,5,56,7],[56,9,56,11],[56,13,56,15],[56,17,56,19],[56,21,56,23]]}
[]
["TAV: Year-to-year variation"]
["EU 27"]
[]
[{"$nulls":12},"2019-2020",{"$nulls":10},"INDUSTRIAL COMPOUND PRODUCTION"]
[{"$nulls":12},"final",{"$nulls":10},"(1 000 t )"]
[]
[]
[]
["COUNTRY","  CATTLE",{"$nulls":3},"PIGS",{"$nulls":3},"POULTRY",{"$nulls":3},"MILK REPLACERS",{"$nulls":3},"OTHERS",{"$nulls":3},"TOTAL"]
[]
[null,2019,2020,"%TAV",null,2019,2020,"%TAV",null,2019,2020,"%TAV",null,2019,2020,"%TAV",null,2019,2020,"%TAV",null,2019,2020,"%TAV"]
[]
["DE",{"$f":"Germany!AF$16","v":{"v":7377.921,"d":"7,378"}},{"$f":"Germany!AG$16","v":{"v":7251.241,"d":"7,251"}},{"$f":"((C14/B14)-1)*100","v":{"v":-1.7170148609615077,"d":"-1.7"}},null,{"$f":"Germany!AF$23","v":{"v":9576.417,"d":"9,576"}},{"$f":"Germany!AG$23","v":{"v":9843.423,"d":"9,843"}},{"$f":"((G14/F14)-1)*100","v":{"v":2.7881617937063563,"d":"2.8"}},null,{"$f":"Germany!AF$30","v":{"v":6392.019,"d":"6,392"}},{"$f":"Germany!AG$30","v":{"v":6460.364,"d":"6,460"}},{"$f":"((K14/J14)-1)*100","v":{"v":1.0692239807172044,"d":"1.1"}},null,{"$f":"Germany!AF$36","v":150},{"$f":"Germany!AG$36","v":150},{"$f":"((O14/N14)-1)*100","v":{"v":0,"d":"0.0"}},null,{"$f":"Germany!AF$39","v":{"v":615.0329999999994,"d":"615"}},{"$f":"Germany!AG$39","v":{"v":608.28,"d":"608"}},{"$f":"((S14/R14)-1)*100","v":{"v":-1.0979898639584373,"d":"-1.1"}},null,{"$f":"R14+N14+J14+F14+B14","v":{"v":24111.39,"d":"24,111"}},{"v":24313.307999999997,"d":"24,313"},{"$f":"((W14/V14)-1)*100","v":{"v":0.83743823976965,"d":"0.8"}}]
["FR",{"$f":"France!AF$16","v":{"v":5457,"d":"5,457"}},{"$f":"France!AG$16","v":{"v":5424,"d":"5,424"}},{"v":-0.604727872457389,"d":"-0.6"},null,{"$f":"France!AF$23","v":{"v":4963,"d":"4,963"}},{"$f":"France!AG$23","v":{"v":4959,"d":"4,959"}},{"v":-0.08059641345959934,"d":"-0.1"},null,{"$f":"France!AF$30","v":{"v":8645,"d":"8,645"}},{"$f":"France!AG$30","v":{"v":8607,"d":"8,607"}},{"v":-0.439560439560438,"d":"-0.4"},null,{"$f":"France!AF36","v":323},{"$f":"France!AG36","v":301},{"v":-6.811145510835914,"d":"-6.8"},null,{"$f":"France!AF$39","v":{"v":1526,"d":"1,526"}},{"$f":"France!AG$39","v":{"v":1530,"d":"1,530"}},{"v":0.2621231979030192,"d":"0.3"},null,{"$f":"R15+N15+J15+F15+B15","v":{"v":20914,"d":"20,914"}},{"v":20821,"d":"20,821"},{"v":-0.44467820598641516,"d":"-0.4"}]
["IT",{"$f":"Italy!AF$16","v":{"v":3377,"d":"3,377"}},{"$f":"Italy!AG$16","v":{"v":3525,"d":"3,525"}},{"v":4.382588095943141,"d":"4.4"},null,{"$f":"Italy!AF$23","v":{"v":3745,"d":"3,745"}},{"$f":"Italy!AG$23","v":{"v":3977,"d":"3,977"}},{"v":6.194926568758352,"d":"6.2"},null,{"$f":"Italy!AF$30","v":{"v":5975,"d":"5,975"}},{"$f":"Italy!AG$30","v":{"v":6070,"d":"6,070"}},{"v":1.5899581589958078,"d":"1.6"},null,{"$f":"Italy!AF$36","v":90},{"$f":"Italy!AG$36","v":90},{"v":0,"d":"0.0"},null,{"$f":"+Italy!AF$39","v":978},{"$f":"+Italy!AG$39","v":982},{"v":0.4089979550102152,"d":"0.4"},null,{"$f":"R16+N16+J16+F16+B16","v":{"v":14165,"d":"14,165"}},{"v":14644,"d":"14,644"},{"v":3.3815743028591694,"d":"3.4"}]
["NL   ",{"$f":"'The Netherlands'!AF$16","v":{"v":4503,"d":"4,503"}},{"$f":"'The Netherlands'!AG$16","v":{"v":4501,"d":"4,501"}},{"v":-0.04441483455474016,"d":"-0.0"},null,{"$f":"'The Netherlands'!AF$23","v":{"v":5029,"d":"5,029"}},{"$f":"'The Netherlands'!AG$23","v":{"v":4917,"d":"4,917"}},{"v":-2.227082919069401,"d":"-2.2"},null,{"$f":"'The Netherlands'!AF$30","v":{"v":4044,"d":"4,044"}},{"$f":"'The Netherlands'!AG$30","v":{"v":4119,"d":"4,119"}},{"v":1.85459940652819,"d":"1.9"},null,{"$f":"'The Netherlands'!AF$36","v":520},{"$f":"'The Netherlands'!AG$36","v":520},{"v":0,"d":"0.0"},null,{"$f":"'The Netherlands'!AF$39","v":614},{"$f":"'The Netherlands'!AG$39","v":638},{"v":3.9087947882736174,"d":"3.9"},null,{"$f":"R17+N17+J17+F17+B17","v":{"v":14710,"d":"14,710"}},{"v":14695,"d":"14,695"},{"v":-0.10197144799456437,"d":"-0.1"}]
["BE",{"$f":"Belgium!AF$16","v":{"v":1447,"d":"1,447"}},{"$f":"Belgium!AG$16","v":{"v":1512,"d":"1,512"}},{"v":4.492052522460255,"d":"4.5"},null,{"$f":"Belgium!AF$23","v":{"v":3504,"d":"3,504"}},{"$f":"Belgium!AG$23","v":{"v":3639,"d":"3,639"}},{"v":3.852739726027399,"d":"3.9"},null,{"$f":"Belgium!AF$30","v":{"v":1220,"d":"1,220"}},{"$f":"Belgium!AG$30","v":{"v":1303,"d":"1,303"}},{"v":6.803278688524594,"d":"6.8"},null,{"$f":"Belgium!AF$36","v":58},{"$f":"Belgium!AG$36","v":74},{"v":27.586206896551737,"d":"27.6"},null,{"$f":"Belgium!AF$39","v":390},{"$f":"Belgium!AG$39","v":405},{"v":3.8461538461538547,"d":"3.8"},null,{"$f":"R18+N18+J18+F18+B18","v":{"v":6619,"d":"6,619"}},{"v":6933,"d":"6,933"},{"v":4.743919021000154,"d":"4.7"}]
["IE",{"$f":"Ireland!AF$16","v":{"v":3116,"d":"3,116"}},{"$f":"Ireland!AG$16","v":{"v":3120,"d":"3,120"}},{"v":0.12836970474967568,"d":"0.1"},null,{"$f":"Ireland!AF$23","v":706},{"$f":"Ireland!AG$23","v":768},{"v":8.78186968838528,"d":"8.8"},null,{"$f":"Ireland!AF$30","v":631},{"$f":"Ireland!AG$30","v":651},{"v":3.1695721077654504,"d":"3.2"},null,{"$f":"Ireland!AF$36","v":0},{"$f":"Ireland!AG$36","v":0},{"v":0,"d":"0.0"},null,{"$f":"Ireland!AF$39","v":187},{"$f":"Ireland!AG$39","v":202},{"v":8.02139037433156,"d":"8.0"},null,{"$f":"R19+N19+J19+F19+B19","v":{"v":4640,"d":"4,640"}},{"v":4741,"d":"4,741"},{"v":2.176724137931041,"d":"2.2"}]
["DK ",{"$f":"Denmark!AF$16","v":{"v":1071,"d":"1,071"}},{"$f":"Denmark!AG$16","v":{"v":1067,"d":"1,067"}},{"v":-0.37348272642390157,"d":"-0.4"},null,{"$f":"Denmark!AF$23","v":{"v":2362,"d":"2,362"}},{"$f":"Denmark!AG$23","v":{"v":2582,"d":"2,582"}},{"v":9.314140558848427,"d":"9.3"},null,{"$f":"Denmark!AF$30","v":677},{"$f":"Denmark!AG$30","v":696},{"v":2.8064992614475592,"d":"2.8"},null,{"$f":"Denmark!AF$36","v":0},{"$f":"Denmark!AG$36","v":0},{"v":0,"d":"0.0"},null,{"$f":"Denmark!AF$39","v":199},{"$f":"Denmark!AG$39","v":188},{"v":-5.527638190954775,"d":"-5.5"},null,{"$f":"R20+N20+J20+F20+B20","v":{"v":4309,"d":"4,309"}},{"v":4533,"d":"4,533"},{"v":5.198421907635176,"d":"5.2"}]
["ES",{"$f":"Spain!AF$16","v":{"v":9489,"d":"9,489"}},{"$f":"Spain!AG$16","v":{"v":9441,"d":"9,441"}},{"v":-0.5058488776478076,"d":"-0.5"},null,{"$f":"Spain!AF$23","v":{"v":11054,"d":"11,054"}},{"$f":"Spain!AG$23","v":{"v":11748,"d":"11,748"}},{"v":6.278270309390277,"d":"6.3"},null,{"$f":"Spain!AF$30","v":{"v":4478,"d":"4,478"}},{"$f":"Spain!AG$30","v":{"v":4004,"d":"4,004"}},{"v":-10.585082626172394,"d":"-10.6"},null,{"$f":"Spain!AF$36","v":0},{"$f":"Spain!AG$36","v":0},{"v":0,"d":"0.0"},null,{"$f":"Spain!AF$39","v":182},{"$f":"Spain!AG$39","v":184},{"v":1.098901098901095,"d":"1.1"},null,{"$f":"R21+N21+J21+F21+B21","v":{"v":25203,"d":"25,203"}},{"v":25377,"d":"25,377"},{"v":0.6903940007142007,"d":"0.7"}]
["PT",{"$f":"Portugal!AF$16","v":983},{"$f":"Portugal!AG$16","v":{"v":1007,"d":"1,007"}},{"v":2.4415055951169995,"d":"2.4"},null,{"$f":"Portugal!AF$23","v":{"v":1074,"d":"1,074"}},{"$f":"Portugal!AG$23","v":{"v":1210,"d":"1,210"}},{"v":12.662942271880828,"d":"12.7"},null,{"$f":"Portugal!AF$30","v":{"v":1638,"d":"1,638"}},{"$f":"Portugal!AG$30","v":{"v":1767,"d":"1,767"}},{"v":7.87545787545787,"d":"7.9"},null,{"$f":"Portugal!AF$36","v":0},{"$f":"Portugal!AG$36","v":0},{"v":0,"d":"0.0"},null,{"$f":"Portugal!AF$39","v":232},{"$f":"Portugal!AG$39","v":249},{"v":7.3275862068965525,"d":"7.3"},null,{"$f":"R22+N22+J22+F22+B22","v":{"v":3927,"d":"3,927"}},{"v":4233,"d":"4,233"},{"v":7.792207792207795,"d":"7.8"}]
["AT",{"$f":"Austria!AF$16","v":605},{"$f":"Austria!AG$16","v":611},{"v":0.9917355371900749,"d":"1.0"},null,{"$f":"Austria!AF$23","v":252},{"$f":"Austria!AG$23","v":279},{"v":10.71428571428572,"d":"10.7"},null,{"$f":"Austria!AF$30","v":651},{"$f":"Austria!AG$30","v":661},{"v":1.5360983102918668,"d":"1.5"},null,{"$f":"Austria!AF$36","v":0},{"$f":"Austria!AG$36","v":0},{"v":0,"d":"0.0"},null,{"$f":"Austria!AF$39","v":137},{"$f":"Austria!AG$39","v":127},{"v":-7.299270072992703,"d":"-7.3"},null,{"$f":"R23+N23+J23+F23+B23","v":{"v":1645,"d":"1,645"}},{"v":1678,"d":"1,678"},{"v":2.006079027355634,"d":"2.0"}]
["SE",{"$f":"Sweden!AF$16","v":981},{"$f":"Sweden!AG$16","v":913},{"v":-6.931702344546387,"d":"-6.9"},null,{"$f":"Sweden!AF$23","v":341},{"$f":"Sweden!AG$23","v":323},{"v":-5.278592375366564,"d":"-5.3"},null,{"$f":"Sweden!AF$30","v":718},{"$f":"Sweden!AG$30","v":717},{"v":-0.139275766016711,"d":"-0.1"},null,{"$f":"Sweden!AF$36","v":3},{"$f":"Sweden!AG$36","v":3},{"$f":"((O24/N24)-1)*100","v":{"v":0,"d":"0.0"}},null,{"$f":"Sweden!AF$39","v":67},{"$f":"Sweden!AG$39","v":68},{"v":1.4925373134328401,"d":"1.5"},null,{"$f":"R24+N24+J24+F24+B24","v":{"v":2110,"d":"2,110"}},{"v":2024,"d":"2,024"},{"v":-4.075829383886253,"d":"-4.1"}]
["FI",{"$f":"Finland!AF$16","v":693},{"$f":"Finland!AG$16","v":703},{"v":1.443001443001446,"d":"1.4"},null,{"$f":"Finland!AF$23","v":222},{"$f":"Finland!AG$23","v":246},{"v":10.81081081081081,"d":"10.8"},null,{"$f":"Finland!AF$30","v":385},{"$f":"Finland!AG$30","v":390},{"v":1.298701298701288,"d":"1.3"},null,{"$f":"Finland!AF$36","v":0},{"$f":"Finland!AG$36","v":0},{"v":0,"d":"0.0"},null,{"$f":"Finland!AF$39","v":126},{"$f":"Finland!AG$39","v":110},{"v":-12.698412698412698,"d":"-12.7"},null,{"$f":"R25+N25+J25+F25+B25","v":{"v":1426,"d":"1,426"}},{"v":1449,"d":"1,449"},{"v":1.6129032258064502,"d":"1.6"}]
["CY",{"$f":"Cyprus!AF$16","v":200},{"$f":"Cyprus!AG$16","v":180},{"v":-9.999999999999998,"d":"-10.0"},null,{"$f":"Cyprus!AF$23","v":5},{"$f":"Cyprus!AG$23","v":{"v":4.7,"d":"5"}},{"v":-5.999999999999995,"d":"-6.0"},null,{"$f":"Cyprus!AF$30","v":42},{"$f":"Cyprus!AG$30","v":37},{"v":-11.904761904761907,"d":"-11.9"},null,{"$f":"Cyprus!AF$36","v":0},{"$f":"Cyprus!AG$36","v":0},{"v":0,"d":"0.0"},null,{"$f":"Cyprus!AF$39","v":140},{"$f":"Cyprus!AG$39","v":137},{"v":-2.1428571428571463,"d":"-2.1"},null,{"$f":"R26+N26+J26+F26+B26","v":387},{"v":358.7,"d":"359"},{"v":-7.312661498708017,"d":"-7.3"}]
["CZ",{"$f":"'Czech Rep'!AF$16","v":563},{"$f":"'Czech Rep'!AG$16","v":570},{"v":1.243339253996445,"d":"1.2"},null,{"$f":"'Czech Rep'!AF$23","v":759},{"$f":"'Czech Rep'!AG$23","v":761},{"v":0.26350461133068936,"d":"0.3"},null,{"$f":"'Czech Rep'!AF$30","v":{"v":1062,"d":"1,062"}},{"$f":"'Czech Rep'!AG$30","v":{"v":1044,"d":"1,044"}},{"v":-1.6949152542372836,"d":"-1.7"},null,{"$f":"'Czech Rep'!AF$36","v":1},{"$f":"'Czech Rep'!AG$36","v":1},{"$f":"((O27/N27)-1)*100","v":{"v":0,"d":"0.0"}},null,{"$f":"'Czech Rep'!AF$39","v":71},{"$f":"'Czech Rep'!AG$39","v":87},{"v":22.535211267605625,"d":"22.5"},null,{"$f":"R27+N27+J27+F27+B27","v":{"v":2456,"d":"2,456"}},{"v":2463,"d":"2,463"},{"v":0.2850162866449457,"d":"0.3"}]
["EE",{"$f":"Estonia!AF$16","v":40},{"$f":"Estonia!AG$16","v":40},{"v":0,"d":"0.0"},null,{"$f":"Estonia!AF$23","v":140},{"$f":"Estonia!AG$23","v":140},{"v":0,"d":"0.0"},null,{"$f":"Estonia!AF$30","v":48},{"$f":"Estonia!AG$30","v":48},{"v":0,"d":"0.0"},null,{"$f":"Estonia!AF$36","v":0},{"$f":"Estonia!AG$36","v":0},{"v":0,"d":"0.0"},null,{"$f":"Estonia!AF$39","v":2},{"$f":"Estonia!AG$39","v":2},{"v":0,"d":"0.0"},null,{"$f":"R28+N28+J28+F28+B28","v":230},230,{"v":0,"d":"0.0"}]
["HU",{"$f":"Hungary!AF$16","v":380},{"$f":"Hungary!AG$16","v":428},{"v":12.631578947368416,"d":"12.6"},null,{"$f":"Hungary!AF$23","v":{"v":1342,"d":"1,342"}},{"$f":"Hungary!AG$23","v":{"v":1399,"d":"1,399"}},{"v":4.247391952309987,"d":"4.2"},null,{"$f":"Hungary!AF$30","v":{"v":1913,"d":"1,913"}},{"$f":"Hungary!AG$30","v":{"v":1868,"d":"1,868"}},{"v":-2.3523261892315683,"d":"-2.4"},null,{"$f":"Hungary!AF$36","v":0},{"$f":"Hungary!AG$36","v":0},{"v":0,"d":"0.0"},null,{"$f":"Hungary!AF$39","v":143},{"$f":"Hungary!AG$39","v":130},{"v":-9.090909090909093,"d":"-9.1"},null,{"$f":"R29+N29+J29+F29+B29","v":{"v":3778,"d":"3,778"}},{"v":3825,"d":"3,825"},{"v":1.2440444679724827,"d":"1.2"}]
["LV",{"$f":"Latvia!AF$16","v":64},{"$f":"Latvia!AG$16","v":64},{"v":0,"d":"0.0"},null,{"$f":"Latvia!AF$23","v":66},{"$f":"Latvia!AG$23","v":66},{"v":0,"d":"0.0"},null,{"$f":"Latvia!AF$30","v":202},{"$f":"Latvia!AG$30","v":202},{"v":0,"d":"0.0"},null,{"$f":"Latvia!AF$36","v":0},{"$f":"Latvia!AG$36","v":0},{"v":0,"d":"0.0"},null,{"$f":"Latvia!AF$39","v":14},{"$f":"Latvia!AG$39","v":14},{"v":0,"d":"0.0"},null,{"$f":"R30+N30+J30+F30+B30","v":346},346,{"v":0,"d":"0.0"}]
["LT",{"$f":"Lithuania!AF$16","v":152},{"$f":"Lithuania!AG$16","v":152},{"v":0,"d":"0.0"},null,{"$f":"Lithuania!AF$23","v":28},{"$f":"Lithuania!AG$23","v":28},{"v":0,"d":"0.0"},null,{"$f":"Lithuania!AF$30","v":275},{"$f":"Lithuania!AG$30","v":275},{"v":0,"d":"0.0"},null,{"$f":"Lithuania!AF$36","v":0},{"$f":"Lithuania!AG$36","v":0},{"v":0,"d":"0.0"},null,{"$f":"Lithuania!AF$39","v":177},{"$f":"Lithuania!AG$39","v":177},{"v":0,"d":"0.0"},null,{"$f":"R31+N31+J31+F31+B31","v":632},632,{"v":0,"d":"0.0"}]
["PL",{"$f":"Poland!AF$16","v":{"v":1227,"d":"1,227"}},{"$f":"Poland!AG$16","v":{"v":1255,"d":"1,255"}},{"v":2.2819885900570602,"d":"2.3"},null,{"$f":"Poland!AF$23","v":{"v":2417,"d":"2,417"}},{"$f":"Poland!AG$23","v":{"v":2495,"d":"2,495"}},{"v":3.227141083988405,"d":"3.2"},null,{"$f":"Poland!AF$30","v":{"v":6905,"d":"6,905"}},{"$f":"Poland!AG$30","v":{"v":7114,"d":"7,114"}},{"v":3.026792179580018,"d":"3.0"},null,{"$f":"Poland!AF$36","v":0},{"$f":"Poland!AG$36","v":0},{"v":0,"d":"0.0"},null,{"$f":"Poland!AF$39","v":668},{"$f":"Poland!AG$39","v":723},{"v":8.233532934131738,"d":"8.2"},null,{"$f":"R32+N32+J32+F32+B32","v":{"v":11217,"d":"11,217"}},{"v":11587,"d":"11,587"},{"v":3.2985646786128253,"d":"3.3"}]
["SK",{"$f":"Slovakia!AF$16","v":{"v":187.78499999999997,"d":"188"}},{"$f":"Slovakia!AG$16","v":{"v":194.83999999999997,"d":"195"}},{"v":3.7569560934046953,"d":"3.8"},null,{"$f":"Slovakia!AF$23","v":{"v":244.92999999999998,"d":"245"}},{"$f":"Slovakia!AG$23","v":{"v":247.56099999999998,"d":"248"}},{"v":1.0741844608663786,"d":"1.1"},null,{"$f":"Slovakia!AF$30","v":{"v":197.76100000000002,"d":"198"}},{"$f":"Slovakia!AG$30","v":{"v":207.46699999999998,"d":"207"}},{"v":4.907944437983192,"d":"4.9"},null,{"$f":"Slovakia!AF$36","v":0},{"$f":"Slovakia!AG$36","v":0},{"v":0,"d":"0.0"},null,{"$f":"+Slovakia!AF$39","v":{"v":12.6,"d":"13"}},{"$f":"+Slovakia!AG$39","v":14},{"v":11.111111111111116,"d":"11.1"},null,{"$f":"R33+N33+J33+F33+B33","v":{"v":643.076,"d":"643"}},{"v":663.8679999999999,"d":"664"},{"v":3.233210382598628,"d":"3.2"}]
["SI",{"$f":"Slovenia!AF$16","v":{"v":83.883,"d":"84"}},{"$f":"Slovenia!AG$16","v":87},{"v":3.715889989628418,"d":"3.7"},null,{"$f":"Slovenia!AF$23","v":{"v":42.572,"d":"43"}},{"$f":"Slovenia!AG$23","v":43},{"v":1.0053556328103008,"d":"1.0"},null,{"$f":"Slovenia!AF$30","v":{"v":246.342,"d":"246"}},{"$f":"Slovenia!AG$30","v":255},{"v":3.514626007745325,"d":"3.5"},null,{"$f":"Slovenia!AF$36","v":0},{"$f":"Slovenia!AG$36","v":0},{"v":0,"d":"0.0"},null,{"$f":"Slovenia!AF$39","v":{"v":13.902,"d":"14"}},{"$f":"Slovenia!AG$39","v":{"v":12.5,"d":"13"}},{"v":-10.08487987339951,"d":"-10.1"},null,{"$f":"R34+N34+J34+F34+B34","v":{"v":386.699,"d":"387"}},{"v":397.5,"d":"398"},{"v":2.7931285056335797,"d":"2.8"}]
["BU",{"$f":"Bulgaria!AF$16","v":176},{"$f":"Bulgaria!AG$16","v":190},{"v":7.954545454545459,"d":"8.0"},null,{"$f":"Bulgaria!AF$23","v":322},{"$f":"Bulgaria!AG$23","v":317},{"v":-1.552795031055898,"d":"-1.6"},null,{"$f":"Bulgaria!AF$30","v":565},{"$f":"Bulgaria!AG$30","v":603},{"v":6.725663716814156,"d":"6.7"},null,{"$f":"Bulgaria!AF$36","v":0},{"$f":"Bulgaria!AG$36","v":0},{"v":0,"d":"0.0"},null,{"$f":"Bulgaria!AF$39","v":53},{"$f":"Bulgaria!AG$39","v":71},{"v":33.96226415094339,"d":"34.0"},null,{"$f":"R35+N35+J35+F35+B35","v":{"v":1116,"d":"1,116"}},{"v":1181,"d":"1,181"},{"v":5.824372759856633,"d":"5.8"}]
["RO",{"$f":"Romania!AF$17","v":{"v":80.2,"d":"80"}},{"$f":"Romania!AG$17","v":87},{"v":8.478802992518709,"d":"8.5"},null,{"$f":"Romania!AF$24","v":{"v":1100,"d":"1,100"}},{"$f":"Romania!AG$24","v":{"v":1050,"d":"1,050"}},{"v":-4.545454545454541,"d":"-4.5"},null,{"$f":"Romania!AF$31","v":{"v":1615,"d":"1,615"}},{"$f":"Romania!AG$31","v":{"v":1520,"d":"1,520"}},{"v":-5.882352941176472,"d":"-5.9"},null,{"$f":"Romania!AF$37","v":0},{"$f":"Romania!AG$37","v":0},{"v":0,"d":"0.0"},null,{"$f":"Romania!AF$40","v":122},{"$f":"Romania!AG$40","v":135},{"v":10.655737704918034,"d":"10.7"},null,{"$f":"R36+N36+J36+F36+B36","v":{"v":2917.2,"d":"2,917"}},{"v":2792,"d":"2,792"},{"v":-4.291786644727813,"d":"-4.3"}]
["HR",{"$f":"Croatia!AF$16","v":113},{"$f":"Croatia!AG$16","v":95},{"v":-15.92920353982301,"d":"-15.9"},null,{"$f":"Croatia!AF$23","v":265},{"$f":"Croatia!AG$23","v":270},{"v":1.8867924528301883,"d":"1.9"},null,{"$f":"Croatia!AF$30","v":293},{"$f":"Croatia!AG$30","v":300},{"v":2.3890784982935065,"d":"2.4"},null,{"$f":"Croatia!AF$36","v":0},{"$f":"Croatia!AC$36","v":0},{"v":0,"d":"0.0"},null,{"$f":"Croatia!AF$39","v":16},{"$f":"Croatia!AG$39","v":15},{"v":-6.25,"d":"-6.3"},null,{"$f":"R37+N37+J37+F37+B37","v":687},680,{"v":-1.0189228529839833,"d":"-1.0"}]
[]
["EUR 27 *",{"$f":"SUM(B14:B37)","v":{"v":42366.789000000004,"d":"42,367"}},{"v":42418.081,"d":"42,418"},{"$f":"((C39/B39)-1)*100","v":{"v":0.12106652689680697,"d":"0.1"}},null,{"$f":"SUM(F14:F37)","v":{"v":49559.919,"d":"49,560"}},{"v":51312.684,"d":"51,313"},{"$f":"((G39/F39)-1)*100","v":{"v":3.5366583226255965,"d":"3.5"}},null,{"$f":"SUM(J14:J37)","v":{"v":48818.121999999996,"d":"48,818"}},{"v":48918.831,"d":"48,919"},{"$f":"((K39/J39)-1)*100","v":{"v":0.20629429374607877,"d":"0.2"}},null,{"$f":"SUM(N14:N37)","v":{"v":1145,"d":"1,145"}},{"v":1139,"d":"1,139"},{"$f":"((O39/N39)-1)*100","v":{"v":-0.5240174672489051,"d":"-0.5"}},null,{"$f":"SUM(R14:R37)","v":{"v":6685.535,"d":"6,686"}},{"v":6808.78,"d":"6,809"},{"$f":"((S39/R39)-1)*100","v":{"v":1.8434575542570553,"d":"1.8"}},null,{"$f":"SUM(V14:V37)","v":{"v":148575.36500000002,"d":"148,575"}},{"v":150597.37599999996,"d":"150,597"},{"$f":"((W39/V39)-1)*100","v":{"v":1.3609328841291735,"d":"1.36"}}]
[]
[{"$nulls":23}," "]
["* Without Luxemburg, Greece and Malta"]
[": not available"]
["From 2015 on, the Dutch production of milk replacers is a rough estimate, due to statistical confidentiality "]
[]
[]
[]
["2021-05-01"]
["TAV: Year-to-year variation"]
["EUR 27*+UK"]
[]
[{"$nulls":12},"2019-2020",{"$nulls":10},"INDUSTRIAL COMPOUND PRODUCTION"]
[{"$nulls":12},"final",{"$nulls":10},"(1 000 t )"]
[]
[]
[]
["COUNTRY","  CATTLE",{"$nulls":3},"PIGS",{"$nulls":3},"POULTRY",{"$nulls":3},"MILK REPLACERS",{"$nulls":3},"OTHERS",{"$nulls":3},"TOTAL"]
[]
[null,2019,2020,"%TAV",null,2019,2020,"%TAV",null,2019,2020,"%TAV",null,2019,2020,"%TAV",null,2019,2020,"%TAV",null,2019,2020,"%TAV"]
[]
["DE",{"$f":"Germany!AF$16","v":{"v":7377.921,"d":"7,378"}},{"$f":"Germany!AG$16","v":{"v":7251.241,"d":"7,251"}},{"$f":"((C61/B61)-1)*100","v":{"v":-1.7170148609615077,"d":"-1.7"}},null,{"$f":"Germany!AF$23","v":{"v":9576.417,"d":"9,576"}},{"$f":"Germany!AG$23","v":{"v":9843.423,"d":"9,843"}},{"$f":"((G61/F61)-1)*100","v":{"v":2.7881617937063563,"d":"2.8"}},null,{"$f":"Germany!AF$30","v":{"v":6392.019,"d":"6,392"}},{"$f":"Germany!AG$30","v":{"v":6460.364,"d":"6,460"}},{"$f":"((K61/J61)-1)*100","v":{"v":1.0692239807172044,"d":"1.1"}},null,{"$f":"Germany!AF$36","v":150},{"$f":"Germany!AG$36","v":150},{"$f":"((O61/N61)-1)*100","v":{"v":0,"d":"0.0"}},null,{"$f":"Germany!AF$39","v":{"v":615.0329999999994,"d":"615"}},{"$f":"Germany!AG$39","v":{"v":608.28,"d":"608"}},{"$f":"((S61/R61)-1)*100","v":{"v":-1.0979898639584373,"d":"-1.1"}},null,{"$f":"R61+N61+J61+F61+B61","v":{"v":24111.39,"d":"24,111"}},{"v":24313.307999999997,"d":"24,313"},{"$f":"((W61/V61)-1)*100","v":{"v":0.83743823976965,"d":"0.8"}}]
["FR",{"$f":"France!AF$16","v":{"v":5457,"d":"5,457"}},{"$f":"France!AG$16","v":{"v":5424,"d":"5,424"}},{"v":-0.604727872457389,"d":"-0.6"},null,{"$f":"France!AF$23","v":{"v":4963,"d":"4,963"}},{"$f":"France!AG$23","v":{"v":4959,"d":"4,959"}},{"v":-0.08059641345959934,"d":"-0.1"},null,{"$f":"France!AF$30","v":{"v":8645,"d":"8,645"}},{"$f":"France!AG$30","v":{"v":8607,"d":"8,607"}},{"v":-0.439560439560438,"d":"-0.4"},null,{"$f":"France!AF36","v":323},{"$f":"France!AG36","v":301},{"v":-6.811145510835914,"d":"-6.8"},null,{"$f":"France!AF$39","v":{"v":1526,"d":"1,526"}},{"$f":"France!AG$39","v":{"v":1530,"d":"1,530"}},{"v":0.2621231979030192,"d":"0.3"},null,{"$f":"R62+N62+J62+F62+B62","v":{"v":20914,"d":"20,914"}},{"v":20821,"d":"20,821"},{"v":-0.44467820598641516,"d":"-0.4"}]
["IT",{"$f":"Italy!AF$16","v":{"v":3377,"d":"3,377"}},{"$f":"Italy!AG$16","v":{"v":3525,"d":"3,525"}},{"v":4.382588095943141,"d":"4.4"},null,{"$f":"Italy!AF$23","v":{"v":3745,"d":"3,745"}},{"$f":"Italy!AG$23","v":{"v":3977,"d":"3,977"}},{"v":6.194926568758352,"d":"6.2"},null,{"$f":"Italy!AF$30","v":{"v":5975,"d":"5,975"}},{"$f":"Italy!AG$30","v":{"v":6070,"d":"6,070"}},{"v":1.5899581589958078,"d":"1.6"},null,{"$f":"Italy!AF$36","v":90},{"$f":"Italy!AG$36","v":90},{"v":0,"d":"0.0"},null,{"$f":"+Italy!AF$39","v":978},{"$f":"+Italy!AG$39","v":982},{"v":0.4089979550102152,"d":"0.4"},null,{"$f":"R63+N63+J63+F63+B63","v":{"v":14165,"d":"14,165"}},{"v":14644,"d":"14,644"},{"v":3.3815743028591694,"d":"3.4"}]
["NL   ",{"$f":"'The Netherlands'!AF$16","v":{"v":4503,"d":"4,503"}},{"$f":"'The Netherlands'!AG$16","v":{"v":4501,"d":"4,501"}},{"v":-0.04441483455474016,"d":"-0.0"},null,{"$f":"'The Netherlands'!AF$23","v":{"v":5029,"d":"5,029"}},{"$f":"'The Netherlands'!AG$23","v":{"v":4917,"d":"4,917"}},{"v":-2.227082919069401,"d":"-2.2"},null,{"$f":"'The Netherlands'!AF$30","v":{"v":4044,"d":"4,044"}},{"$f":"'The Netherlands'!AG$30","v":{"v":4119,"d":"4,119"}},{"v":1.85459940652819,"d":"1.9"},null,{"$f":"'The Netherlands'!AF$36","v":520},{"$f":"'The Netherlands'!AG$36","v":520},{"v":0,"d":"0.0"},null,{"$f":"'The Netherlands'!AF$39","v":614},{"$f":"'The Netherlands'!AG$39","v":638},{"v":3.9087947882736174,"d":"3.9"},null,{"$f":"R64+N64+J64+F64+B64","v":{"v":14710,"d":"14,710"}},{"v":14695,"d":"14,695"},{"v":-0.10197144799456437,"d":"-0.1"}]
["BE",{"$f":"Belgium!AF$16","v":{"v":1447,"d":"1,447"}},{"$f":"Belgium!AG$16","v":{"v":1512,"d":"1,512"}},{"v":4.492052522460255,"d":"4.5"},null,{"$f":"Belgium!AF$23","v":{"v":3504,"d":"3,504"}},{"$f":"Belgium!AG$23","v":{"v":3639,"d":"3,639"}},{"v":3.852739726027399,"d":"3.9"},null,{"$f":"Belgium!AF$30","v":{"v":1220,"d":"1,220"}},{"$f":"Belgium!AG$30","v":{"v":1303,"d":"1,303"}},{"v":6.803278688524594,"d":"6.8"},null,{"$f":"Belgium!AF$36","v":58},{"$f":"Belgium!AG$36","v":74},{"v":27.586206896551737,"d":"27.6"},null,{"$f":"Belgium!AF$39","v":390},{"$f":"Belgium!AG$39","v":405},{"v":3.8461538461538547,"d":"3.8"},null,{"$f":"R65+N65+J65+F65+B65","v":{"v":6619,"d":"6,619"}},{"v":6933,"d":"6,933"},{"v":4.743919021000154,"d":"4.7"}]
["UK ",{"$f":"UK!AF$16","v":{"v":5324,"d":"5,324"}},{"$f":"UK!AG$16","v":{"v":5409,"d":"5,409"}},{"v":1.596543951915863,"d":"1.6"},null,{"$f":"UK!AF$23","v":{"v":2168,"d":"2,168"}},{"$f":"UK!AG$23","v":{"v":2273,"d":"2,273"}},{"v":4.843173431734327,"d":"4.8"},null,{"$f":"UK!AF$30","v":{"v":7191,"d":"7,191"}},{"$f":"UK!AG$30","v":{"v":7189,"d":"7,189"}},{"v":-0.027812543457095273,"d":"-0.0"},null,{"$f":"UK!AF$36","v":0},{"$f":"UK!AG$36","v":0},{"v":0,"d":"0.0"},null,{"$f":"UK!AF$39","v":{"v":1468,"d":"1,468"}},{"$f":"UK!AG$39","v":{"v":1491,"d":"1,491"}},{"v":1.5667574931880202,"d":"1.6"},null,{"$f":"R66+N66+J66+F66+B66","v":{"v":16151,"d":"16,151"}},{"v":16362,"d":"16,362"},{"v":1.3064206550678081,"d":"1.3"}]
["IE",{"$f":"Ireland!AF$16","v":{"v":3116,"d":"3,116"}},{"$f":"Ireland!AG$16","v":{"v":3120,"d":"3,120"}},{"v":0.12836970474967568,"d":"0.1"},null,{"$f":"Ireland!AF$23","v":706},{"$f":"Ireland!AG$23","v":768},{"v":8.78186968838528,"d":"8.8"},null,{"$f":"Ireland!AF$30","v":631},{"$f":"Ireland!AG$30","v":651},{"v":3.1695721077654504,"d":"3.2"},null,{"$f":"Ireland!AF$36","v":0},{"$f":"Ireland!AG$36","v":0},{"v":0,"d":"0.0"},null,{"$f":"Ireland!AF$39","v":187},{"$f":"Ireland!AG$39","v":202},{"v":8.02139037433156,"d":"8.0"},null,{"$f":"R67+N67+J67+F67+B67","v":{"v":4640,"d":"4,640"}},{"v":4741,"d":"4,741"},{"v":2.176724137931041,"d":"2.2"}]
["DK ",{"$f":"Denmark!AF$16","v":{"v":1071,"d":"1,071"}},{"$f":"Denmark!AG$16","v":{"v":1067,"d":"1,067"}},{"v":-0.37348272642390157,"d":"-0.4"},null,{"$f":"Denmark!AF$23","v":{"v":2362,"d":"2,362"}},{"$f":"Denmark!AG$23","v":{"v":2582,"d":"2,582"}},{"v":9.314140558848427,"d":"9.3"},null,{"$f":"Denmark!AF$30","v":677},{"$f":"Denmark!AG$30","v":696},{"v":2.8064992614475592,"d":"2.8"},null,{"$f":"Denmark!AF$36","v":0},{"$f":"Denmark!AG$36","v":0},{"v":0,"d":"0.0"},null,{"$f":"Denmark!AF$39","v":199},{"$f":"Denmark!AG$39","v":188},{"v":-5.527638190954775,"d":"-5.5"},null,{"$f":"R68+N68+J68+F68+B68","v":{"v":4309,"d":"4,309"}},{"v":4533,"d":"4,533"},{"v":5.198421907635176,"d":"5.2"}]
["ES",{"$f":"Spain!AF$16","v":{"v":9489,"d":"9,489"}},{"$f":"Spain!AG$16","v":{"v":9441,"d":"9,441"}},{"v":-0.5058488776478076,"d":"-0.5"},null,{"$f":"Spain!AF$23","v":{"v":11054,"d":"11,054"}},{"$f":"Spain!AG$23","v":{"v":11748,"d":"11,748"}},{"v":6.278270309390277,"d":"6.3"},null,{"$f":"Spain!AF$30","v":{"v":4478,"d":"4,478"}},{"$f":"Spain!AG$30","v":{"v":4004,"d":"4,004"}},{"v":-10.585082626172394,"d":"-10.6"},null,{"$f":"Spain!AF$36","v":0},{"$f":"Spain!AG$36","v":0},{"v":0,"d":"0.0"},null,{"$f":"Spain!AF$39","v":182},{"$f":"Spain!AG$39","v":184},{"v":1.098901098901095,"d":"1.1"},null,{"$f":"R69+N69+J69+F69+B69","v":{"v":25203,"d":"25,203"}},{"v":25377,"d":"25,377"},{"v":0.6903940007142007,"d":"0.7"}]
["PT",{"$f":"Portugal!AF$16","v":983},{"$f":"Portugal!AG$16","v":{"v":1007,"d":"1,007"}},{"v":2.4415055951169995,"d":"2.4"},null,{"$f":"Portugal!AF$23","v":{"v":1074,"d":"1,074"}},{"$f":"Portugal!AG$23","v":{"v":1210,"d":"1,210"}},{"v":12.662942271880828,"d":"12.7"},null,{"$f":"Portugal!AF$30","v":{"v":1638,"d":"1,638"}},{"$f":"Portugal!AG$30","v":{"v":1767,"d":"1,767"}},{"v":7.87545787545787,"d":"7.9"},null,{"$f":"Portugal!AF$36","v":0},{"$f":"Portugal!AG$36","v":0},{"v":0,"d":"0.0"},null,{"$f":"Portugal!AF$39","v":232},{"$f":"Portugal!AG$39","v":249},{"v":7.3275862068965525,"d":"7.3"},null,{"$f":"R70+N70+J70+F70+B70","v":{"v":3927,"d":"3,927"}},{"v":4233,"d":"4,233"},{"v":7.792207792207795,"d":"7.8"}]
["AT",{"$f":"Austria!AF$16","v":605},{"$f":"Austria!AG$16","v":611},{"v":0.9917355371900749,"d":"1.0"},null,{"$f":"Austria!AF$23","v":252},{"$f":"Austria!AG$23","v":279},{"v":10.71428571428572,"d":"10.7"},null,{"$f":"Austria!AF$30","v":651},{"$f":"Austria!AG$30","v":661},{"v":1.5360983102918668,"d":"1.5"},null,{"$f":"Austria!AF$36","v":0},{"$f":"Austria!AG$36","v":0},{"v":0,"d":"0.0"},null,{"$f":"Austria!AF$39","v":137},{"$f":"Austria!AG$39","v":127},{"v":-7.299270072992703,"d":"-7.3"},null,{"$f":"R71+N71+J71+F71+B71","v":{"v":1645,"d":"1,645"}},{"v":1678,"d":"1,678"},{"v":2.006079027355634,"d":"2.0"}]
["SE",{"$f":"Sweden!AF$16","v":981},{"$f":"Sweden!AG$16","v":913},{"v":-6.931702344546387,"d":"-6.9"},null,{"$f":"Sweden!AF$23","v":341},{"$f":"Sweden!AG$23","v":323},{"v":-5.278592375366564,"d":"-5.3"},null,{"$f":"Sweden!AF$30","v":718},{"$f":"Sweden!AG$30","v":717},{"v":-0.139275766016711,"d":"-0.1"},null,{"$f":"Sweden!AF$36","v":3},{"$f":"Sweden!AG$36","v":3},{"$f":"((O72/N72)-1)*100","v":{"v":0,"d":"0.0"}},null,{"$f":"Sweden!AF$39","v":67},{"$f":"Sweden!AG$39","v":68},{"v":1.4925373134328401,"d":"1.5"},null,{"$f":"R72+N72+J72+F72+B72","v":{"v":2110,"d":"2,110"}},{"v":2024,"d":"2,024"},{"v":-4.075829383886253,"d":"-4.1"}]
["FI",{"$f":"Finland!AF$16","v":693},{"$f":"Finland!AG$16","v":703},{"v":1.443001443001446,"d":"1.4"},null,{"$f":"Finland!AF$23","v":222},{"$f":"Finland!AG$23","v":246},{"v":10.81081081081081,"d":"10.8"},null,{"$f":"Finland!AF$30","v":385},{"$f":"Finland!AG$30","v":390},{"v":1.298701298701288,"d":"1.3"},null,{"$f":"Finland!AF$36","v":0},{"$f":"Finland!AG$36","v":0},{"v":0,"d":"0.0"},null,{"$f":"Finland!AF$39","v":126},{"$f":"Finland!AG$39","v":110},{"v":-12.698412698412698,"d":"-12.7"},null,{"$f":"R73+N73+J73+F73+B73","v":{"v":1426,"d":"1,426"}},{"v":1449,"d":"1,449"},{"v":1.6129032258064502,"d":"1.6"}]
["CY",{"$f":"Cyprus!AF$16","v":200},{"$f":"Cyprus!AG$16","v":180},{"v":-9.999999999999998,"d":"-10.0"},null,{"$f":"Cyprus!AF$23","v":5},{"$f":"Cyprus!AG$23","v":{"v":4.7,"d":"5"}},{"v":-5.999999999999995,"d":"-6.0"},null,{"$f":"Cyprus!AF$30","v":42},{"$f":"Cyprus!AG$30","v":37},{"v":-11.904761904761907,"d":"-11.9"},null,{"$f":"Cyprus!AF$36","v":0},{"$f":"Cyprus!AG$36","v":0},{"v":0,"d":"0.0"},null,{"$f":"Cyprus!AF$39","v":140},{"$f":"Cyprus!AG$39","v":137},{"v":-2.1428571428571463,"d":"-2.1"},null,{"$f":"R74+N74+J74+F74+B74","v":387},{"v":358.7,"d":"359"},{"v":-7.312661498708017,"d":"-7.3"}]
["CZ",{"$f":"'Czech Rep'!AF$16","v":563},{"$f":"'Czech Rep'!AG$16","v":570},{"v":1.243339253996445,"d":"1.2"},null,{"$f":"'Czech Rep'!AF$23","v":759},{"$f":"'Czech Rep'!AG$23","v":761},{"v":0.26350461133068936,"d":"0.3"},null,{"$f":"'Czech Rep'!AF$30","v":{"v":1062,"d":"1,062"}},{"$f":"'Czech Rep'!AG$30","v":{"v":1044,"d":"1,044"}},{"v":-1.6949152542372836,"d":"-1.7"},null,{"$f":"'Czech Rep'!AF$36","v":1},{"$f":"'Czech Rep'!AG$36","v":1},{"$f":"((O75/N75)-1)*100","v":{"v":0,"d":"0.0"}},null,{"$f":"'Czech Rep'!AF$39","v":71},{"$f":"'Czech Rep'!AG$39","v":87},{"v":22.535211267605625,"d":"22.5"},null,{"$f":"R75+N75+J75+F75+B75","v":{"v":2456,"d":"2,456"}},{"v":2463,"d":"2,463"},{"v":0.2850162866449457,"d":"0.3"}]
["EE",{"$f":"Estonia!AF$16","v":40},{"$f":"Estonia!AG$16","v":40},{"v":0,"d":"0.0"},null,{"$f":"Estonia!AF$23","v":140},{"$f":"Estonia!AG$23","v":140},{"v":0,"d":"0.0"},null,{"$f":"Estonia!AF$30","v":48},{"$f":"Estonia!AG$30","v":48},{"v":0,"d":"0.0"},null,{"$f":"Estonia!AF$36","v":0},{"$f":"Estonia!AG$36","v":0},{"v":0,"d":"0.0"},null,{"$f":"Estonia!AF$39","v":2},{"$f":"Estonia!AG$39","v":2},{"v":0,"d":"0.0"},null,{"$f":"R76+N76+J76+F76+B76","v":230},230,{"v":0,"d":"0.0"}]
["HU",{"$f":"Hungary!AF$16","v":380},{"$f":"Hungary!AG$16","v":428},{"v":12.631578947368416,"d":"12.6"},null,{"$f":"Hungary!AF$23","v":{"v":1342,"d":"1,342"}},{"$f":"Hungary!AG$23","v":{"v":1399,"d":"1,399"}},{"v":4.247391952309987,"d":"4.2"},null,{"$f":"Hungary!AF$30","v":{"v":1913,"d":"1,913"}},{"$f":"Hungary!AG$30","v":{"v":1868,"d":"1,868"}},{"v":-2.3523261892315683,"d":"-2.4"},null,{"$f":"Hungary!AF$36","v":0},{"$f":"Hungary!AG$36","v":0},{"v":0,"d":"0.0"},null,{"$f":"Hungary!AF$39","v":143},{"$f":"Hungary!AG$39","v":130},{"v":-9.090909090909093,"d":"-9.1"},null,{"$f":"R77+N77+J77+F77+B77","v":{"v":3778,"d":"3,778"}},{"v":3825,"d":"3,825"},{"v":1.2440444679724827,"d":"1.2"}]
["LV",{"$f":"Latvia!AF$16","v":64},{"$f":"Latvia!AG$16","v":64},{"v":0,"d":"0.0"},null,{"$f":"Latvia!AF$23","v":66},{"$f":"Latvia!AG$23","v":66},{"v":0,"d":"0.0"},null,{"$f":"Latvia!AF$30","v":202},{"$f":"Latvia!AG$30","v":202},{"v":0,"d":"0.0"},null,{"$f":"Latvia!AF$36","v":0},{"$f":"Latvia!AG$36","v":0},{"v":0,"d":"0.0"},null,{"$f":"Latvia!AF$39","v":14},{"$f":"Latvia!AG$39","v":14},{"v":0,"d":"0.0"},null,{"$f":"R78+N78+J78+F78+B78","v":346},346,{"v":0,"d":"0.0"}]
["LT",{"$f":"Lithuania!AF$16","v":152},{"$f":"Lithuania!AG$16","v":152},{"v":0,"d":"0.0"},null,{"$f":"Lithuania!AF$23","v":28},{"$f":"Lithuania!AG$23","v":28},{"v":0,"d":"0.0"},null,{"$f":"Lithuania!AF$30","v":275},{"$f":"Lithuania!AG$30","v":275},{"v":0,"d":"0.0"},null,{"$f":"Lithuania!AF$36","v":0},{"$f":"Lithuania!AG$36","v":0},{"v":0,"d":"0.0"},null,{"$f":"Lithuania!AF$39","v":177},{"$f":"Lithuania!AG$39","v":177},{"v":0,"d":"0.0"},null,{"$f":"R79+N79+J79+F79+B79","v":632},632,{"v":0,"d":"0.0"}]
["PL",{"$f":"Poland!AF$16","v":{"v":1227,"d":"1,227"}},{"$f":"Poland!AG$16","v":{"v":1255,"d":"1,255"}},{"v":2.2819885900570602,"d":"2.3"},null,{"$f":"Poland!AF$23","v":{"v":2417,"d":"2,417"}},{"$f":"Poland!AG$23","v":{"v":2495,"d":"2,495"}},{"v":3.227141083988405,"d":"3.2"},null,{"$f":"Poland!AF$30","v":{"v":6905,"d":"6,905"}},{"$f":"Poland!AG$30","v":{"v":7114,"d":"7,114"}},{"v":3.026792179580018,"d":"3.0"},null,{"$f":"Poland!AF$36","v":0},{"$f":"Poland!AG$36","v":0},{"v":0,"d":"0.0"},null,{"$f":"Poland!AF$39","v":668},{"$f":"Poland!AG$39","v":723},{"v":8.233532934131738,"d":"8.2"},null,{"$f":"R80+N80+J80+F80+B80","v":{"v":11217,"d":"11,217"}},{"v":11587,"d":"11,587"},{"v":3.2985646786128253,"d":"3.3"}]
["SK",{"$f":"Slovakia!AF$16","v":{"v":187.78499999999997,"d":"188"}},{"$f":"Slovakia!AG$16","v":{"v":194.83999999999997,"d":"195"}},{"v":3.7569560934046953,"d":"3.8"},null,{"$f":"Slovakia!AF$23","v":{"v":244.92999999999998,"d":"245"}},{"$f":"Slovakia!AG$23","v":{"v":247.56099999999998,"d":"248"}},{"v":1.0741844608663786,"d":"1.1"},null,{"$f":"Slovakia!AF$30","v":{"v":197.76100000000002,"d":"198"}},{"$f":"Slovakia!AG$30","v":{"v":207.46699999999998,"d":"207"}},{"v":4.907944437983192,"d":"4.9"},null,{"$f":"Slovakia!AF$36","v":0},{"$f":"Slovakia!AG$36","v":0},{"v":0,"d":"0.0"},null,{"$f":"+Slovakia!AF$39","v":{"v":12.6,"d":"13"}},{"$f":"+Slovakia!AG$39","v":14},{"v":11.111111111111116,"d":"11.1"},null,{"$f":"R81+N81+J81+F81+B81","v":{"v":643.076,"d":"643"}},{"v":663.8679999999999,"d":"664"},{"v":3.233210382598628,"d":"3.2"}]
["SI",{"$f":"Slovenia!AF$16","v":{"v":83.883,"d":"84"}},{"$f":"Slovenia!AG$16","v":87},{"v":3.715889989628418,"d":"3.7"},null,{"$f":"Slovenia!AF$23","v":{"v":42.572,"d":"43"}},{"$f":"Slovenia!AG$23","v":43},{"v":1.0053556328103008,"d":"1.0"},null,{"$f":"Slovenia!AF$30","v":{"v":246.342,"d":"246"}},{"$f":"Slovenia!AG$30","v":255},{"v":3.514626007745325,"d":"3.5"},null,{"$f":"Slovenia!AF$36","v":0},{"$f":"Slovenia!AG$36","v":0},{"v":0,"d":"0.0"},null,{"$f":"Slovenia!AF$39","v":{"v":13.902,"d":"14"}},{"$f":"Slovenia!AG$39","v":{"v":12.5,"d":"13"}},{"v":-10.08487987339951,"d":"-10.1"},null,{"$f":"R82+N82+J82+F82+B82","v":{"v":386.699,"d":"387"}},{"v":397.5,"d":"398"},{"v":2.7931285056335797,"d":"2.8"}]
["BU",{"$f":"Bulgaria!AF$16","v":176},{"$f":"Bulgaria!AG$16","v":190},{"v":7.954545454545459,"d":"8.0"},null,{"$f":"Bulgaria!AF$23","v":322},{"$f":"Bulgaria!AG$23","v":317},{"v":-1.552795031055898,"d":"-1.6"},null,{"$f":"Bulgaria!AF$30","v":565},{"$f":"Bulgaria!AG$30","v":603},{"v":6.725663716814156,"d":"6.7"},null,{"$f":"Bulgaria!AF$36","v":0},{"$f":"Bulgaria!AG$36","v":0},{"v":0,"d":"0.0"},null,{"$f":"Bulgaria!AF$39","v":53},{"$f":"Bulgaria!AG$39","v":71},{"v":33.96226415094339,"d":"34.0"},null,{"$f":"R83+N83+J83+F83+B83","v":{"v":1116,"d":"1,116"}},{"v":1181,"d":"1,181"},{"v":5.824372759856633,"d":"5.8"}]
["RO",{"$f":"Romania!AF$17","v":{"v":80.2,"d":"80"}},{"$f":"Romania!AG$17","v":87},{"v":8.478802992518709,"d":"8.5"},null,{"$f":"Romania!AF$24","v":{"v":1100,"d":"1,100"}},{"$f":"Romania!AG$24","v":{"v":1050,"d":"1,050"}},{"v":-4.545454545454541,"d":"-4.5"},null,{"$f":"Romania!AF$31","v":{"v":1615,"d":"1,615"}},{"$f":"Romania!AG$31","v":{"v":1520,"d":"1,520"}},{"v":-5.882352941176472,"d":"-5.9"},null,{"$f":"Romania!AF$37","v":0},{"$f":"Romania!AG$37","v":0},{"v":0,"d":"0.0"},null,{"$f":"Romania!AF$40","v":122},{"$f":"Romania!AG$40","v":135},{"v":10.655737704918034,"d":"10.7"},null,{"$f":"R84+N84+J84+F84+B84","v":{"v":2917.2,"d":"2,917"}},{"v":2792,"d":"2,792"},{"v":-4.291786644727813,"d":"-4.3"}]
["HR",{"$f":"Croatia!AF$16","v":113},{"$f":"Croatia!AG$16","v":95},{"v":-15.92920353982301,"d":"-15.9"},null,{"$f":"Croatia!AF$23","v":265},{"$f":"Croatia!AG$23","v":270},{"v":1.8867924528301883,"d":"1.9"},null,{"$f":"Croatia!AF$30","v":293},{"$f":"Croatia!AG$30","v":300},{"v":2.3890784982935065,"d":"2.4"},null,{"$f":"Croatia!AF$36","v":0},{"$f":"Croatia!AC$36","v":0},{"v":0,"d":"0.0"},null,{"$f":"Croatia!AF$39","v":16},{"$f":"Croatia!AG$39","v":15},{"v":-6.25,"d":"-6.3"},null,{"$f":"R85+N85+J85+F85+B85","v":687},680,{"v":-1.0189228529839833,"d":"-1.0"}]
[]
["EUR 27*+UK",{"$f":"SUM(B61:B85)","v":{"v":47690.789000000004,"d":"47,691"}},{"v":47827.081,"d":"47,827"},{"$f":"((C87/B87)-1)*100","v":{"v":0.28578264872067827,"d":"0.3"}},null,{"$f":"SUM(F61:F85)","v":{"v":51727.919,"d":"51,728"}},{"v":53585.684,"d":"53,586"},{"$f":"((G87/F87)-1)*100","v":{"v":3.591416465062136,"d":"3.6"}},null,{"$f":"SUM(J61:J85)","v":{"v":56009.121999999996,"d":"56,009"}},{"v":56107.831,"d":"56,108"},{"$f":"((K87/J87)-1)*100","v":{"v":0.17623736362089026,"d":"0.2"}},null,{"$f":"SUM(N61:N85)","v":{"v":1145,"d":"1,145"}},{"v":1139,"d":"1,139"},{"$f":"((O87/N87)-1)*100","v":{"v":-0.5240174672489051,"d":"-0.5"}},null,{"$f":"SUM(R61:R85)","v":{"v":8153.535,"d":"8,154"}},{"v":8299.779999999999,"d":"8,300"},{"$f":"((S87/R87)-1)*100","v":{"v":1.7936392006657087,"d":"1.8"}},null,{"$f":"SUM(V61:V85)","v":{"v":164726.36500000002,"d":"164,726"}},{"v":166959.376,"d":"166,959"},{"$f":"((W87/V87)-1)*100","v":{"v":1.3555880990878233,"d":"1.36"}}]
[]
[{"$nulls":23}," "]
["* Without Luxemburg, Greece and Malta"]
[": not available"]
["From 2015 on, the Dutch production of milk replacers is a rough estimate, due to statistical confidentiality ","From 2015 on, the Dutch production of milk replacers is a rough estimate, due to statistical confidentiality "]

{"sheet":"2020","index":62,"n_rows":90,"n_cols":15,"rows_kept":90,"merged":[[2,0,2,14],[3,0,3,14],[51,0,51,14],[52,0,52,14]]}
[]
[{"$nulls":14},"INDUSTRIAL COMPOUND FEED PRODUCTION"]
[2020]
["final"]
[{"$nulls":14},"(1 000 t)"]
[]
["Types of feed","DE","FR","IT","NL","BE","UK","IE","DK","ES","PT","AT","SE","FI","EU-15*"]
[]
[null," ",{"$nulls":4}," ",null,null," "]
["Cattle",{"$f":"Germany!AG16","v":{"v":7251.241,"d":"7,251"}},{"$f":"France!AG16","v":{"v":5424,"d":"5,424"}},{"$f":"Italy!AG16","v":{"v":3525,"d":"3,525"}},{"$f":"'The Netherlands'!AG16","v":{"v":4501,"d":"4,501"}},{"$f":"Belgium!AG16","v":{"v":1512,"d":"1,512"}},{"$f":"UK!AG16","v":{"v":5409,"d":"5,409"}},{"$f":"Ireland!AG16","v":{"v":3120,"d":"3,120"}},{"$f":"Denmark!AG16","v":{"v":1067,"d":"1,067"}},{"$f":"Spain!AG16","v":{"v":9441,"d":"9,441"}},{"$f":"Portugal!AG16","v":{"v":1007,"d":"1,007"}},{"$f":"Austria!AG16","v":611},{"$f":"Sweden!AG16","v":913},{"$f":"Finland!AG16","v":703},{"$f":"SUM(B10:N10)","v":{"v":44484.241,"d":"44,484"}}]
["fattening",{"$f":"Germany!AG17","v":":"},{"$f":"France!AG17","v":{"v":1955,"d":"1,955"}},{"$f":"Italy!AG17","v":761},{"$f":"'The Netherlands'!AG17","v":149},{"$f":"Belgium!AG17","v":499},{"$f":"UK!AG17","v":{"v":1377,"d":"1,377"}},{"$f":"Ireland!AG17","v":{"v":1080,"d":"1,080"}},":",":",{"$f":"Portugal!AG17","v":420},{"$f":"Austria!AG17","v":":"},":",":",":"]
["dairy cow",{"$f":"Germany!AG18","v":":"},{"$f":"France!AG18","v":{"v":3469,"d":"3,469"}},{"$f":"Italy!AG18","v":{"v":2435,"d":"2,435"}},{"$f":"'The Netherlands'!AG18","v":{"v":3535,"d":"3,535"}},{"$f":"Belgium!AG18","v":770},{"$f":"UK!AG18","v":{"v":3756,"d":"3,756"}},{"$f":"Ireland!AG18","v":{"v":1626,"d":"1,626"}},{"$f":"Denmark!AG18","v":0},":",{"$f":"Portugal!AG18","v":531},{"$f":"Austria!AG18","v":":"},":",{"$f":"Finland!AG18","v":0},":"]
["calves (excl. milk replacers)",{"$f":"Germany!AG19","v":{"v":317.162,"d":"317"}},{"$f":"France!AG19","v":0},{"$f":"Italy!AG19","v":90},{"$f":"'The Netherlands'!AG19","v":817},{"$f":"Belgium!AG19","v":243},{"$f":"UK!AG19","v":276},{"$f":"Ireland!AG19","v":0},{"$f":"Denmark!AG19","v":0},":",{"$f":"Portugal!AG19","v":41},{"$f":"Austria!AG19","v":":"},":",{"$f":"Finland!AG19","v":0},":"]
["others",{"$f":"Germany!AG20","v":":"},{"$f":"France!AG20","v":0},{"$f":"Italy!AG20","v":134},{"$f":"'The Netherlands'!AG20","v":0},{"$f":"Belgium!AG20","v":":"},{"$f":"UK!AG20","v":0},{"$f":"Ireland!AG20","v":414},{"$f":"Denmark!AG20","v":0},":",{"$f":"Portugal!AG20","v":15},{"$f":"Austria!AG20","v":":"},":",{"$f":"Finland!AG20","v":0},":"]
[]
[]
["Pigs",{"$f":"Germany!AG23","v":{"v":9843.423,"d":"9,843"}},{"$f":"France!AG23","v":{"v":4959,"d":"4,959"}},{"$f":"Italy!AG23","v":{"v":3977,"d":"3,977"}},{"$f":"'The Netherlands'!AG23","v":{"v":4917,"d":"4,917"}},{"$f":"Belgium!AG23","v":{"v":3639,"d":"3,639"}},{"$f":"UK!AG23","v":{"v":2273,"d":"2,273"}},{"$f":"Ireland!AG23","v":768},{"$f":"Denmark!AG23","v":{"v":2582,"d":"2,582"}},{"$f":"Spain!AG23","v":{"v":11748,"d":"11,748"}},{"$f":"Portugal!AG23","v":{"v":1210,"d":"1,210"}},{"$f":"Austria!AG23","v":279},{"$f":"Sweden!AG23","v":323},{"$f":"Finland!AG23","v":246},{"$f":"SUM(B17:N17)","v":{"v":46764.423,"d":"46,764"}}]
["piglets",{"$f":"Germany!AG24","v":":"},{"$f":"France!AG24","v":740},{"$f":"Italy!AG24","v":0},{"$f":"'The Netherlands'!AG24","v":681},{"$f":"Belgium!AG24","v":{"v":1057,"d":"1,057"}},{"$f":"UK!AG24","v":239},{"$f":"Ireland!AG24","v":0},{"$f":"Denmark!AG24","v":0},":",{"$f":"Portugal!AG24","v":131},{"$f":"Austria!AG24","v":":"},":",{"$f":"Finland!AG24","v":49},":"]
["pigs for fattening",{"$f":"Germany!AG25","v":":"},{"$f":"France!AG25","v":{"v":3423,"d":"3,423"}},{"$f":"Italy!AG25","v":0},{"$f":"'The Netherlands'!AG25","v":{"v":3159,"d":"3,159"}},{"$f":"Belgium!AG25","v":{"v":2077,"d":"2,077"}},{"$f":"UK!AG25","v":{"v":1537,"d":"1,537"}},{"$f":"Ireland!AG25","v":0},{"$f":"Denmark!AG25","v":0},":",{"$f":"Portugal!AG25","v":806},{"$f":"Austria!AG25","v":":"},":",{"$f":"Finland!AG25","v":77},":"]
["breeding pigs",{"$f":"Germany!AG26","v":":"},{"$f":"France!AG26","v":796},{"$f":"Italy!AG26","v":0},{"$f":"'The Netherlands'!AG26","v":{"v":1077,"d":"1,077"}},{"$f":"Belgium!AG26","v":505},{"$f":"UK!AG26","v":484},{"$f":"Ireland!AG26","v":0},{"$f":"Denmark!AG26","v":0},":",{"$f":"Portugal!AG26","v":255},{"$f":"Austria!AG26","v":":"},":",{"$f":"Finland!AG26","v":52},":"]
["others",{"$f":"Germany!AG27","v":":"},{"$f":"France!AG27","v":0},{"$f":"Italy!AG27","v":0},{"$f":"'The Netherlands'!AG27","v":0},{"$f":"Belgium!AG27","v":0},{"$f":"UK!AG27","v":13},{"$f":"Ireland!AG27","v":0},{"$f":"Denmark!AG27","v":0},":",{"$f":"Portugal!AG27","v":18},{"$f":"Austria!AG27","v":":"},":",{"$f":"Finland!AG27","v":68},":"]
[{"$nulls":3}," "]
[]
["Poultry",{"$f":"Germany!AG30","v":{"v":6460.364,"d":"6,460"}},{"$f":"France!AG30","v":{"v":8607,"d":"8,607"}},{"$f":"Italy!AG30","v":{"v":6070,"d":"6,070"}},{"$f":"'The Netherlands'!AG30","v":{"v":4119,"d":"4,119"}},{"$f":"Belgium!AG30","v":{"v":1303,"d":"1,303"}},{"$f":"UK!AG30","v":{"v":7189,"d":"7,189"}},{"$f":"Ireland!AG30","v":651},{"$f":"Denmark!AG30","v":696},{"$f":"Spain!AG30","v":{"v":4004,"d":"4,004"}},{"$f":"Portugal!AG30","v":{"v":1767,"d":"1,767"}},{"$f":"Austria!AG30","v":661},{"$f":"Sweden!AG30","v":717},{"$f":"Finland!AG30","v":390},{"$f":"SUM(B24:N24)","v":{"v":42634.364,"d":"42,634"}}]
["broilers",{"$f":"Germany!AG31","v":{"v":4152.237,"d":"4,152"}},{"$f":"France!AG31","v":{"v":3479,"d":"3,479"}},{"$f":"Italy!AG31","v":{"v":3017,"d":"3,017"}},{"$f":"'The Netherlands'!AG31","v":{"v":2093,"d":"2,093"}},{"$f":"Belgium!AG31","v":803},{"$f":"UK!AG31","v":{"v":4132,"d":"4,132"}},":",{"$f":"Denmark!AG31","v":0},":",{"$f":"Portugal!AG31","v":977},{"$f":"Austria!AG31","v":":"},":",{"$f":"Finland!AG31","v":268},":"]
["chicks & layers",{"$f":"Germany!AG32","v":{"v":2308.127,"d":"2,308"}},{"$f":"France!AG32","v":{"v":2664,"d":"2,664"}},{"$f":"Italy!AG32","v":{"v":2051,"d":"2,051"}},{"$f":"'The Netherlands'!AG32","v":{"v":2026,"d":"2,026"}},{"$f":"Belgium!AG32","v":348},{"$f":"UK!AG32","v":{"v":1817,"d":"1,817"}},":",{"$f":"Denmark!AG32","v":0},":",{"$f":"Portugal!AG32","v":552},{"$f":"Austria!AG32","v":":"},":",{"$f":"Finland!AG32","v":98},":"]
["others",{"$f":"Germany!AG33","v":":"},{"$f":"France!AG33","v":{"v":2464,"d":"2,464"}},{"$f":"Italy!AG33","v":{"v":1002,"d":"1,002"}},{"$f":"'The Netherlands'!AG33","v":0},{"$f":"Belgium!AG33","v":152},{"$f":"UK!AG33","v":{"v":1240,"d":"1,240"}},":",{"$f":"Denmark!AG33","v":0},":",{"$f":"Portugal!AG33","v":238},{"$f":"Austria!AG33","v":":"},":",{"$f":"Finland!AG33","v":24},":"]
[]
[]
["Milk replacers",{"$f":"Germany!AG36","v":150},{"$f":"France!AG36","v":301},{"$f":"Italy!AG36","v":90},{"$f":"'The Netherlands'!AG36","v":520},{"$f":"Belgium!AG36","v":74},{"$f":"UK!AG36","v":0},{"$f":"Ireland!AG36","v":0},{"$f":"Denmark!AG36","v":0},{"$f":"Spain!AG36","v":0},{"$f":"Portugal!AG36","v":0},{"$f":"Austria!AG36","v":0},{"$f":"Sweden!AG36","v":3},{"$f":"Finland!AG36","v":0},{"$f":"SUM(B30:N30)","v":{"v":1138,"d":"1,138"}}]
[]
[{"$nulls":3}," "]
["Others",{"$f":"Germany!AG39","v":{"v":608.28,"d":"608"}},{"$f":"France!AG39","v":{"v":1530,"d":"1,530"}},{"$f":"Italy!AG39","v":982},{"$f":"'The Netherlands'!AG39","v":638},{"$f":"Belgium!AG39","v":405},{"$f":"UK!AG39","v":{"v":1491,"d":"1,491"}},{"$f":"Ireland!AG39","v":202},{"$f":"Denmark!AG39","v":188},{"$f":"Spain!AG39","v":184},{"$f":"Portugal!AG39","v":249},{"$f":"Austria!AG39","v":127},{"$f":"Sweden!AG39","v":68},{"$f":"Finland!AG39","v":110},{"$f":"SUM(B33:N33)","v":{"v":6782.28,"d":"6,782"}}]
[]
[]
["TOTAL",{"$f":"B33+B30+B24+B17+B10","v":{"v":24313.307999999997,"d":"24,313"}},{"v":20821,"d":"20,821"},{"v":14644,"d":"14,644"},{"v":14695,"d":"14,695"},{"v":6933,"d":"6,933"},{"v":16362,"d":"16,362"},{"v":4741,"d":"4,741"},{"v":4533,"d":"4,533"},{"v":25377,"d":"25,377"},{"v":4233,"d":"4,233"},{"v":1678,"d":"1,678"},{"v":2024,"d":"2,024"},{"v":1449,"d":"1,449"},{"v":141803.30800000002,"d":"141,803"}]
[{"$nulls":4}," "]
[]
["* Without Luxemburg and Greece"]
[": not available"]
["From 2015 on, the Dutch production of milk replacers is a rough estimate, due to statistical confidentiality "]
{"$rows_empty":9}
[{"$nulls":14},"INDUSTRIAL COMPOUND PRODUCTION"]
[2020]
["final"]
[{"$nulls":14},"(1 000 t)"]
[]
["Types of feed","CY","CZ","EE","HU","LV","LT","PL","SK","SI","BU","RO","HR","EU-13**","EU-28***"]
[]
[null," ",{"$nulls":4}," ",null," "]
["Cattle",{"$f":"Cyprus!AG16","v":180},{"$f":"'Czech Rep'!AG16","v":570},{"$f":"Estonia!AG16","v":40},{"$f":"Hungary!AG16","v":428},{"$f":"Latvia!AG16","v":64},{"$f":"Lithuania!AG16","v":152},{"$f":"Poland!AG16","v":{"v":1255,"d":"1,255"}},{"$f":"Slovakia!AG16","v":{"v":194.83999999999997,"d":"195"}},{"$f":"Slovenia!AG16","v":87},{"$f":"Bulgaria!AG16","v":190},{"$f":"Romania!AG17","v":87},{"$f":"Croatia!AG16","v":95},{"$f":"SUM(B59:M59)","v":{"v":3342.84,"d":"3,343"}},{"$f":"O10+N59","v":{"v":47827.081000000006,"d":"47,827"}}]
["fattening",{"$f":"Cyprus!AG17","v":0},{"$f":"'Czech Rep'!AG17","v":90},{"$f":"Estonia!AG17","v":":"},{"$f":"Hungary!AG17","v":0},{"$f":"Latvia!AG17","v":":"},{"$f":"Lithuania!AG17","v":5},{"$f":"Poland!AG17","v":0},{"$f":"Slovakia!AG17","v":{"v":17.649,"d":"18"}},":",":",":",":",":",":"]
["dairy cow",{"$f":"Cyprus!AG18","v":0},{"$f":"'Czech Rep'!AG18","v":377},{"$f":"Estonia!AG18","v":":"},{"$f":"Hungary!AG18","v":0},{"$f":"Latvia!AG18","v":":"},{"$f":"Lithuania!AG18","v":142},{"$f":"Poland!AG18","v":0},{"$f":"Slovakia!AG18","v":{"v":149.009,"d":"149"}},":",":",":",":",":",":"]
["calves (excl. milk replacers)",{"$f":"Cyprus!AG19","v":0},{"$f":"'Czech Rep'!AG19","v":54},{"$f":"Estonia!AG19","v":":"},{"$f":"Hungary!AG19","v":0},{"$f":"Latvia!AG19","v":":"},{"$f":"Lithuania!AG19","v":3},{"$f":"Poland!AG19","v":0},{"$f":"Slovakia!AG19","v":{"v":11.887,"d":"12"}},":",":",":",":",":",":"]
["others",{"$f":"Cyprus!AG20","v":":"},{"$f":"'Czech Rep'!AG20","v":50},{"$f":"Estonia!AG20","v":":"},{"$f":"Hungary!AG20","v":0},{"$f":"Latvia!AG20","v":":"},{"$f":"Lithuania!AG20","v":2},{"$f":"Poland!AG20","v":0},{"$f":"Slovakia!AG20","v":{"v":16.295,"d":"16"}},":",":",":",":",":",":"]
[]
[]
["Pigs",{"$f":"Cyprus!AG23","v":{"v":4.7,"d":"5"}},{"$f":"'Czech Rep'!AG23","v":761},{"$f":"Estonia!AG23","v":140},{"$f":"Hungary!AG23","v":{"v":1399,"d":"1,399"}},{"$f":"Latvia!AG23","v":66},{"$f":"Lithuania!AG23","v":28},{"$f":"Poland!AG23","v":{"v":2495,"d":"2,495"}},{"$f":"Slovakia!AG23","v":{"v":247.56099999999998,"d":"248"}},{"$f":"Slovenia!AG23","v":43},{"$f":"Bulgaria!AG23","v":317},{"$f":"Romania!AG24","v":{"v":1050,"d":"1,050"}},{"$f":"Croatia!AG23","v":270},{"$f":"SUM(B66:M66)","v":{"v":6821.2609999999995,"d":"6,821"}},{"$f":"O17+N66","v":{"v":53585.684,"d":"53,586"}}]
["piglets",{"$f":"Cyprus!AG24","v":0},{"$f":"'Czech Rep'!AG24","v":76},{"$f":"Estonia!AG24","v":":"},{"$f":"Hungary!AG24","v":0},{"$f":"Latvia!AG24","v":":"},{"$f":"Lithuania!AG24","v":5},{"$f":"Poland!AG24","v":0},{"$f":"Slovakia!AG24","v":{"v":26.486,"d":"26"}},":",":",":",":",":",":"]
["pigs for fattening",{"$f":"Cyprus!AG25","v":0},{"$f":"'Czech Rep'!AG25","v":547},{"$f":"Estonia!AG25","v":":"},{"$f":"Hungary!AG25","v":0},{"$f":"Latvia!AG25","v":":"},{"$f":"Lithuania!AG25","v":18},{"$f":"Poland!AG25","v":0},{"$f":"Slovakia!AG25","v":{"v":153.831,"d":"154"}},":",":",":",":",":",":"]
["breeding pigs",{"$f":"Cyprus!AG26","v":0},{"$f":"'Czech Rep'!AG26","v":130},{"$f":"Estonia!AG26","v":":"},{"$f":"Hungary!AG26","v":0},{"$f":"Latvia!AG26","v":":"},{"$f":"Lithuania!AG26","v":5},{"$f":"Poland!AG26","v":0},{"$f":"Slovakia!AG26","v":{"v":26.584,"d":"27"}},":",":",":",":",":",":"]
["others",{"$f":"Cyprus!AG27","v":0},{"$f":"'Czech Rep'!AG27","v":8},{"$f":"Estonia!AG27","v":":"},{"$f":"Hungary!AG27","v":0},{"$f":"Latvia!AG27","v":":"},{"$f":"Lithuania!AG27","v":0},{"$f":"Poland!AG27","v":0},{"$f":"Slovakia!AG27","v":{"v":40.66,"d":"41"}},":",":",":",":",":",":"]
[{"$nulls":3}," "]
[]
["Poultry",{"$f":"Cyprus!AG30","v":37},{"$f":"'Czech Rep'!AG30","v":{"v":1044,"d":"1,044"}},{"$f":"Estonia!AG30","v":48},{"$f":"Hungary!AG30","v":{"v":1868,"d":"1,868"}},{"$f":"Latvia!AG30","v":202},{"$f":"Lithuania!AG30","v":275},{"$f":"Poland!AG30","v":{"v":7114,"d":"7,114"}},{"$f":"Slovakia!AG30","v":{"v":207.46699999999998,"d":"207"}},{"$f":"Slovenia!AG30","v":255},{"$f":"Bulgaria!AG30","v":603},{"$f":"Romania!AG31","v":{"v":1520,"d":"1,520"}},{"$f":"Croatia!AG30","v":300},{"$f":"SUM(B73:M73)","v":{"v":13473.467,"d":"13,473"}},{"$f":"O24+N73","v":{"v":56107.831000000006,"d":"56,108"}}]
["broilers",{"$f":"Cyprus!AG31","v":0},{"$f":"'Czech Rep'!AG31","v":522},{"$f":"Estonia!AG31","v":":"},{"$f":"Hungary!AG31","v":847},{"$f":"Latvia!AG31","v":":"},{"$f":"Lithuania!AG31","v":201},{"$f":"Poland!AG31","v":0},{"$f":"Slovakia!AG31","v":{"v":80.116,"d":"80"}},":",":",":",":",":",":"]
["chicks & layers",{"$f":"Cyprus!AG32","v":0},{"$f":"'Czech Rep'!AG32","v":109},{"$f":"Estonia!AG32","v":":"},{"$f":"Hungary!AG32","v":334},{"$f":"Latvia!AG32","v":":"},{"$f":"Lithuania!AG32","v":68},{"$f":"Poland!AG32","v":0},{"$f":"Slovakia!AG32","v":{"v":110.351,"d":"110"}},":",":",":",":",":",":"]
["others",{"$f":"Cyprus!AG33","v":0},{"$f":"'Czech Rep'!AG33","v":72},{"$f":"Estonia!AG33","v":":"},{"$f":"Hungary!AG33","v":686},{"$f":"Latvia!AG33","v":":"},{"$f":"Lithuania!AG33","v":6},{"$f":"Poland!AG33","v":0},{"$f":"Slovakia!AG33","v":17},":",":",":",":",":",":"]
[]
[]
["Milk replacers",{"$f":"Cyprus!AG36","v":0},{"$f":"'Czech Rep'!AG36","v":1},{"$f":"Estonia!AG36","v":0},{"$f":"Hungary!AG36","v":0},{"$f":"Latvia!AG36","v":0},{"$f":"Lithuania!AG36","v":0},{"$f":"Poland!AG36","v":0},{"$f":"Slovakia!AG36","v":0},{"$f":"Slovenia!AG36","v":0},{"$f":"Bulgaria!AG36","v":0},{"$f":"Romania!AG37","v":0},{"$f":"Croatia!AG36","v":0},{"$f":"SUM(B79:M79)","v":1},{"$f":"O30+N79","v":{"v":1139,"d":"1,139"}}]
[]
[{"$nulls":3}," "]
["Others",{"$f":"Cyprus!AG39","v":137},{"$f":"'Czech Rep'!AG39","v":87},{"$f":"Estonia!AG39","v":2},{"$f":"Hungary!AG39","v":130},{"$f":"Latvia!AG39","v":14},{"$f":"Lithuania!AG39","v":177},{"$f":"Poland!AG39","v":723},{"$f":"Slovakia!AG39","v":14},{"$f":"Slovenia!AG39","v":{"v":12.5,"d":"13"}},{"$f":"Bulgaria!AG39","v":71},{"$f":"Romania!AG40","v":135},{"$f":"Croatia!AG39","v":15},{"$f":"SUM(B82:M82)","v":{"v":1517.5,"d":"1,518"}},{"$f":"O33+N82","v":{"v":8299.779999999999,"d":"8,300"}}]
[]
[]
["TOTAL",{"$f":"B82+B79+B73+B66+B59","v":{"v":358.7,"d":"359"}},{"v":2463,"d":"2,463"},230,{"v":3825,"d":"3,825"},346,632,{"v":11587,"d":"11,587"},{"v":663.8679999999999,"d":"664"},{"v":397.5,"d":"398"},{"v":1181,"d":"1,181"},{"v":2792,"d":"2,792"},680,{"v":25156.068,"d":"25,156"},{"v":166959.37600000002,"d":"166,959"}]
[{"$nulls":4}," "]
[]
["** Without Malta"]
["*** Without Luxemburg, Greece and Malta"]
[": not available"]

{"sheet":"2020-21","index":63,"n_rows":96,"n_cols":24,"rows_kept":96,"merged":[[9,1,9,3],[9,5,9,7],[9,9,9,11],[9,13,9,15],[9,17,9,19],[9,21,9,23],[60,1,60,3],[60,5,60,7],[60,9,60,11],[60,13,60,15],[60,17,60,19],[60,21,60,23]]}
["2024-06-11"]
["TAV: Year-to-year variation"]
["EU 27"]
[]
[{"$nulls":12},"2020-2021",{"$nulls":10},"INDUSTRIAL COMPOUND PRODUCTION"]
[{"$nulls":12},"final",{"$nulls":10},"(1 000 t )"]
[]
[]
[]
["COUNTRY","  CATTLE",{"$nulls":3},"PIGS",{"$nulls":3},"POULTRY",{"$nulls":3},"MILK REPLACERS",{"$nulls":3},"OTHERS",{"$nulls":3},"TOTAL"]
[]
[null,2020,2021,"%TAV",null,2020,2021,"%TAV",null,2020,2021,"%TAV",null,2020,2021,"%TAV",null,2020,2021,"%TAV",null,2020,2021,"%TAV"]
[]
["DE",{"$f":"Germany!AG$16","v":{"v":7251.241,"d":"7,251"}},{"$f":"Germany!AH$16","v":{"v":7036.6945000000005,"d":"7,037"}},{"$f":"((C14/B14)-1)*100","v":{"v":-2.958755611625641,"d":"-3.0"}},null,{"$f":"Germany!AG$23","v":{"v":9843.423,"d":"9,843"}},{"$f":"Germany!AH$23","v":{"v":9413.244,"d":"9,413"}},{"$f":"((G14/F14)-1)*100","v":{"v":-4.370217555417466,"d":"-4.4"}},null,{"$f":"Germany!AG$30","v":{"v":6460.364,"d":"6,460"}},{"$f":"Germany!AH$30","v":{"v":6358.0105,"d":"6,358"}},{"$f":"((K14/J14)-1)*100","v":{"v":-1.5843302327856357,"d":"-1.6"}},null,{"$f":"Germany!AG$36","v":150},{"$f":"Germany!AH$36","v":150},{"$f":"((O14/N14)-1)*100","v":{"v":0,"d":"0.0"}},null,{"$f":"Germany!AG$39","v":{"v":608.28,"d":"608"}},{"$f":"Germany!AH$39","v":{"v":613.0295,"d":"613"}},{"$f":"((S14/R14)-1)*100","v":{"v":0.7808081804432154,"d":"0.8"}},null,{"$f":"R14+N14+J14+F14+B14","v":{"v":24313.307999999997,"d":"24,313"}},{"v":23570.9785,"d":"23,571"},{"$f":"((W14/V14)-1)*100","v":{"v":-3.053181821247841,"d":"-3.1"}}]
["FR",{"$f":"France!AG$16","v":{"v":5424,"d":"5,424"}},{"$f":"France!AH$16","v":{"v":5345,"d":"5,345"}},{"v":-1.456489675516226,"d":"-1.5"},null,{"$f":"France!AG$23","v":{"v":4959,"d":"4,959"}},{"$f":"France!AH$23","v":{"v":4846,"d":"4,846"}},{"v":-2.2786852187941076,"d":"-2.3"},null,{"$f":"France!AG$30","v":{"v":8607,"d":"8,607"}},{"$f":"France!AH$30","v":{"v":8556,"d":"8,556"}},{"v":-0.5925409550366023,"d":"-0.6"},null,{"$f":"France!AG36","v":301},{"$f":"France!AH36","v":303},{"v":0.6644518272425293,"d":"0.7"},null,{"$f":"France!AG$39","v":{"v":1530,"d":"1,530"}},{"$f":"France!AH$39","v":{"v":1554,"d":"1,554"}},{"v":1.5686274509803866,"d":"1.6"},null,{"$f":"R15+N15+J15+F15+B15","v":{"v":20821,"d":"20,821"}},{"v":20604,"d":"20,604"},{"v":-1.0422169924595326,"d":"-1.0"}]
["IT",{"$f":"Italy!AG$16","v":{"v":3525,"d":"3,525"}},{"$f":"Italy!AH$16","v":{"v":3659,"d":"3,659"}},{"v":3.8014184397163087,"d":"3.8"},null,{"$f":"Italy!AG$23","v":{"v":3977,"d":"3,977"}},{"$f":"Italy!AH$23","v":{"v":4101,"d":"4,101"}},{"v":3.117928086497357,"d":"3.1"},null,{"$f":"Italy!AG$30","v":{"v":6070,"d":"6,070"}},{"$f":"Italy!AH$30","v":{"v":6372,"d":"6,372"}},{"v":4.975288303130143,"d":"5.0"},null,{"$f":"Italy!AG$36","v":90},{"$f":"Italy!AH$36","v":92},{"v":2.2222222222222143,"d":"2.2"},null,{"$f":"+Italy!AG$39","v":982},{"$f":"+Italy!AH$39","v":970},{"v":-1.2219959266802416,"d":"-1.2"},null,{"$f":"R16+N16+J16+F16+B16","v":{"v":14644,"d":"14,644"}},{"v":15194,"d":"15,194"},{"v":3.7558044250204814,"d":"3.8"}]
["NL   ",{"$f":"'The Netherlands'!AG$16","v":{"v":4501,"d":"4,501"}},{"$f":"'The Netherlands'!AH$16","v":{"v":4380,"d":"4,380"}},{"v":-2.688291490779826,"d":"-2.7"},null,{"$f":"'The Netherlands'!AG$23","v":{"v":4917,"d":"4,917"}},{"$f":"'The Netherlands'!AH$23","v":{"v":4668,"d":"4,668"}},{"v":-5.064063453325196,"d":"-5.1"},null,{"$f":"'The Netherlands'!AG$30","v":{"v":4119,"d":"4,119"}},{"$f":"'The Netherlands'!AH$30","v":{"v":4153,"d":"4,153"}},{"v":0.8254430687059999,"d":"0.8"},null,{"$f":"'The Netherlands'!AG$36","v":520},{"$f":"'The Netherlands'!AH$36","v":520},{"v":0,"d":"0.0"},null,{"$f":"'The Netherlands'!AG$39","v":638},{"$f":"'The Netherlands'!AH$39","v":570},{"v":-10.658307210031348,"d":"-10.7"},null,{"$f":"R17+N17+J17+F17+B17","v":{"v":14695,"d":"14,695"}},{"v":14291,"d":"14,291"},{"v":-2.749234433480774,"d":"-2.7"}]
["BE",{"$f":"Belgium!AG$16","v":{"v":1512,"d":"1,512"}},{"$f":"Belgium!AH$16","v":{"v":1466,"d":"1,466"}},{"v":-3.0423280423280463,"d":"-3.0"},null,{"$f":"Belgium!AG$23","v":{"v":3639,"d":"3,639"}},{"$f":"Belgium!AH$23","v":{"v":3558,"d":"3,558"}},{"v":-2.2258862324814555,"d":"-2.2"},null,{"$f":"Belgium!AG$30","v":{"v":1303,"d":"1,303"}},{"$f":"Belgium!AH$30","v":{"v":1249,"d":"1,249"}},{"v":-4.144282425172674,"d":"-4.1"},null,{"$f":"Belgium!AG$36","v":74},{"$f":"Belgium!AH$36","v":74},{"v":0,"d":"0.0"},null,{"$f":"Belgium!AG$39","v":405},{"$f":"Belgium!AH$39","v":394},{"v":-2.716049382716046,"d":"-2.7"},null,{"$f":"R18+N18+J18+F18+B18","v":{"v":6933,"d":"6,933"}},{"v":6741,"d":"6,741"},{"v":-2.76936391172653,"d":"-2.8"}]
["IE",{"$f":"Ireland!AG$16","v":{"v":3120,"d":"3,120"}},{"$f":"Ireland!AH$16","v":{"v":3350,"d":"3,350"}},{"v":7.371794871794868,"d":"7.4"},null,{"$f":"Ireland!AG$23","v":768},{"$f":"Ireland!AH$23","v":781},{"v":1.692708333333326,"d":"1.7"},null,{"$f":"Ireland!AG$30","v":651},{"$f":"Ireland!AH$30","v":699},{"v":7.373271889400912,"d":"7.4"},null,{"$f":"Ireland!AG$36","v":0},{"$f":"Ireland!AH$36","v":0},{"v":0,"d":"0.0"},null,{"$f":"Ireland!AG$39","v":202},{"$f":"Ireland!AH$39","v":236},{"v":16.831683168316825,"d":"16.8"},null,{"$f":"R19+N19+J19+F19+B19","v":{"v":4741,"d":"4,741"}},{"v":5066,"d":"5,066"},{"v":6.855093862054429,"d":"6.9"}]
["DK ",{"$f":"Denmark!AG$16","v":{"v":1067,"d":"1,067"}},{"$f":"Denmark!AH$16","v":{"v":1130,"d":"1,130"}},{"v":5.904404873477032,"d":"5.9"},null,{"$f":"Denmark!AG$23","v":{"v":2582,"d":"2,582"}},{"$f":"Denmark!AH$23","v":{"v":2863,"d":"2,863"}},{"v":10.883036405886903,"d":"10.9"},null,{"$f":"Denmark!AG$30","v":696},{"$f":"Denmark!AH$30","v":673},{"v":-3.3045977011494254,"d":"-3.3"},null,{"$f":"Denmark!AG$36","v":0},{"$f":"Denmark!AH$36","v":0},{"v":0,"d":"0.0"},null,{"$f":"Denmark!AG$39","v":188},{"$f":"Denmark!AH$39","v":237},{"v":26.06382978723405,"d":"26.1"},null,{"$f":"R20+N20+J20+F20+B20","v":{"v":4533,"d":"4,533"}},{"v":4903,"d":"4,903"},{"v":8.162364879770578,"d":"8.2"}]
["ES",{"$f":"Spain!AG$16","v":{"v":9441,"d":"9,441"}},{"$f":"Spain!AH$16","v":{"v":9320,"d":"9,320"}},{"v":-1.2816438936553376,"d":"-1.3"},null,{"$f":"Spain!AG$23","v":{"v":11748,"d":"11,748"}},{"$f":"Spain!AH$23","v":{"v":13361,"d":"13,361"}},{"v":13.72999659516514,"d":"13.7"},null,{"$f":"Spain!AG$30","v":{"v":4004,"d":"4,004"}},{"$f":"Spain!AH$30","v":{"v":4387,"d":"4,387"}},{"v":9.565434565434572,"d":"9.6"},null,{"$f":"Spain!AG$36","v":0},{"$f":"Spain!AH$36","v":0},{"v":0,"d":"0.0"},null,{"$f":"Spain!AG$39","v":184},{"$f":"Spain!AH$39","v":170},{"v":-7.608695652173914,"d":"-7.6"},null,{"$f":"R21+N21+J21+F21+B21","v":{"v":25377,"d":"25,377"}},{"v":27238,"d":"27,238"},{"v":7.333412144855589,"d":"7.3"}]
["PT",{"$f":"Portugal!AG$16","v":{"v":1007,"d":"1,007"}},{"$f":"Portugal!AH$16","v":{"v":1073,"d":"1,073"}},{"v":6.554121151936454,"d":"6.6"},null,{"$f":"Portugal!AG$23","v":{"v":1210,"d":"1,210"}},{"$f":"Portugal!AH$23","v":{"v":1173,"d":"1,173"}},{"v":-3.057851239669418,"d":"-3.1"},null,{"$f":"Portugal!AG$30","v":{"v":1767,"d":"1,767"}},{"$f":"Portugal!AH$30","v":{"v":1745,"d":"1,745"}},{"v":-1.2450481041312966,"d":"-1.2"},null,{"$f":"Portugal!AG$36","v":0},{"$f":"Portugal!AH$36","v":0},{"v":0,"d":"0.0"},null,{"$f":"Portugal!AG$39","v":249},{"$f":"Portugal!AH$39","v":277},{"v":11.244979919678721,"d":"11.2"},null,{"$f":"R22+N22+J22+F22+B22","v":{"v":4233,"d":"4,233"}},{"v":4268,"d":"4,268"},{"v":0.8268367587999093,"d":"0.8"}]
["AT",{"$f":"Austria!AG$16","v":611},{"$f":"Austria!AH$16","v":649},{"v":6.219312602291316,"d":"6.2"},null,{"$f":"Austria!AG$23","v":279},{"$f":"Austria!AH$23","v":274},{"v":-1.7921146953404965,"d":"-1.8"},null,{"$f":"Austria!AG$30","v":661},{"$f":"Austria!AH$30","v":697},{"v":5.446293494705001,"d":"5.4"},null,{"$f":"Austria!AG$36","v":0},{"$f":"Austria!AH$36","v":0},{"v":0,"d":"0.0"},null,{"$f":"Austria!AG$39","v":127},{"$f":"Austria!AH$39","v":141},{"v":11.023622047244096,"d":"11.0"},null,{"$f":"R23+N23+J23+F23+B23","v":{"v":1678,"d":"1,678"}},{"v":1761,"d":"1,761"},{"v":4.946364719904639,"d":"4.9"}]
["SE",{"$f":"Sweden!AG$16","v":913},{"$f":"Sweden!AH$16","v":884},{"v":-3.176341730558596,"d":"-3.2"},null,{"$f":"Sweden!AG$23","v":323},{"$f":"Sweden!AH$23","v":325},{"v":0.6191950464396356,"d":"0.6"},null,{"$f":"Sweden!AG$30","v":717},{"$f":"Sweden!AH$30","v":697},{"v":-2.789400278940024,"d":"-2.8"},null,{"$f":"Sweden!AG$36","v":3},{"$f":"Sweden!AH$36","v":3},{"$f":"((O24/N24)-1)*100","v":{"v":0,"d":"0.0"}},null,{"$f":"Sweden!AG$39","v":68},{"$f":"Sweden!AH$39","v":71},{"v":4.4117647058823595,"d":"4.4"},null,{"$f":"R24+N24+J24+F24+B24","v":{"v":2024,"d":"2,024"}},{"v":1980,"d":"1,980"},{"v":-2.1739130434782594,"d":"-2.2"}]
["FI",{"$f":"Finland!AG$16","v":703},{"$f":"Finland!AH$16","v":672},{"v":-4.409672830725464,"d":"-4.4"},null,{"$f":"Finland!AG$23","v":246},{"$f":"Finland!AH$23","v":246},{"v":0,"d":"0.0"},null,{"$f":"Finland!AG$30","v":390},{"$f":"Finland!AH$30","v":418},{"v":7.179487179487176,"d":"7.2"},null,{"$f":"Finland!AG$36","v":0},{"$f":"Finland!AH$36","v":0},{"v":0,"d":"0.0"},null,{"$f":"Finland!AG$39","v":110},{"$f":"Finland!AH$39","v":110},{"v":0,"d":"0.0"},null,{"$f":"R25+N25+J25+F25+B25","v":{"v":1449,"d":"1,449"}},{"v":1446,"d":"1,446"},{"v":-0.20703933747412417,"d":"-0.2"}]
["CY",{"$f":"Cyprus!AG$16","v":180},{"$f":"Cyprus!AH$16","v":180},{"v":0,"d":"0.0"},null,{"$f":"Cyprus!AG$23","v":{"v":4.7,"d":"5"}},{"$f":"Cyprus!AH$23","v":{"v":4.7,"d":"5"}},{"v":0,"d":"0.0"},null,{"$f":"Cyprus!AG$30","v":37},{"$f":"Cyprus!AH$30","v":37},{"v":0,"d":"0.0"},null,{"$f":"Cyprus!AG$36","v":0},{"$f":"Cyprus!AH$36","v":0},{"v":0,"d":"0.0"},null,{"$f":"Cyprus!AG$39","v":137},{"$f":"Cyprus!AH$39","v":137},{"v":0,"d":"0.0"},null,{"$f":"R26+N26+J26+F26+B26","v":{"v":358.7,"d":"359"}},{"v":358.7,"d":"359"},{"v":0,"d":"0.0"}]
["CZ",{"$f":"'Czech Rep'!AG$16","v":570},{"$f":"'Czech Rep'!AH$16","v":598},{"v":4.912280701754379,"d":"4.9"},null,{"$f":"'Czech Rep'!AG$23","v":761},{"$f":"'Czech Rep'!AH$23","v":796},{"v":4.599211563731931,"d":"4.6"},null,{"$f":"'Czech Rep'!AG$30","v":{"v":1044,"d":"1,044"}},{"$f":"'Czech Rep'!AH$30","v":{"v":1071,"d":"1,071"}},{"v":2.586206896551735,"d":"2.6"},null,{"$f":"'Czech Rep'!AG$36","v":1},{"$f":"'Czech Rep'!AH$36","v":1},{"$f":"((O27/N27)-1)*100","v":{"v":0,"d":"0.0"}},null,{"$f":"'Czech Rep'!AG$39","v":87},{"$f":"'Czech Rep'!AH$39","v":102},{"v":17.24137931034482,"d":"17.2"},null,{"$f":"R27+N27+J27+F27+B27","v":{"v":2463,"d":"2,463"}},{"v":2568,"d":"2,568"},{"v":4.263093788063332,"d":"4.3"}]
["EE",{"$f":"Estonia!AG$16","v":40},{"$f":"Estonia!AH$16","v":40},{"v":0,"d":"0.0"},null,{"$f":"Estonia!AG$23","v":140},{"$f":"Estonia!AH$23","v":140},{"v":0,"d":"0.0"},null,{"$f":"Estonia!AG$30","v":48},{"$f":"Estonia!AH$30","v":48},{"v":0,"d":"0.0"},null,{"$f":"Estonia!AG$36","v":0},{"$f":"Estonia!AH$36","v":0},{"v":0,"d":"0.0"},null,{"$f":"Estonia!AG$39","v":2},{"$f":"Estonia!AH$39","v":2},{"v":0,"d":"0.0"},null,{"$f":"R28+N28+J28+F28+B28","v":230},230,{"v":0,"d":"0.0"}]
["HU",{"$f":"Hungary!AG$16","v":428},{"$f":"Hungary!AH$16","v":433},{"v":1.1682242990654235,"d":"1.2"},null,{"$f":"Hungary!AG$23","v":{"v":1399,"d":"1,399"}},{"$f":"Hungary!AH$23","v":{"v":1382,"d":"1,382"}},{"v":-1.2151536812008534,"d":"-1.2"},null,{"$f":"Hungary!AG$30","v":{"v":1868,"d":"1,868"}},{"$f":"Hungary!AH$30","v":{"v":1997,"d":"1,997"}},{"v":6.905781584582438,"d":"6.9"},null,{"$f":"Hungary!AG$36","v":0},{"$f":"Hungary!AH$36","v":0},{"v":0,"d":"0.0"},null,{"$f":"Hungary!AG$39","v":130},{"$f":"Hungary!AH$39","v":144},{"v":10.769230769230775,"d":"10.8"},null,{"$f":"R29+N29+J29+F29+B29","v":{"v":3825,"d":"3,825"}},{"v":3956,"d":"3,956"},{"v":3.4248366013071907,"d":"3.4"}]
["LV",{"$f":"Latvia!AG$16","v":64},{"$f":"Latvia!AH$16","v":64},{"v":0,"d":"0.0"},null,{"$f":"Latvia!AG$23","v":66},{"$f":"Latvia!AH$23","v":66},{"v":0,"d":"0.0"},null,{"$f":"Latvia!AG$30","v":202},{"$f":"Latvia!AH$30","v":202},{"v":0,"d":"0.0"},null,{"$f":"Latvia!AG$36","v":0},{"$f":"Latvia!AH$36","v":0},{"v":0,"d":"0.0"},null,{"$f":"Latvia!AG$39","v":14},{"$f":"Latvia!AH$39","v":14},{"v":0,"d":"0.0"},null,{"$f":"R30+N30+J30+F30+B30","v":346},346,{"v":0,"d":"0.0"}]
["LT",{"$f":"Lithuania!AG$16","v":152},{"$f":"Lithuania!AH$16","v":155},{"v":1.9736842105263053,"d":"2.0"},null,{"$f":"Lithuania!AG$23","v":28},{"$f":"Lithuania!AH$23","v":50},{"v":78.57142857142858,"d":"78.6"},null,{"$f":"Lithuania!AG$30","v":275},{"$f":"Lithuania!AH$30","v":217},{"v":-21.090909090909093,"d":"-21.1"},null,{"$f":"Lithuania!AG$36","v":0},{"$f":"Lithuania!AH$36","v":0},{"v":0,"d":"0.0"},null,{"$f":"Lithuania!AG$39","v":177},{"$f":"Lithuania!AH$39","v":216},{"v":22.033898305084755,"d":"22.0"},null,{"$f":"R31+N31+J31+F31+B31","v":632},638,{"v":0.9493670886076,"d":"0.9"}]
["PL",{"$f":"Poland!AG$16","v":{"v":1255,"d":"1,255"}},{"$f":"Poland!AH$16","v":{"v":1213,"d":"1,213"}},{"v":-3.3466135458167345,"d":"-3.3"},null,{"$f":"Poland!AG$23","v":{"v":2495,"d":"2,495"}},{"$f":"Poland!AH$23","v":{"v":2444,"d":"2,444"}},{"v":-2.0440881763527097,"d":"-2.0"},null,{"$f":"Poland!AG$30","v":{"v":7114,"d":"7,114"}},{"$f":"Poland!AH$30","v":{"v":6303,"d":"6,303"}},{"v":-11.400056227157718,"d":"-11.4"},null,{"$f":"Poland!AG$36","v":0},{"$f":"Poland!AH$36","v":0},{"v":0,"d":"0.0"},null,{"$f":"Poland!AG$39","v":723},{"$f":"Poland!AH$39","v":765},{"v":5.809128630705396,"d":"5.8"},null,{"$f":"R32+N32+J32+F32+B32","v":{"v":11587,"d":"11,587"}},{"v":10725,"d":"10,725"},{"v":-7.439371709674636,"d":"-7.4"}]
["SK",{"$f":"Slovakia!AG$16","v":{"v":194.83999999999997,"d":"195"}},{"$f":"Slovakia!AH$16","v":{"v":187.15,"d":"187"}},{"v":-3.9468281667008664,"d":"-3.9"},null,{"$f":"Slovakia!AG$23","v":{"v":247.56099999999998,"d":"248"}},{"$f":"Slovakia!AH$23","v":{"v":265.291,"d":"265"}},{"v":7.1618712155792075,"d":"7.2"},null,{"$f":"Slovakia!AG$30","v":{"v":207.46699999999998,"d":"207"}},{"$f":"Slovakia!AH$30","v":{"v":210.779,"d":"211"}},{"v":1.5963984633700745,"d":"1.6"},null,{"$f":"Slovakia!AG$36","v":0},{"$f":"Slovakia!AH$36","v":0},{"v":0,"d":"0.0"},null,{"$f":"+Slovakia!AG$39","v":14},{"$f":"+Slovakia!AH$39","v":15},{"v":7.14285714285714,"d":"7.1"},null,{"$f":"R33+N33+J33+F33+B33","v":{"v":663.8679999999999,"d":"664"}},{"v":678.22,"d":"678"},{"v":2.161875553573922,"d":"2.2"}]
["SI",{"$f":"Slovenia!AG$16","v":87},{"$f":"Slovenia!AH$16","v":88},{"v":1.1494252873563315,"d":"1.1"},null,{"$f":"Slovenia!AG$23","v":43},{"$f":"Slovenia!AH$23","v":42},{"v":-2.3255813953488413,"d":"-2.3"},null,{"$f":"Slovenia!AG$30","v":255},{"$f":"Slovenia!AH$30","v":258},{"v":1.17647058823529,"d":"1.2"},null,{"$f":"Slovenia!AG$36","v":0},{"$f":"Slovenia!AH$36","v":0},{"v":0,"d":"0.0"},null,{"$f":"Slovenia!AG$39","v":{"v":12.5,"d":"13"}},{"$f":"Slovenia!AH$39","v":6},{"v":-52,"d":"-52.0"},null,{"$f":"R34+N34+J34+F34+B34","v":{"v":397.5,"d":"398"}},394,{"v":-0.8805031446540879,"d":"-0.9"}]
["BU",{"$f":"Bulgaria!AG$16","v":190},{"$f":"Bulgaria!AH$16","v":205},{"v":7.8947368421052655,"d":"7.9"},null,{"$f":"Bulgaria!AG$23","v":317},{"$f":"Bulgaria!AH$23","v":405},{"v":27.760252365930604,"d":"27.8"},null,{"$f":"Bulgaria!AG$30","v":603},{"$f":"Bulgaria!AH$30","v":623},{"v":3.316749585406309,"d":"3.3"},null,{"$f":"Bulgaria!AG$36","v":0},{"$f":"Bulgaria!AH$36","v":0},{"v":0,"d":"0.0"},null,{"$f":"Bulgaria!AG$39","v":71},{"$f":"Bulgaria!AH$39","v":68},{"v":-4.225352112676061,"d":"-4.2"},null,{"$f":"R35+N35+J35+F35+B35","v":{"v":1181,"d":"1,181"}},{"v":1301,"d":"1,301"},{"v":10.160880609652834,"d":"10.2"}]
["RO",{"$f":"Romania!AG$17","v":87},{"$f":"Romania!AH$17","v":90},{"v":3.4482758620689724,"d":"3.4"},null,{"$f":"Romania!AG$24","v":{"v":1050,"d":"1,050"}},{"$f":"Romania!AH$24","v":{"v":1080,"d":"1,080"}},{"v":2.857142857142847,"d":"2.9"},null,{"$f":"Romania!AG$31","v":{"v":1520,"d":"1,520"}},{"$f":"Romania!AH$31","v":{"v":1600,"d":"1,600"}},{"v":5.263157894736836,"d":"5.3"},null,{"$f":"Romania!AG$37","v":0},{"$f":"Romania!AH$37","v":0},{"v":0,"d":"0.0"},null,{"$f":"Romania!AG$40","v":135},{"$f":"Romania!AH$40","v":140},{"v":3.703703703703698,"d":"3.7"},null,{"$f":"R36+N36+J36+F36+B36","v":{"v":2792,"d":"2,792"}},{"v":2910,"d":"2,910"},{"v":4.226361031518633,"d":"4.2"}]
["HR",{"$f":"Croatia!AG$16","v":95},{"$f":"Croatia!AH$16","v":95},{"v":0,"d":"0.0"},null,{"$f":"Croatia!AG$23","v":270},{"$f":"Croatia!AH$23","v":270},{"v":0,"d":"0.0"},null,{"$f":"Croatia!AG$30","v":300},{"$f":"Croatia!AH$30","v":300},{"v":0,"d":"0.0"},null,{"$f":"Croatia!AG$36","v":0},{"$f":"Croatia!AC$36","v":0},{"v":0,"d":"0.0"},null,{"$f":"Croatia!AG$39","v":15},{"$f":"Croatia!AH$39","v":15},{"v":0,"d":"0.0"},null,{"$f":"R37+N37+J37+F37+B37","v":680},680,{"v":0,"d":"0.0"}]
[]
["EUR 27 *",{"$f":"SUM(B14:B37)","v":{"v":42418.081,"d":"42,418"}},{"v":42312.8445,"d":"42,313"},{"$f":"((C39/B39)-1)*100","v":{"v":-0.24809349579015816,"d":"-0.25"}},null,{"$f":"SUM(F14:F37)","v":{"v":51312.684,"d":"51,313"}},{"v":52554.23499999999,"d":"52,554"},{"$f":"((G39/F39)-1)*100","v":{"v":2.4195791434336034,"d":"2.42"}},null,{"$f":"SUM(J14:J37)","v":{"v":48918.831,"d":"48,919"}},{"v":48870.789500000006,"d":"48,871"},{"$f":"((K39/J39)-1)*100","v":{"v":-0.09820655771596298,"d":"-0.10"}},null,{"$f":"SUM(N14:N37)","v":{"v":1139,"d":"1,139"}},{"v":1143,"d":"1,143"},{"$f":"((O39/N39)-1)*100","v":{"v":0.3511852502194879,"d":"0.4"}},null,{"$f":"SUM(R14:R37)","v":{"v":6808.78,"d":"6,809"}},{"v":6967.029500000001,"d":"6,967"},{"$f":"((S39/R39)-1)*100","v":{"v":2.3241975801832515,"d":"2.3"}},null,{"$f":"SUM(V14:V37)","v":{"v":150597.37599999996,"d":"150,597"}},{"v":151847.89849999998,"d":"151,848"},{"$f":"((W39/V39)-1)*100","v":{"v":0.8303746939123391,"d":"0.83"}}]
[]
[{"$nulls":23}," "]
["* Without Luxemburg, Greece and Malta"]
[": not available"]
["From 2015 on, the Dutch production of milk replacers is a rough estimate, due to statistical confidentiality "]
{"$rows_empty":7}
["2024-06-11"]
["TAV: Year-to-year variation"]
["EUR 27*+UK"]
[]
[{"$nulls":12},"2020-2021",{"$nulls":10},"INDUSTRIAL COMPOUND PRODUCTION"]
[{"$nulls":12},"final",{"$nulls":10},"(1 000 t )"]
[]
[]
[]
["COUNTRY","  CATTLE",{"$nulls":3},"PIGS",{"$nulls":3},"POULTRY",{"$nulls":3},"MILK REPLACERS",{"$nulls":3},"OTHERS",{"$nulls":3},"TOTAL"]
[]
[null,2020,2021,"%TAV",null,2020,2021,"%TAV",null,2020,2021,"%TAV",null,2020,2021,"%TAV",null,2020,2021,"%TAV",null,2020,2021,"%TAV"]
[]
["DE",{"$f":"Germany!AG$16","v":{"v":7251.241,"d":"7,251"}},{"$f":"Germany!AH$16","v":{"v":7036.6945000000005,"d":"7,037"}},{"$f":"((C65/B65)-1)*100","v":{"v":-2.958755611625641,"d":"-3.0"}},null,{"$f":"Germany!AG$23","v":{"v":9843.423,"d":"9,843"}},{"$f":"Germany!AH$23","v":{"v":9413.244,"d":"9,413"}},{"$f":"((G65/F65)-1)*100","v":{"v":-4.370217555417466,"d":"-4.4"}},null,{"$f":"Germany!AG$30","v":{"v":6460.364,"d":"6,460"}},{"$f":"Germany!AH$30","v":{"v":6358.0105,"d":"6,358"}},{"$f":"((K65/J65)-1)*100","v":{"v":-1.5843302327856357,"d":"-1.6"}},null,{"$f":"Germany!AG$36","v":150},{"$f":"Germany!AH$36","v":150},{"$f":"((O65/N65)-1)*100","v":{"v":0,"d":"0.0"}},null,{"$f":"Germany!AG$39","v":{"v":608.28,"d":"608"}},{"$f":"Germany!AH$39","v":{"v":613.0295,"d":"613"}},{"$f":"((S65/R65)-1)*100","v":{"v":0.7808081804432154,"d":"0.8"}},null,{"$f":"R65+N65+J65+F65+B65","v":{"v":24313.307999999997,"d":"24,313"}},{"v":23570.9785,"d":"23,571"},{"$f":"((W65/V65)-1)*100","v":{"v":-3.053181821247841,"d":"-3.1"}}]
["FR",{"$f":"France!AG$16","v":{"v":5424,"d":"5,424"}},{"$f":"France!AH$16","v":{"v":5345,"d":"5,345"}},{"v":-1.456489675516226,"d":"-1.5"},null,{"$f":"France!AG$23","v":{"v":4959,"d":"4,959"}},{"$f":"France!AH$23","v":{"v":4846,"d":"4,846"}},{"v":-2.2786852187941076,"d":"-2.3"},null,{"$f":"France!AG$30","v":{"v":8607,"d":"8,607"}},{"$f":"France!AH$30","v":{"v":8556,"d":"8,556"}},{"v":-0.5925409550366023,"d":"-0.6"},null,{"$f":"France!AG36","v":301},{"$f":"France!AH36","v":303},{"v":0.6644518272425293,"d":"0.7"},null,{"$f":"France!AG$39","v":{"v":1530,"d":"1,530"}},{"$f":"France!AH$39","v":{"v":1554,"d":"1,554"}},{"v":1.5686274509803866,"d":"1.6"},null,{"$f":"R66+N66+J66+F66+B66","v":{"v":20821,"d":"20,821"}},{"v":20604,"d":"20,604"},{"v":-1.0422169924595326,"d":"-1.0"}]
["IT",{"$f":"Italy!AG$16","v":{"v":3525,"d":"3,525"}},{"$f":"Italy!AH$16","v":{"v":3659,"d":"3,659"}},{"v":3.8014184397163087,"d":"3.8"},null,{"$f":"Italy!AG$23","v":{"v":3977,"d":"3,977"}},{"$f":"Italy!AH$23","v":{"v":4101,"d":"4,101"}},{"v":3.117928086497357,"d":"3.1"},null,{"$f":"Italy!AG$30","v":{"v":6070,"d":"6,070"}},{"$f":"Italy!AH$30","v":{"v":6372,"d":"6,372"}},{"v":4.975288303130143,"d":"5.0"},null,{"$f":"Italy!AG$36","v":90},{"$f":"Italy!AH$36","v":92},{"v":2.2222222222222143,"d":"2.2"},null,{"$f":"+Italy!AG$39","v":982},{"$f":"+Italy!AH$39","v":970},{"v":-1.2219959266802416,"d":"-1.2"},null,{"$f":"R67+N67+J67+F67+B67","v":{"v":14644,"d":"14,644"}},{"v":15194,"d":"15,194"},{"v":3.7558044250204814,"d":"3.8"}]
["NL   ",{"$f":"'The Netherlands'!AG$16","v":{"v":4501,"d":"4,501"}},{"$f":"'The Netherlands'!AH$16","v":{"v":4380,"d":"4,380"}},{"v":-2.688291490779826,"d":"-2.7"},null,{"$f":"'The Netherlands'!AG$23","v":{"v":4917,"d":"4,917"}},{"$f":"'The Netherlands'!AH$23","v":{"v":4668,"d":"4,668"}},{"v":-5.064063453325196,"d":"-5.1"},null,{"$f":"'The Netherlands'!AG$30","v":{"v":4119,"d":"4,119"}},{"$f":"'The Netherlands'!AH$30","v":{"v":4153,"d":"4,153"}},{"v":0.8254430687059999,"d":"0.8"},null,{"$f":"'The Netherlands'!AG$36","v":520},{"$f":"'The Netherlands'!AH$36","v":520},{"v":0,"d":"0.0"},null,{"$f":"'The Netherlands'!AG$39","v":638},{"$f":"'The Netherlands'!AH$39","v":570},{"v":-10.658307210031348,"d":"-10.7"},null,{"$f":"R68+N68+J68+F68+B68","v":{"v":14695,"d":"14,695"}},{"v":14291,"d":"14,291"},{"v":-2.749234433480774,"d":"-2.7"}]
["BE",{"$f":"Belgium!AG$16","v":{"v":1512,"d":"1,512"}},{"$f":"Belgium!AH$16","v":{"v":1466,"d":"1,466"}},{"v":-3.0423280423280463,"d":"-3.0"},null,{"$f":"Belgium!AG$23","v":{"v":3639,"d":"3,639"}},{"$f":"Belgium!AH$23","v":{"v":3558,"d":"3,558"}},{"v":-2.2258862324814555,"d":"-2.2"},null,{"$f":"Belgium!AG$30","v":{"v":1303,"d":"1,303"}},{"$f":"Belgium!AH$30","v":{"v":1249,"d":"1,249"}},{"v":-4.144282425172674,"d":"-4.1"},null,{"$f":"Belgium!AG$36","v":74},{"$f":"Belgium!AH$36","v":74},{"v":0,"d":"0.0"},null,{"$f":"Belgium!AG$39","v":405},{"$f":"Belgium!AH$39","v":394},{"v":-2.716049382716046,"d":"-2.7"},null,{"$f":"R69+N69+J69+F69+B69","v":{"v":6933,"d":"6,933"}},{"v":6741,"d":"6,741"},{"v":-2.76936391172653,"d":"-2.8"}]
["UK ",{"$f":"UK!AG$16","v":{"v":5409,"d":"5,409"}},{"$f":"UK!AH$16","v":{"v":5468,"d":"5,468"}},{"v":1.0907746348678193,"d":"1.1"},null,{"$f":"UK!AG$23","v":{"v":2273,"d":"2,273"}},{"$f":"UK!AH$23","v":{"v":2387,"d":"2,387"}},{"v":5.0153981522217395,"d":"5.0"},null,{"$f":"UK!AG$30","v":{"v":7189,"d":"7,189"}},{"$f":"UK!AH$30","v":{"v":7360,"d":"7,360"}},{"v":2.378634024203641,"d":"2.4"},null,{"$f":"UK!AG$36","v":0},{"$f":"UK!AH$36","v":0},{"v":0,"d":"0.0"},null,{"$f":"UK!AG$39","v":{"v":1491,"d":"1,491"}},{"$f":"UK!AH$39","v":{"v":1541,"d":"1,541"}},{"v":3.353454057679417,"d":"3.4"},null,{"$f":"R70+N70+J70+F70+B70","v":{"v":16362,"d":"16,362"}},{"v":16756,"d":"16,756"},{"v":2.408018579635751,"d":"2.4"}]
["IE",{"$f":"Ireland!AG$16","v":{"v":3120,"d":"3,120"}},{"$f":"Ireland!AH$16","v":{"v":3350,"d":"3,350"}},{"v":7.371794871794868,"d":"7.4"},null,{"$f":"Ireland!AG$23","v":768},{"$f":"Ireland!AH$23","v":781},{"v":1.692708333333326,"d":"1.7"},null,{"$f":"Ireland!AG$30","v":651},{"$f":"Ireland!AH$30","v":699},{"v":7.373271889400912,"d":"7.4"},null,{"$f":"Ireland!AG$36","v":0},{"$f":"Ireland!AH$36","v":0},{"v":0,"d":"0.0"},null,{"$f":"Ireland!AG$39","v":202},{"$f":"Ireland!AH$39","v":236},{"v":16.831683168316825,"d":"16.8"},null,{"$f":"R71+N71+J71+F71+B71","v":{"v":4741,"d":"4,741"}},{"v":5066,"d":"5,066"},{"v":6.855093862054429,"d":"6.9"}]
["DK ",{"$f":"Denmark!AG$16","v":{"v":1067,"d":"1,067"}},{"$f":"Denmark!AH$16","v":{"v":1130,"d":"1,130"}},{"v":5.904404873477032,"d":"5.9"},null,{"$f":"Denmark!AG$23","v":{"v":2582,"d":"2,582"}},{"$f":"Denmark!AH$23","v":{"v":2863,"d":"2,863"}},{"v":10.883036405886903,"d":"10.9"},null,{"$f":"Denmark!AG$30","v":696},{"$f":"Denmark!AH$30","v":673},{"v":-3.3045977011494254,"d":"-3.3"},null,{"$f":"Denmark!AG$36","v":0},{"$f":"Denmark!AH$36","v":0},{"v":0,"d":"0.0"},null,{"$f":"Denmark!AG$39","v":188},{"$f":"Denmark!AH$39","v":237},{"v":26.06382978723405,"d":"26.1"},null,{"$f":"R72+N72+J72+F72+B72","v":{"v":4533,"d":"4,533"}},{"v":4903,"d":"4,903"},{"v":8.162364879770578,"d":"8.2"}]
["ES",{"$f":"Spain!AG$16","v":{"v":9441,"d":"9,441"}},{"$f":"Spain!AH$16","v":{"v":9320,"d":"9,320"}},{"v":-1.2816438936553376,"d":"-1.3"},null,{"$f":"Spain!AG$23","v":{"v":11748,"d":"11,748"}},{"$f":"Spain!AH$23","v":{"v":13361,"d":"13,361"}},{"v":13.72999659516514,"d":"13.7"},null,{"$f":"Spain!AG$30","v":{"v":4004,"d":"4,004"}},{"$f":"Spain!AH$30","v":{"v":4387,"d":"4,387"}},{"v":9.565434565434572,"d":"9.6"},null,{"$f":"Spain!AG$36","v":0},{"$f":"Spain!AH$36","v":0},{"v":0,"d":"0.0"},null,{"$f":"Spain!AG$39","v":184},{"$f":"Spain!AH$39","v":170},{"v":-7.608695652173914,"d":"-7.6"},null,{"$f":"R73+N73+J73+F73+B73","v":{"v":25377,"d":"25,377"}},{"v":27238,"d":"27,238"},{"v":7.333412144855589,"d":"7.3"}]
["PT",{"$f":"Portugal!AG$16","v":{"v":1007,"d":"1,007"}},{"$f":"Portugal!AH$16","v":{"v":1073,"d":"1,073"}},{"v":6.554121151936454,"d":"6.6"},null,{"$f":"Portugal!AG$23","v":{"v":1210,"d":"1,210"}},{"$f":"Portugal!AH$23","v":{"v":1173,"d":"1,173"}},{"v":-3.057851239669418,"d":"-3.1"},null,{"$f":"Portugal!AG$30","v":{"v":1767,"d":"1,767"}},{"$f":"Portugal!AH$30","v":{"v":1745,"d":"1,745"}},{"v":-1.2450481041312966,"d":"-1.2"},null,{"$f":"Portugal!AG$36","v":0},{"$f":"Portugal!AH$36","v":0},{"v":0,"d":"0.0"},null,{"$f":"Portugal!AG$39","v":249},{"$f":"Portugal!AH$39","v":277},{"v":11.244979919678721,"d":"11.2"},null,{"$f":"R74+N74+J74+F74+B74","v":{"v":4233,"d":"4,233"}},{"v":4268,"d":"4,268"},{"v":0.8268367587999093,"d":"0.8"}]
["AT",{"$f":"Austria!AG$16","v":611},{"$f":"Austria!AH$16","v":649},{"v":6.219312602291316,"d":"6.2"},null,{"$f":"Austria!AG$23","v":279},{"$f":"Austria!AH$23","v":274},{"v":-1.7921146953404965,"d":"-1.8"},null,{"$f":"Austria!AG$30","v":661},{"$f":"Austria!AH$30","v":697},{"v":5.446293494705001,"d":"5.4"},null,{"$f":"Austria!AG$36","v":0},{"$f":"Austria!AH$36","v":0},{"v":0,"d":"0.0"},null,{"$f":"Austria!AG$39","v":127},{"$f":"Austria!AH$39","v":141},{"v":11.023622047244096,"d":"11.0"},null,{"$f":"R75+N75+J75+F75+B75","v":{"v":1678,"d":"1,678"}},{"v":1761,"d":"1,761"},{"v":4.946364719904639,"d":"4.9"}]
["SE",{"$f":"Sweden!AG$16","v":913},{"$f":"Sweden!AH$16","v":884},{"v":-3.176341730558596,"d":"-3.2"},null,{"$f":"Sweden!AG$23","v":323},{"$f":"Sweden!AH$23","v":325},{"v":0.6191950464396356,"d":"0.6"},null,{"$f":"Sweden!AG$30","v":717},{"$f":"Sweden!AH$30","v":697},{"v":-2.789400278940024,"d":"-2.8"},null,{"$f":"Sweden!AG$36","v":3},{"$f":"Sweden!AH$36","v":3},{"$f":"((O76/N76)-1)*100","v":{"v":0,"d":"0.0"}},null,{"$f":"Sweden!AG$39","v":68},{"$f":"Sweden!AH$39","v":71},{"v":4.4117647058823595,"d":"4.4"},null,{"$f":"R76+N76+J76+F76+B76","v":{"v":2024,"d":"2,024"}},{"v":1980,"d":"1,980"},{"v":-2.1739130434782594,"d":"-2.2"}]
["FI",{"$f":"Finland!AG$16","v":703},{"$f":"Finland!AH$16","v":672},{"v":-4.409672830725464,"d":"-4.4"},null,{"$f":"Finland!AG$23","v":246},{"$f":"Finland!AH$23","v":246},{"v":0,"d":"0.0"},null,{"$f":"Finland!AG$30","v":390},{"$f":"Finland!AH$30","v":418},{"v":7.179487179487176,"d":"7.2"},null,{"$f":"Finland!AG$36","v":0},{"$f":"Finland!AH$36","v":0},{"v":0,"d":"0.0"},null,{"$f":"Finland!AG$39","v":110},{"$f":"Finland!AH$39","v":110},{"v":0,"d":"0.0"},null,{"$f":"R77+N77+J77+F77+B77","v":{"v":1449,"d":"1,449"}},{"v":1446,"d":"1,446"},{"v":-0.20703933747412417,"d":"-0.2"}]
["CY",{"$f":"Cyprus!AG$16","v":180},{"$f":"Cyprus!AH$16","v":180},{"v":0,"d":"0.0"},null,{"$f":"Cyprus!AG$23","v":{"v":4.7,"d":"5"}},{"$f":"Cyprus!AH$23","v":{"v":4.7,"d":"5"}},{"v":0,"d":"0.0"},null,{"$f":"Cyprus!AG$30","v":37},{"$f":"Cyprus!AH$30","v":37},{"v":0,"d":"0.0"},null,{"$f":"Cyprus!AG$36","v":0},{"$f":"Cyprus!AH$36","v":0},{"v":0,"d":"0.0"},null,{"$f":"Cyprus!AG$39","v":137},{"$f":"Cyprus!AH$39","v":137},{"v":0,"d":"0.0"},null,{"$f":"R78+N78+J78+F78+B78","v":{"v":358.7,"d":"359"}},{"v":358.7,"d":"359"},{"v":0,"d":"0.0"}]
["CZ",{"$f":"'Czech Rep'!AG$16","v":570},{"$f":"'Czech Rep'!AH$16","v":598},{"v":4.912280701754379,"d":"4.9"},null,{"$f":"'Czech Rep'!AG$23","v":761},{"$f":"'Czech Rep'!AH$23","v":796},{"v":4.599211563731931,"d":"4.6"},null,{"$f":"'Czech Rep'!AG$30","v":{"v":1044,"d":"1,044"}},{"$f":"'Czech Rep'!AH$30","v":{"v":1071,"d":"1,071"}},{"v":2.586206896551735,"d":"2.6"},null,{"$f":"'Czech Rep'!AG$36","v":1},{"$f":"'Czech Rep'!AH$36","v":1},{"$f":"((O79/N79)-1)*100","v":{"v":0,"d":"0.0"}},null,{"$f":"'Czech Rep'!AG$39","v":87},{"$f":"'Czech Rep'!AH$39","v":102},{"v":17.24137931034482,"d":"17.2"},null,{"$f":"R79+N79+J79+F79+B79","v":{"v":2463,"d":"2,463"}},{"v":2568,"d":"2,568"},{"v":4.263093788063332,"d":"4.3"}]
["EE",{"$f":"Estonia!AG$16","v":40},{"$f":"Estonia!AH$16","v":40},{"v":0,"d":"0.0"},null,{"$f":"Estonia!AG$23","v":140},{"$f":"Estonia!AH$23","v":140},{"v":0,"d":"0.0"},null,{"$f":"Estonia!AG$30","v":48},{"$f":"Estonia!AH$30","v":48},{"v":0,"d":"0.0"},null,{"$f":"Estonia!AG$36","v":0},{"$f":"Estonia!AH$36","v":0},{"v":0,"d":"0.0"},null,{"$f":"Estonia!AG$39","v":2},{"$f":"Estonia!AH$39","v":2},{"v":0,"d":"0.0"},null,{"$f":"R80+N80+J80+F80+B80","v":230},230,{"v":0,"d":"0.0"}]
["HU",{"$f":"Hungary!AG$16","v":428},{"$f":"Hungary!AH$16","v":433},{"v":1.1682242990654235,"d":"1.2"},null,{"$f":"Hungary!AG$23","v":{"v":1399,"d":"1,399"}},{"$f":"Hungary!AH$23","v":{"v":1382,"d":"1,382"}},{"v":-1.2151536812008534,"d":"-1.2"},null,{"$f":"Hungary!AG$30","v":{"v":1868,"d":"1,868"}},{"$f":"Hungary!AH$30","v":{"v":1997,"d":"1,997"}},{"v":6.905781584582438,"d":"6.9"},null,{"$f":"Hungary!AG$36","v":0},{"$f":"Hungary!AH$36","v":0},{"v":0,"d":"0.0"},null,{"$f":"Hungary!AG$39","v":130},{"$f":"Hungary!AH$39","v":144},{"v":10.769230769230775,"d":"10.8"},null,{"$f":"R81+N81+J81+F81+B81","v":{"v":3825,"d":"3,825"}},{"v":3956,"d":"3,956"},{"v":3.4248366013071907,"d":"3.4"}]
["LV",{"$f":"Latvia!AG$16","v":64},{"$f":"Latvia!AH$16","v":64},{"v":0,"d":"0.0"},null,{"$f":"Latvia!AG$23","v":66},{"$f":"Latvia!AH$23","v":66},{"v":0,"d":"0.0"},null,{"$f":"Latvia!AG$30","v":202},{"$f":"Latvia!AH$30","v":202},{"v":0,"d":"0.0"},null,{"$f":"Latvia!AG$36","v":0},{"$f":"Latvia!AH$36","v":0},{"v":0,"d":"0.0"},null,{"$f":"Latvia!AG$39","v":14},{"$f":"Latvia!AH$39","v":14},{"v":0,"d":"0.0"},null,{"$f":"R82+N82+J82+F82+B82","v":346},346,{"v":0,"d":"0.0"}]
["LT",{"$f":"Lithuania!AG$16","v":152},{"$f":"Lithuania!AH$16","v":155},{"v":1.9736842105263053,"d":"2.0"},null,{"$f":"Lithuania!AG$23","v":28},{"$f":"Lithuania!AH$23","v":50},{"v":78.57142857142858,"d":"78.6"},null,{"$f":"Lithuania!AG$30","v":275},{"$f":"Lithuania!AH$30","v":217},{"v":-21.090909090909093,"d":"-21.1"},null,{"$f":"Lithuania!AG$36","v":0},{"$f":"Lithuania!AH$36","v":0},{"v":0,"d":"0.0"},null,{"$f":"Lithuania!AG$39","v":177},{"$f":"Lithuania!AH$39","v":216},{"v":22.033898305084755,"d":"22.0"},null,{"$f":"R83+N83+J83+F83+B83","v":632},638,{"v":0.9493670886076,"d":"0.9"}]
["PL",{"$f":"Poland!AG$16","v":{"v":1255,"d":"1,255"}},{"$f":"Poland!AH$16","v":{"v":1213,"d":"1,213"}},{"v":-3.3466135458167345,"d":"-3.3"},null,{"$f":"Poland!AG$23","v":{"v":2495,"d":"2,495"}},{"$f":"Poland!AH$23","v":{"v":2444,"d":"2,444"}},{"v":-2.0440881763527097,"d":"-2.0"},null,{"$f":"Poland!AG$30","v":{"v":7114,"d":"7,114"}},{"$f":"Poland!AH$30","v":{"v":6303,"d":"6,303"}},{"v":-11.400056227157718,"d":"-11.4"},null,{"$f":"Poland!AG$36","v":0},{"$f":"Poland!AH$36","v":0},{"v":0,"d":"0.0"},null,{"$f":"Poland!AG$39","v":723},{"$f":"Poland!AH$39","v":765},{"v":5.809128630705396,"d":"5.8"},null,{"$f":"R84+N84+J84+F84+B84","v":{"v":11587,"d":"11,587"}},{"v":10725,"d":"10,725"},{"v":-7.439371709674636,"d":"-7.4"}]
["SK",{"$f":"Slovakia!AG$16","v":{"v":194.83999999999997,"d":"195"}},{"$f":"Slovakia!AH$16","v":{"v":187.15,"d":"187"}},{"v":-3.9468281667008664,"d":"-3.9"},null,{"$f":"Slovakia!AG$23","v":{"v":247.56099999999998,"d":"248"}},{"$f":"Slovakia!AH$23","v":{"v":265.291,"d":"265"}},{"v":7.1618712155792075,"d":"7.2"},null,{"$f":"Slovakia!AG$30","v":{"v":207.46699999999998,"d":"207"}},{"$f":"Slovakia!AH$30","v":{"v":210.779,"d":"211"}},{"v":1.5963984633700745,"d":"1.6"},null,{"$f":"Slovakia!AG$36","v":0},{"$f":"Slovakia!AH$36","v":0},{"v":0,"d":"0.0"},null,{"$f":"+Slovakia!AG$39","v":14},{"$f":"+Slovakia!AH$39","v":15},{"v":7.14285714285714,"d":"7.1"},null,{"$f":"R85+N85+J85+F85+B85","v":{"v":663.8679999999999,"d":"664"}},{"v":678.22,"d":"678"},{"v":2.161875553573922,"d":"2.2"}]
["SI",{"$f":"Slovenia!AG$16","v":87},{"$f":"Slovenia!AH$16","v":88},{"v":1.1494252873563315,"d":"1.1"},null,{"$f":"Slovenia!AG$23","v":43},{"$f":"Slovenia!AH$23","v":42},{"v":-2.3255813953488413,"d":"-2.3"},null,{"$f":"Slovenia!AG$30","v":255},{"$f":"Slovenia!AH$30","v":258},{"v":1.17647058823529,"d":"1.2"},null,{"$f":"Slovenia!AG$36","v":0},{"$f":"Slovenia!AH$36","v":0},{"v":0,"d":"0.0"},null,{"$f":"Slovenia!AG$39","v":{"v":12.5,"d":"13"}},{"$f":"Slovenia!AH$39","v":6},{"v":-52,"d":"-52.0"},null,{"$f":"R86+N86+J86+F86+B86","v":{"v":397.5,"d":"398"}},394,{"v":-0.8805031446540879,"d":"-0.9"}]
["BU",{"$f":"Bulgaria!AG$16","v":190},{"$f":"Bulgaria!AH$16","v":205},{"v":7.8947368421052655,"d":"7.9"},null,{"$f":"Bulgaria!AG$23","v":317},{"$f":"Bulgaria!AH$23","v":405},{"v":27.760252365930604,"d":"27.8"},null,{"$f":"Bulgaria!AG$30","v":603},{"$f":"Bulgaria!AH$30","v":623},{"v":3.316749585406309,"d":"3.3"},null,{"$f":"Bulgaria!AG$36","v":0},{"$f":"Bulgaria!AH$36","v":0},{"v":0,"d":"0.0"},null,{"$f":"Bulgaria!AG$39","v":71},{"$f":"Bulgaria!AH$39","v":68},{"v":-4.225352112676061,"d":"-4.2"},null,{"$f":"R87+N87+J87+F87+B87","v":{"v":1181,"d":"1,181"}},{"v":1301,"d":"1,301"},{"v":10.160880609652834,"d":"10.2"}]
["RO",{"$f":"Romania!AG$17","v":87},{"$f":"Romania!AH$17","v":90},{"v":3.4482758620689724,"d":"3.4"},null,{"$f":"Romania!AG$24","v":{"v":1050,"d":"1,050"}},{"$f":"Romania!AH$24","v":{"v":1080,"d":"1,080"}},{"v":2.857142857142847,"d":"2.9"},null,{"$f":"Romania!AG$31","v":{"v":1520,"d":"1,520"}},{"$f":"Romania!AH$31","v":{"v":1600,"d":"1,600"}},{"v":5.263157894736836,"d":"5.3"},null,{"$f":"Romania!AG$37","v":0},{"$f":"Romania!AH$37","v":0},{"v":0,"d":"0.0"},null,{"$f":"Romania!AG$40","v":135},{"$f":"Romania!AH$40","v":140},{"v":3.703703703703698,"d":"3.7"},null,{"$f":"R88+N88+J88+F88+B88","v":{"v":2792,"d":"2,792"}},{"v":2910,"d":"2,910"},{"v":4.226361031518633,"d":"4.2"}]
["HR",{"$f":"Croatia!AG$16","v":95},{"$f":"Croatia!AH$16","v":95},{"v":0,"d":"0.0"},null,{"$f":"Croatia!AG$23","v":270},{"$f":"Croatia!AH$23","v":270},{"v":0,"d":"0.0"},null,{"$f":"Croatia!AG$30","v":300},{"$f":"Croatia!AH$30","v":300},{"v":0,"d":"0.0"},null,{"$f":"Croatia!AG$36","v":0},{"$f":"Croatia!AC$36","v":0},{"v":0,"d":"0.0"},null,{"$f":"Croatia!AG$39","v":15},{"$f":"Croatia!AH$39","v":15},{"v":0,"d":"0.0"},null,{"$f":"R89+N89+J89+F89+B89","v":680},680,{"v":0,"d":"0.0"}]
[]
["EUR 27*+UK",{"$f":"SUM(B65:B89)","v":{"v":47827.081,"d":"47,827"}},{"v":47780.8445,"d":"47,781"},{"$f":"((C91/B91)-1)*100","v":{"v":-0.09667430885025308,"d":"-0.1"}},null,{"$f":"SUM(F65:F89)","v":{"v":53585.684,"d":"53,586"}},{"v":54941.23499999999,"d":"54,941"},{"$f":"((G91/F91)-1)*100","v":{"v":2.529688713127176,"d":"2.5"}},null,{"$f":"SUM(J65:J89)","v":{"v":56107.831,"d":"56,108"}},{"v":56230.789500000006,"d":"56,231"},{"$f":"((K91/J91)-1)*100","v":{"v":0.21914677115215664,"d":"0.2"}},null,{"$f":"SUM(N65:N89)","v":{"v":1139,"d":"1,139"}},{"v":1143,"d":"1,143"},{"$f":"((O91/N91)-1)*100","v":{"v":0.3511852502194879,"d":"0.4"}},null,{"$f":"SUM(R65:R89)","v":{"v":8299.779999999999,"d":"8,300"}},{"v":8508.0295,"d":"8,508"},{"$f":"((S91/R91)-1)*100","v":{"v":2.509096626657592,"d":"2.5"}},null,{"$f":"SUM(V65:V89)","v":{"v":166959.376,"d":"166,959"}},{"v":168603.8985,"d":"168,604"},{"$f":"((W91/V91)-1)*100","v":{"v":0.9849836166134329,"d":"0.98"}}]
[]
[{"$nulls":23}," "]
["* Without Luxemburg, Greece and Malta"]
[": not available"]
["From 2015 on, the Dutch production of milk replacers is a rough estimate, due to statistical confidentiality ","From 2015 on, the Dutch production of milk replacers is a rough estimate, due to statistical confidentiality "]

{"sheet":"2021","index":64,"n_rows":90,"n_cols":15,"rows_kept":90,"merged":[[2,0,2,14],[3,0,3,14],[51,0,51,14],[52,0,52,14]]}
[]
[{"$nulls":14},"INDUSTRIAL COMPOUND FEED PRODUCTION"]
[2021]
["final"]
[{"$nulls":14},"(1 000 t)"]
[]
["Types of feed","DE","FR","IT","NL","BE","UK","IE","DK","ES","PT","AT","SE","FI","EU-14+UK*"]
[]
[null," ",{"$nulls":4}," ",null,null," "]
["Cattle",{"$f":"Germany!AH16","v":{"v":7036.6945000000005,"d":"7,037"}},{"$f":"France!AH16","v":{"v":5345,"d":"5,345"}},{"$f":"Italy!AH16","v":{"v":3659,"d":"3,659"}},{"$f":"'The Netherlands'!AH16","v":{"v":4380,"d":"4,380"}},{"$f":"Belgium!AH16","v":{"v":1466,"d":"1,466"}},{"$f":"UK!AH16","v":{"v":5468,"d":"5,468"}},{"$f":"Ireland!AH16","v":{"v":3350,"d":"3,350"}},{"$f":"Denmark!AH16","v":{"v":1130,"d":"1,130"}},{"$f":"Spain!AH16","v":{"v":9320,"d":"9,320"}},{"$f":"Portugal!AH16","v":{"v":1073,"d":"1,073"}},{"$f":"Austria!AH16","v":649},{"$f":"Sweden!AH16","v":884},{"$f":"Finland!AH16","v":672},{"$f":"SUM(B10:N10)-G10","v":{"v":38964.6945,"d":"38,965"}}]
["fattening",{"$f":"Germany!AH17","v":":"},{"$f":"France!AH17","v":{"v":1873,"d":"1,873"}},{"$f":"Italy!AH17","v":788},{"$f":"'The Netherlands'!AH17","v":61},{"$f":"Belgium!AH17","v":459},{"$f":"UK!AH17","v":{"v":1399,"d":"1,399"}},{"$f":"Ireland!AH17","v":{"v":1088,"d":"1,088"}},":",":",{"$f":"Portugal!AH17","v":423},{"$f":"Austria!AH17","v":":"},":",":",":"]
["dairy cow",{"$f":"Germany!AH18","v":":"},{"$f":"France!AH18","v":{"v":3472,"d":"3,472"}},{"$f":"Italy!AH18","v":{"v":2640,"d":"2,640"}},{"$f":"'The Netherlands'!AH18","v":{"v":3471,"d":"3,471"}},{"$f":"Belgium!AH18","v":765},{"$f":"UK!AH18","v":{"v":3785,"d":"3,785"}},{"$f":"Ireland!AH18","v":{"v":1805,"d":"1,805"}},{"$f":"Denmark!AH18","v":0},":",{"$f":"Portugal!AH18","v":564},{"$f":"Austria!AH18","v":":"},":",{"$f":"Finland!AH18","v":0},":"]
["calves (excl. milk replacers)",{"$f":"Germany!AH19","v":{"v":336.64,"d":"337"}},{"$f":"France!AH19","v":0},{"$f":"Italy!AH19","v":95},{"$f":"'The Netherlands'!AH19","v":848},{"$f":"Belgium!AH19","v":241},{"$f":"UK!AH19","v":277},{"$f":"Ireland!AH19","v":0},{"$f":"Denmark!AH19","v":0},":",{"$f":"Portugal!AH19","v":62},{"$f":"Austria!AH19","v":":"},":",{"$f":"Finland!AH19","v":0},":"]
["others",{"$f":"Germany!AH20","v":":"},{"$f":"France!AH20","v":0},{"$f":"Italy!AH20","v":136},{"$f":"'The Netherlands'!AH20","v":0},{"$f":"Belgium!AH20","v":0},{"$f":"UK!AH20","v":7},{"$f":"Ireland!AH20","v":457},{"$f":"Denmark!AH20","v":0},":",{"$f":"Portugal!AH20","v":24},{"$f":"Austria!AH20","v":":"},":",{"$f":"Finland!AH20","v":0},":"]
[]
[]
["Pigs",{"$f":"Germany!AH23","v":{"v":9413.244,"d":"9,413"}},{"$f":"France!AH23","v":{"v":4846,"d":"4,846"}},{"$f":"Italy!AH23","v":{"v":4101,"d":"4,101"}},{"$f":"'The Netherlands'!AH23","v":{"v":4668,"d":"4,668"}},{"$f":"Belgium!AH23","v":{"v":3558,"d":"3,558"}},{"$f":"UK!AH23","v":{"v":2387,"d":"2,387"}},{"$f":"Ireland!AH23","v":781},{"$f":"Denmark!AH23","v":{"v":2863,"d":"2,863"}},{"$f":"Spain!AH23","v":{"v":13361,"d":"13,361"}},{"$f":"Portugal!AH23","v":{"v":1173,"d":"1,173"}},{"$f":"Austria!AH23","v":274},{"$f":"Sweden!AH23","v":325},{"$f":"Finland!AH23","v":246},{"$f":"SUM(B17:N17)-G17","v":{"v":45609.244,"d":"45,609"}}]
["piglets",{"$f":"Germany!AH24","v":":"},{"$f":"France!AH24","v":707},{"$f":"Italy!AH24","v":0},{"$f":"'The Netherlands'!AH24","v":628},{"$f":"Belgium!AH24","v":992},{"$f":"UK!AH24","v":236},{"$f":"Ireland!AH24","v":0},{"$f":"Denmark!AH24","v":0},":",{"$f":"Portugal!AH24","v":125},{"$f":"Austria!AH24","v":":"},":",{"$f":"Finland!AH24","v":48},":"]
["pigs for fattening",{"$f":"Germany!AH25","v":":"},{"$f":"France!AH25","v":{"v":3385,"d":"3,385"}},{"$f":"Italy!AH25","v":0},{"$f":"'The Netherlands'!AH25","v":{"v":3014,"d":"3,014"}},{"$f":"Belgium!AH25","v":{"v":2085,"d":"2,085"}},{"$f":"UK!AH25","v":{"v":1643,"d":"1,643"}},{"$f":"Ireland!AH25","v":0},{"$f":"Denmark!AH25","v":0},":",{"$f":"Portugal!AH25","v":772},{"$f":"Austria!AH25","v":":"},":",{"$f":"Finland!AH25","v":78},":"]
["breeding pigs",{"$f":"Germany!AH26","v":":"},{"$f":"France!AH26","v":754},{"$f":"Italy!AH26","v":0},{"$f":"'The Netherlands'!AH26","v":{"v":1026,"d":"1,026"}},{"$f":"Belgium!AH26","v":481},{"$f":"UK!AH26","v":501},{"$f":"Ireland!AH26","v":0},{"$f":"Denmark!AH26","v":0},":",{"$f":"Portugal!AH26","v":255},{"$f":"Austria!AH26","v":":"},":",{"$f":"Finland!AH26","v":51},":"]
["others",{"$f":"Germany!AH27","v":":"},{"$f":"France!AH27","v":0},{"$f":"Italy!AH27","v":0},{"$f":"'The Netherlands'!AH27","v":0},{"$f":"Belgium!AH27","v":0},{"$f":"UK!AH27","v":7},{"$f":"Ireland!AH27","v":0},{"$f":"Denmark!AH27","v":0},":",{"$f":"Portugal!AH27","v":21},{"$f":"Austria!AH27","v":":"},":",{"$f":"Finland!AH27","v":68},":"]
[{"$nulls":3}," "]
[]
["Poultry",{"$f":"Germany!AH30","v":{"v":6358.0105,"d":"6,358"}},{"$f":"France!AH30","v":{"v":8556,"d":"8,556"}},{"$f":"Italy!AH30","v":{"v":6372,"d":"6,372"}},{"$f":"'The Netherlands'!AH30","v":{"v":4153,"d":"4,153"}},{"$f":"Belgium!AH30","v":{"v":1249,"d":"1,249"}},{"$f":"UK!AH30","v":{"v":7360,"d":"7,360"}},{"$f":"Ireland!AH30","v":699},{"$f":"Denmark!AH30","v":673},{"$f":"Spain!AH30","v":{"v":4387,"d":"4,387"}},{"$f":"Portugal!AH30","v":{"v":1745,"d":"1,745"}},{"$f":"Austria!AH30","v":697},{"$f":"Sweden!AH30","v":697},{"$f":"Finland!AH30","v":418},{"$f":"SUM(B24:N24)-G24","v":{"v":36004.010500000004,"d":"36,004"}}]
["broilers",{"$f":"Germany!AH31","v":{"v":4024.487,"d":"4,024"}},{"$f":"France!AH31","v":{"v":3483,"d":"3,483"}},{"$f":"Italy!AH31","v":{"v":3213,"d":"3,213"}},{"$f":"'The Netherlands'!AH31","v":{"v":2001,"d":"2,001"}},{"$f":"Belgium!AH31","v":742},{"$f":"UK!AH31","v":{"v":4353,"d":"4,353"}},":",{"$f":"Denmark!AH31","v":0},":",{"$f":"Portugal!AH31","v":928},{"$f":"Austria!AH31","v":":"},":",{"$f":"Finland!AH31","v":281},":"]
["chicks & layers",{"$f":"Germany!AH32","v":{"v":2333.5235,"d":"2,334"}},{"$f":"France!AH32","v":{"v":2768,"d":"2,768"}},{"$f":"Italy!AH32","v":{"v":2187,"d":"2,187"}},{"$f":"'The Netherlands'!AH32","v":{"v":2152,"d":"2,152"}},{"$f":"Belgium!AH32","v":326},{"$f":"UK!AH32","v":{"v":1808,"d":"1,808"}},":",{"$f":"Denmark!AH32","v":0},":",{"$f":"Portugal!AH32","v":563},{"$f":"Austria!AH32","v":":"},":",{"$f":"Finland!AH32","v":111},":"]
["others",{"$f":"Germany!AH33","v":":"},{"$f":"France!AH33","v":{"v":2304,"d":"2,304"}},{"$f":"Italy!AH33","v":972},{"$f":"'The Netherlands'!AH33","v":0},{"$f":"Belgium!AH33","v":181},{"$f":"UK!AH33","v":{"v":1199,"d":"1,199"}},":",{"$f":"Denmark!AH33","v":0},":",{"$f":"Portugal!AH33","v":254},{"$f":"Austria!AH33","v":":"},":",{"$f":"Finland!AH33","v":26},":"]
[]
[]
["Milk replacers",{"$f":"Germany!AH36","v":150},{"$f":"France!AH36","v":303},{"$f":"Italy!AH36","v":92},{"$f":"'The Netherlands'!AH36","v":520},{"$f":"Belgium!AH36","v":74},{"$f":"UK!AH36","v":0},{"$f":"Ireland!AH36","v":0},{"$f":"Denmark!AH36","v":0},{"$f":"Spain!AH36","v":0},{"$f":"Portugal!AH36","v":0},{"$f":"Austria!AH36","v":0},{"$f":"Sweden!AH36","v":3},{"$f":"Finland!AH36","v":0},{"$f":"SUM(B30:N30)","v":{"v":1142,"d":"1,142"}}]
[]
[{"$nulls":3}," "]
["Others",{"$f":"Germany!AH39","v":{"v":613.0295,"d":"613"}},{"$f":"France!AH39","v":{"v":1554,"d":"1,554"}},{"$f":"Italy!AH39","v":970},{"$f":"'The Netherlands'!AH39","v":570},{"$f":"Belgium!AH39","v":394},{"$f":"UK!AH39","v":{"v":1541,"d":"1,541"}},{"$f":"Ireland!AH39","v":236},{"$f":"Denmark!AH39","v":237},{"$f":"Spain!AH39","v":170},{"$f":"Portugal!AH39","v":277},{"$f":"Austria!AH39","v":141},{"$f":"Sweden!AH39","v":71},{"$f":"Finland!AH39","v":110},{"$f":"SUM(B33:N33)-G33","v":{"v":5343.029500000001,"d":"5,343"}}]
[]
[]
["TOTAL",{"$f":"B33+B30+B24+B17+B10","v":{"v":23570.9785,"d":"23,571"}},{"v":20604,"d":"20,604"},{"v":15194,"d":"15,194"},{"v":14291,"d":"14,291"},{"v":6741,"d":"6,741"},{"v":16756,"d":"16,756"},{"v":5066,"d":"5,066"},{"v":4903,"d":"4,903"},{"v":27238,"d":"27,238"},{"v":4268,"d":"4,268"},{"v":1761,"d":"1,761"},{"v":1980,"d":"1,980"},{"v":1446,"d":"1,446"},{"v":127062.97850000001,"d":"127,063"}]
[{"$nulls":4}," "]
[]
["* Without Luxemburg and Greece"]
[": not available"]
["From 2015 on, the Dutch production of milk replacers is a rough estimate, due to statistical confidentiality "]
{"$rows_empty":9}
[{"$nulls":14},"INDUSTRIAL COMPOUND PRODUCTION"]
[2021]
["final"]
[{"$nulls":14},"(1 000 t)"]
[]
["Types of feed","CY","CZ","EE","HU","LV","LT","PL","SK","SI","BU","RO","HR","EU-13**","EU-27***+UK"]
[]
[null," ",{"$nulls":4}," ",null," "]
["Cattle",{"$f":"Cyprus!AH16","v":180},{"$f":"'Czech Rep'!AH16","v":598},{"$f":"Estonia!AH16","v":40},{"$f":"Hungary!AH16","v":433},{"$f":"Latvia!AH16","v":64},{"$f":"Lithuania!AH16","v":155},{"$f":"Poland!AH16","v":{"v":1213,"d":"1,213"}},{"$f":"Slovakia!AH16","v":{"v":187.15,"d":"187"}},{"$f":"Slovenia!AH16","v":88},{"$f":"Bulgaria!AH16","v":205},{"$f":"Romania!AH17","v":90},{"$f":"Croatia!AH16","v":95},{"$f":"SUM(B59:M59)","v":{"v":3348.15,"d":"3,348"}},{"$f":"O10+N59","v":{"v":42312.8445,"d":"42,313"}}]
["fattening",{"$f":"Cyprus!AH17","v":0},{"$f":"'Czech Rep'!AH17","v":99},{"$f":"Estonia!AH17","v":":"},{"$f":"Hungary!AH17","v":0},{"$f":"Latvia!AH17","v":":"},{"$f":"Lithuania!AH17","v":5},{"$f":"Poland!AH17","v":0},{"$f":"Slovakia!AH17","v":16},":",":",":",":",":",":"]
["dairy cow",{"$f":"Cyprus!AH18","v":0},{"$f":"'Czech Rep'!AH18","v":388},{"$f":"Estonia!AH18","v":":"},{"$f":"Hungary!AH18","v":0},{"$f":"Latvia!AH18","v":":"},{"$f":"Lithuania!AH18","v":142},{"$f":"Poland!AH18","v":0},{"$f":"Slovakia!AH18","v":{"v":143.9,"d":"144"}},":",":",":",":",":",":"]
["calves (excl. milk replacers)",{"$f":"Cyprus!AH19","v":0},{"$f":"'Czech Rep'!AH19","v":53},{"$f":"Estonia!AH19","v":":"},{"$f":"Hungary!AH19","v":0},{"$f":"Latvia!AH19","v":":"},{"$f":"Lithuania!AH19","v":3},{"$f":"Poland!AH19","v":0},{"$f":"Slovakia!AH19","v":{"v":10.25,"d":"10"}},":",":",":",":",":",":"]
["others",{"$f":"Cyprus!AH20","v":":"},{"$f":"'Czech Rep'!AH20","v":43},{"$f":"Estonia!AH20","v":":"},{"$f":"Hungary!AH20","v":0},{"$f":"Latvia!AH20","v":":"},{"$f":"Lithuania!AH20","v":5},{"$f":"Poland!AH20","v":0},{"$f":"Slovakia!AH20","v":17},":",":",":",":",":",":"]
[]
[]
["Pigs",{"$f":"Cyprus!AH23","v":{"v":4.7,"d":"5"}},{"$f":"'Czech Rep'!AH23","v":796},{"$f":"Estonia!AH23","v":140},{"$f":"Hungary!AH23","v":{"v":1382,"d":"1,382"}},{"$f":"Latvia!AH23","v":66},{"$f":"Lithuania!AH23","v":50},{"$f":"Poland!AH23","v":{"v":2444,"d":"2,444"}},{"$f":"Slovakia!AH23","v":{"v":265.291,"d":"265"}},{"$f":"Slovenia!AH23","v":42},{"$f":"Bulgaria!AH23","v":405},{"$f":"Romania!AH24","v":{"v":1080,"d":"1,080"}},{"$f":"Croatia!AH23","v":270},{"$f":"SUM(B66:M66)","v":{"v":6944.991,"d":"6,945"}},{"$f":"O17+N66","v":{"v":52554.235,"d":"52,554"}}]
["piglets",{"$f":"Cyprus!AH24","v":0},{"$f":"'Czech Rep'!AH24","v":83},{"$f":"Estonia!AH24","v":":"},{"$f":"Hungary!AH24","v":0},{"$f":"Latvia!AH24","v":":"},{"$f":"Lithuania!AH24","v":15},{"$f":"Poland!AH24","v":0},{"$f":"Slovakia!AH24","v":{"v":31.164,"d":"31"}},":",":",":",":",":",":"]
["pigs for fattening",{"$f":"Cyprus!AH25","v":0},{"$f":"'Czech Rep'!AH25","v":578},{"$f":"Estonia!AH25","v":":"},{"$f":"Hungary!AH25","v":0},{"$f":"Latvia!AH25","v":":"},{"$f":"Lithuania!AH25","v":30},{"$f":"Poland!AH25","v":0},{"$f":"Slovakia!AH25","v":{"v":157.356,"d":"157"}},":",":",":",":",":",":"]
["breeding pigs",{"$f":"Cyprus!AH26","v":0},{"$f":"'Czech Rep'!AH26","v":127},{"$f":"Estonia!AH26","v":":"},{"$f":"Hungary!AH26","v":0},{"$f":"Latvia!AH26","v":":"},{"$f":"Lithuania!AH26","v":5},{"$f":"Poland!AH26","v":0},{"$f":"Slovakia!AH26","v":{"v":31.311,"d":"31"}},":",":",":",":",":",":"]
["others",{"$f":"Cyprus!AH27","v":0},{"$f":"'Czech Rep'!AH27","v":5},{"$f":"Estonia!AH27","v":":"},{"$f":"Hungary!AH27","v":0},{"$f":"Latvia!AH27","v":":"},{"$f":"Lithuania!AH27","v":0},{"$f":"Poland!AH27","v":0},{"$f":"Slovakia!AH27","v":{"v":45.46,"d":"45"}},":",":",":",":",":",":"]
[{"$nulls":3}," "]
[]
["Poultry",{"$f":"Cyprus!AH30","v":37},{"$f":"'Czech Rep'!AH30","v":{"v":1071,"d":"1,071"}},{"$f":"Estonia!AH30","v":48},{"$f":"Hungary!AH30","v":{"v":1997,"d":"1,997"}},{"$f":"Latvia!AH30","v":202},{"$f":"Lithuania!AH30","v":217},{"$f":"Poland!AH30","v":{"v":6303,"d":"6,303"}},{"$f":"Slovakia!AH30","v":{"v":210.779,"d":"211"}},{"$f":"Slovenia!AH30","v":258},{"$f":"Bulgaria!AH30","v":623},{"$f":"Romania!AH31","v":{"v":1600,"d":"1,600"}},{"$f":"Croatia!AH30","v":300},{"$f":"SUM(B73:M73)","v":{"v":12866.779,"d":"12,867"}},{"$f":"O24+N73","v":{"v":48870.789500000006,"d":"48,871"}}]
["broilers",{"$f":"Cyprus!AH31","v":0},{"$f":"'Czech Rep'!AH31","v":531},{"$f":"Estonia!AH31","v":":"},{"$f":"Hungary!AH31","v":936},{"$f":"Latvia!AH31","v":":"},{"$f":"Lithuania!AH31","v":151},{"$f":"Poland!AH31","v":0},{"$f":"Slovakia!AH31","v":{"v":80.396,"d":"80"}},":",":",":",":",":",":"]
["chicks & layers",{"$f":"Cyprus!AH32","v":0},{"$f":"'Czech Rep'!AH32","v":99},{"$f":"Estonia!AH32","v":":"},{"$f":"Hungary!AH32","v":359},{"$f":"Latvia!AH32","v":":"},{"$f":"Lithuania!AH32","v":60},{"$f":"Poland!AH32","v":0},{"$f":"Slovakia!AH32","v":{"v":112.383,"d":"112"}},":",":",":",":",":",":"]
["others",{"$f":"Cyprus!AH33","v":0},{"$f":"'Czech Rep'!AH33","v":80},{"$f":"Estonia!AH33","v":":"},{"$f":"Hungary!AH33","v":702},{"$f":"Latvia!AH33","v":":"},{"$f":"Lithuania!AH33","v":6},{"$f":"Poland!AH33","v":0},{"$f":"Slovakia!AH33","v":18},":",":",":",":",":",":"]
[]
[]
["Milk replacers",{"$f":"Cyprus!AH36","v":0},{"$f":"'Czech Rep'!AH36","v":1},{"$f":"Estonia!AH36","v":0},{"$f":"Hungary!AH36","v":0},{"$f":"Latvia!AH36","v":0},{"$f":"Lithuania!AH36","v":0},{"$f":"Poland!AH36","v":0},{"$f":"Slovakia!AH36","v":0},{"$f":"Slovenia!AH36","v":0},{"$f":"Bulgaria!AH36","v":0},{"$f":"Romania!AH37","v":0},{"$f":"Croatia!AH36","v":0},{"$f":"SUM(B79:M79)","v":1},{"$f":"O30+N79","v":{"v":1143,"d":"1,143"}}]
[]
[{"$nulls":3}," "]
["Others",{"$f":"Cyprus!AH39","v":137},{"$f":"'Czech Rep'!AH39","v":102},{"$f":"Estonia!AH39","v":2},{"$f":"Hungary!AH39","v":144},{"$f":"Latvia!AH39","v":14},{"$f":"Lithuania!AH39","v":216},{"$f":"Poland!AH39","v":765},{"$f":"Slovakia!AH39","v":15},{"$f":"Slovenia!AH39","v":6},{"$f":"Bulgaria!AH39","v":68},{"$f":"Romania!AH40","v":140},{"$f":"Croatia!AH39","v":15},{"$f":"SUM(B82:M82)","v":{"v":1624,"d":"1,624"}},{"$f":"O33+N82","v":{"v":6967.029500000001,"d":"6,967"}}]
[]
[]
["TOTAL",{"$f":"B82+B79+B73+B66+B59","v":{"v":358.7,"d":"359"}},{"v":2568,"d":"2,568"},230,{"v":3956,"d":"3,956"},346,638,{"v":10725,"d":"10,725"},{"v":678.22,"d":"678"},394,{"v":1301,"d":"1,301"},{"v":2910,"d":"2,910"},680,{"v":24784.920000000002,"d":"24,785"},{"v":151847.8985,"d":"151,848"}]
[{"$nulls":4}," "]
[]
["** Without Malta"]
["*** Without Luxemburg, Greece and Malta"]
[": not available"]

{"sheet":"2021-22","index":65,"n_rows":98,"n_cols":24,"rows_kept":98,"merged":[[9,1,9,3],[9,5,9,7],[9,9,9,11],[9,13,9,15],[9,17,9,19],[9,21,9,23],[62,1,62,3],[62,5,62,7],[62,9,62,11],[62,13,62,15],[62,17,62,19],[62,21,62,23]]}
["2024-06-11"]
["TAV: Year-to-year variation"]
["EU 27"]
[]
[{"$nulls":12},"2021-2022",{"$nulls":10},"INDUSTRIAL COMPOUND PRODUCTION"]
[{"$nulls":12},"final",{"$nulls":10},"(1 000 t )"]
[]
[]
[]
["COUNTRY","  CATTLE",{"$nulls":3},"PIGS",{"$nulls":3},"POULTRY",{"$nulls":3},"MILK REPLACERS",{"$nulls":3},"OTHERS",{"$nulls":3},"TOTAL"]
[]
[null,2021,2022,"%TAV",null,2021,2022,"%TAV",null,2021,2022,"%TAV",null,2021,2022,"%TAV",null,2021,2022,"%TAV",null,2021,2022,"%TAV"]
[]
["DE",{"$f":"Germany!AH$16","v":{"v":7036.6945000000005,"d":"7,037"}},{"$f":"Germany!AI$16","v":{"v":6709.928282005179,"d":"6,710"}},{"$f":"((C14/B14)-1)*100","v":{"v":-4.643745980372193,"d":"-4.6"}},null,{"$f":"Germany!AH$23","v":{"v":9413.244,"d":"9,413"}},{"$f":"Germany!AI$23","v":{"v":8541.309382481388,"d":"8,541"}},{"$f":"((G14/F14)-1)*100","v":{"v":-9.262849422777231,"d":"-9.3"}},null,{"$f":"Germany!AH$30","v":{"v":6358.0105,"d":"6,358"}},{"$f":"Germany!AI$30","v":{"v":6191.814812358734,"d":"6,192"}},{"$f":"((K14/J14)-1)*100","v":{"v":-2.613957426482172,"d":"-2.6"}},null,{"$f":"Germany!AH$36","v":150},{"$f":"Germany!AI$36","v":160},{"$f":"((O14/N14)-1)*100","v":{"v":6.666666666666665,"d":"6.7"}},null,{"$f":"Germany!AH$39","v":{"v":613.0295,"d":"613"}},{"$f":"Germany!AI$39","v":{"v":600.6789956488391,"d":"601"}},{"$f":"((S14/R14)-1)*100","v":{"v":-2.014667214409893,"d":"-2.0"}},null,{"$f":"R14+N14+J14+F14+B14","v":{"v":23570.9785,"d":"23,571"}},{"v":22203.73147249414,"d":"22,204"},{"$f":"((W14/V14)-1)*100","v":{"v":-5.800552690274873,"d":"-5.8"}}]
["FR",{"$f":"France!AH$16","v":{"v":5345,"d":"5,345"}},{"$f":"France!AI$16","v":{"v":5254,"d":"5,254"}},{"v":-1.7025257249766113,"d":"-1.7"},null,{"$f":"France!AH$23","v":{"v":4846,"d":"4,846"}},{"$f":"France!AI$23","v":{"v":4543,"d":"4,543"}},{"v":-6.252579446966566,"d":"-6.3"},null,{"$f":"France!AH$30","v":{"v":8556,"d":"8,556"}},{"$f":"France!AI$30","v":{"v":7677,"d":"7,677"}},{"v":-10.273492286115005,"d":"-10.3"},null,{"$f":"France!AH36","v":303},{"$f":"France!AI36","v":273},{"v":-9.9009900990099,"d":"-9.9"},null,{"$f":"France!AH$39","v":{"v":1554,"d":"1,554"}},{"$f":"France!AI$39","v":{"v":1487,"d":"1,487"}},{"v":-4.311454311454311,"d":"-4.3"},null,{"$f":"R15+N15+J15+F15+B15","v":{"v":20604,"d":"20,604"}},{"v":19234,"d":"19,234"},{"v":-6.649194331197828,"d":"-6.6"}]
["IT",{"$f":"Italy!AH$16","v":{"v":3659,"d":"3,659"}},{"$f":"Italy!AI$16","v":{"v":3705,"d":"3,705"}},{"v":1.2571740912817653,"d":"1.3"},null,{"$f":"Italy!AH$23","v":{"v":4101,"d":"4,101"}},{"$f":"Italy!AI$23","v":{"v":4043,"d":"4,043"}},{"v":-1.4142891977566463,"d":"-1.4"},null,{"$f":"Italy!AH$30","v":{"v":6372,"d":"6,372"}},{"$f":"Italy!AI$30","v":{"v":5705,"d":"5,705"}},{"v":-10.467671060891403,"d":"-10.5"},null,{"$f":"Italy!AH$36","v":92},{"$f":"Italy!AI$36","v":92},{"v":0,"d":"0.0"},null,{"$f":"+Italy!AH$39","v":970},{"$f":"+Italy!AI$39","v":974},{"v":0.4123711340206171,"d":"0.4"},null,{"$f":"R16+N16+J16+F16+B16","v":{"v":15194,"d":"15,194"}},{"v":14519,"d":"14,519"},{"v":-4.442543109122021,"d":"-4.4"}]
["NL   ",{"$f":"'The Netherlands'!AH$16","v":{"v":4380,"d":"4,380"}},{"$f":"'The Netherlands'!AI$16","v":{"v":4380,"d":"4,380"}},{"v":0,"d":"0.0"},null,{"$f":"'The Netherlands'!AH$23","v":{"v":4668,"d":"4,668"}},{"$f":"'The Netherlands'!AI$23","v":{"v":4668,"d":"4,668"}},{"v":0,"d":"0.0"},null,{"$f":"'The Netherlands'!AH$30","v":{"v":4153,"d":"4,153"}},{"$f":"'The Netherlands'!AI$30","v":{"v":4153,"d":"4,153"}},{"v":0,"d":"0.0"},null,{"$f":"'The Netherlands'!AH$36","v":520},{"$f":"'The Netherlands'!AI$36","v":520},{"v":0,"d":"0.0"},null,{"$f":"'The Netherlands'!AH$39","v":570},{"$f":"'The Netherlands'!AI$39","v":570},{"v":0,"d":"0.0"},null,{"$f":"R17+N17+J17+F17+B17","v":{"v":14291,"d":"14,291"}},{"v":14291,"d":"14,291"},{"v":0,"d":"0.0"}]
["BE",{"$f":"Belgium!AH$16","v":{"v":1466,"d":"1,466"}},{"$f":"Belgium!AI$16","v":{"v":1437,"d":"1,437"}},{"v":-1.9781718963165051,"d":"-2.0"},null,{"$f":"Belgium!AH$23","v":{"v":3558,"d":"3,558"}},{"$f":"Belgium!AI$23","v":{"v":3249,"d":"3,249"}},{"v":-8.684654300168637,"d":"-8.7"},null,{"$f":"Belgium!AH$30","v":{"v":1249,"d":"1,249"}},{"$f":"Belgium!AI$30","v":{"v":1224,"d":"1,224"}},{"v":-2.001601281024823,"d":"-2.0"},null,{"$f":"Belgium!AH$36","v":74},{"$f":"Belgium!AI$36","v":68},{"v":-8.108108108108103,"d":"-8.1"},null,{"$f":"Belgium!AH$39","v":394},{"$f":"Belgium!AI$39","v":372},{"v":-5.58375634517766,"d":"-5.6"},null,{"$f":"R18+N18+J18+F18+B18","v":{"v":6741,"d":"6,741"}},{"v":6350,"d":"6,350"},{"v":-5.800326361074026,"d":"-5.8"}]
[]
["IE",{"$f":"Ireland!AH$16","v":{"v":3350,"d":"3,350"}},{"$f":"Ireland!AI$16","v":{"v":3515,"d":"3,515"}},{"$f":"((C20/B20)-1)*100","v":{"v":4.925373134328348,"d":"4.9"}},null,{"$f":"Ireland!AH$23","v":781},{"$f":"Ireland!AI$23","v":724},{"$f":"((G20/F20)-1)*100","v":{"v":-7.298335467349548,"d":"-7.3"}},null,{"$f":"Ireland!AH$30","v":699},{"$f":"Ireland!AI$30","v":697},{"$f":"((K20/J20)-1)*100","v":{"v":-0.28612303290415086,"d":"-0.3"}},null,{"$f":"Ireland!AH$36","v":0},{"$f":"Ireland!AI$36","v":0},{"v":0,"d":"0.0"},null,{"$f":"Ireland!AH$39","v":236},{"$f":"Ireland!AI$39","v":222},{"$f":"((S20/R20)-1)*100","v":{"v":-5.932203389830503,"d":"-5.9"}},null,{"$f":"R20+N20+J20+F20+B20","v":{"v":5066,"d":"5,066"}},{"v":5158,"d":"5,158"},{"$f":"((W20/V20)-1)*100","v":{"v":1.8160284247927372,"d":"1.8"}}]
["DK ",{"$f":"Denmark!AH$16","v":{"v":1130,"d":"1,130"}},{"$f":"Denmark!AI$16","v":{"v":1104,"d":"1,104"}},{"v":-2.3008849557522137,"d":"-2.3"},null,{"$f":"Denmark!AH$23","v":{"v":2863,"d":"2,863"}},{"$f":"Denmark!AI$23","v":{"v":2546,"d":"2,546"}},{"v":-11.072301781348237,"d":"-11.1"},null,{"$f":"Denmark!AH$30","v":673},{"$f":"Denmark!AI$30","v":643},{"v":-4.457652303120351,"d":"-4.5"},null,{"$f":"Denmark!AH$36","v":0},{"$f":"Denmark!AI$36","v":0},{"v":0,"d":"0.0"},null,{"$f":"Denmark!AH$39","v":237},{"$f":"Denmark!AI$39","v":237},{"v":0,"d":"0.0"},null,{"$f":"R21+N21+J21+F21+B21","v":{"v":4903,"d":"4,903"}},{"v":4530,"d":"4,530"},{"v":-7.607587191515397,"d":"-7.6"}]
["ES",{"$f":"Spain!AH$16","v":{"v":9320,"d":"9,320"}},{"$f":"Spain!AI$16","v":{"v":9059,"d":"9,059"}},{"v":-2.800429184549358,"d":"-2.8"},null,{"$f":"Spain!AH$23","v":{"v":13361,"d":"13,361"}},{"$f":"Spain!AI$23","v":{"v":12987,"d":"12,987"}},{"v":-2.7991916772696634,"d":"-2.8"},null,{"$f":"Spain!AH$30","v":{"v":4387,"d":"4,387"}},{"$f":"Spain!AI$30","v":{"v":4264,"d":"4,264"}},{"v":-2.8037383177570097,"d":"-2.8"},null,{"$f":"Spain!AH$36","v":0},{"$f":"Spain!AI$36","v":0},{"v":0,"d":"0.0"},null,{"$f":"Spain!AH$39","v":170},{"$f":"Spain!AI$39","v":169},{"v":-0.588235294117645,"d":"-0.6"},null,{"$f":"R22+N22+J22+F22+B22","v":{"v":27238,"d":"27,238"}},{"v":26479,"d":"26,479"},{"v":-2.786548204714001,"d":"-2.8"}]
["PT",{"$f":"Portugal!AH$16","v":{"v":1073,"d":"1,073"}},{"$f":"Portugal!AI$16","v":{"v":1108,"d":"1,108"}},{"v":3.2618825722273925,"d":"3.3"},null,{"$f":"Portugal!AH$23","v":{"v":1173,"d":"1,173"}},{"$f":"Portugal!AI$23","v":973},{"v":-17.05029838022165,"d":"-17.1"},null,{"$f":"Portugal!AH$30","v":{"v":1745,"d":"1,745"}},{"$f":"Portugal!AI$30","v":{"v":1753,"d":"1,753"}},{"v":0.4584527220630408,"d":"0.5"},null,{"$f":"Portugal!AH$36","v":0},{"$f":"Portugal!AI$36","v":0},{"v":0,"d":"0.0"},null,{"$f":"Portugal!AH$39","v":277},{"$f":"Portugal!AI$39","v":283},{"v":2.166064981949467,"d":"2.2"},null,{"$f":"R23+N23+J23+F23+B23","v":{"v":4268,"d":"4,268"}},{"v":4117,"d":"4,117"},{"v":-3.537956888472349,"d":"-3.5"}]
["AT",{"$f":"Austria!AH$16","v":649},{"$f":"Austria!AI$16","v":634},{"v":-2.3112480739599373,"d":"-2.3"},null,{"$f":"Austria!AH$23","v":274},{"$f":"Austria!AI$23","v":267},{"v":-2.5547445255474477,"d":"-2.6"},null,{"$f":"Austria!AH$30","v":697},{"$f":"Austria!AI$30","v":721},{"v":3.4433285509325673,"d":"3.4"},null,{"$f":"Austria!AH$36","v":0},{"$f":"Austria!AI$36","v":0},{"v":0,"d":"0.0"},null,{"$f":"Austria!AH$39","v":141},{"$f":"Austria!AI$39","v":140},{"v":-0.7092198581560294,"d":"-0.7"},null,{"$f":"R24+N24+J24+F24+B24","v":{"v":1761,"d":"1,761"}},{"v":1762,"d":"1,762"},{"v":0.05678591709254999,"d":"0.1"}]
["SE",{"$f":"Sweden!AH$16","v":884},{"$f":"Sweden!AI$16","v":861},{"v":-2.601809954751133,"d":"-2.6"},null,{"$f":"Sweden!AH$23","v":325},{"$f":"Sweden!AI$23","v":338},{"v":4.0000000000000036,"d":"4.0"},null,{"$f":"Sweden!AH$30","v":697},{"$f":"Sweden!AI$30","v":715},{"v":2.582496413199431,"d":"2.6"},null,{"$f":"Sweden!AH$36","v":3},{"$f":"Sweden!AI$36","v":3},{"$f":"((O25/N25)-1)*100","v":{"v":0,"d":"0.0"}},null,{"$f":"Sweden!AH$39","v":71},{"$f":"Sweden!AI$39","v":68},{"v":-4.225352112676061,"d":"-4.2"},null,{"$f":"R25+N25+J25+F25+B25","v":{"v":1980,"d":"1,980"}},{"v":1985,"d":"1,985"},{"v":0.2525252525252597,"d":"0.3"}]
["FI",{"$f":"Finland!AH$16","v":672},{"$f":"Finland!AI$16","v":680},{"v":1.1904761904761862,"d":"1.2"},null,{"$f":"Finland!AH$23","v":246},{"$f":"Finland!AI$23","v":250},{"v":1.6260162601626105,"d":"1.6"},null,{"$f":"Finland!AH$30","v":418},{"$f":"Finland!AI$30","v":420},{"v":0.4784688995215225,"d":"0.5"},null,{"$f":"Finland!AH$36","v":0},{"$f":"Finland!AI$36","v":0},{"v":0,"d":"0.0"},null,{"$f":"Finland!AH$39","v":110},{"$f":"Finland!AI$39","v":110},{"v":0,"d":"0.0"},null,{"$f":"R26+N26+J26+F26+B26","v":{"v":1446,"d":"1,446"}},{"v":1460,"d":"1,460"},{"v":0.9681881051175623,"d":"1.0"}]
["CY",{"$f":"Cyprus!AH$16","v":180},{"$f":"Cyprus!AI$16","v":180},{"v":0,"d":"0.0"},null,{"$f":"Cyprus!AH$23","v":{"v":4.7,"d":"5"}},{"$f":"Cyprus!AI$23","v":{"v":4.7,"d":"5"}},{"v":0,"d":"0.0"},null,{"$f":"Cyprus!AH$30","v":37},{"$f":"Cyprus!AI$30","v":37},{"v":0,"d":"0.0"},null,{"$f":"Cyprus!AH$36","v":0},{"$f":"Cyprus!AI$36","v":0},{"v":0,"d":"0.0"},null,{"$f":"Cyprus!AH$39","v":137},{"$f":"Cyprus!AI$39","v":137},{"v":0,"d":"0.0"},null,{"$f":"R27+N27+J27+F27+B27","v":{"v":358.7,"d":"359"}},{"v":358.7,"d":"359"},{"v":0,"d":"0.0"}]
["CZ",{"$f":"'Czech Rep'!AH$16","v":598},{"$f":"'Czech Rep'!AI$16","v":588},{"v":-1.6722408026755842,"d":"-1.7"},null,{"$f":"'Czech Rep'!AH$23","v":796},{"$f":"'Czech Rep'!AI$23","v":707},{"v":-11.180904522613066,"d":"-11.2"},null,{"$f":"'Czech Rep'!AH$30","v":{"v":1071,"d":"1,071"}},{"$f":"'Czech Rep'!AI$30","v":{"v":1039,"d":"1,039"}},{"v":-2.9878618113912236,"d":"-3.0"},null,{"$f":"'Czech Rep'!AH$36","v":1},{"$f":"'Czech Rep'!AI$36","v":1},{"$f":"((O28/N28)-1)*100","v":{"v":0,"d":"0.0"}},null,{"$f":"'Czech Rep'!AH$39","v":102},{"$f":"'Czech Rep'!AI$39","v":101},{"v":-0.9803921568627416,"d":"-1.0"},null,{"$f":"R28+N28+J28+F28+B28","v":{"v":2568,"d":"2,568"}},{"v":2436,"d":"2,436"},{"v":-5.1401869158878455,"d":"-5.1"}]
["EE",{"$f":"Estonia!AH$16","v":40},{"$f":"Estonia!AI$16","v":40},{"v":0,"d":"0.0"},null,{"$f":"Estonia!AH$23","v":140},{"$f":"Estonia!AI$23","v":140},{"v":0,"d":"0.0"},null,{"$f":"Estonia!AH$30","v":48},{"$f":"Estonia!AI$30","v":48},{"v":0,"d":"0.0"},null,{"$f":"Estonia!AH$36","v":0},{"$f":"Estonia!AI$36","v":0},{"v":0,"d":"0.0"},null,{"$f":"Estonia!AH$39","v":2},{"$f":"Estonia!AI$39","v":2},{"v":0,"d":"0.0"},null,{"$f":"R29+N29+J29+F29+B29","v":230},230,{"v":0,"d":"0.0"}]
["HU",{"$f":"Hungary!AH$16","v":433},{"$f":"Hungary!AI$16","v":403},{"v":-6.928406466512705,"d":"-6.9"},null,{"$f":"Hungary!AH$23","v":{"v":1382,"d":"1,382"}},{"$f":"Hungary!AI$23","v":{"v":1321,"d":"1,321"}},{"v":-4.413892908827788,"d":"-4.4"},null,{"$f":"Hungary!AH$30","v":{"v":1997,"d":"1,997"}},{"$f":"Hungary!AI$30","v":{"v":1786,"d":"1,786"}},{"v":-10.565848773159736,"d":"-10.6"},null,{"$f":"Hungary!AH$36","v":0},{"$f":"Hungary!AI$36","v":0},{"v":0,"d":"0.0"},null,{"$f":"Hungary!AH$39","v":144},{"$f":"Hungary!AI$39","v":127},{"v":-11.805555555555557,"d":"-11.8"},null,{"$f":"R30+N30+J30+F30+B30","v":{"v":3956,"d":"3,956"}},{"v":3637,"d":"3,637"},{"v":-8.063700707785637,"d":"-8.1"}]
["LV",{"$f":"Latvia!AH$16","v":64},{"$f":"Latvia!AI$16","v":64},{"v":0,"d":"0.0"},null,{"$f":"Latvia!AH$23","v":66},{"$f":"Latvia!AI$23","v":66},{"v":0,"d":"0.0"},null,{"$f":"Latvia!AH$30","v":202},{"$f":"Latvia!AI$30","v":202},{"v":0,"d":"0.0"},null,{"$f":"Latvia!AH$36","v":0},{"$f":"Latvia!AI$36","v":0},{"v":0,"d":"0.0"},null,{"$f":"Latvia!AH$39","v":14},{"$f":"Latvia!AI$39","v":14},{"v":0,"d":"0.0"},null,{"$f":"R31+N31+J31+F31+B31","v":346},346,{"v":0,"d":"0.0"}]
["LT",{"$f":"Lithuania!AH$16","v":155},{"$f":"Lithuania!AI$16","v":155},{"v":0,"d":"0.0"},null,{"$f":"Lithuania!AH$23","v":50},{"$f":"Lithuania!AI$23","v":50},{"v":0,"d":"0.0"},null,{"$f":"Lithuania!AH$30","v":217},{"$f":"Lithuania!AI$30","v":219},{"v":0.9216589861751112,"d":"0.9"},null,{"$f":"Lithuania!AH$36","v":0},{"$f":"Lithuania!AI$36","v":0},{"v":0,"d":"0.0"},null,{"$f":"Lithuania!AH$39","v":216},{"$f":"Lithuania!AI$39","v":216},{"v":0,"d":"0.0"},null,{"$f":"R32+N32+J32+F32+B32","v":638},640,{"v":0.31347962382444194,"d":"0.3"}]
["PL",{"$f":"Poland!AH$16","v":{"v":1213,"d":"1,213"}},{"$f":"Poland!AI$16","v":{"v":1176,"d":"1,176"}},{"v":-3.0502885408079106,"d":"-3.1"},null,{"$f":"Poland!AH$23","v":{"v":2444,"d":"2,444"}},{"$f":"Poland!AI$23","v":{"v":2485,"d":"2,485"}},{"v":1.6775777414075321,"d":"1.7"},null,{"$f":"Poland!AH$30","v":{"v":6303,"d":"6,303"}},{"$f":"Poland!AI$30","v":{"v":7247,"d":"7,247"}},{"v":14.976995081707134,"d":"15.0"},null,{"$f":"Poland!AH$36","v":0},{"$f":"Poland!AI$36","v":0},{"v":0,"d":"0.0"},null,{"$f":"Poland!AH$39","v":765},{"$f":"Poland!AI$39","v":734},{"v":-4.052287581699343,"d":"-4.1"},null,{"$f":"R33+N33+J33+F33+B33","v":{"v":10725,"d":"10,725"}},{"v":11642,"d":"11,642"},{"v":8.550116550116549,"d":"8.6"}]
["SK",{"$f":"Slovakia!AH$16","v":{"v":187.15,"d":"187"}},{"$f":"Slovakia!AI$16","v":{"v":179.024,"d":"179"}},{"v":-4.3419716804702135,"d":"-4.3"},null,{"$f":"Slovakia!AH$23","v":{"v":265.291,"d":"265"}},{"$f":"Slovakia!AI$23","v":{"v":200.48000000000002,"d":"200"}},{"v":-24.43015405724279,"d":"-24.4"},null,{"$f":"Slovakia!AH$30","v":{"v":210.779,"d":"211"}},{"$f":"Slovakia!AI$30","v":{"v":278.76300000000003,"d":"279"}},{"v":32.25368751156425,"d":"32.3"},null,{"$f":"Slovakia!AH$36","v":0},{"$f":"Slovakia!AI$36","v":0},{"v":0,"d":"0.0"},null,{"$f":"+Slovakia!AH$39","v":15},{"$f":"+Slovakia!AI$39","v":16},{"v":6.666666666666665,"d":"6.7"},null,{"$f":"R34+N34+J34+F34+B34","v":{"v":678.22,"d":"678"}},{"v":674.267,"d":"674"},{"v":-0.5828492229659976,"d":"-0.6"}]
["SI",{"$f":"Slovenia!AH$16","v":88},{"$f":"Slovenia!AI$16","v":{"v":85.851936,"d":"86"}},{"v":-2.44098181818182,"d":"-2.4"},null,{"$f":"Slovenia!AH$23","v":42},{"$f":"Slovenia!AI$23","v":{"v":43.128058,"d":"43"}},{"v":2.6858523809523804,"d":"2.7"},null,{"$f":"Slovenia!AH$30","v":258},{"$f":"Slovenia!AI$30","v":{"v":257.440508,"d":"257"}},{"v":-0.21685736434107206,"d":"-0.2"},null,{"$f":"Slovenia!AH$36","v":0},{"$f":"Slovenia!AI$36","v":0},{"v":0,"d":"0.0"},null,{"$f":"Slovenia!AH$39","v":6},{"$f":"Slovenia!AI$39","v":{"v":9.982056,"d":"10"}},{"v":66.3676,"d":"66.4"},null,{"$f":"R35+N35+J35+F35+B35","v":394},{"v":396.402558,"d":"396"},{"v":0.6097862944162369,"d":"0.6"}]
["BU",{"$f":"Bulgaria!AH$16","v":205},{"$f":"Bulgaria!AI$16","v":196},{"v":-4.390243902439028,"d":"-4.4"},null,{"$f":"Bulgaria!AH$23","v":405},{"$f":"Bulgaria!AI$23","v":378},{"v":-6.666666666666665,"d":"-6.7"},null,{"$f":"Bulgaria!AH$30","v":623},{"$f":"Bulgaria!AI$30","v":596},{"v":-4.3338683788122,"d":"-4.3"},null,{"$f":"Bulgaria!AH$36","v":0},{"$f":"Bulgaria!AI$36","v":0},{"v":0,"d":"0.0"},null,{"$f":"Bulgaria!AH$39","v":68},{"$f":"Bulgaria!AI$39","v":74},{"v":8.823529411764696,"d":"8.8"},null,{"$f":"R36+N36+J36+F36+B36","v":{"v":1301,"d":"1,301"}},{"v":1244,"d":"1,244"},{"v":-4.38124519600307,"d":"-4.4"}]
["RO",{"$f":"Romania!AH$17","v":90},{"$f":"Romania!AI$17","v":90},{"v":0,"d":"0.0"},null,{"$f":"Romania!AH$24","v":{"v":1080,"d":"1,080"}},{"$f":"Romania!AI$24","v":970},{"v":-10.185185185185187,"d":"-10.2"},null,{"$f":"Romania!AH$31","v":{"v":1600,"d":"1,600"}},{"$f":"Romania!AI$31","v":{"v":1670,"d":"1,670"}},{"v":4.374999999999996,"d":"4.4"},null,{"$f":"Romania!AH$37","v":0},{"$f":"Romania!AI$37","v":0},{"v":0,"d":"0.0"},null,{"$f":"Romania!AH$40","v":140},{"$f":"Romania!AI$40","v":140},{"v":0,"d":"0.0"},null,{"$f":"R37+N37+J37+F37+B37","v":{"v":2910,"d":"2,910"}},{"v":2870,"d":"2,870"},{"v":-1.3745704467353903,"d":"-1.4"}]
["HR",{"$f":"Croatia!AH$16","v":95},{"$f":"Croatia!AI$16","v":95},{"v":0,"d":"0.0"},null,{"$f":"Croatia!AH$23","v":270},{"$f":"Croatia!AI$23","v":260},{"v":-3.703703703703709,"d":"-3.7"},null,{"$f":"Croatia!AH$30","v":300},{"$f":"Croatia!AI$30","v":300},{"v":0,"d":"0.0"},null,{"$f":"Croatia!AH$36","v":0},{"$f":"Croatia!AC$36","v":0},{"v":0,"d":"0.0"},null,{"$f":"Croatia!AH$39","v":15},{"$f":"Croatia!AI$39","v":15},{"v":0,"d":"0.0"},null,{"$f":"R38+N38+J38+F38+B38","v":680},670,{"v":-1.4705882352941124,"d":"-1.5"}]
[]
["EUR 27 *",{"$f":"SUM(B14:B38)","v":{"v":42312.8445,"d":"42,313"}},{"v":41698.80421800518,"d":"41,699"},{"$f":"((C40/B40)-1)*100","v":{"v":-1.4511912145136474,"d":"-1.5"}},null,{"$f":"SUM(F14:F38)","v":{"v":52554.23499999999,"d":"52,554"}},{"v":49754.61744048139,"d":"49,755"},{"$f":"((G40/F40)-1)*100","v":{"v":-5.327101725519567,"d":"-5.3"}},null,{"$f":"SUM(J14:J38)","v":{"v":48870.789500000006,"d":"48,871"}},{"v":47844.01832035873,"d":"47,844"},{"$f":"((K40/J40)-1)*100","v":{"v":-2.1009915946646918,"d":"-2.1"}},null,{"$f":"SUM(N14:N38)","v":{"v":1143,"d":"1,143"}},{"v":1117,"d":"1,117"},{"$f":"((O40/N40)-1)*100","v":{"v":-2.274715660542437,"d":"-2.3"}},null,{"$f":"SUM(R14:R38)","v":{"v":6967.029500000001,"d":"6,967"}},{"v":6818.661051648839,"d":"6,819"},{"$f":"((S40/R40)-1)*100","v":{"v":-2.129579734823306,"d":"-2.1"}},null,{"$f":"SUM(V14:V38)","v":{"v":151847.89849999998,"d":"151,848"}},{"v":147233.10103049414,"d":"147,233"},{"$f":"((W40/V40)-1)*100","v":{"v":-3.039092088262152,"d":"-3.04"}}]
[]
[{"$nulls":23}," "]
["* Without Luxemburg, Greece and Malta"]
[": not available"]
["From 2015 on, the Dutch production of milk replacers is a rough estimate, due to statistical confidentiality "]
{"$rows_empty":8}
["2024-06-11"]
["TAV: Year-to-year variation"]
["EUR 27*+UK"]
[]
[{"$nulls":12},"2021-2022",{"$nulls":10},"INDUSTRIAL COMPOUND PRODUCTION"]
[{"$nulls":12},"final",{"$nulls":10},"(1 000 t )"]
[]
[]
[]
["COUNTRY","  CATTLE",{"$nulls":3},"PIGS",{"$nulls":3},"POULTRY",{"$nulls":3},"MILK REPLACERS",{"$nulls":3},"OTHERS",{"$nulls":3},"TOTAL"]
[]
[null,2021,2022,"%TAV",null,2021,2022,"%TAV",null,2021,2022,"%TAV",null,2020,2021,"%TAV",null,2021,2022,"%TAV",null,2021,2022,"%TAV"]
[]
["DE",{"$f":"Germany!AH$16","v":{"v":7036.6945000000005,"d":"7,037"}},{"$f":"Germany!AI$16","v":{"v":6709.928282005179,"d":"6,710"}},{"$f":"((C67/B67)-1)*100","v":{"v":-4.643745980372193,"d":"-4.6"}},null,{"$f":"Germany!AH$23","v":{"v":9413.244,"d":"9,413"}},{"$f":"Germany!AI$23","v":{"v":8541.309382481388,"d":"8,541"}},{"$f":"((G67/F67)-1)*100","v":{"v":-9.262849422777231,"d":"-9.3"}},null,{"$f":"Germany!AH$30","v":{"v":6358.0105,"d":"6,358"}},{"$f":"Germany!AI$30","v":{"v":6191.814812358734,"d":"6,192"}},{"$f":"((K67/J67)-1)*100","v":{"v":-2.613957426482172,"d":"-2.6"}},null,{"$f":"Germany!AH$36","v":150},{"$f":"Germany!AI$36","v":160},{"$f":"((O67/N67)-1)*100","v":{"v":6.666666666666665,"d":"6.7"}},null,{"$f":"Germany!AH$39","v":{"v":613.0295,"d":"613"}},{"$f":"Germany!AI$39","v":{"v":600.6789956488391,"d":"601"}},{"$f":"((S67/R67)-1)*100","v":{"v":-2.014667214409893,"d":"-2.0"}},null,{"$f":"R67+N67+J67+F67+B67","v":{"v":23570.9785,"d":"23,571"}},{"v":22203.73147249414,"d":"22,204"},{"$f":"((W67/V67)-1)*100","v":{"v":-5.800552690274873,"d":"-5.8"}}]
["FR",{"$f":"France!AH$16","v":{"v":5345,"d":"5,345"}},{"$f":"France!AI$16","v":{"v":5254,"d":"5,254"}},{"v":-1.7025257249766113,"d":"-1.7"},null,{"$f":"France!AH$23","v":{"v":4846,"d":"4,846"}},{"$f":"France!AI$23","v":{"v":4543,"d":"4,543"}},{"v":-6.252579446966566,"d":"-6.3"},null,{"$f":"France!AH$30","v":{"v":8556,"d":"8,556"}},{"$f":"France!AI$30","v":{"v":7677,"d":"7,677"}},{"v":-10.273492286115005,"d":"-10.3"},null,{"$f":"France!AH36","v":303},{"$f":"France!AI36","v":273},{"v":-9.9009900990099,"d":"-9.9"},null,{"$f":"France!AH$39","v":{"v":1554,"d":"1,554"}},{"$f":"France!AI$39","v":{"v":1487,"d":"1,487"}},{"v":-4.311454311454311,"d":"-4.3"},null,{"$f":"R68+N68+J68+F68+B68","v":{"v":20604,"d":"20,604"}},{"v":19234,"d":"19,234"},{"v":-6.649194331197828,"d":"-6.6"}]
["IT",{"$f":"Italy!AH$16","v":{"v":3659,"d":"3,659"}},{"$f":"Italy!AI$16","v":{"v":3705,"d":"3,705"}},{"v":1.2571740912817653,"d":"1.3"},null,{"$f":"Italy!AH$23","v":{"v":4101,"d":"4,101"}},{"$f":"Italy!AI$23","v":{"v":4043,"d":"4,043"}},{"v":-1.4142891977566463,"d":"-1.4"},null,{"$f":"Italy!AH$30","v":{"v":6372,"d":"6,372"}},{"$f":"Italy!AI$30","v":{"v":5705,"d":"5,705"}},{"v":-10.467671060891403,"d":"-10.5"},null,{"$f":"Italy!AH$36","v":92},{"$f":"Italy!AI$36","v":92},{"v":0,"d":"0.0"},null,{"$f":"+Italy!AH$39","v":970},{"$f":"+Italy!AI$39","v":974},{"v":0.4123711340206171,"d":"0.4"},null,{"$f":"R69+N69+J69+F69+B69","v":{"v":15194,"d":"15,194"}},{"v":14519,"d":"14,519"},{"v":-4.442543109122021,"d":"-4.4"}]
["NL   ",{"$f":"'The Netherlands'!AH$16","v":{"v":4380,"d":"4,380"}},{"$f":"'The Netherlands'!AI$16","v":{"v":4380,"d":"4,380"}},{"v":0,"d":"0.0"},null,{"$f":"'The Netherlands'!AH$23","v":{"v":4668,"d":"4,668"}},{"$f":"'The Netherlands'!AI$23","v":{"v":4668,"d":"4,668"}},{"v":0,"d":"0.0"},null,{"$f":"'The Netherlands'!AH$30","v":{"v":4153,"d":"4,153"}},{"$f":"'The Netherlands'!AI$30","v":{"v":4153,"d":"4,153"}},{"v":0,"d":"0.0"},null,{"$f":"'The Netherlands'!AH$36","v":520},{"$f":"'The Netherlands'!AI$36","v":520},{"v":0,"d":"0.0"},null,{"$f":"'The Netherlands'!AH$39","v":570},{"$f":"'The Netherlands'!AI$39","v":570},{"v":0,"d":"0.0"},null,{"$f":"R70+N70+J70+F70+B70","v":{"v":14291,"d":"14,291"}},{"v":14291,"d":"14,291"},{"v":0,"d":"0.0"}]
["BE",{"$f":"Belgium!AH$16","v":{"v":1466,"d":"1,466"}},{"$f":"Belgium!AI$16","v":{"v":1437,"d":"1,437"}},{"v":-1.9781718963165051,"d":"-2.0"},null,{"$f":"Belgium!AH$23","v":{"v":3558,"d":"3,558"}},{"$f":"Belgium!AI$23","v":{"v":3249,"d":"3,249"}},{"v":-8.684654300168637,"d":"-8.7"},null,{"$f":"Belgium!AH$30","v":{"v":1249,"d":"1,249"}},{"$f":"Belgium!AI$30","v":{"v":1224,"d":"1,224"}},{"v":-2.001601281024823,"d":"-2.0"},null,{"$f":"Belgium!AH$36","v":74},{"$f":"Belgium!AI$36","v":68},{"v":-8.108108108108103,"d":"-8.1"},null,{"$f":"Belgium!AH$39","v":394},{"$f":"Belgium!AI$39","v":372},{"v":-5.58375634517766,"d":"-5.6"},null,{"$f":"R71+N71+J71+F71+B71","v":{"v":6741,"d":"6,741"}},{"v":6350,"d":"6,350"},{"v":-5.800326361074026,"d":"-5.8"}]
["UK ",{"$f":"UK!AH$16","v":{"v":5468,"d":"5,468"}},{"$f":"UK!AI$16","v":{"v":5333,"d":"5,333"}},{"v":-2.4689100219458693,"d":"-2.5"},null,{"$f":"UK!AH$23","v":{"v":2387,"d":"2,387"}},{"$f":"UK!AI$23","v":{"v":2314,"d":"2,314"}},{"v":-3.058232090490154,"d":"-3.1"},null,{"$f":"UK!AH$30","v":{"v":7360,"d":"7,360"}},{"$f":"UK!AI$30","v":{"v":6936,"d":"6,936"}},{"v":-5.760869565217385,"d":"-5.8"},null,{"$f":"UK!AH$36","v":0},{"$f":"UK!AI$36","v":0},{"v":0,"d":"0.0"},null,{"$f":"UK!AH$39","v":{"v":1541,"d":"1,541"}},{"$f":"UK!AI$39","v":{"v":1447,"d":"1,447"}},{"v":-6.099935107073328,"d":"-6.1"},null,{"$f":"R72+N72+J72+F72+B72","v":{"v":16756,"d":"16,756"}},{"v":16030,"d":"16,030"},{"v":-4.332776318930531,"d":"-4.3"}]
["IE",{"$f":"Ireland!AH$16","v":{"v":3350,"d":"3,350"}},{"$f":"Ireland!AI$16","v":{"v":3515,"d":"3,515"}},{"v":4.925373134328348,"d":"4.9"},null,{"$f":"Ireland!AH$23","v":781},{"$f":"Ireland!AI$23","v":724},{"v":-7.298335467349548,"d":"-7.3"},null,{"$f":"Ireland!AH$30","v":699},{"$f":"Ireland!AI$30","v":697},{"v":-0.28612303290415086,"d":"-0.3"},null,{"$f":"Ireland!AH$36","v":0},{"$f":"Ireland!AI$36","v":0},{"v":0,"d":"0.0"},null,{"$f":"Ireland!AH$39","v":236},{"$f":"Ireland!AI$39","v":222},{"v":-5.932203389830503,"d":"-5.9"},null,{"$f":"R73+N73+J73+F73+B73","v":{"v":5066,"d":"5,066"}},{"v":5158,"d":"5,158"},{"v":1.8160284247927372,"d":"1.8"}]
["DK ",{"$f":"Denmark!AH$16","v":{"v":1130,"d":"1,130"}},{"$f":"Denmark!AI$16","v":{"v":1104,"d":"1,104"}},{"v":-2.3008849557522137,"d":"-2.3"},null,{"$f":"Denmark!AH$23","v":{"v":2863,"d":"2,863"}},{"$f":"Denmark!AI$23","v":{"v":2546,"d":"2,546"}},{"v":-11.072301781348237,"d":"-11.1"},null,{"$f":"Denmark!AH$30","v":673},{"$f":"Denmark!AI$30","v":643},{"v":-4.457652303120351,"d":"-4.5"},null,{"$f":"Denmark!AH$36","v":0},{"$f":"Denmark!AI$36","v":0},{"v":0,"d":"0.0"},null,{"$f":"Denmark!AH$39","v":237},{"$f":"Denmark!AI$39","v":237},{"v":0,"d":"0.0"},null,{"$f":"R74+N74+J74+F74+B74","v":{"v":4903,"d":"4,903"}},{"v":4530,"d":"4,530"},{"v":-7.607587191515397,"d":"-7.6"}]
["ES",{"$f":"Spain!AH$16","v":{"v":9320,"d":"9,320"}},{"$f":"Spain!AI$16","v":{"v":9059,"d":"9,059"}},{"v":-2.800429184549358,"d":"-2.8"},null,{"$f":"Spain!AH$23","v":{"v":13361,"d":"13,361"}},{"$f":"Spain!AI$23","v":{"v":12987,"d":"12,987"}},{"v":-2.7991916772696634,"d":"-2.8"},null,{"$f":"Spain!AH$30","v":{"v":4387,"d":"4,387"}},{"$f":"Spain!AI$30","v":{"v":4264,"d":"4,264"}},{"v":-2.8037383177570097,"d":"-2.8"},null,{"$f":"Spain!AH$36","v":0},{"$f":"Spain!AI$36","v":0},{"v":0,"d":"0.0"},null,{"$f":"Spain!AH$39","v":170},{"$f":"Spain!AI$39","v":169},{"v":-0.588235294117645,"d":"-0.6"},null,{"$f":"R75+N75+J75+F75+B75","v":{"v":27238,"d":"27,238"}},{"v":26479,"d":"26,479"},{"v":-2.786548204714001,"d":"-2.8"}]
["PT",{"$f":"Portugal!AH$16","v":{"v":1073,"d":"1,073"}},{"$f":"Portugal!AI$16","v":{"v":1108,"d":"1,108"}},{"v":3.2618825722273925,"d":"3.3"},null,{"$f":"Portugal!AH$23","v":{"v":1173,"d":"1,173"}},{"$f":"Portugal!AI$23","v":973},{"v":-17.05029838022165,"d":"-17.1"},null,{"$f":"Portugal!AH$30","v":{"v":1745,"d":"1,745"}},{"$f":"Portugal!AI$30","v":{"v":1753,"d":"1,753"}},{"v":0.4584527220630408,"d":"0.5"},null,{"$f":"Portugal!AH$36","v":0},{"$f":"Portugal!AI$36","v":0},{"v":0,"d":"0.0"},null,{"$f":"Portugal!AH$39","v":277},{"$f":"Portugal!AI$39","v":283},{"v":2.166064981949467,"d":"2.2"},null,{"$f":"R76+N76+J76+F76+B76","v":{"v":4268,"d":"4,268"}},{"v":4117,"d":"4,117"},{"v":-3.537956888472349,"d":"-3.5"}]
["AT",{"$f":"Austria!AH$16","v":649},{"$f":"Austria!AI$16","v":634},{"v":-2.3112480739599373,"d":"-2.3"},null,{"$f":"Austria!AH$23","v":274},{"$f":"Austria!AI$23","v":267},{"v":-2.5547445255474477,"d":"-2.6"},null,{"$f":"Austria!AH$30","v":697},{"$f":"Austria!AI$30","v":721},{"v":3.4433285509325673,"d":"3.4"},null,{"$f":"Austria!AH$36","v":0},{"$f":"Austria!AI$36","v":0},{"v":0,"d":"0.0"},null,{"$f":"Austria!AH$39","v":141},{"$f":"Austria!AI$39","v":140},{"v":-0.7092198581560294,"d":"-0.7"},null,{"$f":"R77+N77+J77+F77+B77","v":{"v":1761,"d":"1,761"}},{"v":1762,"d":"1,762"},{"v":0.05678591709254999,"d":"0.1"}]
["SE",{"$f":"Sweden!AH$16","v":884},{"$f":"Sweden!AI$16","v":861},{"v":-2.601809954751133,"d":"-2.6"},null,{"$f":"Sweden!AH$23","v":325},{"$f":"Sweden!AI$23","v":338},{"v":4.0000000000000036,"d":"4.0"},null,{"$f":"Sweden!AH$30","v":697},{"$f":"Sweden!AI$30","v":715},{"v":2.582496413199431,"d":"2.6"},null,{"$f":"Sweden!AH$36","v":3},{"$f":"Sweden!AI$36","v":3},{"$f":"((O78/N78)-1)*100","v":{"v":0,"d":"0.0"}},null,{"$f":"Sweden!AH$39","v":71},{"$f":"Sweden!AI$39","v":68},{"v":-4.225352112676061,"d":"-4.2"},null,{"$f":"R78+N78+J78+F78+B78","v":{"v":1980,"d":"1,980"}},{"v":1985,"d":"1,985"},{"v":0.2525252525252597,"d":"0.3"}]
["FI",{"$f":"Finland!AH$16","v":672},{"$f":"Finland!AI$16","v":680},{"v":1.1904761904761862,"d":"1.2"},null,{"$f":"Finland!AH$23","v":246},{"$f":"Finland!AI$23","v":250},{"v":1.6260162601626105,"d":"1.6"},null,{"$f":"Finland!AH$30","v":418},{"$f":"Finland!AI$30","v":420},{"v":0.4784688995215225,"d":"0.5"},null,{"$f":"Finland!AH$36","v":0},{"$f":"Finland!AI$36","v":0},{"v":0,"d":"0.0"},null,{"$f":"Finland!AH$39","v":110},{"$f":"Finland!AI$39","v":110},{"v":0,"d":"0.0"},null,{"$f":"R79+N79+J79+F79+B79","v":{"v":1446,"d":"1,446"}},{"v":1460,"d":"1,460"},{"v":0.9681881051175623,"d":"1.0"}]
["CY",{"$f":"Cyprus!AH$16","v":180},{"$f":"Cyprus!AI$16","v":180},{"v":0,"d":"0.0"},null,{"$f":"Cyprus!AH$23","v":{"v":4.7,"d":"5"}},{"$f":"Cyprus!AI$23","v":{"v":4.7,"d":"5"}},{"v":0,"d":"0.0"},null,{"$f":"Cyprus!AH$30","v":37},{"$f":"Cyprus!AI$30","v":37},{"v":0,"d":"0.0"},null,{"$f":"Cyprus!AH$36","v":0},{"$f":"Cyprus!AI$36","v":0},{"v":0,"d":"0.0"},null,{"$f":"Cyprus!AH$39","v":137},{"$f":"Cyprus!AI$39","v":137},{"v":0,"d":"0.0"},null,{"$f":"R80+N80+J80+F80+B80","v":{"v":358.7,"d":"359"}},{"v":358.7,"d":"359"},{"v":0,"d":"0.0"}]
["CZ",{"$f":"'Czech Rep'!AH$16","v":598},{"$f":"'Czech Rep'!AI$16","v":588},{"v":-1.6722408026755842,"d":"-1.7"},null,{"$f":"'Czech Rep'!AH$23","v":796},{"$f":"'Czech Rep'!AI$23","v":707},{"v":-11.180904522613066,"d":"-11.2"},null,{"$f":"'Czech Rep'!AH$30","v":{"v":1071,"d":"1,071"}},{"$f":"'Czech Rep'!AI$30","v":{"v":1039,"d":"1,039"}},{"v":-2.9878618113912236,"d":"-3.0"},null,{"$f":"'Czech Rep'!AH$36","v":1},{"$f":"'Czech Rep'!AI$36","v":1},{"$f":"((O81/N81)-1)*100","v":{"v":0,"d":"0.0"}},null,{"$f":"'Czech Rep'!AH$39","v":102},{"$f":"'Czech Rep'!AI$39","v":101},{"v":-0.9803921568627416,"d":"-1.0"},null,{"$f":"R81+N81+J81+F81+B81","v":{"v":2568,"d":"2,568"}},{"v":2436,"d":"2,436"},{"v":-5.1401869158878455,"d":"-5.1"}]
["EE",{"$f":"Estonia!AH$16","v":40},{"$f":"Estonia!AI$16","v":40},{"v":0,"d":"0.0"},null,{"$f":"Estonia!AH$23","v":140},{"$f":"Estonia!AI$23","v":140},{"v":0,"d":"0.0"},null,{"$f":"Estonia!AH$30","v":48},{"$f":"Estonia!AI$30","v":48},{"v":0,"d":"0.0"},null,{"$f":"Estonia!AH$36","v":0},{"$f":"Estonia!AI$36","v":0},{"v":0,"d":"0.0"},null,{"$f":"Estonia!AH$39","v":2},{"$f":"Estonia!AI$39","v":2},{"v":0,"d":"0.0"},null,{"$f":"R82+N82+J82+F82+B82","v":230},230,{"v":0,"d":"0.0"}]
["HU",{"$f":"Hungary!AH$16","v":433},{"$f":"Hungary!AI$16","v":403},{"v":-6.928406466512705,"d":"-6.9"},null,{"$f":"Hungary!AH$23","v":{"v":1382,"d":"1,382"}},{"$f":"Hungary!AI$23","v":{"v":1321,"d":"1,321"}},{"v":-4.413892908827788,"d":"-4.4"},null,{"$f":"Hungary!AH$30","v":{"v":1997,"d":"1,997"}},{"$f":"Hungary!AI$30","v":{"v":1786,"d":"1,786"}},{"v":-10.565848773159736,"d":"-10.6"},null,{"$f":"Hungary!AH$36","v":0},{"$f":"Hungary!AI$36","v":0},{"v":0,"d":"0.0"},null,{"$f":"Hungary!AH$39","v":144},{"$f":"Hungary!AI$39","v":127},{"v":-11.805555555555557,"d":"-11.8"},null,{"$f":"R83+N83+J83+F83+B83","v":{"v":3956,"d":"3,956"}},{"v":3637,"d":"3,637"},{"v":-8.063700707785637,"d":"-8.1"}]
["LV",{"$f":"Latvia!AH$16","v":64},{"$f":"Latvia!AI$16","v":64},{"v":0,"d":"0.0"},null,{"$f":"Latvia!AH$23","v":66},{"$f":"Latvia!AI$23","v":66},{"v":0,"d":"0.0"},null,{"$f":"Latvia!AH$30","v":202},{"$f":"Latvia!AI$30","v":202},{"v":0,"d":"0.0"},null,{"$f":"Latvia!AH$36","v":0},{"$f":"Latvia!AI$36","v":0},{"v":0,"d":"0.0"},null,{"$f":"Latvia!AH$39","v":14},{"$f":"Latvia!AI$39","v":14},{"v":0,"d":"0.0"},null,{"$f":"R84+N84+J84+F84+B84","v":346},346,{"v":0,"d":"0.0"}]
["LT",{"$f":"Lithuania!AH$16","v":155},{"$f":"Lithuania!AI$16","v":155},{"v":0,"d":"0.0"},null,{"$f":"Lithuania!AH$23","v":50},{"$f":"Lithuania!AI$23","v":50},{"v":0,"d":"0.0"},null,{"$f":"Lithuania!AH$30","v":217},{"$f":"Lithuania!AI$30","v":219},{"v":0.9216589861751112,"d":"0.9"},null,{"$f":"Lithuania!AH$36","v":0},{"$f":"Lithuania!AI$36","v":0},{"v":0,"d":"0.0"},null,{"$f":"Lithuania!AH$39","v":216},{"$f":"Lithuania!AI$39","v":216},{"v":0,"d":"0.0"},null,{"$f":"R85+N85+J85+F85+B85","v":638},640,{"v":0.31347962382444194,"d":"0.3"}]
["PL",{"$f":"Poland!AH$16","v":{"v":1213,"d":"1,213"}},{"$f":"Poland!AI$16","v":{"v":1176,"d":"1,176"}},{"v":-3.0502885408079106,"d":"-3.1"},null,{"$f":"Poland!AH$23","v":{"v":2444,"d":"2,444"}},{"$f":"Poland!AI$23","v":{"v":2485,"d":"2,485"}},{"v":1.6775777414075321,"d":"1.7"},null,{"$f":"Poland!AH$30","v":{"v":6303,"d":"6,303"}},{"$f":"Poland!AI$30","v":{"v":7247,"d":"7,247"}},{"v":14.976995081707134,"d":"15.0"},null,{"$f":"Poland!AH$36","v":0},{"$f":"Poland!AI$36","v":0},{"v":0,"d":"0.0"},null,{"$f":"Poland!AH$39","v":765},{"$f":"Poland!AI$39","v":734},{"v":-4.052287581699343,"d":"-4.1"},null,{"$f":"R86+N86+J86+F86+B86","v":{"v":10725,"d":"10,725"}},{"v":11642,"d":"11,642"},{"v":8.550116550116549,"d":"8.6"}]
["SK",{"$f":"Slovakia!AH$16","v":{"v":187.15,"d":"187"}},{"$f":"Slovakia!AI$16","v":{"v":179.024,"d":"179"}},{"v":-4.3419716804702135,"d":"-4.3"},null,{"$f":"Slovakia!AH$23","v":{"v":265.291,"d":"265"}},{"$f":"Slovakia!AI$23","v":{"v":200.48000000000002,"d":"200"}},{"v":-24.43015405724279,"d":"-24.4"},null,{"$f":"Slovakia!AH$30","v":{"v":210.779,"d":"211"}},{"$f":"Slovakia!AI$30","v":{"v":278.76300000000003,"d":"279"}},{"v":32.25368751156425,"d":"32.3"},null,{"$f":"Slovakia!AH$36","v":0},{"$f":"Slovakia!AI$36","v":0},{"v":0,"d":"0.0"},null,{"$f":"+Slovakia!AH$39","v":15},{"$f":"+Slovakia!AI$39","v":16},{"v":6.666666666666665,"d":"6.7"},null,{"$f":"R87+N87+J87+F87+B87","v":{"v":678.22,"d":"678"}},{"v":674.267,"d":"674"},{"v":-0.5828492229659976,"d":"-0.6"}]
["SI",{"$f":"Slovenia!AH$16","v":88},{"$f":"Slovenia!AI$16","v":{"v":85.851936,"d":"86"}},{"v":-2.44098181818182,"d":"-2.4"},null,{"$f":"Slovenia!AH$23","v":42},{"$f":"Slovenia!AI$23","v":{"v":43.128058,"d":"43"}},{"v":2.6858523809523804,"d":"2.7"},null,{"$f":"Slovenia!AH$30","v":258},{"$f":"Slovenia!AI$30","v":{"v":257.440508,"d":"257"}},{"v":-0.21685736434107206,"d":"-0.2"},null,{"$f":"Slovenia!AH$36","v":0},{"$f":"Slovenia!AI$36","v":0},{"v":0,"d":"0.0"},null,{"$f":"Slovenia!AH$39","v":6},{"$f":"Slovenia!AI$39","v":{"v":9.982056,"d":"10"}},{"v":66.3676,"d":"66.4"},null,{"$f":"R88+N88+J88+F88+B88","v":394},{"v":396.402558,"d":"396"},{"v":0.6097862944162369,"d":"0.6"}]
["BU",{"$f":"Bulgaria!AH$16","v":205},{"$f":"Bulgaria!AI$16","v":196},{"v":-4.390243902439028,"d":"-4.4"},null,{"$f":"Bulgaria!AH$23","v":405},{"$f":"Bulgaria!AI$23","v":378},{"v":-6.666666666666665,"d":"-6.7"},null,{"$f":"Bulgaria!AH$30","v":623},{"$f":"Bulgaria!AI$30","v":596},{"v":-4.3338683788122,"d":"-4.3"},null,{"$f":"Bulgaria!AH$36","v":0},{"$f":"Bulgaria!AI$36","v":0},{"v":0,"d":"0.0"},null,{"$f":"Bulgaria!AH$39","v":68},{"$f":"Bulgaria!AI$39","v":74},{"v":8.823529411764696,"d":"8.8"},null,{"$f":"R89+N89+J89+F89+B89","v":{"v":1301,"d":"1,301"}},{"v":1244,"d":"1,244"},{"v":-4.38124519600307,"d":"-4.4"}]
["RO",{"$f":"Romania!AH$17","v":90},{"$f":"Romania!AI$17","v":90},{"v":0,"d":"0.0"},null,{"$f":"Romania!AH$24","v":{"v":1080,"d":"1,080"}},{"$f":"Romania!AI$24","v":970},{"v":-10.185185185185187,"d":"-10.2"},null,{"$f":"Romania!AH$31","v":{"v":1600,"d":"1,600"}},{"$f":"Romania!AI$31","v":{"v":1670,"d":"1,670"}},{"v":4.374999999999996,"d":"4.4"},null,{"$f":"Romania!AH$37","v":0},{"$f":"Romania!AI$37","v":0},{"v":0,"d":"0.0"},null,{"$f":"Romania!AH$40","v":140},{"$f":"Romania!AI$40","v":140},{"v":0,"d":"0.0"},null,{"$f":"R90+N90+J90+F90+B90","v":{"v":2910,"d":"2,910"}},{"v":2870,"d":"2,870"},{"v":-1.3745704467353903,"d":"-1.4"}]
["HR",{"$f":"Croatia!AH$16","v":95},{"$f":"Croatia!AI$16","v":95},{"v":0,"d":"0.0"},null,{"$f":"Croatia!AH$23","v":270},{"$f":"Croatia!AI$23","v":260},{"v":-3.703703703703709,"d":"-3.7"},null,{"$f":"Croatia!AH$30","v":300},{"$f":"Croatia!AI$30","v":300},{"v":0,"d":"0.0"},null,{"$f":"Croatia!AH$36","v":0},{"$f":"Croatia!AC$36","v":0},{"v":0,"d":"0.0"},null,{"$f":"Croatia!AH$39","v":15},{"$f":"Croatia!AI$39","v":15},{"v":0,"d":"0.0"},null,{"$f":"R91+N91+J91+F91+B91","v":680},670,{"v":-1.4705882352941124,"d":"-1.5"}]
[]
["EUR 27*+UK",{"$f":"SUM(B67:B91)","v":{"v":47780.8445,"d":"47,781"}},{"v":47031.80421800518,"d":"47,032"},{"$f":"((C93/B93)-1)*100","v":{"v":-1.5676581061576322,"d":"-1.6"}},null,{"$f":"SUM(F67:F91)","v":{"v":54941.23499999999,"d":"54,941"}},{"v":52068.61744048139,"d":"52,069"},{"$f":"((G93/F93)-1)*100","v":{"v":-5.228527461238553,"d":"-5.2"}},null,{"$f":"SUM(J67:J91)","v":{"v":56230.789500000006,"d":"56,231"}},{"v":54780.01832035873,"d":"54,780"},{"$f":"((K93/J93)-1)*100","v":{"v":-2.5800298956166645,"d":"-2.6"}},null,{"$f":"SUM(N67:N91)","v":{"v":1143,"d":"1,143"}},{"v":1117,"d":"1,117"},{"$f":"((O93/N93)-1)*100","v":{"v":-2.274715660542437,"d":"-2.3"}},null,{"$f":"SUM(R67:R91)","v":{"v":8508.0295,"d":"8,508"}},{"v":8265.66105164884,"d":"8,266"},{"$f":"((S93/R93)-1)*100","v":{"v":-2.8487024915835213,"d":"-2.8"}},null,{"$f":"SUM(V67:V91)","v":{"v":168603.8985,"d":"168,604"}},{"v":163263.10103049414,"d":"163,263"},{"$f":"((W93/V93)-1)*100","v":{"v":-3.167659536357559,"d":"-3.17"}}]
[]
[{"$nulls":23}," "]
["* Without Luxemburg, Greece and Malta"]
[": not available"]
["From 2015 on, the Dutch production of milk replacers is a rough estimate, due to statistical confidentiality ","From 2015 on, the Dutch production of milk replacers is a rough estimate, due to statistical confidentiality "]

{"sheet":"2022","index":66,"n_rows":90,"n_cols":15,"rows_kept":90,"merged":[[2,0,2,14],[3,0,3,14],[51,0,51,14],[52,0,52,14]]}
[]
[{"$nulls":14},"INDUSTRIAL COMPOUND FEED PRODUCTION"]
[2022]
["final"]
[{"$nulls":14},"(1 000 t)"]
[]
["Types of feed","DE","FR","IT","NL","BE","UK","IE","DK","ES","PT","AT","SE","FI","EU-14+UK*"]
[]
[null," ",{"$nulls":4}," ",null,null," "]
["Cattle",{"$f":"Germany!AI16","v":{"v":6709.928282005179,"d":"6,710"}},{"$f":"France!AI16","v":{"v":5254,"d":"5,254"}},{"$f":"Italy!AI16","v":{"v":3705,"d":"3,705"}},{"$f":"'The Netherlands'!AI16","v":{"v":4380,"d":"4,380"}},{"$f":"Belgium!AI16","v":{"v":1437,"d":"1,437"}},{"$f":"UK!AI16","v":{"v":5333,"d":"5,333"}},{"$f":"Ireland!AI16","v":{"v":3515,"d":"3,515"}},{"$f":"Denmark!AI16","v":{"v":1104,"d":"1,104"}},{"$f":"Spain!AI16","v":{"v":9059,"d":"9,059"}},{"$f":"Portugal!AI16","v":{"v":1108,"d":"1,108"}},{"$f":"Austria!AI16","v":634},{"$f":"Sweden!AI16","v":861},{"$f":"Finland!AI16","v":680},{"$f":"SUM(B10:N10)-G10","v":{"v":38446.92828200518,"d":"38,447"}}]
["fattening",{"$f":"Germany!AI17","v":":"},{"$f":"France!AI17","v":{"v":1775,"d":"1,775"}},{"$f":"Italy!AI17","v":798},{"$f":"'The Netherlands'!AI17","v":61},{"$f":"Belgium!AI17","v":423},{"$f":"UK!AI17","v":{"v":1365,"d":"1,365"}},{"$f":"Ireland!AI17","v":{"v":1093,"d":"1,093"}},":",":",{"$f":"Portugal!AI17","v":462},{"$f":"Austria!AI17","v":0},":",":",":"]
["dairy cow",{"$f":"Germany!AI18","v":":"},{"$f":"France!AI18","v":{"v":3479,"d":"3,479"}},{"$f":"Italy!AI18","v":{"v":2671,"d":"2,671"}},{"$f":"'The Netherlands'!AI18","v":{"v":3471,"d":"3,471"}},{"$f":"Belgium!AI18","v":789},{"$f":"UK!AI18","v":{"v":3691,"d":"3,691"}},{"$f":"Ireland!AI18","v":{"v":1962,"d":"1,962"}},{"$f":"Denmark!AI18","v":0},":",{"$f":"Portugal!AI18","v":587},{"$f":"Austria!AI18","v":0},":",{"$f":"Finland!AI18","v":0},":"]
["calves (excl. milk replacers)",{"$f":"Germany!AI19","v":{"v":321.81367212736984,"d":"322"}},{"$f":"France!AI19","v":0},{"$f":"Italy!AI19","v":98},{"$f":"'The Netherlands'!AI19","v":848},{"$f":"Belgium!AI19","v":225},{"$f":"UK!AI19","v":270},{"$f":"Ireland!AI19","v":0},{"$f":"Denmark!AI19","v":0},":",{"$f":"Portugal!AI19","v":31},{"$f":"Austria!AI19","v":0},":",{"$f":"Finland!AI19","v":0},":"]
["others",{"$f":"Germany!AI20","v":":"},{"$f":"France!AI20","v":0},{"$f":"Italy!AI20","v":138},{"$f":"'The Netherlands'!AI20","v":0},{"$f":"Belgium!AI20","v":0},{"$f":"UK!AI20","v":7},{"$f":"Ireland!AI20","v":460},{"$f":"Denmark!AI20","v":0},":",{"$f":"Portugal!AI20","v":28},{"$f":"Austria!AI20","v":0},":",{"$f":"Finland!AI20","v":0},":"]
[]
[]
["Pigs",{"$f":"Germany!AI23","v":{"v":8541.309382481388,"d":"8,541"}},{"$f":"France!AI23","v":{"v":4543,"d":"4,543"}},{"$f":"Italy!AI23","v":{"v":4043,"d":"4,043"}},{"$f":"'The Netherlands'!AI23","v":{"v":4668,"d":"4,668"}},{"$f":"Belgium!AI23","v":{"v":3249,"d":"3,249"}},{"$f":"UK!AI23","v":{"v":2314,"d":"2,314"}},{"$f":"Ireland!AI23","v":724},{"$f":"Denmark!AI23","v":{"v":2546,"d":"2,546"}},{"$f":"Spain!AI23","v":{"v":12987,"d":"12,987"}},{"$f":"Portugal!AI23","v":973},{"$f":"Austria!AI23","v":267},{"$f":"Sweden!AI23","v":338},{"$f":"Finland!AI23","v":250},{"$f":"SUM(B17:N17)-G17","v":{"v":43129.309382481384,"d":"43,129"}}]
["piglets",{"$f":"Germany!AI24","v":":"},{"$f":"France!AI24","v":640},{"$f":"Italy!AI24","v":0},{"$f":"'The Netherlands'!AI24","v":628},{"$f":"Belgium!AI24","v":871},{"$f":"UK!AI24","v":228},{"$f":"Ireland!AI24","v":0},{"$f":"Denmark!AI24","v":0},":",{"$f":"Portugal!AI24","v":120},{"$f":"Austria!AI24","v":0},":",{"$f":"Finland!AI24","v":0},":"]
["pigs for fattening",{"$f":"Germany!AI25","v":":"},{"$f":"France!AI25","v":{"v":3200,"d":"3,200"}},{"$f":"Italy!AI25","v":0},{"$f":"'The Netherlands'!AI25","v":{"v":3014,"d":"3,014"}},{"$f":"Belgium!AI25","v":{"v":1938,"d":"1,938"}},{"$f":"UK!AI25","v":{"v":1593,"d":"1,593"}},{"$f":"Ireland!AI25","v":0},{"$f":"Denmark!AI25","v":0},":",{"$f":"Portugal!AI25","v":624},{"$f":"Austria!AI25","v":0},":",{"$f":"Finland!AI25","v":0},":"]
["breeding pigs",{"$f":"Germany!AI26","v":":"},{"$f":"France!AI26","v":703},{"$f":"Italy!AI26","v":0},{"$f":"'The Netherlands'!AI26","v":{"v":1026,"d":"1,026"}},{"$f":"Belgium!AI26","v":440},{"$f":"UK!AI26","v":487},{"$f":"Ireland!AI26","v":0},{"$f":"Denmark!AI26","v":0},":",{"$f":"Portugal!AI26","v":207},{"$f":"Austria!AI26","v":0},":",{"$f":"Finland!AI26","v":0},":"]
["others",{"$f":"Germany!AI27","v":":"},{"$f":"France!AI27","v":0},{"$f":"Italy!AI27","v":0},{"$f":"'The Netherlands'!AI27","v":0},{"$f":"Belgium!AI27","v":0},{"$f":"UK!AI27","v":6},{"$f":"Ireland!AI27","v":0},{"$f":"Denmark!AI27","v":0},":",{"$f":"Portugal!AI27","v":22},{"$f":"Austria!AI27","v":0},":",{"$f":"Finland!AI27","v":0},":"]
[{"$nulls":3}," "]
[]
["Poultry",{"$f":"Germany!AI30","v":{"v":6191.814812358734,"d":"6,192"}},{"$f":"France!AI30","v":{"v":7677,"d":"7,677"}},{"$f":"Italy!AI30","v":{"v":5705,"d":"5,705"}},{"$f":"'The Netherlands'!AI30","v":{"v":4153,"d":"4,153"}},{"$f":"Belgium!AI30","v":{"v":1224,"d":"1,224"}},{"$f":"UK!AI30","v":{"v":6936,"d":"6,936"}},{"$f":"Ireland!AI30","v":697},{"$f":"Denmark!AI30","v":643},{"$f":"Spain!AI30","v":{"v":4264,"d":"4,264"}},{"$f":"Portugal!AI30","v":{"v":1753,"d":"1,753"}},{"$f":"Austria!AI30","v":721},{"$f":"Sweden!AI30","v":715},{"$f":"Finland!AI30","v":420},{"$f":"SUM(B24:N24)-G24","v":{"v":34163.81481235873,"d":"34,164"}}]
["broilers",{"$f":"Germany!AI31","v":{"v":3922.648,"d":"3,923"}},{"$f":"France!AI31","v":{"v":3227,"d":"3,227"}},{"$f":"Italy!AI31","v":{"v":2972,"d":"2,972"}},{"$f":"'The Netherlands'!AI31","v":{"v":2001,"d":"2,001"}},{"$f":"Belgium!AI31","v":739},{"$f":"UK!AI31","v":{"v":4100,"d":"4,100"}},":",{"$f":"Denmark!AI31","v":0},":",{"$f":"Portugal!AI31","v":953},{"$f":"Austria!AI31","v":0},":",{"$f":"Finland!AI31","v":0},":"]
["chicks & layers",{"$f":"Germany!AI32","v":{"v":2269.1668123587338,"d":"2,269"}},{"$f":"France!AI32","v":{"v":2675,"d":"2,675"}},{"$f":"Italy!AI32","v":{"v":1979,"d":"1,979"}},{"$f":"'The Netherlands'!AI32","v":{"v":2152,"d":"2,152"}},{"$f":"Belgium!AI32","v":303},{"$f":"UK!AI32","v":{"v":1704,"d":"1,704"}},":",{"$f":"Denmark!AI32","v":0},":",{"$f":"Portugal!AI32","v":587},{"$f":"Austria!AI32","v":0},":",{"$f":"Finland!AI32","v":0},":"]
["others",{"$f":"Germany!AI33","v":":"},{"$f":"France!AI33","v":{"v":1775,"d":"1,775"}},{"$f":"Italy!AI33","v":754},{"$f":"'The Netherlands'!AI33","v":0},{"$f":"Belgium!AI33","v":182},{"$f":"UK!AI33","v":{"v":1132,"d":"1,132"}},":",{"$f":"Denmark!AI33","v":0},":",{"$f":"Portugal!AI33","v":213},{"$f":"Austria!AI33","v":0},":",{"$f":"Finland!AI33","v":0},":"]
[]
[]
["Milk replacers",{"$f":"Germany!AI36","v":160},{"$f":"France!AI36","v":273},{"$f":"Italy!AI36","v":92},{"$f":"'The Netherlands'!AI36","v":520},{"$f":"Belgium!AI36","v":68},{"$f":"UK!AI36","v":0},{"$f":"Ireland!AI36","v":0},{"$f":"Denmark!AI36","v":0},{"$f":"Spain!AI36","v":0},{"$f":"Portugal!AI36","v":0},{"$f":"Austria!AI36","v":0},{"$f":"Sweden!AI36","v":3},{"$f":"Finland!AI36","v":0},{"$f":"SUM(B30:N30)","v":{"v":1116,"d":"1,116"}}]
[]
[{"$nulls":3}," "]
["Others",{"$f":"Germany!AI39","v":{"v":600.6789956488391,"d":"601"}},{"$f":"France!AI39","v":{"v":1487,"d":"1,487"}},{"$f":"Italy!AI39","v":974},{"$f":"'The Netherlands'!AI39","v":570},{"$f":"Belgium!AI39","v":372},{"$f":"UK!AI39","v":{"v":1447,"d":"1,447"}},{"$f":"Ireland!AI39","v":222},{"$f":"Denmark!AI39","v":237},{"$f":"Spain!AI39","v":169},{"$f":"Portugal!AI39","v":283},{"$f":"Austria!AI39","v":140},{"$f":"Sweden!AI39","v":68},{"$f":"Finland!AI39","v":110},{"$f":"SUM(B33:N33)-G33","v":{"v":5232.678995648839,"d":"5,233"}}]
[]
[]
["TOTAL",{"$f":"B33+B30+B24+B17+B10","v":{"v":22203.73147249414,"d":"22,204"}},{"v":19234,"d":"19,234"},{"v":14519,"d":"14,519"},{"v":14291,"d":"14,291"},{"v":6350,"d":"6,350"},{"v":16030,"d":"16,030"},{"v":5158,"d":"5,158"},{"v":4530,"d":"4,530"},{"v":26479,"d":"26,479"},{"v":4117,"d":"4,117"},{"v":1762,"d":"1,762"},{"v":1985,"d":"1,985"},{"v":1460,"d":"1,460"},{"v":122088.73147249414,"d":"122,089"}]
[{"$nulls":4}," "]
[]
["* Without Luxemburg and Greece"]
[": not available"]
["From 2015 on, the Dutch production of milk replacers is a rough estimate, due to statistical confidentiality "]
{"$rows_empty":9}
[{"$nulls":14},"INDUSTRIAL COMPOUND PRODUCTION"]
[2022]
["final"]
[{"$nulls":14},"(1 000 t)"]
[]
["Types of feed","CY","CZ","EE","HU","LV","LT","PL","SK","SI","BU","RO","HR","EU-13**","EU-27***+UK"]
[]
[null," ",{"$nulls":4}," ",null," "]
["Cattle",{"$f":"Cyprus!AI16","v":180},{"$f":"'Czech Rep'!AI16","v":588},{"$f":"Estonia!AI16","v":40},{"$f":"Hungary!AI16","v":403},{"$f":"Latvia!AI16","v":64},{"$f":"Lithuania!AI16","v":155},{"$f":"Poland!AI16","v":{"v":1176,"d":"1,176"}},{"$f":"Slovakia!AI16","v":{"v":179.024,"d":"179"}},{"$f":"Slovenia!AI16","v":{"v":85.851936,"d":"86"}},{"$f":"Bulgaria!AI16","v":196},{"$f":"Romania!AI17","v":90},{"$f":"Croatia!AI16","v":95},{"$f":"SUM(B59:M59)","v":{"v":3251.875936,"d":"3,252"}},{"$f":"O10+N59","v":{"v":41698.80421800518,"d":"41,699"}}]
["fattening",{"$f":"Cyprus!AI17","v":0},{"$f":"'Czech Rep'!AI17","v":95},{"$f":"Estonia!AI17","v":":"},{"$f":"Hungary!AI17","v":0},{"$f":"Latvia!AI17","v":":"},{"$f":"Lithuania!AI17","v":5},{"$f":"Poland!AI17","v":0},{"$f":"Slovakia!AI17","v":{"v":13.808,"d":"14"}},":",":",":",":",":",":"]
["dairy cow",{"$f":"Cyprus!AI18","v":0},{"$f":"'Czech Rep'!AI18","v":390},{"$f":"Estonia!AI18","v":":"},{"$f":"Hungary!AI18","v":0},{"$f":"Latvia!AI18","v":":"},{"$f":"Lithuania!AI18","v":142},{"$f":"Poland!AI18","v":0},{"$f":"Slovakia!AI18","v":{"v":139.209,"d":"139"}},":",":",":",":",":",":"]
["calves (excl. milk replacers)",{"$f":"Cyprus!AI19","v":0},{"$f":"'Czech Rep'!AI19","v":53},{"$f":"Estonia!AI19","v":":"},{"$f":"Hungary!AI19","v":0},{"$f":"Latvia!AI19","v":":"},{"$f":"Lithuania!AI19","v":3},{"$f":"Poland!AI19","v":0},{"$f":"Slovakia!AI19","v":{"v":9.675,"d":"10"}},":",":",":",":",":",":"]
["others",{"$f":"Cyprus!AI20","v":":"},{"$f":"'Czech Rep'!AI20","v":52},{"$f":"Estonia!AI20","v":":"},{"$f":"Hungary!AI20","v":0},{"$f":"Latvia!AI20","v":":"},{"$f":"Lithuania!AI20","v":5},{"$f":"Poland!AI20","v":0},{"$f":"Slovakia!AI20","v":16},":",":",":",":",":",":"]
[]
[]
["Pigs",{"$f":"Cyprus!AI23","v":{"v":4.7,"d":"5"}},{"$f":"'Czech Rep'!AI23","v":707},{"$f":"Estonia!AI23","v":140},{"$f":"Hungary!AI23","v":{"v":1321,"d":"1,321"}},{"$f":"Latvia!AI23","v":66},{"$f":"Lithuania!AI23","v":50},{"$f":"Poland!AI23","v":{"v":2485,"d":"2,485"}},{"$f":"Slovakia!AI23","v":{"v":200.48000000000002,"d":"200"}},{"$f":"Slovenia!AI23","v":{"v":43.128058,"d":"43"}},{"$f":"Bulgaria!AI23","v":378},{"$f":"Romania!AI24","v":970},{"$f":"Croatia!AI23","v":260},{"$f":"SUM(B66:M66)","v":{"v":6625.3080580000005,"d":"6,625"}},{"$f":"O17+N66","v":{"v":49754.61744048139,"d":"49,755"}}]
["piglets",{"$f":"Cyprus!AI24","v":0},{"$f":"'Czech Rep'!AI24","v":63},{"$f":"Estonia!AI24","v":":"},{"$f":"Hungary!AI24","v":0},{"$f":"Latvia!AI24","v":":"},{"$f":"Lithuania!AI24","v":15},{"$f":"Poland!AI24","v":0},{"$f":"Slovakia!AI24","v":{"v":25.917,"d":"26"}},":",":",":",":",":",":"]
["pigs for fattening",{"$f":"Cyprus!AI25","v":0},{"$f":"'Czech Rep'!AI25","v":521},{"$f":"Estonia!AI25","v":":"},{"$f":"Hungary!AI25","v":0},{"$f":"Latvia!AI25","v":":"},{"$f":"Lithuania!AI25","v":30},{"$f":"Poland!AI25","v":0},{"$f":"Slovakia!AI25","v":{"v":117.409,"d":"117"}},":",":",":",":",":",":"]
["breeding pigs",{"$f":"Cyprus!AI26","v":0},{"$f":"'Czech Rep'!AI26","v":118},{"$f":"Estonia!AI26","v":":"},{"$f":"Hungary!AI26","v":0},{"$f":"Latvia!AI26","v":":"},{"$f":"Lithuania!AI26","v":5},{"$f":"Poland!AI26","v":0},{"$f":"Slovakia!AI26","v":24},":",":",":",":",":",":"]
["others",{"$f":"Cyprus!AI27","v":0},{"$f":"'Czech Rep'!AI27","v":6},{"$f":"Estonia!AI27","v":":"},{"$f":"Hungary!AI27","v":0},{"$f":"Latvia!AI27","v":":"},{"$f":"Lithuania!AI27","v":0},{"$f":"Poland!AI27","v":0},{"$f":"Slovakia!AI27","v":{"v":33.154,"d":"33"}},":",":",":",":",":",":"]
[{"$nulls":3}," "]
[]
["Poultry",{"$f":"Cyprus!AI30","v":37},{"$f":"'Czech Rep'!AI30","v":{"v":1039,"d":"1,039"}},{"$f":"Estonia!AI30","v":48},{"$f":"Hungary!AI30","v":{"v":1786,"d":"1,786"}},{"$f":"Latvia!AI30","v":202},{"$f":"Lithuania!AI30","v":219},{"$f":"Poland!AI30","v":{"v":7247,"d":"7,247"}},{"$f":"Slovakia!AI30","v":{"v":278.76300000000003,"d":"279"}},{"$f":"Slovenia!AI30","v":{"v":257.440508,"d":"257"}},{"$f":"Bulgaria!AI30","v":596},{"$f":"Romania!AI31","v":{"v":1670,"d":"1,670"}},{"$f":"Croatia!AI30","v":300},{"$f":"SUM(B73:M73)","v":{"v":13680.203508,"d":"13,680"}},{"$f":"O24+N73","v":{"v":47844.01832035873,"d":"47,844"}}]
["broilers",{"$f":"Cyprus!AI31","v":0},{"$f":"'Czech Rep'!AI31","v":505},{"$f":"Estonia!AI31","v":":"},{"$f":"Hungary!AI31","v":887},{"$f":"Latvia!AI31","v":":"},{"$f":"Lithuania!AI31","v":153},{"$f":"Poland!AI31","v":0},{"$f":"Slovakia!AI31","v":{"v":145.983,"d":"146"}},":",":",":",":",":",":"]
["chicks & layers",{"$f":"Cyprus!AI32","v":0},{"$f":"'Czech Rep'!AI32","v":93},{"$f":"Estonia!AI32","v":":"},{"$f":"Hungary!AI32","v":351},{"$f":"Latvia!AI32","v":":"},{"$f":"Lithuania!AI32","v":60},{"$f":"Poland!AI32","v":0},{"$f":"Slovakia!AI32","v":{"v":117.78,"d":"118"}},":",":",":",":",":",":"]
["others",{"$f":"Cyprus!AI33","v":0},{"$f":"'Czech Rep'!AI33","v":80},{"$f":"Estonia!AI33","v":":"},{"$f":"Hungary!AI33","v":549},{"$f":"Latvia!AI33","v":":"},{"$f":"Lithuania!AI33","v":6},{"$f":"Poland!AI33","v":0},{"$f":"Slovakia!AI33","v":15},":",":",":",":",":",":"]
[]
[]
["Milk replacers",{"$f":"Cyprus!AI36","v":0},{"$f":"'Czech Rep'!AI36","v":1},{"$f":"Estonia!AI36","v":0},{"$f":"Hungary!AI36","v":0},{"$f":"Latvia!AI36","v":0},{"$f":"Lithuania!AI36","v":0},{"$f":"Poland!AI36","v":0},{"$f":"Slovakia!AI36","v":0},{"$f":"Slovenia!AI36","v":0},{"$f":"Bulgaria!AI36","v":0},{"$f":"Romania!AI37","v":0},{"$f":"Croatia!AI36","v":0},{"$f":"SUM(B79:M79)","v":1},{"$f":"O30+N79","v":{"v":1117,"d":"1,117"}}]
[]
[{"$nulls":3}," "]
["Others",{"$f":"Cyprus!AI39","v":137},{"$f":"'Czech Rep'!AI39","v":101},{"$f":"Estonia!AI39","v":2},{"$f":"Hungary!AI39","v":127},{"$f":"Latvia!AI39","v":14},{"$f":"Lithuania!AI39","v":216},{"$f":"Poland!AI39","v":734},{"$f":"Slovakia!AI39","v":16},{"$f":"Slovenia!AI39","v":{"v":9.982056,"d":"10"}},{"$f":"Bulgaria!AI39","v":74},{"$f":"Romania!AI40","v":140},{"$f":"Croatia!AI39","v":15},{"$f":"SUM(B82:M82)","v":{"v":1585.982056,"d":"1,586"}},{"$f":"O33+N82","v":{"v":6818.661051648839,"d":"6,819"}}]
[]
[]
["TOTAL",{"$f":"B82+B79+B73+B66+B59","v":{"v":358.7,"d":"359"}},{"v":2436,"d":"2,436"},230,{"v":3637,"d":"3,637"},346,640,{"v":11642,"d":"11,642"},{"v":674.267,"d":"674"},{"v":396.402558,"d":"396"},{"v":1244,"d":"1,244"},{"v":2870,"d":"2,870"},670,{"v":25144.369558000002,"d":"25,144"},{"v":147233.10103049414,"d":"147,233"}]
[{"$nulls":4}," "]
[]
["** Without Malta"]
["*** Without Luxemburg, Greece and Malta"]
[": not available"]

{"sheet":"2022-23","index":67,"n_rows":101,"n_cols":24,"rows_kept":101,"merged":[[9,1,9,3],[9,5,9,7],[9,9,9,11],[9,13,9,15],[9,17,9,19],[9,21,9,23],[64,1,64,3],[64,5,64,7],[64,9,64,11],[64,13,64,15],[64,17,64,19],[64,21,64,23]]}
["2024-06-11"]
["TAV: Year-to-year variation"]
["EU 27"]
[]
[{"$nulls":12},"2022-2023",{"$nulls":10},"INDUSTRIAL COMPOUND PRODUCTION"]
[{"$nulls":12},"estimate",{"$nulls":10},"(1 000 t )"]
[]
[]
[]
["COUNTRY","  CATTLE",{"$nulls":3},"PIGS",{"$nulls":3},"POULTRY",{"$nulls":3},"MILK REPLACERS",{"$nulls":3},"OTHERS",{"$nulls":3},"TOTAL"]
[]
[null,2022,2023,"%TAV",null,2022,2023,"%TAV",null,2022,2023,"%TAV",null,2022,2023,"%TAV",null,2022,2023,"%TAV",null,2022,2023,"%TAV"]
[]
["DE",{"$f":"Germany!AI$16","v":{"v":6709.928282005179,"d":"6,710"}},{"$f":"Germany!AJ$16","v":{"v":6477,"d":"6,477"}},{"$f":"((C14/B14)-1)*100","v":{"v":-3.471397490638628,"d":"-3.5"}},null,{"$f":"Germany!AI$23","v":{"v":8541.309382481388,"d":"8,541"}},{"$f":"Germany!AJ$23","v":{"v":8043,"d":"8,043"}},{"$f":"((G14/F14)-1)*100","v":{"v":-5.834109972686896,"d":"-5.8"}},null,{"$f":"Germany!AI$30","v":{"v":6191.814812358734,"d":"6,192"}},{"$f":"Germany!AJ$30","v":{"v":6268,"d":"6,268"}},{"$f":"((K14/J14)-1)*100","v":{"v":1.23041773615713,"d":"1.2"}},null,{"$f":"Germany!AI$36","v":160},{"$f":"Germany!AJ$36","v":150},{"$f":"((O14/N14)-1)*100","v":{"v":-6.25,"d":"-6.3"}},null,{"$f":"Germany!AI$39","v":{"v":600.6789956488391,"d":"601"}},{"$f":"Germany!AJ$39","v":562},{"$f":"((S14/R14)-1)*100","v":{"v":-6.439212279606843,"d":"-6.4"}},null,{"$f":"R14+N14+J14+F14+B14","v":{"v":22203.73147249414,"d":"22,204"}},{"v":21500,"d":"21,500"},{"$f":"((W14/V14)-1)*100","v":{"v":-3.1694288564330653,"d":"-3.2"}}]
["FR",{"$f":"France!AI$16","v":{"v":5254,"d":"5,254"}},{"$f":"France!AJ$16","v":{"v":5356,"d":"5,356"}},{"v":1.9413779977160317,"d":"1.9"},null,{"$f":"France!AI$23","v":{"v":4543,"d":"4,543"}},{"$f":"France!AJ$23","v":{"v":4296,"d":"4,296"}},{"v":-5.436935945410526,"d":"-5.4"},null,{"$f":"France!AI$30","v":{"v":7677,"d":"7,677"}},{"$f":"France!AJ$30","v":{"v":7799,"d":"7,799"}},{"v":1.5891624332421417,"d":"1.6"},null,{"$f":"France!AI36","v":273},{"$f":"France!AJ36","v":275},{"v":0.73260073260073,"d":"0.7"},null,{"$f":"France!AI$39","v":{"v":1487,"d":"1,487"}},{"$f":"France!AJ$39","v":{"v":1667,"d":"1,667"}},{"v":12.104909213180903,"d":"12.1"},null,{"$f":"R15+N15+J15+F15+B15","v":{"v":19234,"d":"19,234"}},{"v":19393,"d":"19,393"},{"$f":"((W15/V15)-1)*100","v":{"v":0.8266611209316821,"d":"0.8"}}]
["IT",{"$f":"Italy!AI$16","v":{"v":3705,"d":"3,705"}},{"$f":"Italy!AJ$16","v":{"v":3731,"d":"3,731"}},{"v":0.7017543859649145,"d":"0.7"},null,{"$f":"Italy!AI$23","v":{"v":4043,"d":"4,043"}},{"$f":"Italy!AJ$23","v":{"v":3960,"d":"3,960"}},{"v":-2.0529309918377425,"d":"-2.1"},null,{"$f":"Italy!AI$30","v":{"v":5705,"d":"5,705"}},{"$f":"Italy!AJ$30","v":{"v":6137,"d":"6,137"}},{"v":7.572304995617873,"d":"7.6"},null,{"$f":"Italy!AI$36","v":92},{"$f":"Italy!AJ$36","v":92},{"v":0,"d":"0.0"},null,{"$f":"+Italy!AI$39","v":974},{"$f":"+Italy!AJ$39","v":978},{"v":0.4106776180698102,"d":"0.4"},null,{"$f":"R16+N16+J16+F16+B16","v":{"v":14519,"d":"14,519"}},{"v":14898,"d":"14,898"},{"v":2.610372615193879,"d":"2.6"}]
["NL   ",{"$f":"'The Netherlands'!AI$16","v":{"v":4380,"d":"4,380"}},{"$f":"'The Netherlands'!AJ$16","v":{"v":4311,"d":"4,311"}},{"v":-1.5753424657534265,"d":"-1.6"},null,{"$f":"'The Netherlands'!AI$23","v":{"v":4668,"d":"4,668"}},{"$f":"'The Netherlands'!AJ$23","v":{"v":4349,"d":"4,349"}},{"v":-6.833761782347903,"d":"-6.8"},null,{"$f":"'The Netherlands'!AI$30","v":{"v":4153,"d":"4,153"}},{"$f":"'The Netherlands'!AJ$30","v":{"v":4056,"d":"4,056"}},{"v":-2.335660967974962,"d":"-2.3"},null,{"$f":"'The Netherlands'!AI$36","v":520},{"$f":"'The Netherlands'!AJ$36","v":520},{"v":0,"d":"0.0"},null,{"$f":"'The Netherlands'!AI$39","v":570},{"$f":"'The Netherlands'!AJ$39","v":591},{"v":3.6842105263157787,"d":"3.7"},null,{"$f":"R17+N17+J17+F17+B17","v":{"v":14291,"d":"14,291"}},{"v":13827,"d":"13,827"},{"v":-3.2467986844867402,"d":"-3.2"}]
["BE",{"$f":"Belgium!AI$16","v":{"v":1437,"d":"1,437"}},{"$f":"Belgium!AJ$16","v":{"v":1434,"d":"1,434"}},{"v":-0.20876826722338038,"d":"-0.2"},null,{"$f":"Belgium!AI$23","v":{"v":3249,"d":"3,249"}},{"$f":"Belgium!AJ$23","v":{"v":3023,"d":"3,023"}},{"v":-6.955986457371499,"d":"-7.0"},null,{"$f":"Belgium!AI$30","v":{"v":1224,"d":"1,224"}},{"$f":"Belgium!AJ$30","v":{"v":1260,"d":"1,260"}},{"v":2.941176470588225,"d":"2.9"},null,{"$f":"Belgium!AI$36","v":68},{"$f":"Belgium!AJ$36","v":67},{"v":-1.4705882352941124,"d":"-1.5"},null,{"$f":"Belgium!AI$39","v":372},{"$f":"Belgium!AJ$39","v":359},{"v":-3.4946236559139754,"d":"-3.5"},null,{"$f":"R18+N18+J18+F18+B18","v":{"v":6350,"d":"6,350"}},{"v":6143,"d":"6,143"},{"v":-3.259842519685041,"d":"-3.3"}]
[]
["IE",{"$f":"Ireland!AI$16","v":{"v":3515,"d":"3,515"}},{"$f":"Ireland!AJ$16","v":{"v":3466,"d":"3,466"}},{"$f":"((C20/B20)-1)*100","v":{"v":-1.3940256045519184,"d":"-1.4"}},null,{"$f":"Ireland!AI$23","v":724},{"$f":"Ireland!AJ$23","v":663},{"$f":"((G20/F20)-1)*100","v":{"v":-8.425414364640883,"d":"-8.4"}},null,{"$f":"Ireland!AI$30","v":697},{"$f":"Ireland!AJ$30","v":690},{"$f":"((K20/J20)-1)*100","v":{"v":-1.0043041606886627,"d":"-1.0"}},null,{"$f":"Ireland!AI$36","v":0},{"$f":"Ireland!AJ$36","v":0},{"v":0,"d":"0.0"},null,{"$f":"Ireland!AI$39","v":222},{"$f":"Ireland!AJ$39","v":209},{"$f":"((S20/R20)-1)*100","v":{"v":-5.855855855855852,"d":"-5.9"}},null,{"$f":"R20+N20+J20+F20+B20","v":{"v":5158,"d":"5,158"}},{"v":5028,"d":"5,028"},{"$f":"((W20/V20)-1)*100","v":{"v":-2.5203567274137306,"d":"-2.5"}}]
["DK ",{"$f":"Denmark!AI$16","v":{"v":1104,"d":"1,104"}},{"$f":"Denmark!AJ$16","v":{"v":1018,"d":"1,018"}},{"v":-7.789855072463769,"d":"-7.8"},null,{"$f":"Denmark!AI$23","v":{"v":2546,"d":"2,546"}},{"$f":"Denmark!AJ$23","v":{"v":2088,"d":"2,088"}},{"v":-17.98900235663786,"d":"-18.0"},null,{"$f":"Denmark!AI$30","v":643},{"$f":"Denmark!AJ$30","v":644},{"v":0.15552099533437946,"d":"0.2"},null,{"$f":"Denmark!AI$36","v":0},{"$f":"Denmark!AJ$36","v":0},{"v":0,"d":"0.0"},null,{"$f":"Denmark!AI$39","v":237},{"$f":"Denmark!AJ$39","v":226},{"v":-4.641350210970463,"d":"-4.6"},null,{"$f":"R21+N21+J21+F21+B21","v":{"v":4530,"d":"4,530"}},{"v":3976,"d":"3,976"},{"v":-12.229580573951438,"d":"-12.2"}]
["ES**",{"$f":"Spain!AI$16","v":{"v":9059,"d":"9,059"}},{"$f":"Spain!AJ$16","v":{"v":9666,"d":"9,666"}},{"v":6.700518821061929,"d":"6.7"},null,{"$f":"Spain!AI$23","v":{"v":12987,"d":"12,987"}},{"$f":"Spain!AJ$23","v":{"v":12907,"d":"12,907"}},{"v":-0.6160006160006115,"d":"-0.6"},null,{"$f":"Spain!AI$30","v":{"v":4264,"d":"4,264"}},{"$f":"Spain!AJ$30","v":{"v":4803,"d":"4,803"}},{"v":12.640712945590993,"d":"12.6"},null,{"$f":"Spain!AI$36","v":0},{"$f":"Spain!AI$36","v":0},{"v":0,"d":"0.0"},null,{"$f":"Spain!AI$39","v":169},{"$f":"Spain!AJ$39","v":159},{"v":-5.917159763313606,"d":"-5.9"},null,{"$f":"R22+N22+J22+F22+B22","v":{"v":26479,"d":"26,479"}},{"v":27535,"d":"27,535"},{"v":3.988066014577596,"d":"4.0"}]
["PT",{"$f":"Portugal!AI$16","v":{"v":1108,"d":"1,108"}},{"$f":"Portugal!AJ$16","v":{"v":1114,"d":"1,114"}},{"v":0.5415162454873723,"d":"0.5"},null,{"$f":"Portugal!AI$23","v":973},{"$f":"Portugal!AJ$23","v":{"v":1101,"d":"1,101"}},{"v":13.155190133607398,"d":"13.2"},null,{"$f":"Portugal!AI$30","v":{"v":1753,"d":"1,753"}},{"$f":"Portugal!AJ$30","v":{"v":1905,"d":"1,905"}},{"v":8.670849971477468,"d":"8.7"},null,{"$f":"Portugal!AI$36","v":0},{"$f":"Portugal!AI$36","v":0},{"v":0,"d":"0.0"},null,{"$f":"Portugal!AI$39","v":283},{"$f":"Portugal!AJ$39","v":316},{"v":11.660777385159005,"d":"11.7"},null,{"$f":"R23+N23+J23+F23+B23","v":{"v":4117,"d":"4,117"}},{"v":4436,"d":"4,436"},{"v":7.748360456643177,"d":"7.7"}]
["AT",{"$f":"Austria!AI$16","v":634},{"$f":"Austria!AJ$16","v":632},{"v":-0.3154574132492094,"d":"-0.3"},null,{"$f":"Austria!AI$23","v":267},{"$f":"Austria!AJ$23","v":250},{"v":-6.367041198501877,"d":"-6.4"},null,{"$f":"Austria!AI$30","v":721},{"$f":"Austria!AJ$30","v":707},{"v":-1.9417475728155331,"d":"-1.9"},null,{"$f":"Austria!AI$36","v":0},{"$f":"Austria!AI$36","v":0},{"v":0,"d":"0.0"},null,{"$f":"Austria!AI$39","v":140},{"$f":"Austria!AJ$39","v":145},{"v":3.571428571428581,"d":"3.6"},null,{"$f":"R24+N24+J24+F24+B24","v":{"v":1762,"d":"1,762"}},{"v":1734,"d":"1,734"},{"v":-1.589103291713967,"d":"-1.6"}]
["SE",{"$f":"Sweden!AI$16","v":861},{"$f":"Sweden!AJ$16","v":861},{"v":0,"d":"0.0"},null,{"$f":"Sweden!AI$23","v":338},{"$f":"Sweden!AJ$23","v":306},{"v":-9.467455621301779,"d":"-9.5"},null,{"$f":"Sweden!AI$30","v":715},{"$f":"Sweden!AJ$30","v":685},{"v":-4.1958041958041985,"d":"-4.2"},null,{"$f":"Sweden!AI$36","v":3},{"$f":"Sweden!AI$36","v":3},{"$f":"((O25/N25)-1)*100","v":{"v":0,"d":"0.0"}},null,{"$f":"Sweden!AI$39","v":68},{"$f":"Sweden!AJ$39","v":72},{"v":5.882352941176472,"d":"5.9"},null,{"$f":"R25+N25+J25+F25+B25","v":{"v":1985,"d":"1,985"}},{"v":1927,"d":"1,927"},{"v":-2.92191435768262,"d":"-2.9"}]
["FI",{"$f":"Finland!AI$16","v":680},{"$f":"Finland!AJ$16","v":673},{"v":-1.0294117647058787,"d":"-1.0"},null,{"$f":"Finland!AI$23","v":250},{"$f":"Finland!AJ$23","v":231},{"v":-7.599999999999996,"d":"-7.6"},null,{"$f":"Finland!AI$30","v":420},{"$f":"Finland!AJ$30","v":420},{"v":0,"d":"0.0"},null,{"$f":"Finland!AI$36","v":0},{"$f":"Finland!AI$36","v":0},{"v":0,"d":"0.0"},null,{"$f":"Finland!AI$39","v":110},{"$f":"Finland!AJ$39","v":110},{"v":0,"d":"0.0"},null,{"$f":"R26+N26+J26+F26+B26","v":{"v":1460,"d":"1,460"}},{"v":1434,"d":"1,434"},{"v":-1.7808219178082174,"d":"-1.8"}]
["CY",{"$f":"Cyprus!AI$16","v":180},{"$f":"Cyprus!AJ$16","v":180},{"v":0,"d":"0.0"},null,{"$f":"Cyprus!AI$23","v":{"v":4.7,"d":"5"}},{"$f":"Cyprus!AJ$23","v":{"v":4.7,"d":"5"}},{"v":0,"d":"0.0"},null,{"$f":"Cyprus!AI$30","v":37},{"$f":"Cyprus!AJ$30","v":37},{"v":0,"d":"0.0"},null,{"$f":"Cyprus!AI$36","v":0},{"$f":"Cyprus!AI$36","v":0},{"v":0,"d":"0.0"},null,{"$f":"Cyprus!AI$39","v":137},{"$f":"Cyprus!AJ$39","v":137},{"v":0,"d":"0.0"},null,{"$f":"R27+N27+J27+F27+B27","v":{"v":358.7,"d":"359"}},{"v":358.7,"d":"359"},{"v":0,"d":"0.0"}]
["CZ",{"$f":"'Czech Rep'!AI$16","v":588},{"$f":"'Czech Rep'!AJ$16","v":596},{"v":1.3605442176870763,"d":"1.4"},null,{"$f":"'Czech Rep'!AI$23","v":707},{"$f":"'Czech Rep'!AJ$23","v":675},{"v":-4.526166902404527,"d":"-4.5"},null,{"$f":"'Czech Rep'!AI$30","v":{"v":1039,"d":"1,039"}},{"$f":"'Czech Rep'!AJ$30","v":{"v":1006,"d":"1,006"}},{"v":-3.1761308950914335,"d":"-3.2"},null,{"$f":"'Czech Rep'!AI$36","v":1},{"$f":"'Czech Rep'!AI$36","v":1},{"$f":"((O28/N28)-1)*100","v":{"v":0,"d":"0.0"}},null,{"$f":"'Czech Rep'!AI$39","v":101},{"$f":"'Czech Rep'!AJ$39","v":100},{"v":-0.990099009900991,"d":"-1.0"},null,{"$f":"R28+N28+J28+F28+B28","v":{"v":2436,"d":"2,436"}},{"v":2378,"d":"2,378"},{"v":-2.3809523809523836,"d":"-2.4"}]
["EE",{"$f":"Estonia!AI$16","v":40},{"$f":"Estonia!AJ$16","v":40},{"v":0,"d":"0.0"},null,{"$f":"Estonia!AI$23","v":140},{"$f":"Estonia!AJ$23","v":140},{"v":0,"d":"0.0"},null,{"$f":"Estonia!AI$30","v":48},{"$f":"Estonia!AJ$30","v":48},{"v":0,"d":"0.0"},null,{"$f":"Estonia!AI$36","v":0},{"$f":"Estonia!AI$36","v":0},{"v":0,"d":"0.0"},null,{"$f":"Estonia!AI$39","v":2},{"$f":"Estonia!AJ$39","v":2},{"v":0,"d":"0.0"},null,{"$f":"R29+N29+J29+F29+B29","v":230},230,{"v":0,"d":"0.0"}]
["HU",{"$f":"Hungary!AI$16","v":403},{"$f":"Hungary!AJ$16","v":461},{"v":14.392059553349878,"d":"14.4"},null,{"$f":"Hungary!AI$23","v":{"v":1321,"d":"1,321"}},{"$f":"Hungary!AJ$23","v":{"v":1261.532,"d":"1,262"}},{"v":-4.5017411052233225,"d":"-4.5"},null,{"$f":"Hungary!AI$30","v":{"v":1786,"d":"1,786"}},{"$f":"Hungary!AJ$30","v":{"v":1820.315,"d":"1,820"}},{"v":1.9213325867861064,"d":"1.9"},null,{"$f":"Hungary!AI$36","v":0},{"$f":"Hungary!AI$36","v":0},{"v":0,"d":"0.0"},null,{"$f":"Hungary!AI$39","v":127},{"$f":"Hungary!AJ$39","v":{"v":106.545,"d":"107"}},{"v":-16.10629921259842,"d":"-16.1"},null,{"$f":"R30+N30+J30+F30+B30","v":{"v":3637,"d":"3,637"}},{"v":3649.392,"d":"3,649"},{"v":0.34072037393455545,"d":"0.3"}]
["LV",{"$f":"Latvia!AI$16","v":64},{"$f":"Latvia!AJ$16","v":64},{"v":0,"d":"0.0"},null,{"$f":"Latvia!AI$23","v":66},{"$f":"Latvia!AJ$23","v":66},{"v":0,"d":"0.0"},null,{"$f":"Latvia!AI$30","v":202},{"$f":"Latvia!AJ$30","v":202},{"v":0,"d":"0.0"},null,{"$f":"Latvia!AI$36","v":0},{"$f":"Latvia!AI$36","v":0},{"v":0,"d":"0.0"},null,{"$f":"Latvia!AI$39","v":14},{"$f":"Latvia!AJ$39","v":14},{"v":0,"d":"0.0"},null,{"$f":"R31+N31+J31+F31+B31","v":346},346,{"v":0,"d":"0.0"}]
["LT",{"$f":"Lithuania!AI$16","v":155},{"$f":"Lithuania!AJ$16","v":158},{"v":1.9354838709677358,"d":"1.9"},null,{"$f":"Lithuania!AI$23","v":50},{"$f":"Lithuania!AJ$23","v":38},{"v":-24,"d":"-24.0"},null,{"$f":"Lithuania!AI$30","v":219},{"$f":"Lithuania!AJ$30","v":217},{"v":-0.91324200913242,"d":"-0.9"},null,{"$f":"Lithuania!AI$36","v":0},{"$f":"Lithuania!AI$36","v":0},{"v":0,"d":"0.0"},null,{"$f":"Lithuania!AI$39","v":216},{"$f":"Lithuania!AJ$39","v":186},{"v":-13.888888888888884,"d":"-13.9"},null,{"$f":"R32+N32+J32+F32+B32","v":640},599,{"v":-6.406250000000002,"d":"-6.4"}]
["PL",{"$f":"Poland!AI$16","v":{"v":1176,"d":"1,176"}},{"$f":"Poland!AJ$16","v":{"v":1170,"d":"1,170"}},{"v":-0.5102040816326481,"d":"-0.5"},null,{"$f":"Poland!AI$23","v":{"v":2485,"d":"2,485"}},{"$f":"Poland!AJ$23","v":{"v":2370,"d":"2,370"}},{"v":-4.6277665995975825,"d":"-4.6"},null,{"$f":"Poland!AI$30","v":{"v":7247,"d":"7,247"}},{"$f":"Poland!AJ$30","v":{"v":7190,"d":"7,190"}},{"v":-0.7865323582171957,"d":"-0.8"},null,{"$f":"Poland!AI$36","v":0},{"$f":"Poland!AI$36","v":0},{"v":0,"d":"0.0"},null,{"$f":"Poland!AI$39","v":734},{"$f":"Poland!AJ$39","v":800},{"v":8.99182561307903,"d":"9.0"},null,{"$f":"R33+N33+J33+F33+B33","v":{"v":11642,"d":"11,642"}},{"v":11530,"d":"11,530"},{"v":-0.9620340147740936,"d":"-1.0"}]
["SK",{"$f":"Slovakia!AI$16","v":{"v":179.024,"d":"179"}},{"$f":"Slovakia!AJ$16","v":{"v":196.48600000000002,"d":"196"}},{"v":9.753999463759055,"d":"9.8"},null,{"$f":"Slovakia!AI$23","v":{"v":200.48000000000002,"d":"200"}},{"$f":"Slovakia!AJ$23","v":195},{"v":-2.733439744612942,"d":"-2.7"},null,{"$f":"Slovakia!AI$30","v":{"v":278.76300000000003,"d":"279"}},{"$f":"Slovakia!AJ$30","v":{"v":268.199,"d":"268"}},{"v":-3.789599050089154,"d":"-3.8"},null,{"$f":"Slovakia!AI$36","v":0},{"$f":"Slovakia!AI$36","v":0},{"v":0,"d":"0.0"},null,{"$f":"+Slovakia!AI$39","v":16},{"$f":"+Slovakia!AJ$39","v":{"v":18.9,"d":"19"}},{"v":18.124999999999993,"d":"18.1"},null,{"$f":"R34+N34+J34+F34+B34","v":{"v":674.267,"d":"674"}},{"v":678.585,"d":"679"},{"v":0.6403991297216027,"d":"0.6"}]
["SI",{"$f":"Slovenia!AI$16","v":{"v":85.851936,"d":"86"}},{"$f":"Slovenia!AJ$16","v":{"v":88.953,"d":"89"}},{"v":3.6121072447335534,"d":"3.6"},null,{"$f":"Slovenia!AI$23","v":{"v":43.128058,"d":"43"}},{"$f":"Slovenia!AJ$23","v":{"v":45.723,"d":"46"}},{"v":6.016830157295727,"d":"6.0"},null,{"$f":"Slovenia!AI$30","v":{"v":257.440508,"d":"257"}},{"$f":"Slovenia!AJ$30","v":{"v":260.873709,"d":"261"}},{"v":1.3335900502495779,"d":"1.3"},null,{"$f":"Slovenia!AI$36","v":0},{"$f":"Slovenia!AI$36","v":0},{"v":0,"d":"0.0"},null,{"$f":"Slovenia!AI$39","v":{"v":9.982056,"d":"10"}},{"$f":"Slovenia!AJ$39","v":{"v":3.591,"d":"4"}},{"v":-64.02544726256795,"d":"-64.0"},null,{"$f":"R35+N35+J35+F35+B35","v":{"v":396.402558,"d":"396"}},{"v":399.140709,"d":"399"},{"v":0.690750083403846,"d":"0.7"}]
["BU",{"$f":"Bulgaria!AI$16","v":196},{"$f":"Bulgaria!AJ$16","v":202},{"v":3.0612244897959107,"d":"3.1"},null,{"$f":"Bulgaria!AI$23","v":378},{"$f":"Bulgaria!AJ$23","v":444},{"v":17.460317460317466,"d":"17.5"},null,{"$f":"Bulgaria!AI$30","v":596},{"$f":"Bulgaria!AJ$30","v":632},{"v":6.040268456375841,"d":"6.0"},null,{"$f":"Bulgaria!AI$36","v":0},{"$f":"Bulgaria!AI$36","v":0},{"v":0,"d":"0.0"},null,{"$f":"Bulgaria!AI$39","v":74},{"$f":"Bulgaria!AJ$39","v":60},{"v":-18.918918918918916,"d":"-18.9"},null,{"$f":"R36+N36+J36+F36+B36","v":{"v":1244,"d":"1,244"}},{"v":1338,"d":"1,338"},{"v":7.556270096463025,"d":"7.6"}]
["RO",{"$f":"Romania!AI$17","v":90},{"$f":"Romania!AJ$17","v":90},{"v":0,"d":"0.0"},null,{"$f":"Romania!AI$24","v":970},{"$f":"Romania!AJ$24","v":980},{"v":1.0309278350515427,"d":"1.0"},null,{"$f":"Romania!AI$31","v":{"v":1670,"d":"1,670"}},{"$f":"Romania!AJ$31","v":{"v":1695,"d":"1,695"}},{"v":1.4970059880239583,"d":"1.5"},null,{"$f":"Romania!AI$37","v":0},{"$f":"Romania!AI$37","v":0},{"v":0,"d":"0.0"},null,{"$f":"Romania!AI$40","v":140},{"$f":"Romania!AJ$40","v":140},{"v":0,"d":"0.0"},null,{"$f":"R37+N37+J37+F37+B37","v":{"v":2870,"d":"2,870"}},{"v":2905,"d":"2,905"},{"v":1.2195121951219523,"d":"1.2"}]
["HR",{"$f":"Croatia!AI$16","v":95},{"$f":"Croatia!AJ$16","v":95},{"v":0,"d":"0.0"},null,{"$f":"Croatia!AI$23","v":260},{"$f":"Croatia!AJ$23","v":260},{"v":0,"d":"0.0"},null,{"$f":"Croatia!AI$30","v":300},{"$f":"Croatia!AJ$30","v":300},{"v":0,"d":"0.0"},null,{"$f":"Croatia!AI$36","v":0},{"$f":"Croatia!AC$36","v":0},{"v":0,"d":"0.0"},null,{"$f":"Croatia!AI$39","v":15},{"$f":"Croatia!AJ$39","v":15},{"v":0,"d":"0.0"},null,{"$f":"R38+N38+J38+F38+B38","v":670},670,{"v":0,"d":"0.0"}]
[]
["EUR 27 *",{"$f":"SUM(B14:B38)","v":{"v":41698.80421800518,"d":"41,699"}},{"$f":"SUM(C14:C38)","v":{"v":42080.439,"d":"42,080"}},{"$f":"((C40/B40)-1)*100","v":{"v":0.9152175683494468,"d":"0.9"}},null,{"$f":"SUM(F14:F38)","v":{"v":49754.61744048139,"d":"49,755"}},{"v":47696.954999999994,"d":"47,697"},{"$f":"((G40/F40)-1)*100","v":{"v":-4.135621066613282,"d":"-4.1"}},null,{"$f":"SUM(J14:J38)","v":{"v":47844.01832035873,"d":"47,844"}},{"v":49050.387709,"d":"49,050"},{"$f":"((K40/J40)-1)*100","v":{"v":2.5214633531898345,"d":"2.5"}},null,{"$f":"SUM(N14:N38)","v":{"v":1117,"d":"1,117"}},{"v":1108,"d":"1,108"},{"$f":"((O40/N40)-1)*100","v":{"v":-0.8057296329453845,"d":"-0.8"}},null,{"$f":"SUM(R14:R38)","v":{"v":6818.661051648839,"d":"6,819"}},{"v":6977.036,"d":"6,977"},{"$f":"((S40/R40)-1)*100","v":{"v":2.3226693210225413,"d":"2.3"}},null,{"$f":"SUM(V14:V38)","v":{"v":147233.10103049414,"d":"147,233"}},{"v":146912.817709,"d":"146,913"},{"$f":"((W40/V40)-1)*100","v":{"v":-0.21753486087874307,"d":"-0.22"}}]
["EUR 26 (without Spain) **",{"$nulls":20},{"$f":"V40-V22","v":{"v":120754.10103049414,"d":"120,754"}},{"$f":"W40-W22","v":{"v":119377.817709,"d":"119,378"}},{"$f":"((W41/V41)-1)*100","v":{"v":-1.139740439247361,"d":"-1.1"}}]
[{"$nulls":23}," "]
["* Without Luxemburg, Greece and Malta"]
["** Due to change of statistical methdology, the results from Spain in 2023 are not comparable to 2022."]
[": not available"]
["From 2015 on, the Dutch production of milk replacers is a rough estimate, due to statistical confidentiality "]
{"$rows_empty":8}
["2024-06-11"]
["TAV: Year-to-year variation"]
["EU 27 + UK"]
[]
[]
[{"$nulls":12},"2022-2023",{"$nulls":10},"INDUSTRIAL COMPOUND PRODUCTION"]
[{"$nulls":12},"estimate",{"$nulls":10},"(1 000 t )"]
[]
[]
[]
["COUNTRY","  CATTLE",{"$nulls":3},"PIGS",{"$nulls":3},"POULTRY",{"$nulls":3},"MILK REPLACERS",{"$nulls":3},"OTHERS",{"$nulls":3},"TOTAL"]
[]
[null,2022,2023,"%TAV",null,2022,2023,"%TAV",null,2022,2023,"%TAV",null,2022,2023,"%TAV",null,2022,2023,"%TAV",null,2022,2023,"%TAV"]
[]
["DE",{"$f":"Germany!AI$16","v":{"v":6709.928282005179,"d":"6,710"}},{"$f":"Germany!AJ$16","v":{"v":6477,"d":"6,477"}},{"$f":"((C69/B69)-1)*100","v":{"v":-3.471397490638628,"d":"-3.5"}},null,{"$f":"Germany!AI$23","v":{"v":8541.309382481388,"d":"8,541"}},{"$f":"Germany!AJ$23","v":{"v":8043,"d":"8,043"}},{"$f":"((G69/F69)-1)*100","v":{"v":-5.834109972686896,"d":"-5.8"}},null,{"$f":"Germany!AI$30","v":{"v":6191.814812358734,"d":"6,192"}},{"$f":"Germany!AJ$30","v":{"v":6268,"d":"6,268"}},{"$f":"((K69/J69)-1)*100","v":{"v":1.23041773615713,"d":"1.2"}},null,{"$f":"Germany!AI$36","v":160},{"$f":"Germany!AJ$36","v":150},{"$f":"((O69/N69)-1)*100","v":{"v":-6.25,"d":"-6.3"}},null,{"$f":"Germany!AI$39","v":{"v":600.6789956488391,"d":"601"}},{"$f":"Germany!AJ$39","v":562},{"$f":"((S69/R69)-1)*100","v":{"v":-6.439212279606843,"d":"-6.4"}},null,{"$f":"R69+N69+J69+F69+B69","v":{"v":22203.73147249414,"d":"22,204"}},{"$f":"S69+O69+K69+G69+C69","v":{"v":21500,"d":"21,500"}},{"$f":"((W69/V69)-1)*100","v":{"v":-3.1694288564330653,"d":"-3.2"}}]
["FR",{"$f":"France!AI$16","v":{"v":5254,"d":"5,254"}},{"$f":"France!AJ$16","v":{"v":5356,"d":"5,356"}},{"v":1.9413779977160317,"d":"1.9"},null,{"$f":"France!AI$23","v":{"v":4543,"d":"4,543"}},{"$f":"France!AJ$23","v":{"v":4296,"d":"4,296"}},{"v":-5.436935945410526,"d":"-5.4"},null,{"$f":"France!AI$30","v":{"v":7677,"d":"7,677"}},{"$f":"France!AJ$30","v":{"v":7799,"d":"7,799"}},{"v":1.5891624332421417,"d":"1.6"},null,{"$f":"France!AI36","v":273},{"$f":"France!AJ36","v":275},{"v":0.73260073260073,"d":"0.7"},null,{"$f":"France!AI$39","v":{"v":1487,"d":"1,487"}},{"$f":"France!AJ$39","v":{"v":1667,"d":"1,667"}},{"v":12.104909213180903,"d":"12.1"},null,{"$f":"R70+N70+J70+F70+B70","v":{"v":19234,"d":"19,234"}},{"v":19393,"d":"19,393"},{"v":0.8266611209316821,"d":"0.8"}]
["IT",{"$f":"Italy!AI$16","v":{"v":3705,"d":"3,705"}},{"$f":"Italy!AJ$16","v":{"v":3731,"d":"3,731"}},{"v":0.7017543859649145,"d":"0.7"},null,{"$f":"Italy!AI$23","v":{"v":4043,"d":"4,043"}},{"$f":"Italy!AJ$23","v":{"v":3960,"d":"3,960"}},{"v":-2.0529309918377425,"d":"-2.1"},null,{"$f":"Italy!AI$30","v":{"v":5705,"d":"5,705"}},{"$f":"Italy!AJ$30","v":{"v":6137,"d":"6,137"}},{"v":7.572304995617873,"d":"7.6"},null,{"$f":"Italy!AI$36","v":92},{"$f":"Italy!AJ$36","v":92},{"v":0,"d":"0.0"},null,{"$f":"+Italy!AI$39","v":974},{"$f":"+Italy!AJ$39","v":978},{"v":0.4106776180698102,"d":"0.4"},null,{"$f":"R71+N71+J71+F71+B71","v":{"v":14519,"d":"14,519"}},{"v":14898,"d":"14,898"},{"v":2.610372615193879,"d":"2.6"}]
["NL   ",{"$f":"'The Netherlands'!AI$16","v":{"v":4380,"d":"4,380"}},{"$f":"'The Netherlands'!AJ$16","v":{"v":4311,"d":"4,311"}},{"v":-1.5753424657534265,"d":"-1.6"},null,{"$f":"'The Netherlands'!AI$23","v":{"v":4668,"d":"4,668"}},{"$f":"'The Netherlands'!AJ$23","v":{"v":4349,"d":"4,349"}},{"v":-6.833761782347903,"d":"-6.8"},null,{"$f":"'The Netherlands'!AI$30","v":{"v":4153,"d":"4,153"}},{"$f":"'The Netherlands'!AJ$30","v":{"v":4056,"d":"4,056"}},{"v":-2.335660967974962,"d":"-2.3"},null,{"$f":"'The Netherlands'!AI$36","v":520},{"$f":"'The Netherlands'!AJ$36","v":520},{"v":0,"d":"0.0"},null,{"$f":"'The Netherlands'!AI$39","v":570},{"$f":"'The Netherlands'!AJ$39","v":591},{"v":3.6842105263157787,"d":"3.7"},null,{"$f":"R72+N72+J72+F72+B72","v":{"v":14291,"d":"14,291"}},{"v":13827,"d":"13,827"},{"v":-3.2467986844867402,"d":"-3.2"}]
["BE",{"$f":"Belgium!AI$16","v":{"v":1437,"d":"1,437"}},{"$f":"Belgium!AJ$16","v":{"v":1434,"d":"1,434"}},{"v":-0.20876826722338038,"d":"-0.2"},null,{"$f":"Belgium!AI$23","v":{"v":3249,"d":"3,249"}},{"$f":"Belgium!AJ$23","v":{"v":3023,"d":"3,023"}},{"v":-6.955986457371499,"d":"-7.0"},null,{"$f":"Belgium!AI$30","v":{"v":1224,"d":"1,224"}},{"$f":"Belgium!AJ$30","v":{"v":1260,"d":"1,260"}},{"v":2.941176470588225,"d":"2.9"},null,{"$f":"Belgium!AI$36","v":68},{"$f":"Belgium!AJ$36","v":67},{"v":-1.4705882352941124,"d":"-1.5"},null,{"$f":"Belgium!AI$39","v":372},{"$f":"Belgium!AJ$39","v":359},{"v":-3.4946236559139754,"d":"-3.5"},null,{"$f":"R73+N73+J73+F73+B73","v":{"v":6350,"d":"6,350"}},{"v":6143,"d":"6,143"},{"v":-3.259842519685041,"d":"-3.3"}]
["UK ",{"$f":"UK!AI$16","v":{"v":5333,"d":"5,333"}},{"$f":"UK!AJ$16","v":{"v":5349,"d":"5,349"}},{"v":0.30001875117193766,"d":"0.3"},null,{"$f":"UK!AI$23","v":{"v":2314,"d":"2,314"}},{"$f":"UK!AJ$23","v":{"v":2284,"d":"2,284"}},{"v":-1.2964563526361328,"d":"-1.3"},null,{"$f":"UK!AI$30","v":{"v":6936,"d":"6,936"}},{"$f":"UK!AJ$30","v":{"v":6843,"d":"6,843"}},{"v":-1.3408304498269907,"d":"-1.3"},null,{"$f":"UK!AI$36","v":0},{"$f":"UK!AJ$36","v":0},{"v":0,"d":"0.0"},null,{"$f":"UK!AI$39","v":{"v":1447,"d":"1,447"}},{"$f":"UK!AJ$39","v":{"v":1456,"d":"1,456"}},{"v":0.621976503109889,"d":"0.6"},null,{"$f":"R74+N74+J74+F74+B74","v":{"v":16030,"d":"16,030"}},{"v":15932,"d":"15,932"},{"v":-0.6113537117903967,"d":"-0.6"}]
["IE",{"$f":"Ireland!AI$16","v":{"v":3515,"d":"3,515"}},{"$f":"Ireland!AJ$16","v":{"v":3466,"d":"3,466"}},{"v":-1.3940256045519184,"d":"-1.4"},null,{"$f":"Ireland!AI$23","v":724},{"$f":"Ireland!AJ$23","v":663},{"v":-8.425414364640883,"d":"-8.4"},null,{"$f":"Ireland!AI$30","v":697},{"$f":"Ireland!AJ$30","v":690},{"v":-1.0043041606886627,"d":"-1.0"},null,{"$f":"Ireland!AI$36","v":0},{"$f":"Ireland!AJ$36","v":0},{"v":0,"d":"0.0"},null,{"$f":"Ireland!AI$39","v":222},{"$f":"Ireland!AJ$39","v":209},{"v":-5.855855855855852,"d":"-5.9"},null,{"$f":"R75+N75+J75+F75+B75","v":{"v":5158,"d":"5,158"}},{"v":5028,"d":"5,028"},{"v":-2.5203567274137306,"d":"-2.5"}]
["DK ",{"$f":"Denmark!AI$16","v":{"v":1104,"d":"1,104"}},{"$f":"Denmark!AJ$16","v":{"v":1018,"d":"1,018"}},{"v":-7.789855072463769,"d":"-7.8"},null,{"$f":"Denmark!AI$23","v":{"v":2546,"d":"2,546"}},{"$f":"Denmark!AJ$23","v":{"v":2088,"d":"2,088"}},{"v":-17.98900235663786,"d":"-18.0"},null,{"$f":"Denmark!AI$30","v":643},{"$f":"Denmark!AJ$30","v":644},{"v":0.15552099533437946,"d":"0.2"},null,{"$f":"Denmark!AI$36","v":0},{"$f":"Denmark!AJ$36","v":0},{"v":0,"d":"0.0"},null,{"$f":"Denmark!AI$39","v":237},{"$f":"Denmark!AJ$39","v":226},{"v":-4.641350210970463,"d":"-4.6"},null,{"$f":"R76+N76+J76+F76+B76","v":{"v":4530,"d":"4,530"}},{"v":3976,"d":"3,976"},{"v":-12.229580573951438,"d":"-12.2"}]
["ES**",{"$f":"Spain!AI$16","v":{"v":9059,"d":"9,059"}},{"$f":"Spain!AJ$16","v":{"v":9666,"d":"9,666"}},{"v":6.700518821061929,"d":"6.7"},null,{"$f":"Spain!AI$23","v":{"v":12987,"d":"12,987"}},{"$f":"Spain!AJ$23","v":{"v":12907,"d":"12,907"}},{"v":-0.6160006160006115,"d":"-0.6"},null,{"$f":"Spain!AI$30","v":{"v":4264,"d":"4,264"}},{"$f":"Spain!AJ$30","v":{"v":4803,"d":"4,803"}},{"v":12.640712945590993,"d":"12.6"},null,{"$f":"Spain!AI$36","v":0},{"$f":"Spain!AI$36","v":0},{"v":0,"d":"0.0"},null,{"$f":"Spain!AI$39","v":169},{"$f":"Spain!AJ$39","v":159},{"v":-5.917159763313606,"d":"-5.9"},null,{"$f":"R77+N77+J77+F77+B77","v":{"v":26479,"d":"26,479"}},{"v":27535,"d":"27,535"},{"v":3.988066014577596,"d":"4.0"}]
["PT",{"$f":"Portugal!AI$16","v":{"v":1108,"d":"1,108"}},{"$f":"Portugal!AJ$16","v":{"v":1114,"d":"1,114"}},{"v":0.5415162454873723,"d":"0.5"},null,{"$f":"Portugal!AI$23","v":973},{"$f":"Portugal!AJ$23","v":{"v":1101,"d":"1,101"}},{"v":13.155190133607398,"d":"13.2"},null,{"$f":"Portugal!AI$30","v":{"v":1753,"d":"1,753"}},{"$f":"Portugal!AJ$30","v":{"v":1905,"d":"1,905"}},{"v":8.670849971477468,"d":"8.7"},null,{"$f":"Portugal!AI$36","v":0},{"$f":"Portugal!AI$36","v":0},{"v":0,"d":"0.0"},null,{"$f":"Portugal!AI$39","v":283},{"$f":"Portugal!AJ$39","v":316},{"v":11.660777385159005,"d":"11.7"},null,{"$f":"R78+N78+J78+F78+B78","v":{"v":4117,"d":"4,117"}},{"v":4436,"d":"4,436"},{"v":7.748360456643177,"d":"7.7"}]
["AT",{"$f":"Austria!AI$16","v":634},{"$f":"Austria!AJ$16","v":632},{"v":-0.3154574132492094,"d":"-0.3"},null,{"$f":"Austria!AI$23","v":267},{"$f":"Austria!AJ$23","v":250},{"v":-6.367041198501877,"d":"-6.4"},null,{"$f":"Austria!AI$30","v":721},{"$f":"Austria!AJ$30","v":707},{"v":-1.9417475728155331,"d":"-1.9"},null,{"$f":"Austria!AI$36","v":0},{"$f":"Austria!AI$36","v":0},{"v":0,"d":"0.0"},null,{"$f":"Austria!AI$39","v":140},{"$f":"Austria!AJ$39","v":145},{"v":3.571428571428581,"d":"3.6"},null,{"$f":"R79+N79+J79+F79+B79","v":{"v":1762,"d":"1,762"}},{"v":1734,"d":"1,734"},{"v":-1.589103291713967,"d":"-1.6"}]
["SE",{"$f":"Sweden!AI$16","v":861},{"$f":"Sweden!AJ$16","v":861},{"v":0,"d":"0.0"},null,{"$f":"Sweden!AI$23","v":338},{"$f":"Sweden!AJ$23","v":306},{"v":-9.467455621301779,"d":"-9.5"},null,{"$f":"Sweden!AI$30","v":715},{"$f":"Sweden!AJ$30","v":685},{"v":-4.1958041958041985,"d":"-4.2"},null,{"$f":"Sweden!AI$36","v":3},{"$f":"Sweden!AI$36","v":3},{"$f":"((O80/N80)-1)*100","v":{"v":0,"d":"0.0"}},null,{"$f":"Sweden!AI$39","v":68},{"$f":"Sweden!AJ$39","v":72},{"v":5.882352941176472,"d":"5.9"},null,{"$f":"R80+N80+J80+F80+B80","v":{"v":1985,"d":"1,985"}},{"v":1927,"d":"1,927"},{"v":-2.92191435768262,"d":"-2.9"}]
["FI",{"$f":"Finland!AI$16","v":680},{"$f":"Finland!AJ$16","v":673},{"v":-1.0294117647058787,"d":"-1.0"},null,{"$f":"Finland!AI$23","v":250},{"$f":"Finland!AJ$23","v":231},{"v":-7.599999999999996,"d":"-7.6"},null,{"$f":"Finland!AI$30","v":420},{"$f":"Finland!AJ$30","v":420},{"v":0,"d":"0.0"},null,{"$f":"Finland!AI$36","v":0},{"$f":"Finland!AI$36","v":0},{"v":0,"d":"0.0"},null,{"$f":"Finland!AI$39","v":110},{"$f":"Finland!AJ$39","v":110},{"v":0,"d":"0.0"},null,{"$f":"R81+N81+J81+F81+B81","v":{"v":1460,"d":"1,460"}},{"v":1434,"d":"1,434"},{"v":-1.7808219178082174,"d":"-1.8"}]
["CY",{"$f":"Cyprus!AI$16","v":180},{"$f":"Cyprus!AJ$16","v":180},{"v":0,"d":"0.0"},null,{"$f":"Cyprus!AI$23","v":{"v":4.7,"d":"5"}},{"$f":"Cyprus!AJ$23","v":{"v":4.7,"d":"5"}},{"v":0,"d":"0.0"},null,{"$f":"Cyprus!AI$30","v":37},{"$f":"Cyprus!AJ$30","v":37},{"v":0,"d":"0.0"},null,{"$f":"Cyprus!AI$36","v":0},{"$f":"Cyprus!AI$36","v":0},{"v":0,"d":"0.0"},null,{"$f":"Cyprus!AI$39","v":137},{"$f":"Cyprus!AJ$39","v":137},{"v":0,"d":"0.0"},null,{"$f":"R82+N82+J82+F82+B82","v":{"v":358.7,"d":"359"}},{"v":358.7,"d":"359"},{"v":0,"d":"0.0"}]
["CZ",{"$f":"'Czech Rep'!AI$16","v":588},{"$f":"'Czech Rep'!AJ$16","v":596},{"v":1.3605442176870763,"d":"1.4"},null,{"$f":"'Czech Rep'!AI$23","v":707},{"$f":"'Czech Rep'!AJ$23","v":675},{"v":-4.526166902404527,"d":"-4.5"},null,{"$f":"'Czech Rep'!AI$30","v":{"v":1039,"d":"1,039"}},{"$f":"'Czech Rep'!AJ$30","v":{"v":1006,"d":"1,006"}},{"v":-3.1761308950914335,"d":"-3.2"},null,{"$f":"'Czech Rep'!AI$36","v":1},{"$f":"'Czech Rep'!AI$36","v":1},{"$f":"((O83/N83)-1)*100","v":{"v":0,"d":"0.0"}},null,{"$f":"'Czech Rep'!AI$39","v":101},{"$f":"'Czech Rep'!AJ$39","v":100},{"v":-0.990099009900991,"d":"-1.0"},null,{"$f":"R83+N83+J83+F83+B83","v":{"v":2436,"d":"2,436"}},{"v":2378,"d":"2,378"},{"v":-2.3809523809523836,"d":"-2.4"}]
["EE",{"$f":"Estonia!AI$16","v":40},{"$f":"Estonia!AJ$16","v":40},{"v":0,"d":"0.0"},null,{"$f":"Estonia!AI$23","v":140},{"$f":"Estonia!AJ$23","v":140},{"v":0,"d":"0.0"},null,{"$f":"Estonia!AI$30","v":48},{"$f":"Estonia!AJ$30","v":48},{"v":0,"d":"0.0"},null,{"$f":"Estonia!AI$36","v":0},{"$f":"Estonia!AI$36","v":0},{"v":0,"d":"0.0"},null,{"$f":"Estonia!AI$39","v":2},{"$f":"Estonia!AJ$39","v":2},{"v":0,"d":"0.0"},null,{"$f":"R84+N84+J84+F84+B84","v":230},230,{"v":0,"d":"0.0"}]
["HU",{"$f":"Hungary!AI$16","v":403},{"$f":"Hungary!AJ$16","v":461},{"v":14.392059553349878,"d":"14.4"},null,{"$f":"Hungary!AI$23","v":{"v":1321,"d":"1,321"}},{"$f":"Hungary!AJ$23","v":{"v":1261.532,"d":"1,262"}},{"v":-4.5017411052233225,"d":"-4.5"},null,{"$f":"Hungary!AI$30","v":{"v":1786,"d":"1,786"}},{"$f":"Hungary!AJ$30","v":{"v":1820.315,"d":"1,820"}},{"v":1.9213325867861064,"d":"1.9"},null,{"$f":"Hungary!AI$36","v":0},{"$f":"Hungary!AI$36","v":0},{"v":0,"d":"0.0"},null,{"$f":"Hungary!AI$39","v":127},{"$f":"Hungary!AJ$39","v":{"v":106.545,"d":"107"}},{"v":-16.10629921259842,"d":"-16.1"},null,{"$f":"R85+N85+J85+F85+B85","v":{"v":3637,"d":"3,637"}},{"v":3649.392,"d":"3,649"},{"v":0.34072037393455545,"d":"0.3"}]
["LV",{"$f":"Latvia!AI$16","v":64},{"$f":"Latvia!AJ$16","v":64},{"v":0,"d":"0.0"},null,{"$f":"Latvia!AI$23","v":66},{"$f":"Latvia!AJ$23","v":66},{"v":0,"d":"0.0"},null,{"$f":"Latvia!AI$30","v":202},{"$f":"Latvia!AJ$30","v":202},{"v":0,"d":"0.0"},null,{"$f":"Latvia!AI$36","v":0},{"$f":"Latvia!AI$36","v":0},{"v":0,"d":"0.0"},null,{"$f":"Latvia!AI$39","v":14},{"$f":"Latvia!AJ$39","v":14},{"v":0,"d":"0.0"},null,{"$f":"R86+N86+J86+F86+B86","v":346},346,{"v":0,"d":"0.0"}]
["LT",{"$f":"Lithuania!AI$16","v":155},{"$f":"Lithuania!AJ$16","v":158},{"v":1.9354838709677358,"d":"1.9"},null,{"$f":"Lithuania!AI$23","v":50},{"$f":"Lithuania!AJ$23","v":38},{"v":-24,"d":"-24.0"},null,{"$f":"Lithuania!AI$30","v":219},{"$f":"Lithuania!AJ$30","v":217},{"v":-0.91324200913242,"d":"-0.9"},null,{"$f":"Lithuania!AI$36","v":0},{"$f":"Lithuania!AI$36","v":0},{"v":0,"d":"0.0"},null,{"$f":"Lithuania!AI$39","v":216},{"$f":"Lithuania!AJ$39","v":186},{"v":-13.888888888888884,"d":"-13.9"},null,{"$f":"R87+N87+J87+F87+B87","v":640},599,{"v":-6.406250000000002,"d":"-6.4"}]
["PL",{"$f":"Poland!AI$16","v":{"v":1176,"d":"1,176"}},{"$f":"Poland!AJ$16","v":{"v":1170,"d":"1,170"}},{"v":-0.5102040816326481,"d":"-0.5"},null,{"$f":"Poland!AI$23","v":{"v":2485,"d":"2,485"}},{"$f":"Poland!AJ$23","v":{"v":2370,"d":"2,370"}},{"v":-4.6277665995975825,"d":"-4.6"},null,{"$f":"Poland!AI$30","v":{"v":7247,"d":"7,247"}},{"$f":"Poland!AJ$30","v":{"v":7190,"d":"7,190"}},{"v":-0.7865323582171957,"d":"-0.8"},null,{"$f":"Poland!AI$36","v":0},{"$f":"Poland!AI$36","v":0},{"v":0,"d":"0.0"},null,{"$f":"Poland!AI$39","v":734},{"$f":"Poland!AJ$39","v":800},{"v":8.99182561307903,"d":"9.0"},null,{"$f":"R88+N88+J88+F88+B88","v":{"v":11642,"d":"11,642"}},{"v":11530,"d":"11,530"},{"v":-0.9620340147740936,"d":"-1.0"}]
["SK",{"$f":"Slovakia!AI$16","v":{"v":179.024,"d":"179"}},{"$f":"Slovakia!AJ$16","v":{"v":196.48600000000002,"d":"196"}},{"v":9.753999463759055,"d":"9.8"},null,{"$f":"Slovakia!AI$23","v":{"v":200.48000000000002,"d":"200"}},{"$f":"Slovakia!AJ$23","v":195},{"v":-2.733439744612942,"d":"-2.7"},null,{"$f":"Slovakia!AI$30","v":{"v":278.76300000000003,"d":"279"}},{"$f":"Slovakia!AJ$30","v":{"v":268.199,"d":"268"}},{"v":-3.789599050089154,"d":"-3.8"},null,{"$f":"Slovakia!AI$36","v":0},{"$f":"Slovakia!AI$36","v":0},{"v":0,"d":"0.0"},null,{"$f":"+Slovakia!AI$39","v":16},{"$f":"+Slovakia!AJ$39","v":{"v":18.9,"d":"19"}},{"v":18.124999999999993,"d":"18.1"},null,{"$f":"R89+N89+J89+F89+B89","v":{"v":674.267,"d":"674"}},{"v":678.585,"d":"679"},{"v":0.6403991297216027,"d":"0.6"}]
["SI",{"$f":"Slovenia!AI$16","v":{"v":85.851936,"d":"86"}},{"$f":"Slovenia!AJ$16","v":{"v":88.953,"d":"89"}},{"v":3.6121072447335534,"d":"3.6"},null,{"$f":"Slovenia!AI$23","v":{"v":43.128058,"d":"43"}},{"$f":"Slovenia!AJ$23","v":{"v":45.723,"d":"46"}},{"v":6.016830157295727,"d":"6.0"},null,{"$f":"Slovenia!AI$30","v":{"v":257.440508,"d":"257"}},{"$f":"Slovenia!AJ$30","v":{"v":260.873709,"d":"261"}},{"v":1.3335900502495779,"d":"1.3"},null,{"$f":"Slovenia!AI$36","v":0},{"$f":"Slovenia!AI$36","v":0},{"v":0,"d":"0.0"},null,{"$f":"Slovenia!AI$39","v":{"v":9.982056,"d":"10"}},{"$f":"Slovenia!AJ$39","v":{"v":3.591,"d":"4"}},{"v":-64.02544726256795,"d":"-64.0"},null,{"$f":"R90+N90+J90+F90+B90","v":{"v":396.402558,"d":"396"}},{"v":399.140709,"d":"399"},{"v":0.690750083403846,"d":"0.7"}]
["BU",{"$f":"Bulgaria!AI$16","v":196},{"$f":"Bulgaria!AJ$16","v":202},{"v":3.0612244897959107,"d":"3.1"},null,{"$f":"Bulgaria!AI$23","v":378},{"$f":"Bulgaria!AJ$23","v":444},{"v":17.460317460317466,"d":"17.5"},null,{"$f":"Bulgaria!AI$30","v":596},{"$f":"Bulgaria!AJ$30","v":632},{"v":6.040268456375841,"d":"6.0"},null,{"$f":"Bulgaria!AI$36","v":0},{"$f":"Bulgaria!AI$36","v":0},{"v":0,"d":"0.0"},null,{"$f":"Bulgaria!AI$39","v":74},{"$f":"Bulgaria!AJ$39","v":60},{"v":-18.918918918918916,"d":"-18.9"},null,{"$f":"R91+N91+J91+F91+B91","v":{"v":1244,"d":"1,244"}},{"v":1338,"d":"1,338"},{"v":7.556270096463025,"d":"7.6"}]
["RO",{"$f":"Romania!AI$17","v":90},{"$f":"Romania!AJ$17","v":90},{"v":0,"d":"0.0"},null,{"$f":"Romania!AI$24","v":970},{"$f":"Romania!AJ$24","v":980},{"v":1.0309278350515427,"d":"1.0"},null,{"$f":"Romania!AI$31","v":{"v":1670,"d":"1,670"}},{"$f":"Romania!AJ$31","v":{"v":1695,"d":"1,695"}},{"v":1.4970059880239583,"d":"1.5"},null,{"$f":"Romania!AI$37","v":0},{"$f":"Romania!AI$37","v":0},{"v":0,"d":"0.0"},null,{"$f":"Romania!AI$40","v":140},{"$f":"Romania!AJ$40","v":140},{"v":0,"d":"0.0"},null,{"$f":"R92+N92+J92+F92+B92","v":{"v":2870,"d":"2,870"}},{"v":2905,"d":"2,905"},{"v":1.2195121951219523,"d":"1.2"}]
["HR",{"$f":"Croatia!AI$16","v":95},{"$f":"Croatia!AJ$16","v":95},{"v":0,"d":"0.0"},null,{"$f":"Croatia!AI$23","v":260},{"$f":"Croatia!AJ$23","v":260},{"v":0,"d":"0.0"},null,{"$f":"Croatia!AI$30","v":300},{"$f":"Croatia!AJ$30","v":300},{"v":0,"d":"0.0"},null,{"$f":"Croatia!AI$36","v":0},{"$f":"Croatia!AC$36","v":0},{"v":0,"d":"0.0"},null,{"$f":"Croatia!AI$39","v":15},{"$f":"Croatia!AJ$39","v":15},{"v":0,"d":"0.0"},null,{"$f":"R93+N93+J93+F93+B93","v":670},670,{"v":0,"d":"0.0"}]
[]
["EUR 27*+UK",{"$f":"SUM(B69:B93)","v":{"v":47031.80421800518,"d":"47,032"}},{"v":47429.439,"d":"47,429"},{"$f":"((C95/B95)-1)*100","v":{"v":0.8454593409848332,"d":"0.8"}},null,{"$f":"SUM(F69:F93)","v":{"v":52068.61744048139,"d":"52,069"}},{"v":49980.954999999994,"d":"49,981"},{"$f":"((G95/F95)-1)*100","v":{"v":-4.009444734859258,"d":"-4.0"}},null,{"$f":"SUM(J69:J93)","v":{"v":54780.01832035873,"d":"54,780"}},{"v":55893.387709,"d":"55,893"},{"$f":"((K95/J95)-1)*100","v":{"v":2.0324370505504064,"d":"2.0"}},null,{"$f":"SUM(N69:N93)","v":{"v":1117,"d":"1,117"}},{"v":1108,"d":"1,108"},{"$f":"((O95/N95)-1)*100","v":{"v":-0.8057296329453845,"d":"-0.8"}},null,{"$f":"SUM(R69:R93)","v":{"v":8265.66105164884,"d":"8,266"}},{"v":8433.036,"d":"8,433"},{"$f":"((S95/R95)-1)*100","v":{"v":2.0249432840918624,"d":"2.0"}},null,{"$f":"SUM(V69:V93)","v":{"v":163263.10103049414,"d":"163,263"}},{"v":162844.817709,"d":"162,845"},{"$f":"((W95/V95)-1)*100","v":{"v":-0.256201994727534,"d":"-0.26"}}]
["EUR 27 + UK (without Spain) **",{"$nulls":20},{"$f":"V95-V77","v":{"v":136784.10103049414,"d":"136,784"}},{"$f":"W95-W77","v":{"v":135309.817709,"d":"135,310"}},{"$f":"((W96/V96)-1)*100","v":{"v":-1.0778177510304965,"d":"-1.08"}}]
[{"$nulls":23}," "]
["* Without Luxemburg, Greece and Malta"]
["** Due to change of statistical methdology, the results from Spain in 2023 are not comparable to 2022."]
[": not available","From 2015 on, the Dutch production of milk replacers is a rough estimate, due to statistical confidentiality "]
["From 2015 on, the Dutch production of milk replacers is a rough estimate, due to statistical confidentiality "]

{"sheet":"2023","index":68,"n_rows":90,"n_cols":15,"rows_kept":90,"merged":[[2,0,2,14],[3,0,3,14],[51,0,51,14],[52,0,52,14]]}
[]
[{"$nulls":14},"INDUSTRIAL COMPOUND FEED PRODUCTION"]
[2023]
["FINAL"]
[{"$nulls":14},"(1 000 t)"]
[]
["Types of feed","DE","FR","IT","NL","BE","UK","IE","DK","ES","PT","AT","SE","FI","EU-14+UK*"]
[]
[null," ",{"$nulls":4}," ",null,null," "]
["Cattle",{"$f":"Germany!AJ16","v":{"v":6477,"d":"6,477"}},{"$f":"France!AJ16","v":{"v":5356,"d":"5,356"}},{"$f":"Italy!AJ16","v":{"v":3731,"d":"3,731"}},{"$f":"'The Netherlands'!AJ16","v":{"v":4311,"d":"4,311"}},{"$f":"Belgium!AJ16","v":{"v":1434,"d":"1,434"}},{"$f":"UK!AJ16","v":{"v":5349,"d":"5,349"}},{"$f":"Ireland!AJ16","v":{"v":3466,"d":"3,466"}},{"$f":"Denmark!AJ16","v":{"v":1018,"d":"1,018"}},{"$f":"Spain!AJ16","v":{"v":9666,"d":"9,666"}},{"$f":"Portugal!AJ16","v":{"v":1114,"d":"1,114"}},{"$f":"Austria!AJ16","v":632},{"$f":"Sweden!AJ16","v":861},{"$f":"Finland!AJ16","v":673},{"$f":"SUM(B10:N10)-G10","v":{"v":38739,"d":"38,739"}}]
["fattening",{"$f":"Germany!AJ17","v":":"},{"$f":"France!AJ17","v":{"v":1811,"d":"1,811"}},{"$f":"Italy!AJ17","v":770},{"$f":"'The Netherlands'!AJ17","v":35},{"$f":"Belgium!AJ17","v":441},{"$f":"UK!AJ17","v":{"v":1367,"d":"1,367"}},{"$f":"Ireland!AJ17","v":{"v":1104,"d":"1,104"}},":",":",{"$f":"Portugal!AJ17","v":441},{"$f":"Austria!AJ17","v":0},":",":",":"]
["dairy cow",{"$f":"Germany!AJ18","v":":"},{"$f":"France!AJ18","v":{"v":3545,"d":"3,545"}},{"$f":"Italy!AJ18","v":{"v":2721,"d":"2,721"}},{"$f":"'The Netherlands'!AJ18","v":{"v":3377,"d":"3,377"}},{"$f":"Belgium!AJ18","v":769},{"$f":"UK!AJ18","v":{"v":3705,"d":"3,705"}},{"$f":"Ireland!AJ18","v":{"v":1925,"d":"1,925"}},{"$f":"Denmark!AJ18","v":0},":",{"$f":"Portugal!AJ18","v":628},{"$f":"Austria!AJ18","v":0},":",{"$f":"Finland!AJ18","v":0},":"]
["calves (excl. milk replacers)",{"$f":"Germany!AJ19","v":322},{"$f":"France!AJ19","v":0},{"$f":"Italy!AJ19","v":95},{"$f":"'The Netherlands'!AJ19","v":900},{"$f":"Belgium!AJ19","v":224},{"$f":"UK!AJ19","v":270},{"$f":"Ireland!AJ19","v":0},{"$f":"Denmark!AJ19","v":0},":",{"$f":"Portugal!AJ19","v":35},{"$f":"Austria!AJ19","v":0},":",{"$f":"Finland!AJ19","v":0},":"]
["others",{"$f":"Germany!AJ20","v":":"},{"$f":"France!AJ20","v":0},{"$f":"Italy!AJ20","v":145},{"$f":"'The Netherlands'!AJ20","v":0},{"$f":"Belgium!AJ20","v":0},{"$f":"UK!AJ20","v":7},{"$f":"Ireland!AJ20","v":437},{"$f":"Denmark!AJ20","v":0},":",{"$f":"Portugal!AJ20","v":10},{"$f":"Austria!AJ20","v":0},":",{"$f":"Finland!AJ20","v":0},":"]
[]
[]
["Pigs",{"$f":"Germany!AJ23","v":{"v":8043,"d":"8,043"}},{"$f":"France!AJ23","v":{"v":4296,"d":"4,296"}},{"$f":"Italy!AJ23","v":{"v":3960,"d":"3,960"}},{"$f":"'The Netherlands'!AJ23","v":{"v":4349,"d":"4,349"}},{"$f":"Belgium!AJ23","v":{"v":3023,"d":"3,023"}},{"$f":"UK!AJ23","v":{"v":2284,"d":"2,284"}},{"$f":"Ireland!AJ23","v":663},{"$f":"Denmark!AJ23","v":{"v":2088,"d":"2,088"}},{"$f":"Spain!AJ23","v":{"v":12907,"d":"12,907"}},{"$f":"Portugal!AJ23","v":{"v":1101,"d":"1,101"}},{"$f":"Austria!AJ23","v":250},{"$f":"Sweden!AJ23","v":306},{"$f":"Finland!AJ23","v":231},{"$f":"SUM(B17:N17)-G17","v":{"v":41217,"d":"41,217"}}]
["piglets",{"$f":"Germany!AJ24","v":":"},{"$f":"France!AJ24","v":616},{"$f":"Italy!AJ24","v":0},{"$f":"'The Netherlands'!AJ24","v":581},{"$f":"Belgium!AJ24","v":819},{"$f":"UK!AJ24","v":225},{"$f":"Ireland!AJ24","v":0},{"$f":"Denmark!AJ24","v":437},":",{"$f":"Portugal!AJ24","v":115},{"$f":"Austria!AJ24","v":0},":",{"$f":"Finland!AJ24","v":0},":"]
["pigs for fattening",{"$f":"Germany!AJ25","v":":"},{"$f":"France!AJ25","v":{"v":3013,"d":"3,013"}},{"$f":"Italy!AJ25","v":0},{"$f":"'The Netherlands'!AJ25","v":{"v":2796,"d":"2,796"}},{"$f":"Belgium!AJ25","v":{"v":1771,"d":"1,771"}},{"$f":"UK!AJ25","v":{"v":1571,"d":"1,571"}},{"$f":"Ireland!AJ25","v":0},{"$f":"Denmark!AJ25","v":{"v":1119,"d":"1,119"}},":",{"$f":"Portugal!AJ25","v":720},{"$f":"Austria!AJ25","v":0},":",{"$f":"Finland!AJ25","v":0},":"]
["breeding pigs",{"$f":"Germany!AJ26","v":":"},{"$f":"France!AJ26","v":667},{"$f":"Italy!AJ26","v":0},{"$f":"'The Netherlands'!AJ26","v":972},{"$f":"Belgium!AJ26","v":433},{"$f":"UK!AJ26","v":481},{"$f":"Ireland!AJ26","v":0},{"$f":"Denmark!AJ26","v":531},":",{"$f":"Portugal!AJ26","v":249},{"$f":"Austria!AJ26","v":0},":",{"$f":"Finland!AJ26","v":0},":"]
["others",{"$f":"Germany!AJ27","v":":"},{"$f":"France!AJ27","v":0},{"$f":"Italy!AJ27","v":0},{"$f":"'The Netherlands'!AJ27","v":0},{"$f":"Belgium!AJ27","v":0},{"$f":"UK!AJ27","v":7},{"$f":"Ireland!AJ27","v":0},{"$f":"Denmark!AJ27","v":0},":",{"$f":"Portugal!AJ27","v":17},{"$f":"Austria!AJ27","v":0},":",{"$f":"Finland!AJ27","v":0},":"]
[{"$nulls":3}," "]
[]
["Poultry",{"$f":"Germany!AJ30","v":{"v":6268,"d":"6,268"}},{"$f":"France!AJ30","v":{"v":7799,"d":"7,799"}},{"$f":"Italy!AJ30","v":{"v":6137,"d":"6,137"}},{"$f":"'The Netherlands'!AJ30","v":{"v":4056,"d":"4,056"}},{"$f":"Belgium!AJ30","v":{"v":1260,"d":"1,260"}},{"$f":"UK!AJ30","v":{"v":6843,"d":"6,843"}},{"$f":"Ireland!AJ30","v":690},{"$f":"Denmark!AJ30","v":644},{"$f":"Spain!AJ30","v":{"v":4803,"d":"4,803"}},{"$f":"Portugal!AJ30","v":{"v":1905,"d":"1,905"}},{"$f":"Austria!AJ30","v":707},{"$f":"Sweden!AJ30","v":685},{"$f":"Finland!AJ30","v":420},{"$f":"SUM(B24:N24)-G24","v":{"v":35374,"d":"35,374"}}]
["broilers",{"$f":"Germany!AJ31","v":{"v":2280,"d":"2,280"}},{"$f":"France!AJ31","v":{"v":3173,"d":"3,173"}},{"$f":"Italy!AJ31","v":{"v":3116,"d":"3,116"}},{"$f":"'The Netherlands'!AJ31","v":{"v":2031,"d":"2,031"}},{"$f":"Belgium!AJ31","v":772},{"$f":"UK!AJ31","v":{"v":4045,"d":"4,045"}},":",{"$f":"Denmark!AJ31","v":343},":",{"$f":"Portugal!AJ31","v":789},{"$f":"Austria!AJ31","v":0},":",{"$f":"Finland!AJ31","v":0},":"]
["chicks & layers",{"$f":"Germany!AJ32","v":{"v":3988,"d":"3,988"}},{"$f":"France!AJ32","v":{"v":2748,"d":"2,748"}},{"$f":"Italy!AJ32","v":{"v":2073,"d":"2,073"}},{"$f":"'The Netherlands'!AJ32","v":{"v":2025,"d":"2,025"}},{"$f":"Belgium!AJ32","v":305},{"$f":"UK!AJ32","v":{"v":1681,"d":"1,681"}},":",{"$f":"Denmark!AJ32","v":268},":",{"$f":"Portugal!AJ32","v":944},{"$f":"Austria!AJ32","v":0},":",{"$f":"Finland!AJ32","v":0},":"]
["others",{"$f":"Germany!AJ33","v":":"},{"$f":"France!AJ33","v":{"v":1878,"d":"1,878"}},{"$f":"Italy!AJ33","v":948},{"$f":"'The Netherlands'!AJ33","v":0},{"$f":"Belgium!AJ33","v":183},{"$f":"UK!AJ33","v":{"v":1117,"d":"1,117"}},":",{"$f":"Denmark!AJ33","v":0},":",{"$f":"Portugal!AJ33","v":172},{"$f":"Austria!AJ33","v":0},":",{"$f":"Finland!AJ33","v":0},":"]
[]
[]
["Milk replacers",{"$f":"Germany!AJ36","v":150},{"$f":"France!AJ36","v":275},{"$f":"Italy!AJ36","v":92},{"$f":"'The Netherlands'!AJ36","v":520},{"$f":"Belgium!AJ36","v":67},{"$f":"UK!AJ36","v":0},{"$f":"Ireland!AJ36","v":0},{"$f":"Denmark!AJ36","v":0},{"$f":"Spain!AJ36","v":0},{"$f":"Portugal!AJ36","v":0},{"$f":"Austria!AJ36","v":0},{"$f":"Sweden!AJ36","v":3},{"$f":"Finland!AJ36","v":0},{"$f":"SUM(B30:N30)","v":{"v":1107,"d":"1,107"}}]
[]
[{"$nulls":3}," "]
["Others",{"$f":"Germany!AJ39","v":562},{"$f":"France!AJ39","v":{"v":1667,"d":"1,667"}},{"$f":"Italy!AJ39","v":978},{"$f":"'The Netherlands'!AJ39","v":591},{"$f":"Belgium!AJ39","v":359},{"$f":"UK!AJ39","v":{"v":1456,"d":"1,456"}},{"$f":"Ireland!AJ39","v":209},{"$f":"Denmark!AJ39","v":226},{"$f":"Spain!AJ39","v":159},{"$f":"Portugal!AJ39","v":316},{"$f":"Austria!AJ39","v":145},{"$f":"Sweden!AJ39","v":72},{"$f":"Finland!AJ39","v":110},{"$f":"SUM(B33:N33)-G33","v":{"v":5394,"d":"5,394"}}]
[]
[]
["TOTAL",{"$f":"B33+B30+B24+B17+B10","v":{"v":21500,"d":"21,500"}},{"v":19393,"d":"19,393"},{"v":14898,"d":"14,898"},{"v":13827,"d":"13,827"},{"v":6143,"d":"6,143"},{"v":15932,"d":"15,932"},{"v":5028,"d":"5,028"},{"v":3976,"d":"3,976"},{"v":27535,"d":"27,535"},{"v":4436,"d":"4,436"},{"v":1734,"d":"1,734"},{"v":1927,"d":"1,927"},{"v":1434,"d":"1,434"},{"v":121831,"d":"121,831"}]
[{"$nulls":4}," "]
[]
["* Without Luxemburg and Greece"]
[": not available"]
["From 2015 on, the Dutch production of milk replacers is a rough estimate, due to statistical confidentiality "]
{"$rows_empty":9}
[{"$nulls":14},"INDUSTRIAL COMPOUND PRODUCTION"]
[2023]
["estimates"]
[{"$nulls":14},"(1 000 t)"]
[]
["Types of feed","CY","CZ","EE","HU","LV","LT","PL","SK","SI","BU","RO","HR","EU-13**","EU-27***+UK"]
[]
[null," ",{"$nulls":4}," ",null," "]
["Cattle",{"$f":"Cyprus!AJ16","v":180},{"$f":"'Czech Rep'!AJ16","v":596},{"$f":"Estonia!AJ16","v":40},{"$f":"Hungary!AJ16","v":461},{"$f":"Latvia!AJ16","v":64},{"$f":"Lithuania!AJ16","v":158},{"$f":"Poland!AJ16","v":{"v":1170,"d":"1,170"}},{"$f":"Slovakia!AJ16","v":{"v":196.48600000000002,"d":"196"}},{"$f":"Slovenia!AJ16","v":{"v":88.953,"d":"89"}},{"$f":"Bulgaria!AJ16","v":202},{"$f":"Romania!AJ17","v":90},{"$f":"Croatia!AJ16","v":95},{"$f":"SUM(B59:M59)","v":{"v":3341.439,"d":"3,341"}},{"$f":"O10+N59","v":{"v":42080.439,"d":"42,080"}}]
["fattening",{"$f":"Cyprus!AJ17","v":0},{"$f":"'Czech Rep'!AJ17","v":0},{"$f":"Estonia!AJ17","v":":"},{"$f":"Hungary!AJ17","v":0},{"$f":"Latvia!AJ17","v":":"},{"$f":"Lithuania!AJ17","v":6},{"$f":"Poland!AJ17","v":0},{"$f":"Slovakia!AJ17","v":{"v":16.52,"d":"17"}},":",":",":",":",":",":"]
["dairy cow",{"$f":"Cyprus!AJ18","v":0},{"$f":"'Czech Rep'!AJ18","v":0},{"$f":"Estonia!AJ18","v":":"},{"$f":"Hungary!AJ18","v":0},{"$f":"Latvia!AJ18","v":":"},{"$f":"Lithuania!AJ18","v":143},{"$f":"Poland!AJ18","v":0},{"$f":"Slovakia!AJ18","v":{"v":152.966,"d":"153"}},":",":",":",":",":",":"]
["calves (excl. milk replacers)",{"$f":"Cyprus!AJ19","v":0},{"$f":"'Czech Rep'!AJ19","v":0},{"$f":"Estonia!AJ19","v":":"},{"$f":"Hungary!AJ19","v":0},{"$f":"Latvia!AJ19","v":":"},{"$f":"Lithuania!AJ19","v":9},{"$f":"Poland!AJ19","v":0},{"$f":"Slovakia!AJ19","v":11},":",":",":",":",":",":"]
["others",{"$f":"Cyprus!AJ20","v":":"},{"$f":"'Czech Rep'!AJ20","v":0},{"$f":"Estonia!AJ20","v":":"},{"$f":"Hungary!AJ20","v":0},{"$f":"Latvia!AJ20","v":":"},{"$f":"Lithuania!AJ20","v":0},{"$f":"Poland!AJ20","v":0},{"$f":"Slovakia!AJ20","v":16},":",":",":",":",":",":"]
[]
[]
["Pigs",{"$f":"Cyprus!AJ23","v":{"v":4.7,"d":"5"}},{"$f":"'Czech Rep'!AJ23","v":675},{"$f":"Estonia!AJ23","v":140},{"$f":"Hungary!AJ23","v":{"v":1261.532,"d":"1,262"}},{"$f":"Latvia!AJ23","v":66},{"$f":"Lithuania!AJ23","v":38},{"$f":"Poland!AJ23","v":{"v":2370,"d":"2,370"}},{"$f":"Slovakia!AJ23","v":195},{"$f":"Slovenia!AJ23","v":{"v":45.723,"d":"46"}},{"$f":"Bulgaria!AJ23","v":444},{"$f":"Romania!AJ24","v":980},{"$f":"Croatia!AJ23","v":260},{"$f":"SUM(B66:M66)","v":{"v":6479.955,"d":"6,480"}},{"$f":"O17+N66","v":{"v":47696.955,"d":"47,697"}}]
["piglets",{"$f":"Cyprus!AJ24","v":0},{"$f":"'Czech Rep'!AJ24","v":0},{"$f":"Estonia!AJ24","v":":"},{"$f":"Hungary!AJ24","v":0},{"$f":"Latvia!AJ24","v":":"},{"$f":"Lithuania!AJ24","v":19},{"$f":"Poland!AJ24","v":0},{"$f":"Slovakia!AJ24","v":25},":",":",":",":",":",":"]
["pigs for fattening",{"$f":"Cyprus!AJ25","v":0},{"$f":"'Czech Rep'!AJ25","v":0},{"$f":"Estonia!AJ25","v":":"},{"$f":"Hungary!AJ25","v":0},{"$f":"Latvia!AJ25","v":":"},{"$f":"Lithuania!AJ25","v":4},{"$f":"Poland!AJ25","v":0},{"$f":"Slovakia!AJ25","v":116},":",":",":",":",":",":"]
["breeding pigs",{"$f":"Cyprus!AJ26","v":0},{"$f":"'Czech Rep'!AJ26","v":0},{"$f":"Estonia!AJ26","v":":"},{"$f":"Hungary!AJ26","v":0},{"$f":"Latvia!AJ26","v":":"},{"$f":"Lithuania!AJ26","v":14},{"$f":"Poland!AJ26","v":0},{"$f":"Slovakia!AJ26","v":22},":",":",":",":",":",":"]
["others",{"$f":"Cyprus!AJ27","v":0},{"$f":"'Czech Rep'!AJ27","v":0},{"$f":"Estonia!AJ27","v":":"},{"$f":"Hungary!AJ27","v":0},{"$f":"Latvia!AJ27","v":":"},{"$f":"Lithuania!AJ27","v":1},{"$f":"Poland!AJ27","v":0},{"$f":"Slovakia!AJ27","v":32},":",":",":",":",":",":"]
[{"$nulls":3}," "]
[]
["Poultry",{"$f":"Cyprus!AJ30","v":37},{"$f":"'Czech Rep'!AJ30","v":{"v":1006,"d":"1,006"}},{"$f":"Estonia!AJ30","v":48},{"$f":"Hungary!AJ30","v":{"v":1820.315,"d":"1,820"}},{"$f":"Latvia!AJ30","v":202},{"$f":"Lithuania!AJ30","v":217},{"$f":"Poland!AJ30","v":{"v":7190,"d":"7,190"}},{"$f":"Slovakia!AJ30","v":{"v":268.199,"d":"268"}},{"$f":"Slovenia!AJ30","v":{"v":260.873709,"d":"261"}},{"$f":"Bulgaria!AJ30","v":632},{"$f":"Romania!AJ31","v":{"v":1695,"d":"1,695"}},{"$f":"Croatia!AJ30","v":300},{"$f":"SUM(B73:M73)","v":{"v":13676.387709,"d":"13,676"}},{"$f":"O24+N73","v":{"v":49050.387709,"d":"49,050"}}]
["broilers",{"$f":"Cyprus!AJ31","v":0},{"$f":"'Czech Rep'!AJ31","v":0},{"$f":"Estonia!AJ31","v":":"},{"$f":"Hungary!AJ31","v":{"v":857.473,"d":"857"}},{"$f":"Latvia!AJ31","v":":"},{"$f":"Lithuania!AJ31","v":155},{"$f":"Poland!AJ31","v":0},{"$f":"Slovakia!AJ31","v":{"v":150.006,"d":"150"}},":",":",":",":",":",":"]
["chicks & layers",{"$f":"Cyprus!AJ32","v":0},{"$f":"'Czech Rep'!AJ32","v":0},{"$f":"Estonia!AJ32","v":":"},{"$f":"Hungary!AJ32","v":{"v":368.805,"d":"369"}},{"$f":"Latvia!AJ32","v":":"},{"$f":"Lithuania!AJ32","v":62},{"$f":"Poland!AJ32","v":0},{"$f":"Slovakia!AJ32","v":{"v":100.193,"d":"100"}},":",":",":",":",":",":"]
["others",{"$f":"Cyprus!AJ33","v":0},{"$f":"'Czech Rep'!AJ33","v":0},{"$f":"Estonia!AJ33","v":":"},{"$f":"Hungary!AJ33","v":{"v":594.037,"d":"594"}},{"$f":"Latvia!AJ33","v":":"},{"$f":"Lithuania!AJ33","v":1},{"$f":"Poland!AJ33","v":0},{"$f":"Slovakia!AJ33","v":18},":",":",":",":",":",":"]
[]
[]
["Milk replacers",{"$f":"Cyprus!AJ36","v":0},{"$f":"'Czech Rep'!AJ36","v":1},{"$f":"Estonia!AJ36","v":0},{"$f":"Hungary!AJ36","v":0},{"$f":"Latvia!AJ36","v":0},{"$f":"Lithuania!AJ36","v":0},{"$f":"Poland!AJ36","v":0},{"$f":"Slovakia!AJ36","v":0},{"$f":"Slovenia!AJ36","v":0},{"$f":"Bulgaria!AJ36","v":0},{"$f":"Romania!AJ37","v":0},{"$f":"Croatia!AJ36","v":0},{"$f":"SUM(B79:M79)","v":1},{"$f":"O30+N79","v":{"v":1108,"d":"1,108"}}]
[]
[{"$nulls":3}," "]
["Others",{"$f":"Cyprus!AJ39","v":137},{"$f":"'Czech Rep'!AJ39","v":100},{"$f":"Estonia!AJ39","v":2},{"$f":"Hungary!AJ39","v":{"v":106.545,"d":"107"}},{"$f":"Latvia!AJ39","v":14},{"$f":"Lithuania!AJ39","v":186},{"$f":"Poland!AJ39","v":800},{"$f":"Slovakia!AJ39","v":{"v":18.9,"d":"19"}},{"$f":"Slovenia!AJ39","v":{"v":3.591,"d":"4"}},{"$f":"Bulgaria!AJ39","v":60},{"$f":"Romania!AJ40","v":140},{"$f":"Croatia!AJ39","v":15},{"$f":"SUM(B82:M82)","v":{"v":1583.036,"d":"1,583"}},{"$f":"O33+N82","v":{"v":6977.036,"d":"6,977"}}]
[]
[]
["TOTAL",{"$f":"B82+B79+B73+B66+B59","v":{"v":358.7,"d":"359"}},{"v":2378,"d":"2,378"},230,{"v":3649.392,"d":"3,649"},346,599,{"v":11530,"d":"11,530"},{"v":678.585,"d":"679"},{"v":399.140709,"d":"399"},{"v":1338,"d":"1,338"},{"v":2905,"d":"2,905"},670,{"v":25081.817709,"d":"25,082"},{"v":146912.81770900002,"d":"146,913"}]
[{"$nulls":4}," "]
[]
["** Without Malta"]
["*** Without Luxemburg, Greece and Malta"]
[": not available"]

{"sheet":"2023-2024","index":69,"n_rows":98,"n_cols":25,"rows_kept":98,"merged":[[9,1,9,3],[9,5,9,7],[9,9,9,11],[9,13,9,15],[9,17,9,19],[9,21,9,23],[62,1,62,3],[62,5,62,7],[62,9,62,11],[62,13,62,15],[62,17,62,19],[62,21,62,23],[98,25,98,29]]}
["2024-10-15"]
["TAV: Year-to-year variation"]
["EU 27"]
[]
[{"$nulls":12},"2023-2024",{"$nulls":10},"INDUSTRIAL COMPOUND PRODUCTION"]
[{"$nulls":12},"forecast",{"$nulls":10},"(1 000 t )"]
[]
[]
[]
["COUNTRY","  CATTLE",{"$nulls":3},"PIGS",{"$nulls":3},"POULTRY",{"$nulls":3},"MILK REPLACERS",{"$nulls":3},"OTHERS",{"$nulls":3},"TOTAL"]
[]
[null,2023,2024,"%TAV",null,2023,2024,"%TAV",null,2023,2024,"%TAV",null,2023,2024,"%TAV",null,2023,2024,"%TAV",null,2023,2024,"%TAV"]
[]
["DE",{"$f":"Germany!AJ$16","v":{"v":6477,"d":"6,477"}},{"$f":"Germany!AK$16","v":{"v":6914,"d":"6,914"}},{"$f":"((C14/B14)-1)*100","v":{"v":6.746950748803449,"d":"6.7"}},null,{"$f":"Germany!AJ$23","v":{"v":8043,"d":"8,043"}},{"$f":"Germany!AK$23","v":{"v":8251,"d":"8,251"}},{"$f":"((G14/F14)-1)*100","v":{"v":2.586099714037049,"d":"2.6"}},null,{"$f":"Germany!AJ$30","v":{"v":6268,"d":"6,268"}},{"$f":"Germany!AK$30","v":{"v":6333,"d":"6,333"}},{"$f":"((K14/J14)-1)*100","v":{"v":1.0370134014039634,"d":"1.0"}},null,{"$f":"Germany!AJ$36","v":150},{"$f":"Germany!AK$36","v":155},{"$f":"((O14/N14)-1)*100","v":{"v":3.3333333333333437,"d":"3.3"}},null,{"$f":"Germany!AJ$39","v":562},{"$f":"Germany!AK$39","v":506},{"$f":"((S14/R14)-1)*100","v":{"v":-9.964412811387902,"d":"-10.0"}},null,{"$f":"R14+N14+J14+F14+B14","v":{"v":21500,"d":"21,500"}},{"$f":"S14+O14+K14+G14+C14","v":{"v":22159,"d":"22,159"}},{"$f":"((W14/V14)-1)*100","v":{"v":3.0651162790697573,"d":"3.1"}}]
["FR",{"$f":"France!AJ$16","v":{"v":5356,"d":"5,356"}},{"$f":"France!AK$16","v":{"v":5461,"d":"5,461"}},{"v":1.96041822255415,"d":"2.0"},null,{"$f":"France!AJ$23","v":{"v":4296,"d":"4,296"}},{"$f":"France!AK$23","v":{"v":4249,"d":"4,249"}},{"v":-1.0940409683426466,"d":"-1.1"},null,{"$f":"France!AJ$30","v":{"v":7799,"d":"7,799"}},{"$f":"France!AK$30","v":{"v":8054,"d":"8,054"}},{"v":3.2696499551224445,"d":"3.3"},null,{"$f":"France!AJ36","v":275},{"$f":"France!AK36","v":275},{"v":0,"d":"0.0"},null,{"$f":"France!AJ$39","v":{"v":1667,"d":"1,667"}},{"$f":"France!AK$39","v":{"v":1657,"d":"1,657"}},{"v":-0.5998800239952029,"d":"-0.6"},null,{"v":19393,"d":"19,393"},{"v":19696,"d":"19,696"},{"v":1.562419429691131,"d":"1.6"}]
["IT",{"$f":"Italy!AJ$16","v":{"v":3731,"d":"3,731"}},{"$f":"Italy!AK$16","v":{"v":3760,"d":"3,760"}},{"$f":"((C16/B16)-1)*100","v":{"v":0.7772715089788163,"d":"0.8"}},null,{"$f":"Italy!AJ$23","v":{"v":3960,"d":"3,960"}},{"$f":"Italy!AK$23","v":{"v":3930,"d":"3,930"}},{"v":-0.7575757575757569,"d":"-0.8"},null,{"$f":"Italy!AJ$30","v":{"v":6137,"d":"6,137"}},{"$f":"Italy!AK$30","v":{"v":6090,"d":"6,090"}},{"v":-0.7658465048069107,"d":"-0.8"},null,{"$f":"Italy!AJ$36","v":92},{"$f":"Italy!AK$36","v":0},{"v":-100,"d":"-100.0"},null,{"$f":"+Italy!AJ$39","v":978},{"$f":"+Italy!AK$39","v":{"v":1111,"d":"1,111"}},{"v":13.599182004089982,"d":"13.6"},null,{"v":14898,"d":"14,898"},{"v":14891,"d":"14,891"},{"v":-0.04698617264062843,"d":"-0.0"}]
["NL   ",{"$f":"'The Netherlands'!AJ$16","v":{"v":4311,"d":"4,311"}},{"$f":"'The Netherlands'!AK$16","v":{"v":3221,"d":"3,221"}},{"v":-25.284156808165157,"d":"-25.3"},null,{"$f":"'The Netherlands'!AJ$23","v":{"v":4349,"d":"4,349"}},{"$f":"'The Netherlands'!AK$23","v":{"v":3089,"d":"3,089"}},{"v":-28.972177512071738,"d":"-29.0"},null,{"$f":"'The Netherlands'!AJ$30","v":{"v":4056,"d":"4,056"}},{"$f":"'The Netherlands'!AK$30","v":{"v":3997,"d":"3,997"}},{"v":-1.4546351084812614,"d":"-1.5"},null,{"$f":"'The Netherlands'!AJ$36","v":520},{"$f":"'The Netherlands'!AK$36","v":0},{"v":-100,"d":"-100.0"},null,{"$f":"'The Netherlands'!AJ$39","v":591},{"$f":"'The Netherlands'!AK$39","v":625},{"v":5.752961082910324,"d":"5.8"},null,{"v":13827,"d":"13,827"},{"v":10932,"d":"10,932"},{"v":-20.93729659362118,"d":"-20.9"}]
["BE",{"$f":"Belgium!AJ$16","v":{"v":1434,"d":"1,434"}},{"$f":"Belgium!AK$16","v":{"v":1443,"d":"1,443"}},{"v":0.6276150627614996,"d":"0.6"},null,{"$f":"Belgium!AJ$23","v":{"v":3023,"d":"3,023"}},{"$f":"Belgium!AK$23","v":{"v":3147,"d":"3,147"}},{"v":4.101885544161421,"d":"4.1"},null,{"$f":"Belgium!AJ$30","v":{"v":1260,"d":"1,260"}},{"$f":"Belgium!AK$30","v":{"v":1286,"d":"1,286"}},{"v":2.063492063492056,"d":"2.1"},null,{"$f":"Belgium!AJ$36","v":67},{"$f":"Belgium!AK$36","v":67},{"v":0,"d":"0.0"},null,{"$f":"Belgium!AJ$39","v":359},{"$f":"Belgium!AK$39","v":400},{"v":11.420612813370479,"d":"11.4"},null,{"v":6143,"d":"6,143"},{"v":6343,"d":"6,343"},{"v":3.2557382386456224,"d":"3.3"}]
[]
["IE",{"$f":"Ireland!AJ$16","v":{"v":3466,"d":"3,466"}},{"$f":"Ireland!AK$16","v":{"v":3866,"d":"3,866"}},{"$f":"((C20/B20)-1)*100","v":{"v":11.540680900173106,"d":"11.5"}},null,{"$f":"Ireland!AJ$23","v":663},{"$f":"Ireland!AK$23","v":686},{"$f":"((G20/F20)-1)*100","v":{"v":3.469079939668185,"d":"3.5"}},null,{"$f":"Ireland!AJ$30","v":690},{"$f":"Ireland!AK$30","v":711},{"$f":"((K20/J20)-1)*100","v":{"v":3.04347826086957,"d":"3.0"}},null,{"$f":"Ireland!AJ$36","v":0},{"$f":"Ireland!AK$36","v":0},{"v":0,"d":"0.0"},null,{"$f":"Ireland!AJ$39","v":209},{"$f":"Ireland!AK$39","v":224},{"$f":"((S20/R20)-1)*100","v":{"v":7.177033492822971,"d":"7.2"}},null,{"$f":"R20+N20+J20+F20+B20","v":{"v":5028,"d":"5,028"}},{"v":5487,"d":"5,487"},{"$f":"((W20/V20)-1)*100","v":{"v":9.12887828162292,"d":"9.1"}}]
["DK ",{"$f":"Denmark!AJ$16","v":{"v":1018,"d":"1,018"}},{"$f":"Denmark!AK$16","v":{"v":1147,"d":"1,147"}},{"v":12.671905697445961,"d":"12.7"},null,{"$f":"Denmark!AJ$23","v":{"v":2088,"d":"2,088"}},{"$f":"Denmark!AK$23","v":{"v":2289,"d":"2,289"}},{"v":9.626436781609193,"d":"9.6"},null,{"$f":"Denmark!AJ$30","v":644},{"$f":"Denmark!AK$30","v":698},{"v":8.385093167701863,"d":"8.4"},null,{"$f":"Denmark!AJ$36","v":0},{"$f":"Denmark!AK$36","v":0},{"v":0,"d":"0.0"},null,{"$f":"Denmark!AJ$39","v":226},{"$f":"Denmark!AK$39","v":204},{"v":-9.734513274336287,"d":"-9.7"},null,{"v":3976,"d":"3,976"},{"v":4338,"d":"4,338"},{"v":9.104627766599593,"d":"9.1"}]
["ES",{"$f":"Spain!AJ$16","v":{"v":9666,"d":"9,666"}},{"$f":"Spain!AK$16","v":{"v":9400,"d":"9,400"}},{"v":-2.7519139250982816,"d":"-2.8"},null,{"$f":"Spain!AJ$23","v":{"v":12907,"d":"12,907"}},{"$f":"Spain!AK$23","v":{"v":13100,"d":"13,100"}},{"v":1.4953126210583312,"d":"1.5"},null,{"$f":"Spain!AJ$30","v":{"v":4803,"d":"4,803"}},{"$f":"Spain!AK$30","v":{"v":5200,"d":"5,200"}},{"v":8.26566729127629,"d":"8.3"},null,{"$f":"Spain!AJ$36","v":0},{"$f":"Spain!AJ$36","v":0},{"v":0,"d":"0.0"},null,{"$f":"Spain!AJ$39","v":159},{"$f":"Spain!AK$39","v":170},{"v":6.91823899371069,"d":"6.9"},null,{"v":27535,"d":"27,535"},{"v":27870,"d":"27,870"},{"v":1.2166333757036574,"d":"1.2"}]
["PT",{"$f":"Portugal!AJ$16","v":{"v":1114,"d":"1,114"}},{"$f":"Portugal!AK$16","v":{"v":1050,"d":"1,050"}},{"v":-5.74506283662477,"d":"-5.7"},null,{"$f":"Portugal!AJ$23","v":{"v":1101,"d":"1,101"}},{"$f":"Portugal!AK$23","v":{"v":1150,"d":"1,150"}},{"v":4.4504995458674035,"d":"4.5"},null,{"$f":"Portugal!AJ$30","v":{"v":1905,"d":"1,905"}},{"$f":"Portugal!AK$30","v":{"v":1956,"d":"1,956"}},{"v":2.677165354330713,"d":"2.7"},null,{"$f":"Portugal!AJ$36","v":0},{"$f":"Portugal!AJ$36","v":0},{"v":0,"d":"0.0"},null,{"$f":"Portugal!AJ$39","v":316},{"$f":"Portugal!AK$39","v":271},{"v":-14.240506329113922,"d":"-14.2"},null,{"v":4436,"d":"4,436"},{"v":4427,"d":"4,427"},{"v":-0.20288548241659266,"d":"-0.2"}]
["AT",{"$f":"Austria!AJ$16","v":632},{"$f":"Austria!AK$16","v":{"v":661.001,"d":"661"}},{"v":4.588765822784802,"d":"4.6"},null,{"$f":"Austria!AJ$23","v":250},{"$f":"Austria!AK$23","v":{"v":248.599,"d":"249"}},{"v":-0.5604000000000053,"d":"-0.6"},null,{"$f":"Austria!AJ$30","v":707},{"$f":"Austria!AK$30","v":{"v":734.138,"d":"734"}},{"v":3.8384724186704355,"d":"3.8"},null,{"$f":"Austria!AJ$36","v":0},{"$f":"Austria!AJ$36","v":0},{"v":0,"d":"0.0"},null,{"$f":"Austria!AJ$39","v":145},{"$f":"Austria!AK$39","v":{"v":146.768,"d":"147"}},{"v":1.2193103448275844,"d":"1.2"},null,{"v":1734,"d":"1,734"},{"v":1790.506,"d":"1,791"},{"v":3.2587081891580105,"d":"3.3"}]
["SE",{"$f":"Sweden!AJ$16","v":861},{"$f":"Sweden!AK$16","v":832},{"v":-3.3681765389082408,"d":"-3.4"},null,{"$f":"Sweden!AJ$23","v":306},{"$f":"Sweden!AK$23","v":338},{"v":10.457516339869288,"d":"10.5"},null,{"$f":"Sweden!AJ$30","v":685},{"$f":"Sweden!AK$30","v":715},{"v":4.379562043795615,"d":"4.4"},null,{"$f":"Sweden!AJ$36","v":3},{"$f":"Sweden!AJ$36","v":3},{"$f":"((O25/N25)-1)*100","v":{"v":0,"d":"0.0"}},null,{"$f":"Sweden!AJ$39","v":72},{"$f":"Sweden!AK$39","v":68},{"v":-5.555555555555558,"d":"-5.6"},null,{"v":1927,"d":"1,927"},{"v":1956,"d":"1,956"},{"v":1.5049299429164442,"d":"1.5"}]
["FI",{"$f":"Finland!AJ$16","v":673},{"$f":"Finland!AK$16","v":673},{"v":0,"d":"0.0"},null,{"$f":"Finland!AJ$23","v":231},{"$f":"Finland!AK$23","v":231},{"v":0,"d":"0.0"},null,{"$f":"Finland!AJ$30","v":420},{"$f":"Finland!AK$30","v":420},{"v":0,"d":"0.0"},null,{"$f":"Finland!AJ$36","v":0},{"$f":"Finland!AJ$36","v":0},{"v":0,"d":"0.0"},null,{"$f":"Finland!AJ$39","v":110},{"$f":"Finland!AK$39","v":110},{"v":0,"d":"0.0"},null,{"v":1434,"d":"1,434"},{"v":1434,"d":"1,434"},{"v":0,"d":"0.0"}]
["CY",{"$f":"Cyprus!AJ$16","v":180},{"$f":"Cyprus!AK$16","v":180},{"v":0,"d":"0.0"},null,{"$f":"Cyprus!AJ$23","v":{"v":4.7,"d":"5"}},{"$f":"Cyprus!AK$23","v":{"v":4.7,"d":"5"}},{"v":0,"d":"0.0"},null,{"$f":"Cyprus!AJ$30","v":37},{"$f":"Cyprus!AK$30","v":37},{"v":0,"d":"0.0"},null,{"$f":"Cyprus!AJ$36","v":0},{"$f":"Cyprus!AJ$36","v":0},{"v":0,"d":"0.0"},null,{"$f":"Cyprus!AJ$39","v":137},{"$f":"Cyprus!AK$39","v":137},{"v":0,"d":"0.0"},null,{"v":358.7,"d":"359"},{"v":358.7,"d":"359"},{"v":0,"d":"0.0"}]
["CZ",{"$f":"'Czech Rep'!AJ$16","v":596},{"$f":"'Czech Rep'!AK$16","v":596},{"v":0,"d":"0.0"},null,{"$f":"'Czech Rep'!AJ$23","v":675},{"$f":"'Czech Rep'!AK$23","v":675},{"v":0,"d":"0.0"},null,{"$f":"'Czech Rep'!AJ$30","v":{"v":1006,"d":"1,006"}},{"$f":"'Czech Rep'!AK$30","v":{"v":1006,"d":"1,006"}},{"v":0,"d":"0.0"},null,{"$f":"'Czech Rep'!AJ$36","v":1},{"$f":"'Czech Rep'!AJ$36","v":1},{"$f":"((O28/N28)-1)*100","v":{"v":0,"d":"0.0"}},null,{"$f":"'Czech Rep'!AJ$39","v":100},{"$f":"'Czech Rep'!AK$39","v":100},{"v":0,"d":"0.0"},null,{"v":2378,"d":"2,378"},{"v":2378,"d":"2,378"},{"v":0,"d":"0.0"}]
["EE",{"$f":"Estonia!AJ$16","v":40},{"$f":"Estonia!AK$16","v":40},{"v":0,"d":"0.0"},null,{"$f":"Estonia!AJ$23","v":140},{"$f":"Estonia!AK$23","v":140},{"v":0,"d":"0.0"},null,{"$f":"Estonia!AJ$30","v":48},{"$f":"Estonia!AK$30","v":48},{"v":0,"d":"0.0"},null,{"$f":"Estonia!AJ$36","v":0},{"$f":"Estonia!AJ$36","v":0},{"v":0,"d":"0.0"},null,{"$f":"Estonia!AJ$39","v":2},{"$f":"Estonia!AK$39","v":2},{"v":0,"d":"0.0"},null,230,230,{"v":0,"d":"0.0"}]
["HU",{"$f":"Hungary!AJ$16","v":461},{"$f":"Hungary!AK$16","v":461},{"v":0,"d":"0.0"},null,{"$f":"Hungary!AJ$23","v":{"v":1261.532,"d":"1,262"}},{"$f":"Hungary!AK$23","v":{"v":1175,"d":"1,175"}},{"v":-6.8592790353316335,"d":"-6.9"},null,{"$f":"Hungary!AJ$30","v":{"v":1820.315,"d":"1,820"}},{"$f":"Hungary!AK$30","v":{"v":1800,"d":"1,800"}},{"v":-1.1160156346566419,"d":"-1.1"},null,{"$f":"Hungary!AJ$36","v":0},{"$f":"Hungary!AJ$36","v":0},{"v":0,"d":"0.0"},null,{"$f":"Hungary!AJ$39","v":{"v":106.545,"d":"107"}},{"$f":"Hungary!AK$39","v":120},{"v":12.628466844995078,"d":"12.6"},null,{"v":3649.392,"d":"3,649"},{"v":3556,"d":"3,556"},{"$f":"((W30/V30)-1)*100","v":{"v":-2.559111216334109,"d":"-2.6"}},{"$f":"V30-W30","v":{"v":93.39199999999983,"d":"93"}}]
["LV",{"$f":"Latvia!AJ$16","v":64},{"$f":"Latvia!AK$16","v":64},{"v":0,"d":"0.0"},null,{"$f":"Latvia!AJ$23","v":66},{"$f":"Latvia!AK$23","v":66},{"v":0,"d":"0.0"},null,{"$f":"Latvia!AJ$30","v":202},{"$f":"Latvia!AK$30","v":202},{"v":0,"d":"0.0"},null,{"$f":"Latvia!AJ$36","v":0},{"$f":"Latvia!AJ$36","v":0},{"v":0,"d":"0.0"},null,{"$f":"Latvia!AJ$39","v":14},{"$f":"Latvia!AK$39","v":14},{"v":0,"d":"0.0"},null,346,346,{"v":0,"d":"0.0"}]
["LT",{"$f":"Lithuania!AJ$16","v":158},{"$f":"Lithuania!AK$16","v":158},{"v":0,"d":"0.0"},null,{"$f":"Lithuania!AJ$23","v":38},{"$f":"Lithuania!AK$23","v":38},{"v":0,"d":"0.0"},null,{"$f":"Lithuania!AJ$30","v":217},{"$f":"Lithuania!AK$30","v":217},{"v":0,"d":"0.0"},null,{"$f":"Lithuania!AJ$36","v":0},{"$f":"Lithuania!AJ$36","v":0},{"v":0,"d":"0.0"},null,{"$f":"Lithuania!AJ$39","v":186},{"$f":"Lithuania!AK$39","v":186},{"v":0,"d":"0.0"},null,599,599,{"v":0,"d":"0.0"}]
["PL",{"$f":"Poland!AJ$16","v":{"v":1170,"d":"1,170"}},{"$f":"Poland!AK$16","v":{"v":1280,"d":"1,280"}},{"v":9.401709401709413,"d":"9.4"},null,{"$f":"Poland!AJ$23","v":{"v":2370,"d":"2,370"}},{"$f":"Poland!AK$23","v":{"v":2630,"d":"2,630"}},{"v":10.970464135021096,"d":"11.0"},null,{"$f":"Poland!AJ$30","v":{"v":7190,"d":"7,190"}},{"$f":"Poland!AK$30","v":{"v":7270,"d":"7,270"}},{"v":1.112656467315709,"d":"1.1"},null,{"$f":"Poland!AJ$36","v":0},{"$f":"Poland!AJ$36","v":0},{"v":0,"d":"0.0"},null,{"$f":"Poland!AJ$39","v":800},{"$f":"Poland!AK$39","v":660},{"v":-17.500000000000004,"d":"-17.5"},null,{"v":11530,"d":"11,530"},{"v":11840,"d":"11,840"},{"v":2.6886383347788367,"d":"2.7"}]
["SK",{"$f":"Slovakia!AJ$16","v":{"v":196.48600000000002,"d":"196"}},{"$f":"Slovakia!AK$16","v":{"v":196.48600000000002,"d":"196"}},{"v":0,"d":"0.0"},null,{"$f":"Slovakia!AJ$23","v":195},{"$f":"Slovakia!AK$23","v":195},{"v":0,"d":"0.0"},null,{"$f":"Slovakia!AJ$30","v":{"v":268.199,"d":"268"}},{"$f":"Slovakia!AK$30","v":{"v":268.199,"d":"268"}},{"v":0,"d":"0.0"},null,{"$f":"Slovakia!AJ$36","v":0},{"$f":"Slovakia!AJ$36","v":0},{"v":0,"d":"0.0"},null,{"$f":"+Slovakia!AJ$39","v":{"v":18.9,"d":"19"}},{"$f":"+Slovakia!AK$39","v":{"v":18.9,"d":"19"}},{"v":0,"d":"0.0"},null,{"v":678.585,"d":"679"},{"v":678.585,"d":"679"},{"v":0,"d":"0.0"}]
["SI",{"$f":"Slovenia!AJ$16","v":{"v":88.953,"d":"89"}},{"$f":"Slovenia!AK$16","v":{"v":92.872,"d":"93"}},{"v":4.405697390756913,"d":"4.4"},null,{"$f":"Slovenia!AJ$23","v":{"v":45.723,"d":"46"}},{"$f":"Slovenia!AK$23","v":{"v":44.465,"d":"44"}},{"v":-2.751350523806395,"d":"-2.8"},null,{"$f":"Slovenia!AJ$30","v":{"v":260.873709,"d":"261"}},{"$f":"Slovenia!AK$30","v":{"v":260.952,"d":"261"}},{"v":0.030011073289104573,"d":"0.0"},null,{"$f":"Slovenia!AJ$36","v":0},{"$f":"Slovenia!AJ$36","v":0},{"v":0,"d":"0.0"},null,{"$f":"Slovenia!AJ$39","v":{"v":3.591,"d":"4"}},{"$f":"Slovenia!AK$39","v":6},{"v":67.0843776106934,"d":"67.1"},null,{"v":399.140709,"d":"399"},{"v":404.28900000000004,"d":"404"},{"v":1.2898436275514236,"d":"1.3"}]
["BU",{"$f":"Bulgaria!AJ$16","v":202},{"$f":"Bulgaria!AK$16","v":210},{"v":3.960396039603964,"d":"4.0"},null,{"$f":"Bulgaria!AJ$23","v":444},{"$f":"Bulgaria!AK$23","v":437},{"v":-1.5765765765765716,"d":"-1.6"},null,{"$f":"Bulgaria!AJ$30","v":632},{"$f":"Bulgaria!AK$30","v":625},{"v":-1.1075949367088556,"d":"-1.1"},null,{"$f":"Bulgaria!AJ$36","v":0},{"$f":"Bulgaria!AJ$36","v":0},{"v":0,"d":"0.0"},null,{"$f":"Bulgaria!AJ$39","v":60},{"$f":"Bulgaria!AK$39","v":60},{"v":0,"d":"0.0"},null,{"$f":"R36+N36+J36+F36+B36","v":{"v":1338,"d":"1,338"}},{"v":1332,"d":"1,332"},{"v":-0.4484304932735439,"d":"-0.4"}]
["RO",{"$f":"Romania!AJ$17","v":90},{"$f":"Romania!AK$17","v":90},{"v":0,"d":"0.0"},null,{"$f":"Romania!AJ$24","v":980},{"$f":"Romania!AK$24","v":980},{"v":0,"d":"0.0"},null,{"$f":"Romania!AJ$31","v":{"v":1695,"d":"1,695"}},{"$f":"Romania!AK$31","v":{"v":1695,"d":"1,695"}},{"v":0,"d":"0.0"},null,{"$f":"Romania!AJ$37","v":0},{"$f":"Romania!AJ$37","v":0},{"v":0,"d":"0.0"},null,{"$f":"Romania!AJ$40","v":140},{"$f":"Romania!AK$40","v":140},{"v":0,"d":"0.0"},null,{"v":2905,"d":"2,905"},{"v":2905,"d":"2,905"},{"v":0,"d":"0.0"}]
["HR",{"$f":"Croatia!AJ$16","v":95},{"$f":"Croatia!AK$16","v":95},{"v":0,"d":"0.0"},null,{"$f":"Croatia!AJ$23","v":260},{"$f":"Croatia!AK$23","v":260},{"v":0,"d":"0.0"},null,{"$f":"Croatia!AJ$30","v":300},{"$f":"Croatia!AK$30","v":300},{"v":0,"d":"0.0"},null,{"$f":"Croatia!AJ$36","v":0},{"$f":"Croatia!AC$36","v":0},{"v":0,"d":"0.0"},null,{"$f":"Croatia!AJ$39","v":15},{"$f":"Croatia!AK$39","v":15},{"v":0,"d":"0.0"},null,670,670,{"v":0,"d":"0.0"}]
[]
["EUR 27 *",{"$f":"SUM(B14:B38)","v":{"v":42080.439,"d":"42,080"}},{"$f":"SUM(C14:C38)","v":{"v":41891.359,"d":"41,891"}},{"$f":"((C40/B40)-1)*100","v":{"v":-0.4493299131218653,"d":"-0.4"}},null,{"$f":"SUM(F14:F38)","v":{"v":47696.954999999994,"d":"47,697"}},{"v":47353.763999999996,"d":"47,354"},{"$f":"((G40/F40)-1)*100","v":{"v":-0.7195239192942182,"d":"-0.7"}},null,{"$f":"SUM(J14:J38)","v":{"v":49050.387709,"d":"49,050"}},{"v":49923.289,"d":"49,923"},{"$f":"((K40/J40)-1)*100","v":{"v":1.7796012055575128,"d":"1.8"}},null,{"$f":"SUM(N14:N38)","v":{"v":1108,"d":"1,108"}},501,{"$f":"((O40/N40)-1)*100","v":{"v":-54.78339350180506,"d":"-54.8"}},null,{"$f":"SUM(R14:R38)","v":{"v":6977.036,"d":"6,977"}},{"v":6951.668,"d":"6,952"},{"$f":"((S40/R40)-1)*100","v":{"v":-0.3635927921254889,"d":"-0.4"}},null,{"$f":"SUM(V14:V38)","v":{"v":146912.817709,"d":"146,913"}},{"v":146621.08,"d":"146,621"},{"$f":"((W40/V40)-1)*100","v":{"v":-0.19857879901117315,"d":"-0.20"}}]
[]
[{"$nulls":23}," "]
["* Without Luxemburg, Greece and Malta"]
[": not available"]
["From 2015 on, the Dutch production of milk replacers is a rough estimate, due to statistical confidentiality "]
{"$rows_empty":8}
["2024-06-11"]
["TAV: Year-to-year variation"]
["EU 27 + UK"]
[]
[{"$nulls":12},"2023-2024",{"$nulls":10},"INDUSTRIAL COMPOUND PRODUCTION"]
[{"$nulls":12},"forecast",{"$nulls":10},"(1 000 t )"]
[]
[]
[]
["COUNTRY","  CATTLE",{"$nulls":3},"PIGS",{"$nulls":3},"POULTRY",{"$nulls":3},"MILK REPLACERS",{"$nulls":3},"OTHERS",{"$nulls":3},"TOTAL"]
[]
[null,2023,2024,"%TAV",null,2023,2024,"%TAV",null,2023,2024,"%TAV",null,2023,2024,"%TAV",null,2023,2024,"%TAV",null,2023,2024,"%TAV"]
[]
["DE",{"$f":"Germany!AJ$16","v":{"v":6477,"d":"6,477"}},{"$f":"Germany!AK$16","v":{"v":6914,"d":"6,914"}},{"$f":"((C67/B67)-1)*100","v":{"v":6.746950748803449,"d":"6.7"}},null,{"$f":"Germany!AJ$23","v":{"v":8043,"d":"8,043"}},{"$f":"Germany!AK$23","v":{"v":8251,"d":"8,251"}},{"$f":"((G67/F67)-1)*100","v":{"v":2.586099714037049,"d":"2.6"}},null,{"$f":"Germany!AJ$30","v":{"v":6268,"d":"6,268"}},{"$f":"Germany!AK$30","v":{"v":6333,"d":"6,333"}},{"$f":"((K67/J67)-1)*100","v":{"v":1.0370134014039634,"d":"1.0"}},null,{"$f":"Germany!AJ$36","v":150},{"$f":"Germany!AK$36","v":155},{"$f":"((O67/N67)-1)*100","v":{"v":3.3333333333333437,"d":"3.3"}},null,{"$f":"Germany!AJ$39","v":562},{"$f":"Germany!AK$39","v":506},{"$f":"((S67/R67)-1)*100","v":{"v":-9.964412811387902,"d":"-10.0"}},null,{"$f":"R67+N67+J67+F67+B67","v":{"v":21500,"d":"21,500"}},{"v":22159,"d":"22,159"},{"$f":"((W67/V67)-1)*100","v":{"v":3.0651162790697573,"d":"3.1"}}]
["FR",{"$f":"France!AJ$16","v":{"v":5356,"d":"5,356"}},{"$f":"France!AK$16","v":{"v":5461,"d":"5,461"}},{"v":1.96041822255415,"d":"2.0"},null,{"$f":"France!AJ$23","v":{"v":4296,"d":"4,296"}},{"$f":"France!AK$23","v":{"v":4249,"d":"4,249"}},{"v":-1.0940409683426466,"d":"-1.1"},null,{"$f":"France!AJ$30","v":{"v":7799,"d":"7,799"}},{"$f":"France!AK$30","v":{"v":8054,"d":"8,054"}},{"v":3.2696499551224445,"d":"3.3"},null,{"$f":"France!AJ36","v":275},{"$f":"France!AK36","v":275},{"v":0,"d":"0.0"},null,{"$f":"France!AJ$39","v":{"v":1667,"d":"1,667"}},{"$f":"France!AK$39","v":{"v":1657,"d":"1,657"}},{"v":-0.5998800239952029,"d":"-0.6"},null,{"v":19393,"d":"19,393"},{"v":19696,"d":"19,696"},{"v":1.562419429691131,"d":"1.6"}]
["IT",{"$f":"Italy!AJ$16","v":{"v":3731,"d":"3,731"}},{"$f":"Italy!AK$16","v":{"v":3760,"d":"3,760"}},{"v":0.7772715089788163,"d":"0.8"},null,{"$f":"Italy!AJ$23","v":{"v":3960,"d":"3,960"}},{"$f":"Italy!AK$23","v":{"v":3930,"d":"3,930"}},{"v":-0.7575757575757569,"d":"-0.8"},null,{"$f":"Italy!AJ$30","v":{"v":6137,"d":"6,137"}},{"$f":"Italy!AK$30","v":{"v":6090,"d":"6,090"}},{"v":-0.7658465048069107,"d":"-0.8"},null,{"$f":"Italy!AJ$36","v":92},{"$f":"Italy!AK$36","v":0},{"v":-100,"d":"-100.0"},null,{"$f":"+Italy!AJ$39","v":978},{"$f":"+Italy!AK$39","v":{"v":1111,"d":"1,111"}},{"v":13.599182004089982,"d":"13.6"},null,{"v":14898,"d":"14,898"},{"v":14891,"d":"14,891"},{"v":-0.04698617264062843,"d":"-0.0"}]
["NL   ",{"$f":"'The Netherlands'!AJ$16","v":{"v":4311,"d":"4,311"}},{"$f":"'The Netherlands'!AK$16","v":{"v":3221,"d":"3,221"}},{"v":-25.284156808165157,"d":"-25.3"},null,{"$f":"'The Netherlands'!AJ$23","v":{"v":4349,"d":"4,349"}},{"$f":"'The Netherlands'!AK$23","v":{"v":3089,"d":"3,089"}},{"v":-28.972177512071738,"d":"-29.0"},null,{"$f":"'The Netherlands'!AJ$30","v":{"v":4056,"d":"4,056"}},{"$f":"'The Netherlands'!AK$30","v":{"v":3997,"d":"3,997"}},{"v":-1.4546351084812614,"d":"-1.5"},null,{"$f":"'The Netherlands'!AJ$36","v":520},{"$f":"'The Netherlands'!AK$36","v":0},{"v":-100,"d":"-100.0"},null,{"$f":"'The Netherlands'!AJ$39","v":591},{"$f":"'The Netherlands'!AK$39","v":625},{"v":5.752961082910324,"d":"5.8"},null,{"v":13827,"d":"13,827"},{"$f":"S70+O70+K70+G70+C70","v":{"v":10932,"d":"10,932"}},{"v":-20.93729659362118,"d":"-20.9"}]
["BE",{"$f":"Belgium!AJ$16","v":{"v":1434,"d":"1,434"}},{"$f":"Belgium!AK$16","v":{"v":1443,"d":"1,443"}},{"v":0.6276150627614996,"d":"0.6"},null,{"$f":"Belgium!AJ$23","v":{"v":3023,"d":"3,023"}},{"$f":"Belgium!AK$23","v":{"v":3147,"d":"3,147"}},{"v":4.101885544161421,"d":"4.1"},null,{"$f":"Belgium!AJ$30","v":{"v":1260,"d":"1,260"}},{"$f":"Belgium!AK$30","v":{"v":1286,"d":"1,286"}},{"v":2.063492063492056,"d":"2.1"},null,{"$f":"Belgium!AJ$36","v":67},{"$f":"Belgium!AK$36","v":67},{"v":0,"d":"0.0"},null,{"$f":"Belgium!AJ$39","v":359},{"$f":"Belgium!AK$39","v":400},{"v":11.420612813370479,"d":"11.4"},null,{"v":6143,"d":"6,143"},{"v":6343,"d":"6,343"},{"v":3.2557382386456224,"d":"3.3"}]
["UK ",{"$f":"UK!AJ$16","v":{"v":5349,"d":"5,349"}},{"$f":"UK!AK$16","v":{"v":5651,"d":"5,651"}},{"v":5.645915124322309,"d":"5.6"},null,{"$f":"UK!AJ$23","v":{"v":2284,"d":"2,284"}},{"$f":"UK!AK$23","v":{"v":2104,"d":"2,104"}},{"v":-7.880910683012255,"d":"-7.9"},null,{"$f":"UK!AJ$30","v":{"v":6843,"d":"6,843"}},{"$f":"UK!AK$30","v":{"v":7017,"d":"7,017"}},{"v":2.5427444103463426,"d":"2.5"},null,{"$f":"UK!AJ$36","v":0},{"$f":"UK!AK$36","v":0},{"v":0,"d":"0.0"},null,{"$f":"UK!AJ$39","v":{"v":1456,"d":"1,456"}},{"$f":"UK!AK$39","v":{"v":1436,"d":"1,436"}},{"v":-1.3736263736263687,"d":"-1.4"},null,{"v":15932,"d":"15,932"},{"v":16208,"d":"16,208"},{"v":1.7323625407983823,"d":"1.7"}]
["IE",{"$f":"Ireland!AJ$16","v":{"v":3466,"d":"3,466"}},{"$f":"Ireland!AK$16","v":{"v":3866,"d":"3,866"}},{"v":11.540680900173106,"d":"11.5"},null,{"$f":"Ireland!AJ$23","v":663},{"$f":"Ireland!AK$23","v":686},{"v":3.469079939668185,"d":"3.5"},null,{"$f":"Ireland!AJ$30","v":690},{"$f":"Ireland!AK$30","v":711},{"v":3.04347826086957,"d":"3.0"},null,{"$f":"Ireland!AJ$36","v":0},{"$f":"Ireland!AK$36","v":0},{"v":0,"d":"0.0"},null,{"$f":"Ireland!AJ$39","v":209},{"$f":"Ireland!AK$39","v":224},{"v":7.177033492822971,"d":"7.2"},null,{"v":5028,"d":"5,028"},{"v":5487,"d":"5,487"},{"v":9.12887828162292,"d":"9.1"}]
["DK ",{"$f":"Denmark!AJ$16","v":{"v":1018,"d":"1,018"}},{"$f":"Denmark!AK$16","v":{"v":1147,"d":"1,147"}},{"v":12.671905697445961,"d":"12.7"},null,{"$f":"Denmark!AJ$23","v":{"v":2088,"d":"2,088"}},{"$f":"Denmark!AK$23","v":{"v":2289,"d":"2,289"}},{"v":9.626436781609193,"d":"9.6"},null,{"$f":"Denmark!AJ$30","v":644},{"$f":"Denmark!AK$30","v":698},{"v":8.385093167701863,"d":"8.4"},null,{"$f":"Denmark!AJ$36","v":0},{"$f":"Denmark!AK$36","v":0},{"v":0,"d":"0.0"},null,{"$f":"Denmark!AJ$39","v":226},{"$f":"Denmark!AK$39","v":204},{"v":-9.734513274336287,"d":"-9.7"},null,{"v":3976,"d":"3,976"},{"v":4338,"d":"4,338"},{"v":9.104627766599593,"d":"9.1"}]
["ES",{"$f":"Spain!AJ$16","v":{"v":9666,"d":"9,666"}},{"$f":"Spain!AK$16","v":{"v":9400,"d":"9,400"}},{"v":-2.7519139250982816,"d":"-2.8"},null,{"$f":"Spain!AJ$23","v":{"v":12907,"d":"12,907"}},{"$f":"Spain!AK$23","v":{"v":13100,"d":"13,100"}},{"v":1.4953126210583312,"d":"1.5"},null,{"$f":"Spain!AJ$30","v":{"v":4803,"d":"4,803"}},{"$f":"Spain!AK$30","v":{"v":5200,"d":"5,200"}},{"v":8.26566729127629,"d":"8.3"},null,{"$f":"Spain!AJ$36","v":0},{"$f":"Spain!AJ$36","v":0},{"v":0,"d":"0.0"},null,{"$f":"Spain!AJ$39","v":159},{"$f":"Spain!AK$39","v":170},{"v":6.91823899371069,"d":"6.9"},null,{"v":27535,"d":"27,535"},{"v":27870,"d":"27,870"},{"v":1.2166333757036574,"d":"1.2"}]
["PT",{"$f":"Portugal!AJ$16","v":{"v":1114,"d":"1,114"}},{"$f":"Portugal!AK$16","v":{"v":1050,"d":"1,050"}},{"v":-5.74506283662477,"d":"-5.7"},null,{"$f":"Portugal!AJ$23","v":{"v":1101,"d":"1,101"}},{"$f":"Portugal!AK$23","v":{"v":1150,"d":"1,150"}},{"v":4.4504995458674035,"d":"4.5"},null,{"$f":"Portugal!AJ$30","v":{"v":1905,"d":"1,905"}},{"$f":"Portugal!AK$30","v":{"v":1956,"d":"1,956"}},{"v":2.677165354330713,"d":"2.7"},null,{"$f":"Portugal!AJ$36","v":0},{"$f":"Portugal!AJ$36","v":0},{"v":0,"d":"0.0"},null,{"$f":"Portugal!AJ$39","v":316},{"$f":"Portugal!AK$39","v":271},{"v":-14.240506329113922,"d":"-14.2"},null,{"v":4436,"d":"4,436"},{"v":4427,"d":"4,427"},{"v":-0.20288548241659266,"d":"-0.2"}]
["AT",{"$f":"Austria!AJ$16","v":632},{"$f":"Austria!AK$16","v":{"v":661.001,"d":"661"}},{"v":4.588765822784802,"d":"4.6"},null,{"$f":"Austria!AJ$23","v":250},{"$f":"Austria!AK$23","v":{"v":248.599,"d":"249"}},{"v":-0.5604000000000053,"d":"-0.6"},null,{"$f":"Austria!AJ$30","v":707},{"$f":"Austria!AK$30","v":{"v":734.138,"d":"734"}},{"v":3.8384724186704355,"d":"3.8"},null,{"$f":"Austria!AJ$36","v":0},{"$f":"Austria!AJ$36","v":0},{"v":0,"d":"0.0"},null,{"$f":"Austria!AJ$39","v":145},{"$f":"Austria!AK$39","v":{"v":146.768,"d":"147"}},{"v":1.2193103448275844,"d":"1.2"},null,{"v":1734,"d":"1,734"},{"v":1790.506,"d":"1,791"},{"v":3.2587081891580105,"d":"3.3"}]
["SE",{"$f":"Sweden!AJ$16","v":861},{"$f":"Sweden!AK$16","v":832},{"v":-3.3681765389082408,"d":"-3.4"},null,{"$f":"Sweden!AJ$23","v":306},{"$f":"Sweden!AK$23","v":338},{"v":10.457516339869288,"d":"10.5"},null,{"$f":"Sweden!AJ$30","v":685},{"$f":"Sweden!AK$30","v":715},{"v":4.379562043795615,"d":"4.4"},null,{"$f":"Sweden!AJ$36","v":3},{"$f":"Sweden!AJ$36","v":3},{"$f":"((O78/N78)-1)*100","v":{"v":0,"d":"0.0"}},null,{"$f":"Sweden!AJ$39","v":72},{"$f":"Sweden!AK$39","v":68},{"v":-5.555555555555558,"d":"-5.6"},null,{"v":1927,"d":"1,927"},{"v":1956,"d":"1,956"},{"v":1.5049299429164442,"d":"1.5"}]
["FI",{"$f":"Finland!AJ$16","v":673},{"$f":"Finland!AK$16","v":673},{"v":0,"d":"0.0"},null,{"$f":"Finland!AJ$23","v":231},{"$f":"Finland!AK$23","v":231},{"v":0,"d":"0.0"},null,{"$f":"Finland!AJ$30","v":420},{"$f":"Finland!AK$30","v":420},{"v":0,"d":"0.0"},null,{"$f":"Finland!AJ$36","v":0},{"$f":"Finland!AJ$36","v":0},{"v":0,"d":"0.0"},null,{"$f":"Finland!AJ$39","v":110},{"$f":"Finland!AK$39","v":110},{"v":0,"d":"0.0"},null,{"v":1434,"d":"1,434"},{"v":1434,"d":"1,434"},{"v":0,"d":"0.0"}]
["CY",{"$f":"Cyprus!AJ$16","v":180},{"$f":"Cyprus!AK$16","v":180},{"v":0,"d":"0.0"},null,{"$f":"Cyprus!AJ$23","v":{"v":4.7,"d":"5"}},{"$f":"Cyprus!AK$23","v":{"v":4.7,"d":"5"}},{"v":0,"d":"0.0"},null,{"$f":"Cyprus!AJ$30","v":37},{"$f":"Cyprus!AK$30","v":37},{"v":0,"d":"0.0"},null,{"$f":"Cyprus!AJ$36","v":0},{"$f":"Cyprus!AJ$36","v":0},{"v":0,"d":"0.0"},null,{"$f":"Cyprus!AJ$39","v":137},{"$f":"Cyprus!AK$39","v":137},{"v":0,"d":"0.0"},null,{"v":358.7,"d":"359"},{"v":358.7,"d":"359"},{"v":0,"d":"0.0"}]
["CZ",{"$f":"'Czech Rep'!AJ$16","v":596},{"$f":"'Czech Rep'!AK$16","v":596},{"v":0,"d":"0.0"},null,{"$f":"'Czech Rep'!AJ$23","v":675},{"$f":"'Czech Rep'!AK$23","v":675},{"v":0,"d":"0.0"},null,{"$f":"'Czech Rep'!AJ$30","v":{"v":1006,"d":"1,006"}},{"$f":"'Czech Rep'!AK$30","v":{"v":1006,"d":"1,006"}},{"v":0,"d":"0.0"},null,{"$f":"'Czech Rep'!AJ$36","v":1},{"$f":"'Czech Rep'!AJ$36","v":1},{"$f":"((O81/N81)-1)*100","v":{"v":0,"d":"0.0"}},null,{"$f":"'Czech Rep'!AJ$39","v":100},{"$f":"'Czech Rep'!AK$39","v":100},{"v":0,"d":"0.0"},null,{"v":2378,"d":"2,378"},{"v":2378,"d":"2,378"},{"v":0,"d":"0.0"}]
["EE",{"$f":"Estonia!AJ$16","v":40},{"$f":"Estonia!AK$16","v":40},{"v":0,"d":"0.0"},null,{"$f":"Estonia!AJ$23","v":140},{"$f":"Estonia!AK$23","v":140},{"v":0,"d":"0.0"},null,{"$f":"Estonia!AJ$30","v":48},{"$f":"Estonia!AK$30","v":48},{"v":0,"d":"0.0"},null,{"$f":"Estonia!AJ$36","v":0},{"$f":"Estonia!AJ$36","v":0},{"v":0,"d":"0.0"},null,{"$f":"Estonia!AJ$39","v":2},{"$f":"Estonia!AK$39","v":2},{"v":0,"d":"0.0"},null,230,230,{"v":0,"d":"0.0"}]
["HU",{"$f":"Hungary!AJ$16","v":461},{"$f":"Hungary!AK$16","v":461},{"v":0,"d":"0.0"},null,{"$f":"Hungary!AJ$23","v":{"v":1261.532,"d":"1,262"}},{"$f":"Hungary!AK$23","v":{"v":1175,"d":"1,175"}},{"v":-6.8592790353316335,"d":"-6.9"},null,{"$f":"Hungary!AJ$30","v":{"v":1820.315,"d":"1,820"}},{"$f":"Hungary!AK$30","v":{"v":1800,"d":"1,800"}},{"v":-1.1160156346566419,"d":"-1.1"},null,{"$f":"Hungary!AJ$36","v":0},{"$f":"Hungary!AJ$36","v":0},{"v":0,"d":"0.0"},null,{"$f":"Hungary!AJ$39","v":{"v":106.545,"d":"107"}},{"$f":"Hungary!AK$39","v":120},{"v":12.628466844995078,"d":"12.6"},null,{"$f":"R83+N83+J83+F83+B83","v":{"v":3649.392,"d":"3,649"}},{"v":3556,"d":"3,556"},{"v":-2.559111216334109,"d":"-2.6"}]
["LV",{"$f":"Latvia!AJ$16","v":64},{"$f":"Latvia!AK$16","v":64},{"v":0,"d":"0.0"},null,{"$f":"Latvia!AJ$23","v":66},{"$f":"Latvia!AK$23","v":66},{"v":0,"d":"0.0"},null,{"$f":"Latvia!AJ$30","v":202},{"$f":"Latvia!AK$30","v":202},{"v":0,"d":"0.0"},null,{"$f":"Latvia!AJ$36","v":0},{"$f":"Latvia!AJ$36","v":0},{"v":0,"d":"0.0"},null,{"$f":"Latvia!AJ$39","v":14},{"$f":"Latvia!AK$39","v":14},{"v":0,"d":"0.0"},null,346,346,{"v":0,"d":"0.0"}]
["LT",{"$f":"Lithuania!AJ$16","v":158},{"$f":"Lithuania!AK$16","v":158},{"v":0,"d":"0.0"},null,{"$f":"Lithuania!AJ$23","v":38},{"$f":"Lithuania!AK$23","v":38},{"v":0,"d":"0.0"},null,{"$f":"Lithuania!AJ$30","v":217},{"$f":"Lithuania!AK$30","v":217},{"v":0,"d":"0.0"},null,{"$f":"Lithuania!AJ$36","v":0},{"$f":"Lithuania!AJ$36","v":0},{"v":0,"d":"0.0"},null,{"$f":"Lithuania!AJ$39","v":186},{"$f":"Lithuania!AK$39","v":186},{"v":0,"d":"0.0"},null,599,599,{"v":0,"d":"0.0"}]
["PL",{"$f":"Poland!AJ$16","v":{"v":1170,"d":"1,170"}},{"$f":"Poland!AK$16","v":{"v":1280,"d":"1,280"}},{"v":9.401709401709413,"d":"9.4"},null,{"$f":"Poland!AJ$23","v":{"v":2370,"d":"2,370"}},{"$f":"Poland!AK$23","v":{"v":2630,"d":"2,630"}},{"v":10.970464135021096,"d":"11.0"},null,{"$f":"Poland!AJ$30","v":{"v":7190,"d":"7,190"}},{"$f":"Poland!AK$30","v":{"v":7270,"d":"7,270"}},{"v":1.112656467315709,"d":"1.1"},null,{"$f":"Poland!AJ$36","v":0},{"$f":"Poland!AJ$36","v":0},{"v":0,"d":"0.0"},null,{"$f":"Poland!AJ$39","v":800},{"$f":"Poland!AK$39","v":660},{"v":-17.500000000000004,"d":"-17.5"},null,{"v":11530,"d":"11,530"},{"v":11840,"d":"11,840"},{"v":2.6886383347788367,"d":"2.7"}]
["SK",{"$f":"Slovakia!AJ$16","v":{"v":196.48600000000002,"d":"196"}},{"$f":"Slovakia!AK$16","v":{"v":196.48600000000002,"d":"196"}},{"v":0,"d":"0.0"},null,{"$f":"Slovakia!AJ$23","v":195},{"$f":"Slovakia!AK$23","v":195},{"v":0,"d":"0.0"},null,{"$f":"Slovakia!AJ$30","v":{"v":268.199,"d":"268"}},{"$f":"Slovakia!AK$30","v":{"v":268.199,"d":"268"}},{"v":0,"d":"0.0"},null,{"$f":"Slovakia!AJ$36","v":0},{"$f":"Slovakia!AJ$36","v":0},{"v":0,"d":"0.0"},null,{"$f":"+Slovakia!AJ$39","v":{"v":18.9,"d":"19"}},{"$f":"+Slovakia!AK$39","v":{"v":18.9,"d":"19"}},{"v":0,"d":"0.0"},null,{"v":678.585,"d":"679"},{"v":678.585,"d":"679"},{"v":0,"d":"0.0"}]
["SI",{"$f":"Slovenia!AJ$16","v":{"v":88.953,"d":"89"}},{"$f":"Slovenia!AK$16","v":{"v":92.872,"d":"93"}},{"v":4.405697390756913,"d":"4.4"},null,{"$f":"Slovenia!AJ$23","v":{"v":45.723,"d":"46"}},{"$f":"Slovenia!AK$23","v":{"v":44.465,"d":"44"}},{"v":-2.751350523806395,"d":"-2.8"},null,{"$f":"Slovenia!AJ$30","v":{"v":260.873709,"d":"261"}},{"$f":"Slovenia!AK$30","v":{"v":260.952,"d":"261"}},{"v":0.030011073289104573,"d":"0.0"},null,{"$f":"Slovenia!AJ$36","v":0},{"$f":"Slovenia!AJ$36","v":0},{"v":0,"d":"0.0"},null,{"$f":"Slovenia!AJ$39","v":{"v":3.591,"d":"4"}},{"$f":"Slovenia!AK$39","v":6},{"v":67.0843776106934,"d":"67.1"},null,{"v":399.140709,"d":"399"},{"v":404.28900000000004,"d":"404"},{"v":1.2898436275514236,"d":"1.3"}]
["BU",{"$f":"Bulgaria!AJ$16","v":202},{"$f":"Bulgaria!AK$16","v":210},{"v":3.960396039603964,"d":"4.0"},null,{"$f":"Bulgaria!AJ$23","v":444},{"$f":"Bulgaria!AK$23","v":437},{"v":-1.5765765765765716,"d":"-1.6"},null,{"$f":"Bulgaria!AJ$30","v":632},{"$f":"Bulgaria!AK$30","v":625},{"v":-1.1075949367088556,"d":"-1.1"},null,{"$f":"Bulgaria!AJ$36","v":0},{"$f":"Bulgaria!AJ$36","v":0},{"v":0,"d":"0.0"},null,{"$f":"Bulgaria!AJ$39","v":60},{"$f":"Bulgaria!AK$39","v":60},{"v":0,"d":"0.0"},null,{"v":1338,"d":"1,338"},{"v":1332,"d":"1,332"},{"v":-0.4484304932735439,"d":"-0.4"}]
["RO",{"$f":"Romania!AJ$17","v":90},{"$f":"Romania!AK$17","v":90},{"v":0,"d":"0.0"},null,{"$f":"Romania!AJ$24","v":980},{"$f":"Romania!AK$24","v":980},{"v":0,"d":"0.0"},null,{"$f":"Romania!AJ$31","v":{"v":1695,"d":"1,695"}},{"$f":"Romania!AK$31","v":{"v":1695,"d":"1,695"}},{"v":0,"d":"0.0"},null,{"$f":"Romania!AJ$37","v":0},{"$f":"Romania!AJ$37","v":0},{"v":0,"d":"0.0"},null,{"$f":"Romania!AJ$40","v":140},{"$f":"Romania!AK$40","v":140},{"v":0,"d":"0.0"},null,{"v":2905,"d":"2,905"},{"v":2905,"d":"2,905"},{"v":0,"d":"0.0"}]
["HR",{"$f":"Croatia!AJ$16","v":95},{"$f":"Croatia!AK$16","v":95},{"v":0,"d":"0.0"},null,{"$f":"Croatia!AJ$23","v":260},{"$f":"Croatia!AK$23","v":260},{"v":0,"d":"0.0"},null,{"$f":"Croatia!AJ$30","v":300},{"$f":"Croatia!AK$30","v":300},{"v":0,"d":"0.0"},null,{"$f":"Croatia!AJ$36","v":0},{"$f":"Croatia!AC$36","v":0},{"v":0,"d":"0.0"},null,{"$f":"Croatia!AJ$39","v":15},{"$f":"Croatia!AK$39","v":15},{"v":0,"d":"0.0"},null,670,670,{"v":0,"d":"0.0"}]
[]
["EUR 27*+UK",{"$f":"SUM(B67:B91)","v":{"v":47429.439,"d":"47,429"}},{"v":47542.359,"d":"47,542"},{"$f":"((C93/B93)-1)*100","v":{"v":0.23807998235019223,"d":"0.2"}},null,{"$f":"SUM(F67:F91)","v":{"v":49980.954999999994,"d":"49,981"}},{"v":49457.763999999996,"d":"49,458"},{"$f":"((G93/F93)-1)*100","v":{"v":-1.046780718775775,"d":"-1.0"}},null,{"$f":"SUM(J67:J91)","v":{"v":55893.387709,"d":"55,893"}},{"v":56940.289,"d":"56,940"},{"$f":"((K93/J93)-1)*100","v":{"v":1.8730324532313603,"d":"1.9"}},null,{"$f":"SUM(N67:N91)","v":{"v":1108,"d":"1,108"}},501,{"$f":"((O93/N93)-1)*100","v":{"v":-54.78339350180506,"d":"-54.8"}},null,{"$f":"SUM(R67:R91)","v":{"v":8433.036,"d":"8,433"}},{"v":8387.668,"d":"8,388"},{"$f":"((S93/R93)-1)*100","v":{"v":-0.5379794418048256,"d":"-0.5"}},null,{"$f":"SUM(V67:V91)","v":{"v":162844.817709,"d":"162,845"}},{"v":162829.08,"d":"162,829"},{"$f":"((W93/V93)-1)*100","v":{"v":-9.66423692286833E-3,"d":"-0.01"}}]
[]
[{"$nulls":23}," "]
["* Without Luxemburg, Greece and Malta"]
[": not available"]
["From 2015 on, the Dutch production of milk replacers is a rough estimate, due to statistical confidentiality "]

{"sheet":"2024","index":70,"n_rows":90,"n_cols":15,"rows_kept":90,"merged":[[2,0,2,14],[3,0,3,14],[51,0,51,14],[52,0,52,14]]}
[]
[{"$nulls":14},"INDUSTRIAL COMPOUND FEED PRODUCTION"]
[2024]
["FINAL"]
[{"$nulls":14},"(1 000 t)"]
[]
["Types of feed","DE","FR","IT","NL","BE","UK","IE","DK","ES","PT","AT","SE","FI","EU-14+UK*"]
[]
[null," ",{"$nulls":4}," ",null,null," "]
["Cattle",{"$f":"Germany!AK16","v":{"v":6914,"d":"6,914"}},{"$f":"France!AK16","v":{"v":5461,"d":"5,461"}},{"$f":"Italy!AK16","v":{"v":3760,"d":"3,760"}},{"$f":"'The Netherlands'!AK16","v":{"v":3221,"d":"3,221"}},{"$f":"Belgium!AK16","v":{"v":1443,"d":"1,443"}},{"$f":"UK!AK16","v":{"v":5651,"d":"5,651"}},{"$f":"Ireland!AK16","v":{"v":3866,"d":"3,866"}},{"$f":"Denmark!AK16","v":{"v":1147,"d":"1,147"}},{"$f":"Spain!AK16","v":{"v":9400,"d":"9,400"}},{"$f":"Portugal!AK16","v":{"v":1050,"d":"1,050"}},{"$f":"Austria!AK16","v":{"v":661.001,"d":"661"}},{"$f":"Sweden!AK16","v":832},{"$f":"Finland!AK16","v":673},{"$f":"SUM(B10:N10)-G10","v":{"v":38428.001,"d":"38,428"}}]
["fattening",{"$f":"Germany!AK17","v":0},{"$f":"France!AK17","v":{"v":1836,"d":"1,836"}},{"$f":"Italy!AK17","v":725},{"$f":"'The Netherlands'!AK17","v":59},{"$f":"Belgium!AK17","v":421},{"$f":"UK!AK17","v":{"v":1342,"d":"1,342"}},{"$f":"Ireland!AK17","v":{"v":1240,"d":"1,240"}},":",":",{"$f":"Portugal!AK17","v":0},{"$f":"Austria!AJ17","v":0},":",":",":"]
["dairy cow",{"$f":"Germany!AK18","v":0},{"$f":"France!AK18","v":{"v":3626,"d":"3,626"}},{"$f":"Italy!AK18","v":{"v":2805,"d":"2,805"}},{"$f":"'The Netherlands'!AK18","v":{"v":2497,"d":"2,497"}},{"$f":"Belgium!AK18","v":795},{"$f":"UK!AK18","v":{"v":3931,"d":"3,931"}},{"$f":"Ireland!AK18","v":{"v":2126,"d":"2,126"}},{"$f":"Denmark!AJ18","v":0},":",{"$f":"Portugal!AK18","v":0},{"$f":"Austria!AJ18","v":0},":",{"$f":"Finland!AJ18","v":0},":"]
["calves (excl. milk replacers)",{"$f":"Germany!AK19","v":308},{"$f":"France!AK19","v":0},{"$f":"Italy!AK19","v":90},{"$f":"'The Netherlands'!AK19","v":665},{"$f":"Belgium!AK19","v":227},{"$f":"UK!AK19","v":282},{"$f":"Ireland!AK19","v":0},{"$f":"Denmark!AJ19","v":0},":",{"$f":"Portugal!AK19","v":0},{"$f":"Austria!AJ19","v":0},":",{"$f":"Finland!AJ19","v":0},":"]
["others",{"$f":"Germany!AK20","v":0},{"$f":"France!AK20","v":0},{"$f":"Italy!AK20","v":140},{"$f":"'The Netherlands'!AK20","v":0},{"$f":"Belgium!AK20","v":0},{"$f":"UK!AK20","v":96},{"$f":"Ireland!AK20","v":500},{"$f":"Denmark!AJ20","v":0},":",{"$f":"Portugal!AK20","v":0},{"$f":"Austria!AJ20","v":0},":",{"$f":"Finland!AJ20","v":0},":"]
[]
[]
["Pigs",{"$f":"Germany!AK23","v":{"v":8251,"d":"8,251"}},{"$f":"France!AK23","v":{"v":4249,"d":"4,249"}},{"$f":"Italy!AK23","v":{"v":3930,"d":"3,930"}},{"$f":"'The Netherlands'!AK23","v":{"v":3089,"d":"3,089"}},{"$f":"Belgium!AK23","v":{"v":3147,"d":"3,147"}},{"$f":"UK!AK23","v":{"v":2104,"d":"2,104"}},{"$f":"Ireland!AK23","v":686},{"$f":"Denmark!AK23","v":{"v":2289,"d":"2,289"}},{"$f":"Spain!AK23","v":{"v":13100,"d":"13,100"}},{"$f":"Portugal!AK23","v":{"v":1150,"d":"1,150"}},{"$f":"Austria!AK23","v":{"v":248.599,"d":"249"}},{"$f":"Sweden!AK23","v":338},{"$f":"Finland!AK23","v":231},{"$f":"SUM(B17:N17)-G17","v":{"v":40708.599,"d":"40,709"}}]
["piglets",{"$f":"Germany!AK24","v":0},{"$f":"France!AK24","v":619},{"$f":"Italy!AK24","v":0},{"$f":"'The Netherlands'!AK24","v":454},{"$f":"Belgium!AK24","v":834},{"$f":"UK!AK24","v":174},{"$f":"Ireland!AK24","v":0},{"$f":"Denmark!KJ24","v":0},":",{"$f":"Portugal!AK24","v":0},{"$f":"Austria!AJ24","v":0},":",{"$f":"Finland!AJ24","v":0},":"]
["pigs for fattening",{"$f":"Germany!AJ25","v":":"},{"$f":"France!AK25","v":{"v":2964,"d":"2,964"}},{"$f":"Italy!AJ25","v":0},{"$f":"'The Netherlands'!AK25","v":{"v":1942,"d":"1,942"}},{"$f":"Belgium!AK25","v":{"v":1879,"d":"1,879"}},{"$f":"UK!AK25","v":{"v":1504,"d":"1,504"}},{"$f":"Ireland!AK25","v":0},{"$f":"Denmark!AK25","v":0},":",{"$f":"Portugal!AK25","v":0},{"$f":"Austria!AJ25","v":0},":",{"$f":"Finland!AJ25","v":0},":"]
["breeding pigs",{"$f":"Germany!AJ26","v":":"},{"$f":"France!AK26","v":619},{"$f":"Italy!AJ26","v":0},{"$f":"'The Netherlands'!AK26","v":693},{"$f":"Belgium!AK26","v":434},{"$f":"UK!AK26","v":419},{"$f":"Ireland!AK26","v":0},{"$f":"Denmark!AK26","v":0},":",{"$f":"Portugal!AK26","v":0},{"$f":"Austria!AJ26","v":0},":",{"$f":"Finland!AJ26","v":0},":"]
["others",{"$f":"Germany!AJ27","v":":"},{"$f":"France!AK27","v":0},{"$f":"Italy!AJ27","v":0},{"$f":"'The Netherlands'!AK27","v":0},{"$f":"Belgium!AK27","v":0},{"$f":"UK!AK27","v":7},{"$f":"Ireland!AJ27","v":0},{"$f":"Denmark!AK27","v":0},":",{"$f":"Portugal!AK27","v":0},{"$f":"Austria!AJ27","v":0},":",{"$f":"Finland!AJ27","v":0},":"]
[{"$nulls":3}," "]
[]
["Poultry",{"$f":"Germany!AK30","v":{"v":6333,"d":"6,333"}},{"$f":"France!AK30","v":{"v":8054,"d":"8,054"}},{"$f":"Italy!AK30","v":{"v":6090,"d":"6,090"}},{"$f":"'The Netherlands'!AK30","v":{"v":3997,"d":"3,997"}},{"$f":"Belgium!AK30","v":{"v":1286,"d":"1,286"}},{"$f":"UK!AK30","v":{"v":7017,"d":"7,017"}},{"$f":"Ireland!AK30","v":711},{"$f":"Denmark!AK30","v":698},{"$f":"Spain!AK30","v":{"v":5200,"d":"5,200"}},{"$f":"Portugal!AK30","v":{"v":1956,"d":"1,956"}},{"$f":"Austria!AK30","v":{"v":734.138,"d":"734"}},{"$f":"Sweden!AK30","v":715},{"$f":"Finland!AK30","v":420},{"$f":"SUM(B24:N24)-G24","v":{"v":36194.138,"d":"36,194"}}]
["broilers",{"$f":"Germany!AK31","v":{"v":4016,"d":"4,016"}},{"$f":"France!AK31","v":{"v":3237,"d":"3,237"}},{"$f":"Italy!AK31","v":{"v":3147,"d":"3,147"}},{"$f":"'The Netherlands'!AK31","v":{"v":2003,"d":"2,003"}},{"$f":"Belgium!AK31","v":796},{"$f":"UK!AK31","v":{"v":4144,"d":"4,144"}},":",{"$f":"Denmark!AK31","v":0},":",{"$f":"Portugal!AK31","v":0},{"$f":"Austria!AJ31","v":0},":",{"$f":"Finland!AJ31","v":0},":"]
["chicks & layers",{"$f":"Germany!AK32","v":{"v":2317,"d":"2,317"}},{"$f":"France!AK32","v":{"v":2804,"d":"2,804"}},{"$f":"Italy!AK32","v":{"v":2040,"d":"2,040"}},{"$f":"'The Netherlands'!AK32","v":{"v":1994,"d":"1,994"}},{"$f":"Belgium!AK32","v":337},{"$f":"UK!AK32","v":{"v":1715,"d":"1,715"}},":",{"$f":"Denmark!AK32","v":0},":",{"$f":"Portugal!AK32","v":0},{"$f":"Austria!AJ32","v":0},":",{"$f":"Finland!AJ32","v":0},":"]
["others",{"$f":"Germany!AK33","v":":"},{"$f":"France!AK33","v":{"v":2012,"d":"2,012"}},{"$f":"Italy!AK33","v":903},{"$f":"'The Netherlands'!AK33","v":0},{"$f":"Belgium!AK33","v":153},{"$f":"UK!AK33","v":{"v":1158,"d":"1,158"}},":",{"$f":"Denmark!AK33","v":0},":",{"$f":"Portugal!AK33","v":0},{"$f":"Austria!AJ33","v":0},":",{"$f":"Finland!AJ33","v":0},":"]
[]
[]
["Milk replacers",{"$f":"Germany!AK36","v":155},{"$f":"France!AK36","v":275},{"$f":"Italy!AJ36","v":92},{"$f":"'The Netherlands'!AJ36","v":520},{"$f":"Belgium!AK36","v":67},{"$f":"UK!AJ36","v":0},{"$f":"Ireland!AJ36","v":0},{"$f":"Denmark!AJ36","v":0},{"$f":"Spain!AJ36","v":0},{"$f":"Portugal!AJ36","v":0},{"$f":"Austria!AJ36","v":0},{"$f":"Sweden!AJ36","v":3},{"$f":"Finland!AJ36","v":0},{"$f":"SUM(B30:N30)","v":{"v":1112,"d":"1,112"}}]
[]
[{"$nulls":3}," "]
["Others",{"$f":"Germany!AK39","v":506},{"$f":"France!AK39","v":{"v":1657,"d":"1,657"}},{"$f":"Italy!AK39","v":{"v":1111,"d":"1,111"}},{"$f":"'The Netherlands'!AK39","v":625},{"$f":"Belgium!AK39","v":400},{"$f":"UK!AK39","v":{"v":1436,"d":"1,436"}},{"$f":"Ireland!AK39","v":224},{"$f":"Denmark!AK39","v":204},{"$f":"Spain!AK39","v":170},{"$f":"Portugal!AK39","v":271},{"$f":"Austria!AK39","v":{"v":146.768,"d":"147"}},{"$f":"Sweden!AK39","v":68},{"$f":"Finland!AK39","v":110},{"$f":"SUM(B33:N33)-G33","v":{"v":5492.768,"d":"5,493"}}]
[]
[]
["TOTAL",{"$f":"B33+B30+B24+B17+B10","v":{"v":22159,"d":"22,159"}},{"$f":"C33+C30+C24+C17+C10","v":{"v":19696,"d":"19,696"}},{"$f":"D33+D30+D24+D17+D10","v":{"v":14983,"d":"14,983"}},{"$f":"E33+E30+E24+E17+E10","v":{"v":11452,"d":"11,452"}},{"v":6343,"d":"6,343"},{"v":16208,"d":"16,208"},{"v":5487,"d":"5,487"},{"v":4338,"d":"4,338"},{"v":27870,"d":"27,870"},{"v":4427,"d":"4,427"},{"v":1790.506,"d":"1,791"},{"v":1956,"d":"1,956"},{"v":1434,"d":"1,434"},{"v":121935.506,"d":"121,936"}]
[{"$nulls":4}," "]
[]
["* Without Luxemburg and Greece"]
[": not available"]
["From 2015 on, the Dutch production of milk replacers is a rough estimate, due to statistical confidentiality "]
{"$rows_empty":9}
[{"$nulls":14},"INDUSTRIAL COMPOUND PRODUCTION"]
[2024]
["FINAL"]
[{"$nulls":14},"(1 000 t)"]
[]
["Types of feed","CY","CZ","EE","HU","LV","LT","PL","SK","SI","BU","RO","HR","EU-13**","EU-27***+UK"]
[]
[null," ",{"$nulls":4}," ",null," "]
["Cattle",{"$f":"Cyprus!AK16","v":180},{"$f":"'Czech Rep'!AK16","v":596},{"$f":"Estonia!AK16","v":40},{"$f":"Hungary!AK16","v":461},{"$f":"Latvia!AK16","v":64},{"$f":"Lithuania!AK16","v":158},{"$f":"Poland!AK16","v":{"v":1280,"d":"1,280"}},{"$f":"Slovakia!AK16","v":{"v":196.48600000000002,"d":"196"}},{"$f":"Slovenia!AK16","v":{"v":92.872,"d":"93"}},{"$f":"Bulgaria!AK16","v":210},{"$f":"Romania!AK17","v":90},{"$f":"Croatia!AK16","v":95},{"$f":"SUM(B59:M59)","v":{"v":3463.3579999999997,"d":"3,463"}},{"$f":"O10+N59","v":{"v":41891.359,"d":"41,891"}}]
["fattening",{"$f":"Cyprus!AJ17","v":0},{"$f":"'Czech Rep'!AJ17","v":0},{"$f":"Estonia!AJ17","v":":"},{"$f":"Hungary!AJ17","v":0},{"$f":"Latvia!AJ17","v":":"},{"$f":"Lithuania!AJ17","v":6},{"$f":"Poland!AJ17","v":0},{"$f":"Slovakia!AK17","v":{"v":16.52,"d":"17"}},":",":",":",":",":",":"]
["dairy cow",{"$f":"Cyprus!AJ18","v":0},{"$f":"'Czech Rep'!AJ18","v":0},{"$f":"Estonia!AJ18","v":":"},{"$f":"Hungary!AJ18","v":0},{"$f":"Latvia!AJ18","v":":"},{"$f":"Lithuania!AK18","v":143},{"$f":"Poland!AJ18","v":0},{"$f":"Slovakia!AK18","v":{"v":152.966,"d":"153"}},":",":",":",":",":",":"]
["calves (excl. milk replacers)",{"$f":"Cyprus!AJ19","v":0},{"$f":"'Czech Rep'!AJ19","v":0},{"$f":"Estonia!AJ19","v":":"},{"$f":"Hungary!AJ19","v":0},{"$f":"Latvia!AJ19","v":":"},{"$f":"Lithuania!AK19","v":9},{"$f":"Poland!AJ19","v":0},{"$f":"Slovakia!AK19","v":11},":",":",":",":",":",":"]
["others",{"$f":"Cyprus!AJ20","v":":"},{"$f":"'Czech Rep'!AJ20","v":0},{"$f":"Estonia!AJ20","v":":"},{"$f":"Hungary!AJ20","v":0},{"$f":"Latvia!AJ20","v":":"},{"$f":"Lithuania!AJ20","v":0},{"$f":"Poland!AJ20","v":0},{"$f":"Slovakia!AK20","v":16},":",":",":",":",":",":"]
[]
[]
["Pigs",{"$f":"Cyprus!AK23","v":{"v":4.7,"d":"5"}},{"$f":"'Czech Rep'!AK23","v":675},{"$f":"Estonia!AK23","v":140},{"$f":"Hungary!AK23","v":{"v":1175,"d":"1,175"}},{"$f":"Latvia!AK23","v":66},{"$f":"Lithuania!AK23","v":38},{"$f":"Poland!AK23","v":{"v":2630,"d":"2,630"}},{"$f":"Slovakia!AK23","v":195},{"$f":"Slovenia!AK23","v":{"v":44.465,"d":"44"}},{"$f":"Bulgaria!AK23","v":437},{"$f":"Romania!AK24","v":980},{"$f":"Croatia!AK23","v":260},{"$f":"SUM(B66:M66)","v":{"v":6645.165,"d":"6,645"}},{"$f":"O17+N66","v":{"v":47353.764,"d":"47,354"}}]
["piglets",{"$f":"Cyprus!AJ24","v":0},{"$f":"'Czech Rep'!AJ24","v":0},{"$f":"Estonia!AJ24","v":":"},{"$f":"Hungary!AJ24","v":0},{"$f":"Latvia!AJ24","v":":"},{"$f":"Lithuania!AK24","v":19},{"$f":"Poland!AJ24","v":0},{"$f":"Slovakia!AK24","v":25},":",":",":",":",":",":"]
["pigs for fattening",{"$f":"Cyprus!AJ25","v":0},{"$f":"'Czech Rep'!AJ25","v":0},{"$f":"Estonia!AJ25","v":":"},{"$f":"Hungary!AJ25","v":0},{"$f":"Latvia!AJ25","v":":"},{"$f":"Lithuania!AK25","v":4},{"$f":"Poland!AJ25","v":0},{"$f":"Slovakia!AK25","v":116},":",":",":",":",":",":"]
["breeding pigs",{"$f":"Cyprus!AJ26","v":0},{"$f":"'Czech Rep'!AJ26","v":0},{"$f":"Estonia!AJ26","v":":"},{"$f":"Hungary!AJ26","v":0},{"$f":"Latvia!AJ26","v":":"},{"$f":"Lithuania!AK26","v":14},{"$f":"Poland!AJ26","v":0},{"$f":"Slovakia!AK26","v":22},":",":",":",":",":",":"]
["others",{"$f":"Cyprus!AJ27","v":0},{"$f":"'Czech Rep'!AJ27","v":0},{"$f":"Estonia!AJ27","v":":"},{"$f":"Hungary!AJ27","v":0},{"$f":"Latvia!AJ27","v":":"},{"$f":"Lithuania!AK27","v":1},{"$f":"Poland!AJ27","v":0},{"$f":"Slovakia!AK27","v":32},":",":",":",":",":",":"]
[{"$nulls":3}," "]
[]
["Poultry",{"$f":"Cyprus!AK30","v":37},{"$f":"'Czech Rep'!AK30","v":{"v":1006,"d":"1,006"}},{"$f":"Estonia!AK30","v":48},{"$f":"Hungary!AK30","v":{"v":1800,"d":"1,800"}},{"$f":"Latvia!AK30","v":202},{"$f":"Lithuania!AK30","v":217},{"$f":"Poland!AK30","v":{"v":7270,"d":"7,270"}},{"$f":"Slovakia!AK30","v":{"v":268.199,"d":"268"}},{"$f":"Slovenia!AK30","v":{"v":260.952,"d":"261"}},{"$f":"Bulgaria!AK30","v":625},{"$f":"Romania!AK31","v":{"v":1695,"d":"1,695"}},{"$f":"Croatia!AK30","v":300},{"$f":"SUM(B73:M73)","v":{"v":13729.151,"d":"13,729"}},{"$f":"O24+N73","v":{"v":49923.289,"d":"49,923"}}]
["broilers",{"$f":"Cyprus!AJ31","v":0},{"$f":"'Czech Rep'!AJ31","v":0},{"$f":"Estonia!AJ31","v":":"},{"$f":"Hungary!AK31","v":0},{"$f":"Latvia!AJ31","v":":"},{"$f":"Lithuania!AK31","v":155},{"$f":"Poland!AJ31","v":0},{"$f":"Slovakia!AK31","v":{"v":150.006,"d":"150"}},":",":",":",":",":",":"]
["chicks & layers",{"$f":"Cyprus!AJ32","v":0},{"$f":"'Czech Rep'!AJ32","v":0},{"$f":"Estonia!AJ32","v":":"},{"$f":"Hungary!AK32","v":0},{"$f":"Latvia!AJ32","v":":"},{"$f":"Lithuania!AK32","v":62},{"$f":"Poland!AJ32","v":0},{"$f":"Slovakia!AK32","v":{"v":100.193,"d":"100"}},":",":",":",":",":",":"]
["others",{"$f":"Cyprus!AJ33","v":0},{"$f":"'Czech Rep'!AJ33","v":0},{"$f":"Estonia!AJ33","v":":"},{"$f":"Hungary!AK33","v":0},{"$f":"Latvia!AJ33","v":":"},{"$f":"Lithuania!AK33","v":1},{"$f":"Poland!AJ33","v":0},{"$f":"Slovakia!AK33","v":18},":",":",":",":",":",":"]
[]
[]
["Milk replacers",{"$f":"Cyprus!AJ36","v":0},{"$f":"'Czech Rep'!AK36","v":1},{"$f":"Estonia!AJ36","v":0},{"$f":"Hungary!AJ36","v":0},{"$f":"Latvia!AJ36","v":0},{"$f":"Lithuania!AJ36","v":0},{"$f":"Poland!AJ36","v":0},{"$f":"Slovakia!AK36","v":0},{"$f":"Slovenia!AJ36","v":0},{"$f":"Bulgaria!AJ36","v":0},{"$f":"Romania!AJ37","v":0},{"$f":"Croatia!AJ36","v":0},{"$f":"SUM(B79:M79)","v":1},{"$f":"O30+N79","v":{"v":1113,"d":"1,113"}}]
[]
[{"$nulls":3}," "]
["Others",{"$f":"Cyprus!AK39","v":137},{"$f":"'Czech Rep'!AK39","v":100},{"$f":"Estonia!AK39","v":2},{"$f":"Hungary!AK39","v":120},{"$f":"Latvia!AJ39","v":14},{"$f":"Lithuania!AK39","v":186},{"$f":"Poland!AK39","v":660},{"$f":"Slovakia!AK39","v":{"v":18.9,"d":"19"}},{"$f":"Slovenia!AK39","v":6},{"$f":"Bulgaria!AK39","v":60},{"$f":"Romania!AK40","v":140},{"$f":"Croatia!AJ39","v":15},{"$f":"SUM(B82:M82)","v":{"v":1458.9,"d":"1,459"}},{"$f":"O33+N82","v":{"v":6951.668,"d":"6,952"}}]
[]
[]
["TOTAL",{"$f":"B82+B79+B73+B66+B59","v":{"v":358.7,"d":"359"}},{"v":2378,"d":"2,378"},230,{"v":3556,"d":"3,556"},346,599,{"v":11840,"d":"11,840"},{"v":678.585,"d":"679"},{"v":404.28900000000004,"d":"404"},{"v":1332,"d":"1,332"},{"v":2905,"d":"2,905"},670,{"v":25297.574,"d":"25,298"},{"v":147233.08,"d":"147,233"}]
[{"$nulls":4}," "]
[]
["** Without Malta"]
["*** Without Luxemburg, Greece and Malta"]
[": not available"]

{"sheet":"2024-25","index":71,"n_rows":98,"n_cols":24,"rows_kept":98,"merged":[[9,1,9,3],[9,5,9,7],[9,9,9,11],[9,13,9,15],[9,17,9,19],[9,21,9,23],[62,1,62,3],[62,5,62,7],[62,9,62,11],[62,13,62,15],[62,17,62,19],[62,21,62,23]]}
["2025-06-11"]
["TAV: Year-to-year variation"]
["EU 27"]
[]
[{"$nulls":12},"2024-2025",{"$nulls":10},"INDUSTRIAL COMPOUND PRODUCTION"]
[{"$nulls":12},"forecast",{"$nulls":10},"(1 000 t )"]
[]
[]
[]
["COUNTRY","  CATTLE",{"$nulls":3},"PIGS",{"$nulls":3},"POULTRY",{"$nulls":3},"MILK REPLACERS",{"$nulls":3},"OTHERS",{"$nulls":3},"TOTAL"]
[]
[null,2024,2025,"%TAV",null,2024,2025,"%TAV",null,2024,2025,"%TAV",null,2024,2025,"%TAV",null,2024,2025,"%TAV",null,2024,2025,"%TAV"]
[]
["DE",{"$f":"Germany!AK$16","v":{"v":6914,"d":"6,914"}},{"$f":"Germany!AL$16","v":{"v":7000,"d":"7,000"}},{"$f":"((C14/B14)-1)*100","v":{"v":1.2438530517790092,"d":"1.2"}},null,{"$f":"Germany!AK$23","v":{"v":8251,"d":"8,251"}},{"$f":"Germany!AL$23","v":{"v":8000,"d":"8,000"}},{"$f":"((G14/F14)-1)*100","v":{"v":-3.042055508423225,"d":"-3.0"}},null,{"$f":"Germany!AK$30","v":{"v":6333,"d":"6,333"}},{"$f":"Germany!AL$30","v":{"v":6300,"d":"6,300"}},{"$f":"((K14/J14)-1)*100","v":{"v":-0.5210800568451024,"d":"-0.5"}},null,{"$f":"Germany!AK$36","v":155},{"$f":"Germany!AL$36","v":160},{"$f":"((O14/N14)-1)*100","v":{"v":3.2258064516129004,"d":"3.2"}},null,{"$f":"Germany!AK$39","v":506},{"$f":"Germany!AL$39","v":550},{"$f":"((S14/R14)-1)*100","v":{"v":8.695652173913038,"d":"8.7"}},null,{"$f":"R14+N14+J14+F14+B14","v":{"v":22159,"d":"22,159"}},{"$f":"S14+O14+K14+G14+C14","v":{"v":22010,"d":"22,010"}},{"$f":"((W14/V14)-1)*100","v":{"v":-0.6724130150277507,"d":"-0.7"}}]
["FR",{"$f":"France!AK$16","v":{"v":5461,"d":"5,461"}},{"$f":"France!AL$16","v":{"v":5461,"d":"5,461"}},{"v":0,"d":"0.0"},null,{"$f":"France!AK$23","v":{"v":4249,"d":"4,249"}},{"$f":"France!AL$23","v":{"v":4249,"d":"4,249"}},{"v":0,"d":"0.0"},null,{"$f":"France!AK$30","v":{"v":8054,"d":"8,054"}},{"$f":"France!AL$30","v":{"v":8054,"d":"8,054"}},{"v":0,"d":"0.0"},null,{"$f":"France!AK36","v":275},{"$f":"France!AL36","v":275},{"v":0,"d":"0.0"},null,{"$f":"France!AK$39","v":{"v":1657,"d":"1,657"}},{"$f":"France!AL$39","v":{"v":1657,"d":"1,657"}},{"$f":"((S15/R15)-1)*100","v":{"v":0,"d":"0.0"}},null,{"$f":"R15+N15+J15+F15+B15","v":{"v":19696,"d":"19,696"}},{"v":19696,"d":"19,696"},{"$f":"((W15/V15)-1)*100","v":{"v":0,"d":"0.0"}}]
["IT",{"$f":"Italy!AK$16","v":{"v":3760,"d":"3,760"}},{"$f":"Italy!AL$16","v":{"v":3760,"d":"3,760"}},{"$f":"((C16/B16)-1)*100","v":{"v":0,"d":"0.0"}},null,{"$f":"Italy!AK$23","v":{"v":3930,"d":"3,930"}},{"$f":"Italy!AL$23","v":{"v":3930,"d":"3,930"}},{"v":0,"d":"0.0"},null,{"$f":"Italy!AK$30","v":{"v":6090,"d":"6,090"}},{"$f":"Italy!AL$30","v":{"v":6090,"d":"6,090"}},{"v":0,"d":"0.0"},null,{"$f":"Italy!AK$36","v":0},{"$f":"Italy!AL$36","v":0},{"$error":"#DIV/0!"},null,{"$f":"+Italy!AK$39","v":{"v":1111,"d":"1,111"}},{"$f":"+Italy!AL$39","v":{"v":1111,"d":"1,111"}},{"v":0,"d":"0.0"},null,{"v":14891,"d":"14,891"},{"v":14891,"d":"14,891"},{"v":0,"d":"0.0"}]
["NL   ",{"$f":"'The Netherlands'!AK$16","v":{"v":3221,"d":"3,221"}},{"$f":"'The Netherlands'!AL$16","v":{"v":3059.95,"d":"3,060"}},{"v":-5.000000000000004,"d":"-5.0"},null,{"$f":"'The Netherlands'!AK$23","v":{"v":3089,"d":"3,089"}},{"$f":"'The Netherlands'!AL$23","v":{"v":2780.1,"d":"2,780"}},{"v":-9.999999999999998,"d":"-10.0"},null,{"$f":"'The Netherlands'!AK$30","v":{"v":3997,"d":"3,997"}},{"$f":"'The Netherlands'!AL$30","v":{"v":3917.06,"d":"3,917"}},{"v":-2.0000000000000018,"d":"-2.0"},null,{"$f":"'The Netherlands'!AK$36","v":0},{"$f":"'The Netherlands'!AL$36","v":0},{"$error":"#DIV/0!"},null,{"$f":"'The Netherlands'!AK$39","v":625},{"$f":"'The Netherlands'!AL$39","v":600},{"v":-4.0000000000000036,"d":"-4.0"},null,{"v":10932,"d":"10,932"},{"v":10357.11,"d":"10,357"},{"v":-5.258781558726666,"d":"-5.3"}]
["BE",{"$f":"Belgium!AK$16","v":{"v":1443,"d":"1,443"}},{"$f":"Belgium!AL$16","v":{"v":1443,"d":"1,443"}},{"v":0,"d":"0.0"},null,{"$f":"Belgium!AK$23","v":{"v":3147,"d":"3,147"}},{"$f":"Belgium!AL$23","v":{"v":3147,"d":"3,147"}},{"v":0,"d":"0.0"},null,{"$f":"Belgium!AK$30","v":{"v":1286,"d":"1,286"}},{"$f":"Belgium!AL$30","v":{"v":1311.72,"d":"1,312"}},{"v":2.0000000000000018,"d":"2.0"},null,{"$f":"Belgium!AK$36","v":67},{"$f":"Belgium!AL$36","v":67},{"v":0,"d":"0.0"},null,{"$f":"Belgium!AK$39","v":400},{"$f":"Belgium!AL$39","v":400},{"v":0,"d":"0.0"},null,{"v":6343,"d":"6,343"},{"v":6368.72,"d":"6,369"},{"v":0.40548636291974915,"d":"0.4"}]
[]
["IE",{"$f":"Ireland!AK$16","v":{"v":3866,"d":"3,866"}},{"$f":"Ireland!AL$16","v":{"v":3667,"d":"3,667"}},{"$f":"((C20/B20)-1)*100","v":{"v":-5.147439213657523,"d":"-5.1"}},null,{"$f":"Ireland!AK$23","v":686},{"$f":"Ireland!AL$23","v":700},{"$f":"((G20/F20)-1)*100","v":{"v":2.0408163265306145,"d":"2.0"}},null,{"$f":"Ireland!AK$30","v":711},{"$f":"Ireland!AL$30","v":711},{"$f":"((K20/J20)-1)*100","v":{"v":0,"d":"0.0"}},null,{"$f":"Ireland!AJ$36","v":0},{"$f":"Ireland!AK$36","v":0},{"v":0,"d":"0.0"},null,{"$f":"Ireland!AK$39","v":224},{"$f":"Ireland!AL$39","v":215},{"$f":"((S20/R20)-1)*100","v":{"v":-4.01785714285714,"d":"-4.0"}},null,{"$f":"R20+N20+J20+F20+B20","v":{"v":5487,"d":"5,487"}},{"v":5293,"d":"5,293"},{"$f":"((W20/V20)-1)*100","v":{"v":-3.535629670129392,"d":"-3.5"}}]
["DK ",{"$f":"Denmark!AK$16","v":{"v":1147,"d":"1,147"}},{"$f":"Denmark!AL$16","v":{"v":1147,"d":"1,147"}},{"v":0,"d":"0.0"},null,{"$f":"Denmark!AK$23","v":{"v":2289,"d":"2,289"}},{"$f":"Denmark!AL$23","v":{"v":2255,"d":"2,255"}},{"v":-1.4853647881170828,"d":"-1.5"},null,{"$f":"Denmark!AK$30","v":698},{"$f":"Denmark!AL$30","v":698},{"v":0,"d":"0.0"},null,{"$f":"Denmark!AJ$36","v":0},{"$f":"Denmark!AK$36","v":0},{"v":0,"d":"0.0"},null,{"$f":"Denmark!AK$39","v":204},{"$f":"Denmark!AL$39","v":201},{"v":-1.4705882352941124,"d":"-1.5"},null,{"v":4338,"d":"4,338"},{"v":4301,"d":"4,301"},{"v":-0.8529276164130906,"d":"-0.9"}]
["ES",{"$f":"Spain!AK$16","v":{"v":9400,"d":"9,400"}},{"$f":"Spain!AL$16","v":{"v":9118,"d":"9,118"}},{"v":-3.0000000000000027,"d":"-3.0"},null,{"$f":"Spain!AK$23","v":{"v":13100,"d":"13,100"}},{"$f":"Spain!AL$23","v":{"v":13200,"d":"13,200"}},{"v":0.7633587786259444,"d":"0.8"},null,{"$f":"Spain!AK$30","v":{"v":5200,"d":"5,200"}},{"$f":"Spain!AL$30","v":{"v":5500,"d":"5,500"}},{"v":5.769230769230771,"d":"5.8"},null,{"$f":"Spain!AJ$36","v":0},{"$f":"Spain!AJ$36","v":0},{"v":0,"d":"0.0"},null,{"$f":"Spain!AK$39","v":170},{"$f":"Spain!AL$39","v":175},{"v":2.941176470588225,"d":"2.9"},null,{"v":27870,"d":"27,870"},{"v":27993,"d":"27,993"},{"v":0.44133476856835774,"d":"0.4"}]
["PT",{"$f":"Portugal!AK$16","v":{"v":1050,"d":"1,050"}},{"$f":"Portugal!AL$16","v":980},{"v":-6.666666666666665,"d":"-6.7"},null,{"$f":"Portugal!AK$23","v":{"v":1150,"d":"1,150"}},{"$f":"Portugal!AL$23","v":{"v":1200,"d":"1,200"}},{"v":4.347826086956519,"d":"4.3"},null,{"$f":"Portugal!AK$30","v":{"v":1956,"d":"1,956"}},{"$f":"Portugal!AL$30","v":{"v":2030,"d":"2,030"}},{"v":3.7832310838445737,"d":"3.8"},null,{"$f":"Portugal!AJ$36","v":0},{"$f":"Portugal!AJ$36","v":0},{"v":0,"d":"0.0"},null,{"$f":"Portugal!AK$39","v":271},{"$f":"Portugal!AL$39","v":300},{"v":10.701107011070121,"d":"10.7"},null,{"$f":"R23+N23+J23+F23+B23","v":{"v":4427,"d":"4,427"}},{"v":4510,"d":"4,510"},{"v":1.8748588208719275,"d":"1.9"}]
["AT",{"$f":"Austria!AK$16","v":{"v":661.001,"d":"661"}},{"$f":"Austria!AL$16","v":{"v":670.9160149999999,"d":"671"}},{"v":1.4999999999999902,"d":"1.5"},null,{"$f":"Austria!AK$23","v":{"v":248.599,"d":"249"}},{"$f":"Austria!AL$23","v":{"v":249.84199499999997,"d":"250"}},{"v":0.49999999999998934,"d":"0.5"},null,{"$f":"Austria!AK$30","v":{"v":734.138,"d":"734"}},{"$f":"Austria!AL$30","v":{"v":759.83283,"d":"760"}},{"v":3.499999999999992,"d":"3.5"},null,{"$f":"Austria!AJ$36","v":0},{"$f":"Austria!AJ$36","v":0},{"v":0,"d":"0.0"},null,{"$f":"Austria!AK$39","v":{"v":146.768,"d":"147"}},{"$f":"Austria!AL$39","v":{"v":148.23568,"d":"148"}},{"v":1.0000000000000009,"d":"1.0"},null,{"v":1790.506,"d":"1,791"},{"v":1828.8265199999996,"d":"1,829"},{"v":2.1402061763545976,"d":"2.1"}]
["SE",{"$f":"Sweden!AK$16","v":832},{"$f":"Sweden!AL$16","v":832},{"v":0,"d":"0.0"},null,{"$f":"Sweden!AK$23","v":338},{"$f":"Sweden!AL$23","v":338},{"v":0,"d":"0.0"},null,{"$f":"Sweden!AK$30","v":715},{"$f":"Sweden!AL$30","v":715},{"v":0,"d":"0.0"},null,{"$f":"Sweden!AJ$36","v":3},{"$f":"Sweden!AJ$36","v":3},{"$f":"((O25/N25)-1)*100","v":{"v":0,"d":"0.0"}},null,{"$f":"Sweden!AK$39","v":68},{"$f":"Sweden!AL$39","v":68},{"v":0,"d":"0.0"},null,{"v":1956,"d":"1,956"},{"v":1956,"d":"1,956"},{"v":0,"d":"0.0"}]
["FI",{"$f":"Finland!AK$16","v":673},{"$f":"Finland!AL$16","v":673},{"v":0,"d":"0.0"},null,{"$f":"Finland!AK$23","v":231},{"$f":"Finland!AL$23","v":231},{"v":0,"d":"0.0"},null,{"$f":"Finland!AK$30","v":420},{"$f":"Finland!AL$30","v":420},{"v":0,"d":"0.0"},null,{"$f":"Finland!AJ$36","v":0},{"$f":"Finland!AJ$36","v":0},{"v":0,"d":"0.0"},null,{"$f":"Finland!AK$39","v":110},{"$f":"Finland!AL$39","v":110},{"v":0,"d":"0.0"},null,{"v":1434,"d":"1,434"},{"v":1434,"d":"1,434"},{"v":0,"d":"0.0"}]
["CY",{"$f":"Cyprus!AJ$16","v":180},{"$f":"Cyprus!AK$16","v":180},{"v":0,"d":"0.0"},null,{"$f":"Cyprus!AJ$23","v":{"v":4.7,"d":"5"}},{"$f":"Cyprus!AK$23","v":{"v":4.7,"d":"5"}},{"v":0,"d":"0.0"},null,{"$f":"Cyprus!AJ$30","v":37},{"$f":"Cyprus!AK$30","v":37},{"v":0,"d":"0.0"},null,{"$f":"Cyprus!AJ$36","v":0},{"$f":"Cyprus!AJ$36","v":0},{"v":0,"d":"0.0"},null,{"$f":"Cyprus!AJ$39","v":137},{"$f":"Cyprus!AK$39","v":137},{"v":0,"d":"0.0"},null,{"v":358.7,"d":"359"},{"v":358.7,"d":"359"},{"v":0,"d":"0.0"}]
["CZ",{"$f":"'Czech Rep'!AK$16","v":596},{"$f":"'Czech Rep'!AL$16","v":596},{"v":0,"d":"0.0"},null,{"$f":"'Czech Rep'!AK$23","v":675},{"$f":"'Czech Rep'!AL$23","v":675},{"v":0,"d":"0.0"},null,{"$f":"'Czech Rep'!AK$30","v":{"v":1006,"d":"1,006"}},{"$f":"'Czech Rep'!AL$30","v":{"v":1006,"d":"1,006"}},{"v":0,"d":"0.0"},null,{"$f":"'Czech Rep'!AK$36","v":1},{"$f":"'Czech Rep'!AL$36","v":1},{"$f":"((O28/N28)-1)*100","v":{"v":0,"d":"0.0"}},null,{"$f":"'Czech Rep'!AK$39","v":100},{"$f":"'Czech Rep'!AL$39","v":100},{"v":0,"d":"0.0"},null,{"v":2378,"d":"2,378"},{"v":2378,"d":"2,378"},{"v":0,"d":"0.0"}]
["EE",{"$f":"Estonia!AJ$16","v":40},{"$f":"Estonia!AK$16","v":40},{"v":0,"d":"0.0"},null,{"$f":"Estonia!AJ$23","v":140},{"$f":"Estonia!AK$23","v":140},{"v":0,"d":"0.0"},null,{"$f":"Estonia!AJ$30","v":48},{"$f":"Estonia!AK$30","v":48},{"v":0,"d":"0.0"},null,{"$f":"Estonia!AJ$36","v":0},{"$f":"Estonia!AJ$36","v":0},{"v":0,"d":"0.0"},null,{"$f":"Estonia!AJ$39","v":2},{"$f":"Estonia!AK$39","v":2},{"v":0,"d":"0.0"},null,230,230,{"v":0,"d":"0.0"}]
["HU",{"$f":"Hungary!AK$16","v":461},{"$f":"Hungary!AL$16","v":420},{"v":-8.893709327548805,"d":"-8.9"},null,{"$f":"Hungary!AK$23","v":{"v":1175,"d":"1,175"}},{"$f":"Hungary!AL$23","v":{"v":1100,"d":"1,100"}},{"v":-6.382978723404253,"d":"-6.4"},null,{"$f":"Hungary!AK$30","v":{"v":1800,"d":"1,800"}},{"$f":"Hungary!AL$30","v":{"v":1750,"d":"1,750"}},{"v":-2.777777777777779,"d":"-2.8"},null,{"$f":"Hungary!AK$36","v":0},{"$f":"Hungary!AL$36","v":0},{"v":0,"d":"0.0"},null,{"$f":"Hungary!AK$39","v":120},{"$f":"Hungary!AL$39","v":120},{"v":0,"d":"0.0"},null,{"v":3556,"d":"3,556"},{"v":3390,"d":"3,390"},{"$f":"((W30/V30)-1)*100","v":{"v":-4.668166479190106,"d":"-4.7"}}]
["LV",{"$f":"Latvia!AJ$16","v":64},{"$f":"Latvia!AK$16","v":64},{"v":0,"d":"0.0"},null,{"$f":"Latvia!AJ$23","v":66},{"$f":"Latvia!AK$23","v":66},{"v":0,"d":"0.0"},null,{"$f":"Latvia!AJ$30","v":202},{"$f":"Latvia!AK$30","v":202},{"v":0,"d":"0.0"},null,{"$f":"Latvia!AJ$36","v":0},{"$f":"Latvia!AJ$36","v":0},{"v":0,"d":"0.0"},null,{"$f":"Latvia!AJ$39","v":14},{"$f":"Latvia!AK$39","v":14},{"v":0,"d":"0.0"},null,346,346,{"v":0,"d":"0.0"}]
["LT",{"$f":"Lithuania!AJ$16","v":158},{"$f":"Lithuania!AK$16","v":158},{"v":0,"d":"0.0"},null,{"$f":"Lithuania!AJ$23","v":38},{"$f":"Lithuania!AK$23","v":38},{"v":0,"d":"0.0"},null,{"$f":"Lithuania!AJ$30","v":217},{"$f":"Lithuania!AK$30","v":217},{"v":0,"d":"0.0"},null,{"$f":"Lithuania!AJ$36","v":0},{"$f":"Lithuania!AJ$36","v":0},{"v":0,"d":"0.0"},null,{"$f":"Lithuania!AJ$39","v":186},{"$f":"Lithuania!AK$39","v":186},{"v":0,"d":"0.0"},null,599,599,{"v":0,"d":"0.0"}]
["PL",{"$f":"Poland!AK$16","v":{"v":1280,"d":"1,280"}},{"$f":"Poland!AL$16","v":{"v":1330,"d":"1,330"}},{"v":3.90625,"d":"3.9"},null,{"$f":"Poland!AK$23","v":{"v":2630,"d":"2,630"}},{"$f":"Poland!AL$23","v":{"v":2700,"d":"2,700"}},{"v":2.6615969581748944,"d":"2.7"},null,{"$f":"Poland!AK$30","v":{"v":7270,"d":"7,270"}},{"$f":"Poland!AL$30","v":{"v":7440,"d":"7,440"}},{"v":2.3383768913342484,"d":"2.3"},null,{"$f":"Poland!AJ$36","v":0},{"$f":"Poland!AJ$36","v":0},{"v":0,"d":"0.0"},null,{"$f":"Poland!AK$39","v":660},{"$f":"Poland!AL$39","v":670},{"v":1.5151515151515138,"d":"1.5"},null,{"v":11840,"d":"11,840"},{"v":12140,"d":"12,140"},{"v":2.533783783783794,"d":"2.5"}]
["SK",{"$f":"Slovakia!AJ$16","v":{"v":196.48600000000002,"d":"196"}},{"$f":"Slovakia!AK$16","v":{"v":196.48600000000002,"d":"196"}},{"v":0,"d":"0.0"},null,{"$f":"Slovakia!AJ$23","v":195},{"$f":"Slovakia!AK$23","v":195},{"v":0,"d":"0.0"},null,{"$f":"Slovakia!AJ$30","v":{"v":268.199,"d":"268"}},{"$f":"Slovakia!AK$30","v":{"v":268.199,"d":"268"}},{"v":0,"d":"0.0"},null,{"$f":"Slovakia!AJ$36","v":0},{"$f":"Slovakia!AJ$36","v":0},{"v":0,"d":"0.0"},null,{"$f":"+Slovakia!AJ$39","v":{"v":18.9,"d":"19"}},{"$f":"+Slovakia!AK$39","v":{"v":18.9,"d":"19"}},{"v":0,"d":"0.0"},null,{"v":678.585,"d":"679"},{"v":678.585,"d":"679"},{"v":0,"d":"0.0"}]
["SI",{"$f":"Slovenia!AK$16","v":{"v":92.872,"d":"93"}},{"$f":"Slovenia!AL$16","v":{"v":93.766,"d":"94"}},{"v":0.9626152123352716,"d":"1.0"},null,{"$f":"Slovenia!AK$23","v":{"v":44.465,"d":"44"}},{"$f":"Slovenia!AL$23","v":{"v":44.715,"d":"45"}},{"v":0.5622399640166531,"d":"0.6"},null,{"$f":"Slovenia!AK$30","v":{"v":260.952,"d":"261"}},{"$f":"Slovenia!AL$30","v":{"v":276.7,"d":"277"}},{"v":6.034826328213616,"d":"6.0"},null,{"$f":"Slovenia!AJ$36","v":0},{"$f":"Slovenia!AJ$36","v":0},{"v":0,"d":"0.0"},null,{"$f":"Slovenia!AK$39","v":6},{"$f":"Slovenia!AL$39","v":{"v":6.109,"d":"6"}},{"v":1.8166666666666664,"d":"1.8"},null,{"v":404.28900000000004,"d":"404"},{"v":421.29,"d":"421"},{"v":4.20516017007635,"d":"4.2"}]
["BU",{"$f":"Bulgaria!AK$16","v":210},{"$f":"Bulgaria!AL$16","v":210},{"v":0,"d":"0.0"},null,{"$f":"Bulgaria!AK$23","v":437},{"$f":"Bulgaria!AL$23","v":477},{"v":9.153318077803196,"d":"9.2"},null,{"$f":"Bulgaria!AK$30","v":625},{"$f":"Bulgaria!AL$30","v":621},{"v":-0.6399999999999961,"d":"-0.6"},null,{"$f":"Bulgaria!AJ$36","v":0},{"$f":"Bulgaria!AJ$36","v":0},{"v":0,"d":"0.0"},null,{"$f":"Bulgaria!AK$39","v":60},{"$f":"Bulgaria!AL$39","v":60},{"v":0,"d":"0.0"},null,{"$f":"R36+N36+J36+F36+B36","v":{"v":1332,"d":"1,332"}},{"v":1368,"d":"1,368"},{"v":2.7027027027026973,"d":"2.7"}]
["RO",{"$f":"Romania!AJ$17","v":90},{"$f":"Romania!AK$17","v":90},{"v":0,"d":"0.0"},null,{"$f":"Romania!AJ$24","v":980},{"$f":"Romania!AK$24","v":980},{"v":0,"d":"0.0"},null,{"$f":"Romania!AJ$31","v":{"v":1695,"d":"1,695"}},{"$f":"Romania!AK$31","v":{"v":1695,"d":"1,695"}},{"v":0,"d":"0.0"},null,{"$f":"Romania!AJ$37","v":0},{"$f":"Romania!AJ$37","v":0},{"v":0,"d":"0.0"},null,{"$f":"Romania!AJ$40","v":140},{"$f":"Romania!AK$40","v":140},{"v":0,"d":"0.0"},null,{"v":2905,"d":"2,905"},{"v":2905,"d":"2,905"},{"v":0,"d":"0.0"}]
["HR",{"$f":"Croatia!AJ$16","v":95},{"$f":"Croatia!AK$16","v":95},{"v":0,"d":"0.0"},null,{"$f":"Croatia!AJ$23","v":260},{"$f":"Croatia!AK$23","v":260},{"v":0,"d":"0.0"},null,{"$f":"Croatia!AJ$30","v":300},{"$f":"Croatia!AK$30","v":300},{"v":0,"d":"0.0"},null,{"$f":"Croatia!AJ$36","v":0},{"$f":"Croatia!AC$36","v":0},{"v":0,"d":"0.0"},null,{"$f":"Croatia!AJ$39","v":15},{"$f":"Croatia!AK$39","v":15},{"v":0,"d":"0.0"},null,670,670,{"v":0,"d":"0.0"}]
[]
["EUR 27 *",{"$f":"SUM(B14:B38)","v":{"v":41891.359,"d":"41,891"}},{"$f":"SUM(C14:C38)","v":{"v":41285.118015,"d":"41,285"}},{"$f":"((C40/B40)-1)*100","v":{"v":-1.4471743086682753,"d":"-1.4"}},null,{"$f":"SUM(F14:F38)","v":{"v":47353.763999999996,"d":"47,354"}},{"v":46960.356994999995,"d":"46,960"},{"$f":"((G40/F40)-1)*100","v":{"v":-0.8307829658482979,"d":"-0.8"}},null,{"$f":"SUM(J14:J38)","v":{"v":49923.289,"d":"49,923"}},{"v":50367.511829999996,"d":"50,368"},{"$f":"((K40/J40)-1)*100","v":{"v":0.8898108255647852,"d":"0.9"}},null,{"$f":"SUM(N14:N38)","v":501},506,{"$f":"((O40/N40)-1)*100","v":{"v":0.9980039920159722,"d":"1.0"}},null,{"$f":"SUM(R14:R38)","v":{"v":6951.668,"d":"6,952"}},{"v":7004.24468,"d":"7,004"},{"$f":"((S40/R40)-1)*100","v":{"v":0.7563174766113789,"d":"0.8"}},null,{"$f":"SUM(V14:V38)","v":{"v":146621.08,"d":"146,621"}},{"v":146123.23152,"d":"146,123"},{"$f":"((W40/V40)-1)*100","v":{"v":-0.33954768304802485,"d":"-0.34"}}]
[]
[{"$nulls":23}," "]
["* Without Luxemburg, Greece and Malta"]
[": not available"]
["From 2015 on, the Dutch production of milk replacers is a rough estimate, due to statistical confidentiality "]
{"$rows_empty":8}
["2024-06-11"]
["TAV: Year-to-year variation"]
["EU 27 + UK"]
[]
[{"$nulls":12},"2024-2025",{"$nulls":10},"INDUSTRIAL COMPOUND PRODUCTION"]
[{"$nulls":12},"forecast",{"$nulls":10},"(1 000 t )"]
[]
[]
[]
["COUNTRY","  CATTLE",{"$nulls":3},"PIGS",{"$nulls":3},"POULTRY",{"$nulls":3},"MILK REPLACERS",{"$nulls":3},"OTHERS",{"$nulls":3},"TOTAL"]
[]
[null,2024,2025,"%TAV",null,2024,2025,"%TAV",null,2024,2025,"%TAV",null,2024,2025,"%TAV",null,2024,2025,"%TAV",null,2024,2025,"%TAV"]
[]
["DE",{"$f":"Germany!AJ$16","v":{"v":6477,"d":"6,477"}},{"$f":"Germany!AK$16","v":{"v":6914,"d":"6,914"}},{"$f":"((C67/B67)-1)*100","v":{"v":6.746950748803449,"d":"6.7"}},null,{"$f":"Germany!AJ$23","v":{"v":8043,"d":"8,043"}},{"$f":"Germany!AK$23","v":{"v":8251,"d":"8,251"}},{"$f":"((G67/F67)-1)*100","v":{"v":2.586099714037049,"d":"2.6"}},null,{"$f":"Germany!AJ$30","v":{"v":6268,"d":"6,268"}},{"$f":"Germany!AK$30","v":{"v":6333,"d":"6,333"}},{"$f":"((K67/J67)-1)*100","v":{"v":1.0370134014039634,"d":"1.0"}},null,{"$f":"Germany!AJ$36","v":150},{"$f":"Germany!AK$36","v":155},{"$f":"((O67/N67)-1)*100","v":{"v":3.3333333333333437,"d":"3.3"}},null,{"$f":"Germany!AJ$39","v":562},{"$f":"Germany!AK$39","v":506},{"$f":"((S67/R67)-1)*100","v":{"v":-9.964412811387902,"d":"-10.0"}},null,{"$f":"R67+N67+J67+F67+B67","v":{"v":21500,"d":"21,500"}},{"v":22159,"d":"22,159"},{"$f":"((W67/V67)-1)*100","v":{"v":3.0651162790697573,"d":"3.1"}}]
["FR",{"$f":"France!AJ$16","v":{"v":5356,"d":"5,356"}},{"$f":"France!AK$16","v":{"v":5461,"d":"5,461"}},{"v":1.96041822255415,"d":"2.0"},null,{"$f":"France!AJ$23","v":{"v":4296,"d":"4,296"}},{"$f":"France!AK$23","v":{"v":4249,"d":"4,249"}},{"v":-1.0940409683426466,"d":"-1.1"},null,{"$f":"France!AJ$30","v":{"v":7799,"d":"7,799"}},{"$f":"France!AK$30","v":{"v":8054,"d":"8,054"}},{"v":3.2696499551224445,"d":"3.3"},null,{"$f":"France!AJ36","v":275},{"$f":"France!AK36","v":275},{"v":0,"d":"0.0"},null,{"$f":"France!AJ$39","v":{"v":1667,"d":"1,667"}},{"$f":"France!AK$39","v":{"v":1657,"d":"1,657"}},{"v":-0.5998800239952029,"d":"-0.6"},null,{"v":19393,"d":"19,393"},{"v":19696,"d":"19,696"},{"v":1.562419429691131,"d":"1.6"}]
["IT",{"$f":"Italy!AJ$16","v":{"v":3731,"d":"3,731"}},{"$f":"Italy!AK$16","v":{"v":3760,"d":"3,760"}},{"v":0.7772715089788163,"d":"0.8"},null,{"$f":"Italy!AJ$23","v":{"v":3960,"d":"3,960"}},{"$f":"Italy!AK$23","v":{"v":3930,"d":"3,930"}},{"v":-0.7575757575757569,"d":"-0.8"},null,{"$f":"Italy!AJ$30","v":{"v":6137,"d":"6,137"}},{"$f":"Italy!AK$30","v":{"v":6090,"d":"6,090"}},{"v":-0.7658465048069107,"d":"-0.8"},null,{"$f":"Italy!AJ$36","v":92},{"$f":"Italy!AK$36","v":0},{"v":-100,"d":"-100.0"},null,{"$f":"+Italy!AJ$39","v":978},{"$f":"+Italy!AK$39","v":{"v":1111,"d":"1,111"}},{"v":13.599182004089982,"d":"13.6"},null,{"v":14898,"d":"14,898"},{"v":14891,"d":"14,891"},{"v":-0.04698617264062843,"d":"-0.0"}]
["NL   ",{"$f":"'The Netherlands'!AJ$16","v":{"v":4311,"d":"4,311"}},{"$f":"'The Netherlands'!AK$16","v":{"v":3221,"d":"3,221"}},{"v":-25.284156808165157,"d":"-25.3"},null,{"$f":"'The Netherlands'!AJ$23","v":{"v":4349,"d":"4,349"}},{"$f":"'The Netherlands'!AK$23","v":{"v":3089,"d":"3,089"}},{"v":-28.972177512071738,"d":"-29.0"},null,{"$f":"'The Netherlands'!AJ$30","v":{"v":4056,"d":"4,056"}},{"$f":"'The Netherlands'!AK$30","v":{"v":3997,"d":"3,997"}},{"v":-1.4546351084812614,"d":"-1.5"},null,{"$f":"'The Netherlands'!AJ$36","v":520},{"$f":"'The Netherlands'!AK$36","v":0},{"v":-100,"d":"-100.0"},null,{"$f":"'The Netherlands'!AJ$39","v":591},{"$f":"'The Netherlands'!AK$39","v":625},{"v":5.752961082910324,"d":"5.8"},null,{"v":13827,"d":"13,827"},{"$f":"S70+O70+K70+G70+C70","v":{"v":10932,"d":"10,932"}},{"v":-20.93729659362118,"d":"-20.9"}]
["BE",{"$f":"Belgium!AJ$16","v":{"v":1434,"d":"1,434"}},{"$f":"Belgium!AK$16","v":{"v":1443,"d":"1,443"}},{"v":0.6276150627614996,"d":"0.6"},null,{"$f":"Belgium!AJ$23","v":{"v":3023,"d":"3,023"}},{"$f":"Belgium!AK$23","v":{"v":3147,"d":"3,147"}},{"v":4.101885544161421,"d":"4.1"},null,{"$f":"Belgium!AJ$30","v":{"v":1260,"d":"1,260"}},{"$f":"Belgium!AK$30","v":{"v":1286,"d":"1,286"}},{"v":2.063492063492056,"d":"2.1"},null,{"$f":"Belgium!AJ$36","v":67},{"$f":"Belgium!AK$36","v":67},{"v":0,"d":"0.0"},null,{"$f":"Belgium!AJ$39","v":359},{"$f":"Belgium!AK$39","v":400},{"v":11.420612813370479,"d":"11.4"},null,{"v":6143,"d":"6,143"},{"v":6343,"d":"6,343"},{"v":3.2557382386456224,"d":"3.3"}]
["UK ",{"$f":"UK!AK$16","v":{"v":5651,"d":"5,651"}},{"$f":"UK!AL$16","v":{"v":5594,"d":"5,594"}},{"v":-1.0086710316758118,"d":"-1.0"},null,{"$f":"UK!AK$23","v":{"v":2104,"d":"2,104"}},{"$f":"UK!AL$23","v":{"v":2104,"d":"2,104"}},{"v":0,"d":"0.0"},null,{"$f":"UK!AK$30","v":{"v":7017,"d":"7,017"}},{"$f":"UK!AL$30","v":{"v":7087,"d":"7,087"}},{"v":0.9975773122417042,"d":"1.0"},null,{"$f":"UK!AK$36","v":0},{"$f":"UK!AL$36","v":0},{"v":0,"d":"0.0"},null,{"$f":"UK!AK$39","v":{"v":1436,"d":"1,436"}},{"$f":"UK!AL$39","v":{"v":1436,"d":"1,436"}},{"v":0,"d":"0.0"},null,{"$f":"R72+N72+J72+F72+B72","v":{"v":16208,"d":"16,208"}},{"v":16221,"d":"16,221"},{"$f":"((W72/V72)-1)*100","v":{"v":0.08020730503455198,"d":"0.1"}}]
["IE",{"$f":"Ireland!AJ$16","v":{"v":3466,"d":"3,466"}},{"$f":"Ireland!AK$16","v":{"v":3866,"d":"3,866"}},{"v":11.540680900173106,"d":"11.5"},null,{"$f":"Ireland!AK$23","v":686},{"$f":"Ireland!AK$23","v":686},{"v":0,"d":"0.0"},null,{"$f":"Ireland!AJ$30","v":690},{"$f":"Ireland!AK$30","v":711},{"v":3.04347826086957,"d":"3.0"},null,{"$f":"Ireland!AJ$36","v":0},{"$f":"Ireland!AK$36","v":0},{"v":0,"d":"0.0"},null,{"$f":"Ireland!AJ$39","v":209},{"$f":"Ireland!AK$39","v":224},{"v":7.177033492822971,"d":"7.2"},null,{"v":5051,"d":"5,051"},{"v":5487,"d":"5,487"},{"v":8.63195406850128,"d":"8.6"}]
["DK ",{"$f":"Denmark!AJ$16","v":{"v":1018,"d":"1,018"}},{"$f":"Denmark!AK$16","v":{"v":1147,"d":"1,147"}},{"v":12.671905697445961,"d":"12.7"},null,{"$f":"Denmark!AJ$23","v":{"v":2088,"d":"2,088"}},{"$f":"Denmark!AK$23","v":{"v":2289,"d":"2,289"}},{"v":9.626436781609193,"d":"9.6"},null,{"$f":"Denmark!AJ$30","v":644},{"$f":"Denmark!AK$30","v":698},{"v":8.385093167701863,"d":"8.4"},null,{"$f":"Denmark!AJ$36","v":0},{"$f":"Denmark!AK$36","v":0},{"v":0,"d":"0.0"},null,{"$f":"Denmark!AJ$39","v":226},{"$f":"Denmark!AK$39","v":204},{"v":-9.734513274336287,"d":"-9.7"},null,{"v":3976,"d":"3,976"},{"v":4338,"d":"4,338"},{"v":9.104627766599593,"d":"9.1"}]
["ES",{"$f":"Spain!AJ$16","v":{"v":9666,"d":"9,666"}},{"$f":"Spain!AK$16","v":{"v":9400,"d":"9,400"}},{"v":-2.7519139250982816,"d":"-2.8"},null,{"$f":"Spain!AJ$23","v":{"v":12907,"d":"12,907"}},{"$f":"Spain!AK$23","v":{"v":13100,"d":"13,100"}},{"v":1.4953126210583312,"d":"1.5"},null,{"$f":"Spain!AJ$30","v":{"v":4803,"d":"4,803"}},{"$f":"Spain!AK$30","v":{"v":5200,"d":"5,200"}},{"v":8.26566729127629,"d":"8.3"},null,{"$f":"Spain!AJ$36","v":0},{"$f":"Spain!AJ$36","v":0},{"v":0,"d":"0.0"},null,{"$f":"Spain!AJ$39","v":159},{"$f":"Spain!AK$39","v":170},{"v":6.91823899371069,"d":"6.9"},null,{"v":27535,"d":"27,535"},{"v":27870,"d":"27,870"},{"v":1.2166333757036574,"d":"1.2"}]
["PT",{"$f":"Portugal!AJ$16","v":{"v":1114,"d":"1,114"}},{"$f":"Portugal!AK$16","v":{"v":1050,"d":"1,050"}},{"v":-5.74506283662477,"d":"-5.7"},null,{"$f":"Portugal!AJ$23","v":{"v":1101,"d":"1,101"}},{"$f":"Portugal!AK$23","v":{"v":1150,"d":"1,150"}},{"v":4.4504995458674035,"d":"4.5"},null,{"$f":"Portugal!AJ$30","v":{"v":1905,"d":"1,905"}},{"$f":"Portugal!AK$30","v":{"v":1956,"d":"1,956"}},{"v":2.677165354330713,"d":"2.7"},null,{"$f":"Portugal!AJ$36","v":0},{"$f":"Portugal!AJ$36","v":0},{"v":0,"d":"0.0"},null,{"$f":"Portugal!AJ$39","v":316},{"$f":"Portugal!AK$39","v":271},{"v":-14.240506329113922,"d":"-14.2"},null,{"v":4436,"d":"4,436"},{"v":4427,"d":"4,427"},{"v":-0.20288548241659266,"d":"-0.2"}]
["AT",{"$f":"Austria!AJ$16","v":632},{"$f":"Austria!AK$16","v":{"v":661.001,"d":"661"}},{"v":4.588765822784802,"d":"4.6"},null,{"$f":"Austria!AJ$23","v":250},{"$f":"Austria!AK$23","v":{"v":248.599,"d":"249"}},{"v":-0.5604000000000053,"d":"-0.6"},null,{"$f":"Austria!AJ$30","v":707},{"$f":"Austria!AK$30","v":{"v":734.138,"d":"734"}},{"v":3.8384724186704355,"d":"3.8"},null,{"$f":"Austria!AJ$36","v":0},{"$f":"Austria!AJ$36","v":0},{"v":0,"d":"0.0"},null,{"$f":"Austria!AJ$39","v":145},{"$f":"Austria!AK$39","v":{"v":146.768,"d":"147"}},{"v":1.2193103448275844,"d":"1.2"},null,{"v":1734,"d":"1,734"},{"v":1790.506,"d":"1,791"},{"v":3.2587081891580105,"d":"3.3"}]
["SE",{"$f":"Sweden!AJ$16","v":861},{"$f":"Sweden!AK$16","v":832},{"v":-3.3681765389082408,"d":"-3.4"},null,{"$f":"Sweden!AJ$23","v":306},{"$f":"Sweden!AK$23","v":338},{"v":10.457516339869288,"d":"10.5"},null,{"$f":"Sweden!AJ$30","v":685},{"$f":"Sweden!AK$30","v":715},{"v":4.379562043795615,"d":"4.4"},null,{"$f":"Sweden!AJ$36","v":3},{"$f":"Sweden!AJ$36","v":3},{"$f":"((O78/N78)-1)*100","v":{"v":0,"d":"0.0"}},null,{"$f":"Sweden!AJ$39","v":72},{"$f":"Sweden!AK$39","v":68},{"v":-5.555555555555558,"d":"-5.6"},null,{"v":1927,"d":"1,927"},{"v":1956,"d":"1,956"},{"v":1.5049299429164442,"d":"1.5"}]
["FI",{"$f":"Finland!AJ$16","v":673},{"$f":"Finland!AK$16","v":673},{"v":0,"d":"0.0"},null,{"$f":"Finland!AJ$23","v":231},{"$f":"Finland!AK$23","v":231},{"v":0,"d":"0.0"},null,{"$f":"Finland!AJ$30","v":420},{"$f":"Finland!AK$30","v":420},{"v":0,"d":"0.0"},null,{"$f":"Finland!AJ$36","v":0},{"$f":"Finland!AJ$36","v":0},{"v":0,"d":"0.0"},null,{"$f":"Finland!AJ$39","v":110},{"$f":"Finland!AK$39","v":110},{"v":0,"d":"0.0"},null,{"v":1434,"d":"1,434"},{"v":1434,"d":"1,434"},{"v":0,"d":"0.0"}]
["CY",{"$f":"Cyprus!AJ$16","v":180},{"$f":"Cyprus!AK$16","v":180},{"v":0,"d":"0.0"},null,{"$f":"Cyprus!AJ$23","v":{"v":4.7,"d":"5"}},{"$f":"Cyprus!AK$23","v":{"v":4.7,"d":"5"}},{"v":0,"d":"0.0"},null,{"$f":"Cyprus!AJ$30","v":37},{"$f":"Cyprus!AK$30","v":37},{"v":0,"d":"0.0"},null,{"$f":"Cyprus!AJ$36","v":0},{"$f":"Cyprus!AJ$36","v":0},{"v":0,"d":"0.0"},null,{"$f":"Cyprus!AJ$39","v":137},{"$f":"Cyprus!AK$39","v":137},{"v":0,"d":"0.0"},null,{"v":358.7,"d":"359"},{"v":358.7,"d":"359"},{"v":0,"d":"0.0"}]
["CZ",{"$f":"'Czech Rep'!AJ$16","v":596},{"$f":"'Czech Rep'!AK$16","v":596},{"v":0,"d":"0.0"},null,{"$f":"'Czech Rep'!AJ$23","v":675},{"$f":"'Czech Rep'!AK$23","v":675},{"v":0,"d":"0.0"},null,{"$f":"'Czech Rep'!AJ$30","v":{"v":1006,"d":"1,006"}},{"$f":"'Czech Rep'!AK$30","v":{"v":1006,"d":"1,006"}},{"v":0,"d":"0.0"},null,{"$f":"'Czech Rep'!AJ$36","v":1},{"$f":"'Czech Rep'!AJ$36","v":1},{"$f":"((O81/N81)-1)*100","v":{"v":0,"d":"0.0"}},null,{"$f":"'Czech Rep'!AJ$39","v":100},{"$f":"'Czech Rep'!AK$39","v":100},{"v":0,"d":"0.0"},null,{"v":2378,"d":"2,378"},{"v":2378,"d":"2,378"},{"v":0,"d":"0.0"}]
["EE",{"$f":"Estonia!AJ$16","v":40},{"$f":"Estonia!AK$16","v":40},{"v":0,"d":"0.0"},null,{"$f":"Estonia!AJ$23","v":140},{"$f":"Estonia!AK$23","v":140},{"v":0,"d":"0.0"},null,{"$f":"Estonia!AJ$30","v":48},{"$f":"Estonia!AK$30","v":48},{"v":0,"d":"0.0"},null,{"$f":"Estonia!AJ$36","v":0},{"$f":"Estonia!AJ$36","v":0},{"v":0,"d":"0.0"},null,{"$f":"Estonia!AJ$39","v":2},{"$f":"Estonia!AK$39","v":2},{"v":0,"d":"0.0"},null,230,230,{"v":0,"d":"0.0"}]
["HU",{"$f":"Hungary!AJ$16","v":461},{"$f":"Hungary!AK$16","v":461},{"v":0,"d":"0.0"},null,{"$f":"Hungary!AJ$23","v":{"v":1261.532,"d":"1,262"}},{"$f":"Hungary!AK$23","v":{"v":1175,"d":"1,175"}},{"v":-6.8592790353316335,"d":"-6.9"},null,{"$f":"Hungary!AJ$30","v":{"v":1820.315,"d":"1,820"}},{"$f":"Hungary!AK$30","v":{"v":1800,"d":"1,800"}},{"v":-1.1160156346566419,"d":"-1.1"},null,{"$f":"Hungary!AJ$36","v":0},{"$f":"Hungary!AJ$36","v":0},{"v":0,"d":"0.0"},null,{"$f":"Hungary!AJ$39","v":{"v":106.545,"d":"107"}},{"$f":"Hungary!AK$39","v":120},{"v":12.628466844995078,"d":"12.6"},null,{"$f":"R83+N83+J83+F83+B83","v":{"v":3649.392,"d":"3,649"}},{"v":3556,"d":"3,556"},{"v":-2.559111216334109,"d":"-2.6"}]
["LV",{"$f":"Latvia!AJ$16","v":64},{"$f":"Latvia!AK$16","v":64},{"v":0,"d":"0.0"},null,{"$f":"Latvia!AJ$23","v":66},{"$f":"Latvia!AK$23","v":66},{"v":0,"d":"0.0"},null,{"$f":"Latvia!AJ$30","v":202},{"$f":"Latvia!AK$30","v":202},{"v":0,"d":"0.0"},null,{"$f":"Latvia!AJ$36","v":0},{"$f":"Latvia!AJ$36","v":0},{"v":0,"d":"0.0"},null,{"$f":"Latvia!AJ$39","v":14},{"$f":"Latvia!AK$39","v":14},{"v":0,"d":"0.0"},null,346,346,{"v":0,"d":"0.0"}]
["LT",{"$f":"Lithuania!AJ$16","v":158},{"$f":"Lithuania!AK$16","v":158},{"v":0,"d":"0.0"},null,{"$f":"Lithuania!AJ$23","v":38},{"$f":"Lithuania!AK$23","v":38},{"v":0,"d":"0.0"},null,{"$f":"Lithuania!AJ$30","v":217},{"$f":"Lithuania!AK$30","v":217},{"v":0,"d":"0.0"},null,{"$f":"Lithuania!AJ$36","v":0},{"$f":"Lithuania!AJ$36","v":0},{"v":0,"d":"0.0"},null,{"$f":"Lithuania!AJ$39","v":186},{"$f":"Lithuania!AK$39","v":186},{"v":0,"d":"0.0"},null,599,599,{"v":0,"d":"0.0"}]
["PL",{"$f":"Poland!AJ$16","v":{"v":1170,"d":"1,170"}},{"$f":"Poland!AK$16","v":{"v":1280,"d":"1,280"}},{"v":9.401709401709413,"d":"9.4"},null,{"$f":"Poland!AJ$23","v":{"v":2370,"d":"2,370"}},{"$f":"Poland!AK$23","v":{"v":2630,"d":"2,630"}},{"v":10.970464135021096,"d":"11.0"},null,{"$f":"Poland!AJ$30","v":{"v":7190,"d":"7,190"}},{"$f":"Poland!AK$30","v":{"v":7270,"d":"7,270"}},{"v":1.112656467315709,"d":"1.1"},null,{"$f":"Poland!AJ$36","v":0},{"$f":"Poland!AJ$36","v":0},{"v":0,"d":"0.0"},null,{"$f":"Poland!AJ$39","v":800},{"$f":"Poland!AK$39","v":660},{"v":-17.500000000000004,"d":"-17.5"},null,{"v":11530,"d":"11,530"},{"v":11840,"d":"11,840"},{"v":2.6886383347788367,"d":"2.7"}]
["SK",{"$f":"Slovakia!AJ$16","v":{"v":196.48600000000002,"d":"196"}},{"$f":"Slovakia!AK$16","v":{"v":196.48600000000002,"d":"196"}},{"v":0,"d":"0.0"},null,{"$f":"Slovakia!AJ$23","v":195},{"$f":"Slovakia!AK$23","v":195},{"v":0,"d":"0.0"},null,{"$f":"Slovakia!AJ$30","v":{"v":268.199,"d":"268"}},{"$f":"Slovakia!AK$30","v":{"v":268.199,"d":"268"}},{"v":0,"d":"0.0"},null,{"$f":"Slovakia!AJ$36","v":0},{"$f":"Slovakia!AJ$36","v":0},{"v":0,"d":"0.0"},null,{"$f":"+Slovakia!AJ$39","v":{"v":18.9,"d":"19"}},{"$f":"+Slovakia!AK$39","v":{"v":18.9,"d":"19"}},{"v":0,"d":"0.0"},null,{"v":678.585,"d":"679"},{"v":678.585,"d":"679"},{"v":0,"d":"0.0"}]
["SI",{"$f":"Slovenia!AJ$16","v":{"v":88.953,"d":"89"}},{"$f":"Slovenia!AK$16","v":{"v":92.872,"d":"93"}},{"v":4.405697390756913,"d":"4.4"},null,{"$f":"Slovenia!AJ$23","v":{"v":45.723,"d":"46"}},{"$f":"Slovenia!AK$23","v":{"v":44.465,"d":"44"}},{"v":-2.751350523806395,"d":"-2.8"},null,{"$f":"Slovenia!AJ$30","v":{"v":260.873709,"d":"261"}},{"$f":"Slovenia!AK$30","v":{"v":260.952,"d":"261"}},{"v":0.030011073289104573,"d":"0.0"},null,{"$f":"Slovenia!AJ$36","v":0},{"$f":"Slovenia!AJ$36","v":0},{"v":0,"d":"0.0"},null,{"$f":"Slovenia!AJ$39","v":{"v":3.591,"d":"4"}},{"$f":"Slovenia!AK$39","v":6},{"v":67.0843776106934,"d":"67.1"},null,{"v":399.140709,"d":"399"},{"v":404.28900000000004,"d":"404"},{"v":1.2898436275514236,"d":"1.3"}]
["BU",{"$f":"Bulgaria!AJ$16","v":202},{"$f":"Bulgaria!AK$16","v":210},{"v":3.960396039603964,"d":"4.0"},null,{"$f":"Bulgaria!AJ$23","v":444},{"$f":"Bulgaria!AK$23","v":437},{"v":-1.5765765765765716,"d":"-1.6"},null,{"$f":"Bulgaria!AJ$30","v":632},{"$f":"Bulgaria!AK$30","v":625},{"v":-1.1075949367088556,"d":"-1.1"},null,{"$f":"Bulgaria!AJ$36","v":0},{"$f":"Bulgaria!AJ$36","v":0},{"v":0,"d":"0.0"},null,{"$f":"Bulgaria!AJ$39","v":60},{"$f":"Bulgaria!AK$39","v":60},{"v":0,"d":"0.0"},null,{"v":1338,"d":"1,338"},{"v":1332,"d":"1,332"},{"v":-0.4484304932735439,"d":"-0.4"}]
["RO",{"$f":"Romania!AJ$17","v":90},{"$f":"Romania!AK$17","v":90},{"v":0,"d":"0.0"},null,{"$f":"Romania!AJ$24","v":980},{"$f":"Romania!AK$24","v":980},{"v":0,"d":"0.0"},null,{"$f":"Romania!AJ$31","v":{"v":1695,"d":"1,695"}},{"$f":"Romania!AK$31","v":{"v":1695,"d":"1,695"}},{"v":0,"d":"0.0"},null,{"$f":"Romania!AJ$37","v":0},{"$f":"Romania!AJ$37","v":0},{"v":0,"d":"0.0"},null,{"$f":"Romania!AJ$40","v":140},{"$f":"Romania!AK$40","v":140},{"v":0,"d":"0.0"},null,{"v":2905,"d":"2,905"},{"v":2905,"d":"2,905"},{"v":0,"d":"0.0"}]
["HR",{"$f":"Croatia!AJ$16","v":95},{"$f":"Croatia!AK$16","v":95},{"v":0,"d":"0.0"},null,{"$f":"Croatia!AJ$23","v":260},{"$f":"Croatia!AK$23","v":260},{"v":0,"d":"0.0"},null,{"$f":"Croatia!AJ$30","v":300},{"$f":"Croatia!AK$30","v":300},{"v":0,"d":"0.0"},null,{"$f":"Croatia!AJ$36","v":0},{"$f":"Croatia!AC$36","v":0},{"v":0,"d":"0.0"},null,{"$f":"Croatia!AJ$39","v":15},{"$f":"Croatia!AK$39","v":15},{"v":0,"d":"0.0"},null,670,670,{"v":0,"d":"0.0"}]
[]
["EUR 27*+UK",{"$f":"SUM(B67:B91)","v":{"v":47731.439,"d":"47,731"}},{"v":47485.359,"d":"47,485"},{"$f":"((C93/B93)-1)*100","v":{"v":-0.5155511862946383,"d":"-0.5"}},null,{"$f":"SUM(F67:F91)","v":{"v":49823.954999999994,"d":"49,824"}},{"v":49457.763999999996,"d":"49,458"},{"$f":"((G93/F93)-1)*100","v":{"v":-0.7349697550104173,"d":"-0.7"}},null,{"$f":"SUM(J67:J91)","v":{"v":56067.387709,"d":"56,067"}},{"v":57010.289,"d":"57,010"},{"$f":"((K93/J93)-1)*100","v":{"v":1.6817285939801918,"d":"1.7"}},null,{"$f":"SUM(N67:N91)","v":{"v":1108,"d":"1,108"}},501,{"$f":"((O93/N93)-1)*100","v":{"v":-54.78339350180506,"d":"-54.8"}},null,{"$f":"SUM(R67:R91)","v":{"v":8413.036,"d":"8,413"}},{"v":8387.668,"d":"8,388"},{"$f":"((S93/R93)-1)*100","v":{"v":-0.3015320509742292,"d":"-0.3"}},null,{"$f":"SUM(V67:V91)","v":{"v":163143.817709,"d":"163,144"}},{"v":162842.08,"d":"162,842"},{"$f":"((W93/V93)-1)*100","v":{"v":-0.1849519725830029,"d":"-0.18"}}]
[]
[{"$nulls":23}," "]
["* Without Luxemburg, Greece and Malta"]
[": not available"]
["From 2015 on, the Dutch production of milk replacers is a rough estimate, due to statistical confidentiality "]

{"sheet":"ICFP Forecast 2025","index":72,"n_rows":26,"n_cols":3,"rows_kept":26,"merged":[[0,0,0,1]]}
["ICFP Forecast 2025",null,"%TAV"]
["DE",{"$f":"'2024-25'!W14","v":{"v":22010,"d":"22,010"}},{"$f":"'2024-25'!X14","v":{"v":-0.6724130150277507,"d":"-0.7"}}]
["FR",{"$f":"'2024-25'!W15","v":{"v":19696,"d":"19,696"}},{"$f":"'2024-25'!X15","v":{"v":0,"d":"0.0"}}]
["IT",{"$f":"'2024-25'!W16","v":{"v":14891,"d":"14,891"}},{"$f":"'2024-25'!X16","v":{"v":0,"d":"0.0"}}]
["NL   ",{"$f":"'2024-25'!W17","v":{"v":10357.11,"d":"10,357"}},{"$f":"'2024-25'!X17","v":{"v":-5.258781558726666,"d":"-5.3"}}]
["BE",{"$f":"'2024-25'!W18","v":{"v":6368.72,"d":"6,369"}},{"$f":"'2024-25'!X18","v":{"v":0.40548636291974915,"d":"0.4"}}]
["IE",{"$f":"'2024-25'!W20","v":{"v":5293,"d":"5,293"}},{"$f":"'2024-25'!X20","v":{"v":-3.535629670129392,"d":"-3.5"}}]
["DK ",{"$f":"'2024-25'!W21","v":{"v":4301,"d":"4,301"}},{"$f":"'2024-25'!X21","v":{"v":-0.8529276164130906,"d":"-0.9"}}]
["ES",{"$f":"'2024-25'!W22","v":{"v":27993,"d":"27,993"}},{"$f":"'2024-25'!X22","v":{"v":0.44133476856835774,"d":"0.4"}}]
["PT",{"$f":"'2024-25'!W23","v":{"v":4510,"d":"4,510"}},{"$f":"'2024-25'!X23","v":{"v":1.8748588208719275,"d":"1.9"}}]
["AT",{"$f":"'2024-25'!W24","v":{"v":1828.8265199999996,"d":"1,829"}},{"$f":"'2024-25'!X24","v":{"v":2.1402061763545976,"d":"2.1"}}]
["SE",{"$f":"'2024-25'!W25","v":{"v":1956,"d":"1,956"}},{"$f":"'2024-25'!X25","v":{"v":0,"d":"0.0"}}]
["FI",{"$f":"'2024-25'!W26","v":{"v":1434,"d":"1,434"}},{"$f":"'2024-25'!X26","v":{"v":0,"d":"0.0"}}]
["CY",{"$f":"'2024-25'!W27","v":{"v":358.7,"d":"359"}},{"$f":"'2024-25'!X27","v":{"v":0,"d":"0.0"}}]
["CZ",{"$f":"'2024-25'!W28","v":{"v":2378,"d":"2,378"}},{"$f":"'2024-25'!X28","v":{"v":0,"d":"0.0"}}]
["EE",{"$f":"'2024-25'!W29","v":230},{"$f":"'2024-25'!X29","v":{"v":0,"d":"0.0"}}]
["HU",{"$f":"'2024-25'!W30","v":{"v":3390,"d":"3,390"}},{"$f":"'2024-25'!X30","v":{"v":-4.668166479190106,"d":"-4.7"}}]
["LV",{"$f":"'2024-25'!W31","v":346},{"$f":"'2024-25'!X31","v":{"v":0,"d":"0.0"}}]
["LT",{"$f":"'2024-25'!W32","v":599},{"$f":"'2024-25'!X32","v":{"v":0,"d":"0.0"}}]
["PL",{"$f":"'2024-25'!W33","v":{"v":12140,"d":"12,140"}},{"$f":"'2024-25'!X33","v":{"v":2.533783783783794,"d":"2.5"}}]
["SK",{"$f":"'2024-25'!W34","v":{"v":678.585,"d":"679"}},{"$f":"'2024-25'!X34","v":{"v":0,"d":"0.0"}}]
["SI",{"$f":"'2024-25'!W35","v":{"v":421.29,"d":"421"}},{"$f":"'2024-25'!X35","v":{"v":4.20516017007635,"d":"4.2"}}]
["BU",{"$f":"'2024-25'!W36","v":{"v":1368,"d":"1,368"}},{"$f":"'2024-25'!X36","v":{"v":2.7027027027026973,"d":"2.7"}}]
["RO",{"$f":"'2024-25'!W37","v":{"v":2905,"d":"2,905"}},{"$f":"'2024-25'!X37","v":{"v":0,"d":"0.0"}}]
["HR",{"$f":"'2024-25'!W38","v":670},{"$f":"'2024-25'!X38","v":{"v":0,"d":"0.0"}}]
["EUR 27 *",{"$f":"'2024-25'!$W$40","v":{"v":146123.23152,"d":"146,123"}},{"$f":"'2024-25'!$X$40","v":{"v":-0.33954768304802485,"d":"-0.34"}}]

{"sheet":"EU-15","index":73,"n_rows":90,"n_cols":34,"rows_kept":90,"merged":[[3,0,3,32],[51,0,51,32]]}
["FEFAC SECRETARIAT GENERAL"]
[]
[]
["INDUSTRIAL COMPOUND FEED PRODUCTION"]
[]
[]
[]
["COUNTRY: EU-15"]
["COUNTRY: EU-15 from 2020"]
[]
[]
["1 000 t",1989,1990,1991,1992,1993,1994,1995,1996,1997,1998,1999,2000,2001,2002,2003,2004,2005,2006,2007,2008,2009,2010,2011,2012,2013,2014,2015,2016,2017,2018,2019,2020,2021]
[null,"final figures","final figures","final figures","final figures","final figures","final figures","final figures","final figures","final figures","final figures","final figures","final figures","final figures","final figures","final figures","final figures","final figures","final figures","final figures","final figures","final figures","final figures","final figures","final figures","final figures","final figures","final figures","final figures","final figures","final figures","final figures","estimates","forecasts"]
[]
[]
["Cattle",{"$f":"Germany!B16+France!B16+Italy!B16+'The Netherlands'!B16+Belgium!B16+UK!B16+Ireland!B16+Denmark!B16+Spain!B16+Portugal!B16","v":{"v":31642,"d":"31,642"}},{"$f":"Germany!C16+France!C16+Italy!C16+'The Netherlands'!C16+Belgium!C16+UK!C16+Ireland!C16+Denmark!C16+Spain!C16+Portugal!C16","v":{"v":31277,"d":"31,277"}},{"$f":"Germany!D16+France!D16+Italy!D16+'The Netherlands'!D16+Belgium!D16+UK!D16+Ireland!D16+Denmark!D16+Spain!D16+Portugal!D16","v":{"v":32915,"d":"32,915"}},{"$f":"Germany!E16+France!E16+Italy!E16+'The Netherlands'!E16+Belgium!E16+UK!E16+Ireland!E16+Denmark!E16+Spain!E16+Portugal!E16","v":{"v":32054,"d":"32,054"}},{"$f":"Germany!F16+France!F16+Italy!F16+'The Netherlands'!F16+Belgium!F16+UK!F16+Ireland!F16+Denmark!F16+Spain!F16+Portugal!F16","v":{"v":32517,"d":"32,517"}},{"$f":"Germany!G16+France!G16+Italy!G16+'The Netherlands'!G16+Belgium!G16+UK!G16+Ireland!G16+Denmark!G16+Spain!G16+Portugal!G16","v":{"v":33016,"d":"33,016"}},{"$f":"Germany!H16+France!H16+Italy!H16+'The Netherlands'!H16+Belgium!H16+UK!H16+Ireland!H16+Denmark!H16+Spain!H16+Portugal!H16+Finland!H16+Sweden!H16+Austria!H16","v":{"v":35705,"d":"35,705"}},{"$f":"Germany!I16+France!I16+Italy!I16+'The Netherlands'!I16+Belgium!I16+UK!I16+Ireland!I16+Denmark!I16+Spain!I16+Portugal!I16+Finland!I16+Sweden!I16+Austria!I16","v":{"v":35075,"d":"35,075"}},{"$f":"Germany!J16+France!J16+Italy!J16+'The Netherlands'!J16+Belgium!J16+UK!J16+Ireland!J16+Denmark!J16+Spain!J16+Portugal!J16+Finland!J16+Sweden!J16+Austria!J16","v":{"v":32993,"d":"32,993"}},{"$f":"Germany!K16+France!K16+Italy!K16+'The Netherlands'!K16+Belgium!K16+UK!K16+Ireland!K16+Denmark!K16+Spain!K16+Portugal!K16+Finland!K16+Sweden!K16+Austria!K16","v":{"v":32628,"d":"32,628"}},{"$f":"Germany!L16+France!L16+Italy!L16+'The Netherlands'!L16+Belgium!L16+UK!L16+Ireland!L16+Denmark!L16+Spain!L16+Portugal!L16+Finland!L16+Sweden!L16+Austria!L16","v":{"v":34343,"d":"34,343"}},{"$f":"Germany!M16+France!M16+Italy!M16+'The Netherlands'!M16+Belgium!M16+UK!M16+Ireland!M16+Denmark!M16+Spain!M16+Portugal!M16+Finland!M16+Sweden!M16+Austria!M16","v":{"v":34204,"d":"34,204"}},{"$f":"Germany!N16+France!N16+Italy!N16+'The Netherlands'!N16+Belgium!N16+UK!N16+Ireland!N16+Denmark!N16+Spain!N16+Portugal!N16+Finland!N16+Sweden!N16+Austria!N16","v":{"v":35305,"d":"35,305"}},{"$f":"Germany!O16+France!O16+Italy!O16+'The Netherlands'!O16+Belgium!O16+UK!O16+Ireland!O16+Denmark!O16+Spain!O16+Portugal!O16+Finland!O16+Sweden!O16+Austria!O16","v":{"v":35465,"d":"35,465"}},{"$f":"Germany!P16+France!P16+Italy!P16+'The Netherlands'!P16+Belgium!P16+UK!P16+Ireland!P16+Denmark!P16+Spain!P16+Portugal!P16+Finland!P16+Sweden!P16+Austria!P16","v":{"v":35963,"d":"35,963"}},{"$f":"Germany!Q16+France!Q16+Italy!Q16+'The Netherlands'!Q16+Belgium!Q16+UK!Q16+Ireland!Q16+Denmark!Q16+Spain!Q16+Portugal!Q16+Finland!Q16+Sweden!Q16+Austria!Q16","v":{"v":36175,"d":"36,175"}},{"$f":"Germany!R16+France!R16+Italy!R16+'The Netherlands'!R16+Belgium!R16+UK!R16+Ireland!R16+Denmark!R16+Spain!R16+Portugal!R16+Finland!R16+Sweden!R16+Austria!R16","v":{"v":35757,"d":"35,757"}},{"$f":"Germany!S16+France!S16+Italy!S16+'The Netherlands'!S16+Belgium!S16+UK!S16+Ireland!S16+Denmark!S16+Spain!S16+Portugal!S16+Finland!S16+Sweden!S16+Austria!S16","v":{"v":34550,"d":"34,550"}},{"$f":"Germany!T16+France!T16+Italy!T16+'The Netherlands'!T16+Belgium!T16+UK!T16+Ireland!T16+Denmark!T16+Spain!T16+Portugal!T16+Finland!T16+Sweden!T16+Austria!T16","v":{"v":35981,"d":"35,981"}},{"$f":"Germany!U16+France!U16+Italy!U16+'The Netherlands'!U16+Belgium!U16+UK!U16+Ireland!U16+Denmark!U16+Spain!U16+Portugal!U16+Finland!U16+Sweden!U16+Austria!U16","v":{"v":38518,"d":"38,518"}},{"$f":"Germany!V16+France!V16+Italy!V16+'The Netherlands'!V16+Belgium!V16+UK!V16+Ireland!V16+Denmark!V16+Spain!V16+Portugal!V16+Finland!V16+Sweden!V16+Austria!V16","v":{"v":36165,"d":"36,165"}},{"$f":"Germany!W16+France!W16+Italy!W16+'The Netherlands'!W16+Belgium!W16+UK!W16+Ireland!W16+Denmark!W16+Spain!W16+Portugal!W16+Finland!W16+Sweden!W16+Austria!W16","v":{"v":37065,"d":"37,065"}},{"$f":"Germany!X16+France!X16+Italy!X16+'The Netherlands'!X16+Belgium!X16+UK!X16+Ireland!X16+Denmark!X16+Spain!X16+Portugal!X16+Finland!X16+Sweden!X16+Austria!X16","v":{"v":37132,"d":"37,132"}},{"$f":"Germany!Y16+France!Y16+Italy!Y16+'The Netherlands'!Y16+Belgium!Y16+UK!Y16+Ireland!Y16+Denmark!Y16+Spain!Y16+Portugal!Y16+Finland!Y16+Sweden!Y16+Austria!Y16","v":{"v":38697,"d":"38,697"}},{"$f":"Germany!Z16+France!Z16+Italy!Z16+'The Netherlands'!Z16+Belgium!Z16+UK!Z16+Ireland!Z16+Denmark!Z16+Spain!Z16+Portugal!Z16+Finland!Z16+Sweden!Z16+Austria!Z16","v":{"v":39384,"d":"39,384"}},{"$f":"Germany!#REF!+France!AA16+Italy!AA16+'The Netherlands'!AA16+Belgium!AA16+UK!AA16+Ireland!AA16+Denmark!AA16+Spain!AA16+Portugal!AA16+Finland!AA16+Sweden!AA16+Austria!AA16","v":{"$error":"#REF!"}},{"$f":"Germany!AB16+France!AB16+Italy!AB16+'The Netherlands'!AB16+Belgium!AB16+UK!AB16+Ireland!AB16+Denmark!AB16+Spain!AB16+Portugal!AB16+Finland!AB16+Sweden!AB16+Austria!AB16","v":{"v":39780,"d":"39,780"}},{"$f":"Germany!AC16+France!AC16+Italy!AC16+'The Netherlands'!AC16+Belgium!AC16+UK!AC16+Ireland!AC16+Denmark!AC16+Spain!AC16+Portugal!AC16+Finland!AC16+Sweden!AC16+Austria!AC16","v":{"v":40814.575,"d":"40,815"}},{"$f":"Germany!AD16+France!AD16+Italy!AD16+'The Netherlands'!AD16+Belgium!AD16+UK!AD16+Ireland!AD16+Denmark!AD16+Spain!AD16+Portugal!AD16+Finland!AD16+Sweden!AD16+Austria!AD16","v":{"v":42563.285,"d":"42,563"}},{"$f":"Germany!AE16+France!AE16+Italy!AE16+'The Netherlands'!AE16+Belgium!AE16+UK!AE16+Ireland!AE16+Denmark!AE16+Spain!AE16+Portugal!AE16+Finland!AE16+Sweden!AE16+Austria!AE16","v":{"v":45011.085,"d":"45,011"}},{"$f":"Germany!AF16+France!AF16+Italy!AF16+'The Netherlands'!AF16+Belgium!AF16+UK!AF16+Ireland!AF16+Denmark!AF16+Spain!AF16+Portugal!AF16+Finland!AF16+Sweden!AF16+Austria!AF16","v":{"v":44423.921,"d":"44,424"}},{"$f":"Germany!AG16+France!AG16+Italy!AG16+'The Netherlands'!AG16+Belgium!AG16+UK!AG16+Ireland!AG16+Denmark!AG16+Spain!AG16+Portugal!AG16+Finland!AG16+Sweden!AG16+Austria!AG16","v":{"v":44484.241,"d":"44,484"}},{"$f":"Germany!AH16+France!AH16+Italy!AH16+'The Netherlands'!AH16+Belgium!AH16+UK!AH16+Ireland!AH16+Denmark!AH16+Spain!AH16+Portugal!AH16+Finland!AH16+Sweden!AH16+Austria!AH16","v":{"v":44432.6945,"d":"44,433"}}]
["fattening",":",":",":",":",":",":",":",":",":",":",":",":",":",":",":",":",":",":",":",":",":",":",":",":",":",":",":",":",":",":",":",":",":"]
["dairy cow",":",":",":",":",":",":",":",":",":",":",":",":",":",":",":",":",":",":",":",":",":",":",":",":",":",":",":",":",":",":",":",":",":"]
["calves (excl. milk replacers)",":",":",":",":",":",":",":",":",":",":",":",":",":",":",":",":",":",":",":",":",":",":",":",":",":",":",":",":",":",":",":",":",":"]
["others",":",":",":",":",":",":",":",":",":",":",":",":",":",":",":",":",":",":",":",":",":",":",":",":",":",":",":",":",":",":",":",":",":"]
[]
[]
["Pigs",{"$f":"Germany!B23+France!B23+Italy!B23+'The Netherlands'!B23+Belgium!B23+UK!B23+Ireland!B23+Denmark!B23+Spain!B23+Portugal!B23","v":{"v":35676,"d":"35,676"}},{"$f":"Germany!C23+France!C23+Italy!C23+'The Netherlands'!C23+Belgium!C23+UK!C23+Ireland!C23+Denmark!C23+Spain!C23+Portugal!C23","v":{"v":36389,"d":"36,389"}},{"$f":"Germany!D23+France!D23+Italy!D23+'The Netherlands'!D23+Belgium!D23+UK!D23+Ireland!D23+Denmark!D23+Spain!D23+Portugal!D23","v":{"v":38077,"d":"38,077"}},{"$f":"Germany!E23+France!E23+Italy!E23+'The Netherlands'!E23+Belgium!E23+UK!E23+Ireland!E23+Denmark!E23+Spain!E23+Portugal!E23","v":{"v":39663,"d":"39,663"}},{"$f":"Germany!F23+France!F23+Italy!F23+'The Netherlands'!F23+Belgium!F23+UK!F23+Ireland!F23+Denmark!F23+Spain!F23+Portugal!F23","v":{"v":41418,"d":"41,418"}},{"$f":"Germany!G23+France!G23+Italy!G23+'The Netherlands'!G23+Belgium!G23+UK!G23+Ireland!G23+Denmark!G23+Spain!G23+Portugal!G23","v":{"v":39921,"d":"39,921"}},{"$f":"Germany!H23+France!H23+Italy!H23+'The Netherlands'!H23+Belgium!H23+UK!H23+Ireland!H23+Denmark!H23+Spain!H23+Portugal!H23+Finland!H23+Sweden!H23+Austria!H23","v":{"v":40477,"d":"40,477"}},{"$f":"Germany!I23+France!I23+Italy!I23+'The Netherlands'!I23+Belgium!I23+UK!I23+Ireland!I23+Denmark!I23+Spain!I23+Portugal!I23+Finland!I23+Sweden!I23+Austria!I23","v":{"v":41996,"d":"41,996"}},{"$f":"Germany!J23+France!J23+Italy!J23+'The Netherlands'!J23+Belgium!J23+UK!J23+Ireland!J23+Denmark!J23+Spain!J23+Portugal!J23+Finland!J23+Sweden!J23+Austria!J23","v":{"v":42236,"d":"42,236"}},{"$f":"Germany!K23+France!K23+Italy!K23+'The Netherlands'!K23+Belgium!K23+UK!K23+Ireland!K23+Denmark!K23+Spain!K23+Portugal!K23+Finland!K23+Sweden!K23+Austria!K23","v":{"v":43495,"d":"43,495"}},{"$f":"Germany!L23+France!L23+Italy!L23+'The Netherlands'!L23+Belgium!L23+UK!L23+Ireland!L23+Denmark!L23+Spain!L23+Portugal!L23+Finland!L23+Sweden!L23+Austria!L23","v":{"v":43442,"d":"43,442"}},{"$f":"Germany!M23+France!M23+Italy!M23+'The Netherlands'!M23+Belgium!M23+UK!M23+Ireland!M23+Denmark!M23+Spain!M23+Portugal!M23+Finland!M23+Sweden!M23+Austria!M23","v":{"v":43099,"d":"43,099"}},{"$f":"Germany!N23+France!N23+Italy!N23+'The Netherlands'!N23+Belgium!N23+UK!N23+Ireland!N23+Denmark!N23+Spain!N23+Portugal!N23+Finland!N23+Sweden!N23+Austria!N23","v":{"v":42582,"d":"42,582"}},{"$f":"Germany!O23+France!O23+Italy!O23+'The Netherlands'!O23+Belgium!O23+UK!O23+Ireland!O23+Denmark!O23+Spain!O23+Portugal!O23+Finland!O23+Sweden!O23+Austria!O23","v":{"v":42501,"d":"42,501"}},{"$f":"Germany!P23+France!P23+Italy!P23+'The Netherlands'!P23+Belgium!P23+UK!P23+Ireland!P23+Denmark!P23+Spain!P23+Portugal!P23+Finland!P23+Sweden!P23+Austria!P23","v":{"v":42013,"d":"42,013"}},{"$f":"Germany!Q23+France!Q23+Italy!Q23+'The Netherlands'!Q23+Belgium!Q23+UK!Q23+Ireland!Q23+Denmark!Q23+Spain!Q23+Portugal!Q23+Finland!Q23+Sweden!Q23+Austria!Q23","v":{"v":42356,"d":"42,356"}},{"$f":"Germany!R23+France!R23+Italy!R23+'The Netherlands'!R23+Belgium!R23+UK!R23+Ireland!R23+Denmark!R23+Spain!R23+Portugal!R23+Finland!R23+Sweden!R23+Austria!R23","v":{"v":42120,"d":"42,120"}},{"$f":"Germany!S23+France!S23+Italy!S23+'The Netherlands'!S23+Belgium!S23+UK!S23+Ireland!S23+Denmark!S23+Spain!S23+Portugal!S23+Finland!S23+Sweden!S23+Austria!S23","v":{"v":43041,"d":"43,041"}},{"$f":"Germany!T23+France!T23+Italy!T23+'The Netherlands'!T23+Belgium!T23+UK!T23+Ireland!T23+Denmark!T23+Spain!T23+Portugal!T23+Finland!T23+Sweden!T23+Austria!T23","v":{"v":45725,"d":"45,725"}},{"$f":"Germany!U23+France!U23+Italy!U23+'The Netherlands'!U23+Belgium!U23+UK!U23+Ireland!U23+Denmark!U23+Spain!U23+Portugal!U23+Finland!U23+Sweden!U23+Austria!U23","v":{"v":45573,"d":"45,573"}},{"$f":"Germany!V23+France!V23+Italy!V23+'The Netherlands'!V23+Belgium!V23+UK!V23+Ireland!V23+Denmark!V23+Spain!V23+Portugal!V23+Finland!V23+Sweden!V23+Austria!V23","v":{"v":43417,"d":"43,417"}},{"$f":"Germany!W23+France!W23+Italy!W23+'The Netherlands'!W23+Belgium!W23+UK!W23+Ireland!W23+Denmark!W23+Spain!W23+Portugal!W23+Finland!W23+Sweden!W23+Austria!W23","v":{"v":43789,"d":"43,789"}},{"$f":"Germany!X23+France!X23+Italy!X23+'The Netherlands'!X23+Belgium!X23+UK!X23+Ireland!X23+Denmark!X23+Spain!X23+Portugal!X23+Finland!X23+Sweden!X23+Austria!X23","v":{"v":44010,"d":"44,010"}},{"$f":"Germany!Y23+France!Y23+Italy!Y23+'The Netherlands'!Y23+Belgium!Y23+UK!Y23+Ireland!Y23+Denmark!Y23+Spain!Y23+Portugal!Y23+Finland!Y23+Sweden!Y23+Austria!Y23","v":{"v":43411,"d":"43,411"}},{"$f":"Germany!Z23+France!Z23+Italy!Z23+'The Netherlands'!Z23+Belgium!Z23+UK!Z23+Ireland!Z23+Denmark!Z23+Spain!Z23+Portugal!Z23+Finland!Z23+Sweden!Z23+Austria!Z23","v":{"v":43049,"d":"43,049"}},{"$f":"Germany!#REF!+France!AA23+Italy!AA23+'The Netherlands'!AA23+Belgium!AA23+UK!AA23+Ireland!AA23+Denmark!AA23+Spain!AA23+Portugal!AA23+Finland!AA23+Sweden!AA23+Austria!AA23","v":{"$error":"#REF!"}},{"$f":"Germany!AB23+France!AB23+Italy!AB23+'The Netherlands'!AB23+Belgium!AB23+UK!AB23+Ireland!AB23+Denmark!AB23+Spain!AB23+Portugal!AB23+Finland!AB23+Sweden!AB23+Austria!AB23","v":{"v":44356,"d":"44,356"}},{"$f":"Germany!AC23+France!AC23+Italy!AC23+'The Netherlands'!AC23+Belgium!AC23+UK!AC23+Ireland!AC23+Denmark!AC23+Spain!AC23+Portugal!AC23+Finland!AC23+Sweden!AC23+Austria!AC23","v":{"v":44400.2,"d":"44,400"}},{"$f":"Germany!AD23+France!AD23+Italy!AD23+'The Netherlands'!AD23+Belgium!AD23+UK!AD23+Ireland!AD23+Denmark!AD23+Spain!AD23+Portugal!AD23+Finland!AD23+Sweden!AD23+Austria!AD23","v":{"v":44636.432,"d":"44,636"}},{"$f":"Germany!AE23+France!AE23+Italy!AE23+'The Netherlands'!AE23+Belgium!AE23+UK!AE23+Ireland!AE23+Denmark!AE23+Spain!AE23+Portugal!AE23+Finland!AE23+Sweden!AE23+Austria!AE23","v":{"v":44375.096,"d":"44,375"}},{"$f":"Germany!AF23+France!AF23+Italy!AF23+'The Netherlands'!AF23+Belgium!AF23+UK!AF23+Ireland!AF23+Denmark!AF23+Spain!AF23+Portugal!AF23+Finland!AF23+Sweden!AF23+Austria!AF23","v":{"v":44996.417,"d":"44,996"}},{"$f":"Germany!AG23+France!AG23+Italy!AG23+'The Netherlands'!AG23+Belgium!AG23+UK!AG23+Ireland!AG23+Denmark!AG23+Spain!AG23+Portugal!AG23+Finland!AG23+Sweden!AG23+Austria!AG23","v":{"v":46764.423,"d":"46,764"}},{"$f":"Germany!AH23+France!AH23+Italy!AH23+'The Netherlands'!AH23+Belgium!AH23+UK!AH23+Ireland!AH23+Denmark!AH23+Spain!AH23+Portugal!AH23+Finland!AH23+Sweden!AH23+Austria!AH23","v":{"v":47996.244,"d":"47,996"}}]
["piglets",":",":",":",":",":",":",":",":",":",":",":",":",":",":",":",":",":",":",":",":",":",":",":",":",":",":",":",":",":",":",":",":",":"]
["pigs for fattening",":",":",":",":",":",":",":",":",":",":",":",":",":",":",":",":",":",":",":",":",":",":",":",":",":",":",":",":",":",":",":",":",":"]
["breeding pigs",":",":",":",":",":",":",":",":",":",":",":",":",":",":",":",":",":",":",":",":",":",":",":",":",":",":",":",":",":",":",":",":",":"]
["others",":",":",":",":",":",":",":",":",":",":",":",":",":",":",":",":",":",":",":",":",":",":",":",":",":",":",":",":",":",":",":",":",":"]
[]
[]
["Poultry",{"$f":"Germany!B30+France!B30+Italy!B30+'The Netherlands'!B30+Belgium!B30+UK!B30+Ireland!B30+Denmark!B30+Spain!B30+Portugal!B30","v":{"v":28115,"d":"28,115"}},{"$f":"Germany!C30+France!C30+Italy!C30+'The Netherlands'!C30+Belgium!C30+UK!C30+Ireland!C30+Denmark!C30+Spain!C30+Portugal!C30","v":{"v":29404,"d":"29,404"}},{"$f":"Germany!D30+France!D30+Italy!D30+'The Netherlands'!D30+Belgium!D30+UK!D30+Ireland!D30+Denmark!D30+Spain!D30+Portugal!D30","v":{"v":30756,"d":"30,756"}},{"$f":"Germany!E30+France!E30+Italy!E30+'The Netherlands'!E30+Belgium!E30+UK!E30+Ireland!E30+Denmark!E30+Spain!E30+Portugal!E30","v":{"v":31016,"d":"31,016"}},{"$f":"Germany!F30+France!F30+Italy!F30+'The Netherlands'!F30+Belgium!F30+UK!F30+Ireland!F30+Denmark!F30+Spain!F30+Portugal!F30","v":{"v":31312,"d":"31,312"}},{"$f":"Germany!G30+France!G30+Italy!G30+'The Netherlands'!G30+Belgium!G30+UK!G30+Ireland!G30+Denmark!G30+Spain!G30+Portugal!G30","v":{"v":31785,"d":"31,785"}},{"$f":"Germany!H30+France!H30+Italy!H30+'The Netherlands'!H30+Belgium!H30+UK!H30+Ireland!H30+Denmark!H30+Spain!H30+Portugal!H30+Finland!H30+Sweden!H30+Austria!H30","v":{"v":35281,"d":"35,281"}},{"$f":"Germany!I30+France!I30+Italy!I30+'The Netherlands'!I30+Belgium!I30+UK!I30+Ireland!I30+Denmark!I30+Spain!I30+Portugal!I30+Finland!I30+Sweden!I30+Austria!I30","v":{"v":36181,"d":"36,181"}},{"$f":"Germany!J30+France!J30+Italy!J30+'The Netherlands'!J30+Belgium!J30+UK!J30+Ireland!J30+Denmark!J30+Spain!J30+Portugal!J30+Finland!J30+Sweden!J30+Austria!J30","v":{"v":36983,"d":"36,983"}},{"$f":"Germany!K30+France!K30+Italy!K30+'The Netherlands'!K30+Belgium!K30+UK!K30+Ireland!K30+Denmark!K30+Spain!K30+Portugal!K30+Finland!K30+Sweden!K30+Austria!K30","v":{"v":37774,"d":"37,774"}},{"$f":"Germany!L30+France!L30+Italy!L30+'The Netherlands'!L30+Belgium!L30+UK!L30+Ireland!L30+Denmark!L30+Spain!L30+Portugal!L30+Finland!L30+Sweden!L30+Austria!L30","v":{"v":37390,"d":"37,390"}},{"$f":"Germany!M30+France!M30+Italy!M30+'The Netherlands'!M30+Belgium!M30+UK!M30+Ireland!M30+Denmark!M30+Spain!M30+Portugal!M30+Finland!M30+Sweden!M30+Austria!M30","v":{"v":37158,"d":"37,158"}},{"$f":"Germany!N30+France!N30+Italy!N30+'The Netherlands'!N30+Belgium!N30+UK!N30+Ireland!N30+Denmark!N30+Spain!N30+Portugal!N30+Finland!N30+Sweden!N30+Austria!N30","v":{"v":38233,"d":"38,233"}},{"$f":"Germany!O30+France!O30+Italy!O30+'The Netherlands'!O30+Belgium!O30+UK!O30+Ireland!O30+Denmark!O30+Spain!O30+Portugal!O30+Finland!O30+Sweden!O30+Austria!O30","v":{"v":38941,"d":"38,941"}},{"$f":"Germany!P30+France!P30+Italy!P30+'The Netherlands'!P30+Belgium!P30+UK!P30+Ireland!P30+Denmark!P30+Spain!P30+Portugal!P30+Finland!P30+Sweden!P30+Austria!P30","v":{"v":37561,"d":"37,561"}},{"$f":"Germany!Q30+France!Q30+Italy!Q30+'The Netherlands'!Q30+Belgium!Q30+UK!Q30+Ireland!Q30+Denmark!Q30+Spain!Q30+Portugal!Q30+Finland!Q30+Sweden!Q30+Austria!Q30","v":{"v":39115,"d":"39,115"}},{"$f":"Germany!R30+France!R30+Italy!R30+'The Netherlands'!R30+Belgium!R30+UK!R30+Ireland!R30+Denmark!R30+Spain!R30+Portugal!R30+Finland!R30+Sweden!R30+Austria!R30","v":{"v":38553,"d":"38,553"}},{"$f":"Germany!S30+France!S30+Italy!S30+'The Netherlands'!S30+Belgium!S30+UK!S30+Ireland!S30+Denmark!S30+Spain!S30+Portugal!S30+Finland!S30+Sweden!S30+Austria!S30","v":{"v":37700,"d":"37,700"}},{"$f":"Germany!T30+France!T30+Italy!T30+'The Netherlands'!T30+Belgium!T30+UK!T30+Ireland!T30+Denmark!T30+Spain!T30+Portugal!T30+Finland!T30+Sweden!T30+Austria!T30","v":{"v":38317,"d":"38,317"}},{"$f":"Germany!U30+France!U30+Italy!U30+'The Netherlands'!U30+Belgium!U30+UK!U30+Ireland!U30+Denmark!U30+Spain!U30+Portugal!U30+Finland!U30+Sweden!U30+Austria!U30","v":{"v":39019,"d":"39,019"}},{"$f":"Germany!V30+France!V30+Italy!V30+'The Netherlands'!V30+Belgium!V30+UK!V30+Ireland!V30+Denmark!V30+Spain!V30+Portugal!V30+Finland!V30+Sweden!V30+Austria!V30","v":{"v":38749,"d":"38,749"}},{"$f":"Germany!W30+France!W30+Italy!W30+'The Netherlands'!W30+Belgium!W30+UK!W30+Ireland!W30+Denmark!W30+Spain!W30+Portugal!W30+Finland!W30+Sweden!W30+Austria!W30","v":{"v":39928,"d":"39,928"}},{"$f":"Germany!X30+France!X30+Italy!X30+'The Netherlands'!X30+Belgium!X30+UK!X30+Ireland!X30+Denmark!X30+Spain!X30+Portugal!X30+Finland!X30+Sweden!X30+Austria!X30","v":{"v":39997,"d":"39,997"}},{"$f":"Germany!Y30+France!Y30+Italy!Y30+'The Netherlands'!Y30+Belgium!Y30+UK!Y30+Ireland!Y30+Denmark!Y30+Spain!Y30+Portugal!Y30+Finland!Y30+Sweden!Y30+Austria!Y30","v":{"v":40459,"d":"40,459"}},{"$f":"Germany!Z30+France!Z30+Italy!Z30+'The Netherlands'!Z30+Belgium!Z30+UK!Z30+Ireland!Z30+Denmark!Z30+Spain!Z30+Portugal!Z30+Finland!Z30+Sweden!Z30+Austria!Z30","v":{"v":40434,"d":"40,434"}},{"$f":"Germany!#REF!+France!AA30+Italy!AA30+'The Netherlands'!AA30+Belgium!AA30+UK!AA30+Ireland!AA30+Denmark!AA30+Spain!AA30+Portugal!AA30+Finland!AA30+Sweden!AA30+Austria!AA30","v":{"$error":"#REF!"}},{"$f":"Germany!AB30+France!AB30+Italy!AB30+'The Netherlands'!AB30+Belgium!AB30+UK!AB30+Ireland!AB30+Denmark!AB30+Spain!AB30+Portugal!AB30+Finland!AB30+Sweden!AB30+Austria!AB30","v":{"v":41316,"d":"41,316"}},{"$f":"Germany!AC30+France!AC30+Italy!AC30+'The Netherlands'!AC30+Belgium!AC30+UK!AC30+Ireland!AC30+Denmark!AC30+Spain!AC30+Portugal!AC30+Finland!AC30+Sweden!AC30+Austria!AC30","v":{"v":42125.6,"d":"42,126"}},{"$f":"Germany!AD30+France!AD30+Italy!AD30+'The Netherlands'!AD30+Belgium!AD30+UK!AD30+Ireland!AD30+Denmark!AD30+Spain!AD30+Portugal!AD30+Finland!AD30+Sweden!AD30+Austria!AD30","v":{"v":42049.741,"d":"42,050"}},{"$f":"Germany!AE30+France!AE30+Italy!AE30+'The Netherlands'!AE30+Belgium!AE30+UK!AE30+Ireland!AE30+Denmark!AE30+Spain!AE30+Portugal!AE30+Finland!AE30+Sweden!AE30+Austria!AE30","v":{"v":42496.191,"d":"42,496"}},{"$f":"Germany!AF30+France!AF30+Italy!AF30+'The Netherlands'!AF30+Belgium!AF30+UK!AF30+Ireland!AF30+Denmark!AF30+Spain!AF30+Portugal!AF30+Finland!AF30+Sweden!AF30+Austria!AF30","v":{"v":42645.019,"d":"42,645"}},{"$f":"Germany!AG30+France!AG30+Italy!AG30+'The Netherlands'!AG30+Belgium!AG30+UK!AG30+Ireland!AG30+Denmark!AG30+Spain!AG30+Portugal!AG30+Finland!AG30+Sweden!AG30+Austria!AG30","v":{"v":42634.364,"d":"42,634"}},{"$f":"Germany!AH30+France!AH30+Italy!AH30+'The Netherlands'!AH30+Belgium!AH30+UK!AH30+Ireland!AH30+Denmark!AH30+Spain!AH30+Portugal!AH30+Finland!AH30+Sweden!AH30+Austria!AH30","v":{"v":43364.010500000004,"d":"43,364"}}]
["broilers",":",":",":",":",":",":",":",":",":",":",":",":",":",":",":",":",":",":",":",":",":",":",":",":",":",":",":",":",":",":",":",":",":"]
["chicks & layers",":",":",":",":",":",":",":",":",":",":",":",":",":",":",":",":",":",":",":",":",":",":",":",":",":",":",":",":",":",":",":",":",":"]
["others",":",":",":",":",":",":",":",":",":",":",":",":",":",":",":",":",":",":",":",":",":",":",":",":",":",":",":",":",":",":",":",":",":"]
[]
[]
["Milk replacers",{"$f":"Germany!B36+France!B36+Italy!B36+'The Netherlands'!B36+Belgium!B36+UK!B36+Ireland!B36+Denmark!B36+Spain!B36+Portugal!B36","v":{"v":2057,"d":"2,057"}},{"$f":"Germany!C36+France!C36+Italy!C36+'The Netherlands'!C36+Belgium!C36+UK!C36+Ireland!C36+Denmark!C36+Spain!C36+Portugal!C36","v":{"v":1974,"d":"1,974"}},{"$f":"Germany!D36+France!D36+Italy!D36+'The Netherlands'!D36+Belgium!D36+UK!D36+Ireland!D36+Denmark!D36+Spain!D36+Portugal!D36","v":{"v":1988,"d":"1,988"}},{"$f":"Germany!E36+France!E36+Italy!E36+'The Netherlands'!E36+Belgium!E36+UK!E36+Ireland!E36+Denmark!E36+Spain!E36+Portugal!E36","v":{"v":1934,"d":"1,934"}},{"$f":"Germany!F36+France!F36+Italy!F36+'The Netherlands'!F36+Belgium!F36+UK!F36+Ireland!F36+Denmark!F36+Spain!F36+Portugal!F36","v":{"v":1910,"d":"1,910"}},{"$f":"Germany!G36+France!G36+Italy!G36+'The Netherlands'!G36+Belgium!G36+UK!G36+Ireland!G36+Denmark!G36+Spain!G36+Portugal!G36","v":{"v":1942,"d":"1,942"}},{"$f":"Germany!H36+France!H36+Italy!H36+'The Netherlands'!H36+Belgium!H36+UK!H36+Ireland!H36+Denmark!H36+Spain!H36+Portugal!H36+Sweden!H36+Austria!H36","v":{"v":1950,"d":"1,950"}},{"$f":"Germany!I36+France!I36+Italy!I36+'The Netherlands'!I36+Belgium!I36+UK!I36+Ireland!I36+Denmark!I36+Spain!I36+Portugal!I36+Sweden!I36+Austria!I36","v":{"v":1860,"d":"1,860"}},{"$f":"Germany!J36+France!J36+Italy!J36+'The Netherlands'!J36+Belgium!J36+UK!J36+Ireland!J36+Denmark!J36+Spain!J36+Portugal!J36+Sweden!J36+Austria!J36","v":{"v":1761,"d":"1,761"}},{"$f":"Germany!K36+France!K36+Italy!K36+'The Netherlands'!K36+Belgium!K36+UK!K36+Ireland!K36+Denmark!K36+Spain!K36+Portugal!K36+Sweden!K36+Austria!K36","v":{"v":1784,"d":"1,784"}},{"$f":"Germany!L36+France!L36+Italy!L36+'The Netherlands'!L36+Belgium!L36+UK!L36+Ireland!L36+Denmark!L36+Spain!L36+Portugal!L36+Sweden!L36+Austria!L36","v":{"v":1813,"d":"1,813"}},{"$f":"Germany!M36+France!M36+Italy!M36+'The Netherlands'!M36+Belgium!M36+UK!M36+Ireland!M36+Denmark!M36+Spain!M36+Portugal!M36+Sweden!M36+Austria!M36","v":{"v":1838,"d":"1,838"}},{"$f":"Germany!N36+France!N36+Italy!N36+'The Netherlands'!N36+Belgium!N36+UK!N36+Ireland!N36+Denmark!N36+Spain!N36+Portugal!N36+Sweden!N36+Austria!N36","v":{"v":1641,"d":"1,641"}},{"$f":"Germany!O36+France!O36+Italy!O36+'The Netherlands'!O36+Belgium!O36+UK!O36+Ireland!O36+Denmark!O36+Spain!O36+Portugal!O36+Sweden!O36+Austria!O36","v":{"v":1614,"d":"1,614"}},{"$f":"Germany!P36+France!P36+Italy!P36+'The Netherlands'!P36+Belgium!P36+UK!P36+Ireland!P36+Denmark!P36+Spain!P36+Portugal!P36+Sweden!P36+Austria!P36","v":{"v":1600,"d":"1,600"}},{"$f":"Germany!Q36+France!Q36+Italy!Q36+'The Netherlands'!Q36+Belgium!Q36+UK!Q36+Ireland!Q36+Denmark!Q36+Spain!Q36+Portugal!Q36+Sweden!Q36+Austria!Q36","v":{"v":1627,"d":"1,627"}},{"$f":"Germany!R36+France!R36+Italy!R36+'The Netherlands'!R36+Belgium!R36+UK!R36+Ireland!R36+Denmark!R36+Spain!R36+Portugal!R36+Sweden!R36+Austria!R36","v":{"v":1662,"d":"1,662"}},{"$f":"Germany!S36+France!S36+Italy!S36+'The Netherlands'!S36+Belgium!S36+UK!S36+Ireland!S36+Denmark!S36+Spain!S36+Portugal!S36+Sweden!S36+Austria!S36","v":{"v":1560,"d":"1,560"}},{"$f":"Germany!T36+France!T36+Italy!T36+'The Netherlands'!T36+Belgium!T36+UK!T36+Ireland!T36+Denmark!T36+Spain!T36+Portugal!T36+Sweden!T36+Austria!T36","v":{"v":1561,"d":"1,561"}},{"$f":"Germany!U36+France!U36+Italy!U36+'The Netherlands'!U36+Belgium!U36+UK!U36+Ireland!U36+Denmark!U36+Spain!U36+Portugal!U36+Sweden!U36+Austria!U36","v":{"v":1538,"d":"1,538"}},{"$f":"Germany!V36+France!V36+Italy!V36+'The Netherlands'!V36+Belgium!V36+UK!V36+Ireland!V36+Denmark!V36+Spain!V36+Portugal!V36+Sweden!V36+Austria!V36","v":{"v":1460,"d":"1,460"}},{"$f":"Germany!W36+France!W36+Italy!W36+'The Netherlands'!W36+Belgium!W36+UK!W36+Ireland!W36+Denmark!W36+Spain!W36+Portugal!W36+Sweden!W36+Austria!W36","v":{"v":1443,"d":"1,443"}},{"$f":"Germany!X36+France!X36+Italy!X36+'The Netherlands'!X36+Belgium!X36+UK!X36+Ireland!X36+Denmark!X36+Spain!X36+Portugal!X36+Sweden!X36+Austria!X36","v":{"v":1347,"d":"1,347"}},{"$f":"Germany!Y36+France!Y36+Italy!Y36+'The Netherlands'!Y36+Belgium!Y36+UK!Y36+Ireland!Y36+Denmark!Y36+Spain!Y36+Portugal!Y36+Sweden!Y36+Austria!Y36","v":{"v":1306,"d":"1,306"}},{"$f":"Germany!Z36+France!Z36+Italy!Z36+'The Netherlands'!Z36+Belgium!Z36+UK!Z36+Ireland!Z36+Denmark!Z36+Spain!Z36+Portugal!Z36+Sweden!Z36+Austria!Z36","v":{"v":1283,"d":"1,283"}},{"$f":"Germany!#REF!+France!AA36+Italy!AA36+'The Netherlands'!AA36+Belgium!AA36+UK!AA36+Ireland!AA36+Denmark!AA36+Spain!AA36+Portugal!AA36+Sweden!AA36+Austria!AA36","v":{"$error":"#REF!"}},{"$f":"Germany!AB36+France!AB36+Italy!AB36+'The Netherlands'!AB36+Belgium!AB36+UK!AB36+Ireland!AB36+Denmark!AB36+Spain!AB36+Portugal!AB36+Sweden!AB36+Austria!AB36","v":{"v":1200,"d":"1,200"}},{"$f":"Germany!AC36+France!AC36+Italy!AC36+'The Netherlands'!AC36+Belgium!AC36+UK!AC36+Ireland!AC36+Denmark!AC36+Spain!AC36+Portugal!AC36+Sweden!AC36+Austria!AC36","v":{"v":1175,"d":"1,175"}},{"$f":"Germany!AD36+France!AD36+Italy!AD36+'The Netherlands'!AD36+Belgium!AD36+UK!AD36+Ireland!AD36+Denmark!AD36+Spain!AD36+Portugal!AD36+Sweden!AD36+Austria!AD36","v":{"v":1141,"d":"1,141"}},{"$f":"Germany!AE36+France!AE36+Italy!AE36+'The Netherlands'!AE36+Belgium!AE36+UK!AE36+Ireland!AE36+Denmark!AE36+Spain!AE36+Portugal!AE36+Sweden!AE36+Austria!AE36","v":{"v":1135,"d":"1,135"}},{"$f":"Germany!AF36+France!AF36+Italy!AF36+'The Netherlands'!AF36+Belgium!AF36+UK!AF36+Ireland!AF36+Denmark!AF36+Spain!AF36+Portugal!AF36+Sweden!AF36+Austria!AF36","v":{"v":1144,"d":"1,144"}},{"$f":"Germany!AG36+France!AG36+Italy!AG36+'The Netherlands'!AG36+Belgium!AG36+UK!AG36+Ireland!AG36+Denmark!AG36+Spain!AG36+Portugal!AG36+Sweden!AG36+Austria!AG36","v":{"v":1138,"d":"1,138"}},{"$f":"Germany!AH36+France!AH36+Italy!AH36+'The Netherlands'!AH36+Belgium!AH36+UK!AH36+Ireland!AH36+Denmark!AH36+Spain!AH36+Portugal!AH36+Sweden!AH36+Austria!AH36","v":{"v":1142,"d":"1,142"}}]
[]
[]
["Others",{"$f":"Germany!B39+France!B39+Italy!B39+'The Netherlands'!B39+Belgium!B39+UK!B39+Ireland!B39+Denmark!B39+Spain!B39+Portugal!B39","v":{"v":5770,"d":"5,770"}},{"$f":"Germany!C39+France!C39+Italy!C39+'The Netherlands'!C39+Belgium!C39+UK!C39+Ireland!C39+Denmark!C39+Spain!C39+Portugal!C39","v":{"v":6022,"d":"6,022"}},{"$f":"Germany!D39+France!D39+Italy!D39+'The Netherlands'!D39+Belgium!D39+UK!D39+Ireland!D39+Denmark!D39+Spain!D39+Portugal!D39","v":{"v":6178,"d":"6,178"}},{"$f":"Germany!E39+France!E39+Italy!E39+'The Netherlands'!E39+Belgium!E39+UK!E39+Ireland!E39+Denmark!E39+Spain!E39+Portugal!E39","v":{"v":6489,"d":"6,489"}},{"$f":"Germany!F39+France!F39+Italy!F39+'The Netherlands'!F39+Belgium!F39+UK!F39+Ireland!F39+Denmark!F39+Spain!F39+Portugal!F39","v":{"v":6571,"d":"6,571"}},{"$f":"Germany!G39+France!G39+Italy!G39+'The Netherlands'!G39+Belgium!G39+UK!G39+Ireland!G39+Denmark!G39+Spain!G39+Portugal!G39","v":{"v":6713,"d":"6,713"}},{"$f":"Germany!H39+France!H39+Italy!H39+'The Netherlands'!H39+Belgium!H39+UK!H39+Ireland!H39+Denmark!H39+Spain!H39+Portugal!H39+Finland!H39+Sweden!H39+Austria!H39","v":{"v":7756,"d":"7,756"}},{"$f":"Germany!I39+France!I39+Italy!I39+'The Netherlands'!I39+Belgium!I39+UK!I39+Ireland!I39+Denmark!I39+Spain!I39+Portugal!I39+Finland!I39+Sweden!I39+Austria!I39","v":{"v":7452,"d":"7,452"}},{"$f":"Germany!J39+France!J39+Italy!J39+'The Netherlands'!J39+Belgium!J39+UK!J39+Ireland!J39+Denmark!J39+Spain!J39+Portugal!J39+Finland!J39+Sweden!J39+Austria!J39","v":{"v":7228,"d":"7,228"}},{"$f":"Germany!K39+France!K39+Italy!K39+'The Netherlands'!K39+Belgium!K39+UK!K39+Ireland!K39+Denmark!K39+Spain!K39+Portugal!K39+Finland!K39+Sweden!K39+Austria!K39","v":{"v":7386,"d":"7,386"}},{"$f":"Germany!L39+France!L39+Italy!L39+'The Netherlands'!L39+Belgium!L39+UK!L39+Ireland!L39+Denmark!L39+Spain!L39+Portugal!L39+Finland!L39+Sweden!L39+Austria!L39","v":{"v":7436,"d":"7,436"}},{"$f":"Germany!M39+France!M39+Italy!M39+'The Netherlands'!M39+Belgium!M39+UK!M39+Ireland!M39+Denmark!M39+Spain!M39+Portugal!M39+Finland!M39+Sweden!M39+Austria!M39","v":{"v":7398,"d":"7,398"}},{"$f":"Germany!N39+France!N39+Italy!N39+'The Netherlands'!N39+Belgium!N39+UK!N39+Ireland!N39+Denmark!N39+Spain!N39+Portugal!N39+Finland!N39+Sweden!N39+Austria!N39","v":{"v":7988,"d":"7,988"}},{"$f":"Germany!O39+France!O39+Italy!O39+'The Netherlands'!O39+Belgium!O39+UK!O39+Ireland!O39+Denmark!O39+Spain!O39+Portugal!O39+Finland!O39+Sweden!O39+Austria!O39","v":{"v":8174,"d":"8,174"}},{"$f":"Germany!P39+France!P39+Italy!P39+'The Netherlands'!P39+Belgium!P39+UK!P39+Ireland!P39+Denmark!P39+Spain!P39+Portugal!P39+Finland!P39+Sweden!P39+Austria!P39","v":{"v":8451,"d":"8,451"}},{"$f":"Germany!Q39+France!Q39+Italy!Q39+'The Netherlands'!Q39+Belgium!Q39+UK!Q39+Ireland!Q39+Denmark!Q39+Spain!Q39+Portugal!Q39+Finland!Q39+Sweden!Q39+Austria!Q39","v":{"v":8329,"d":"8,329"}},{"$f":"Germany!R39+France!R39+Italy!R39+'The Netherlands'!R39+Belgium!R39+UK!R39+Ireland!R39+Denmark!R39+Spain!R39+Portugal!R39+Finland!R39+Sweden!R39+Austria!R39","v":{"v":7848,"d":"7,848"}},{"$f":"Germany!S39+France!S39+Italy!S39+'The Netherlands'!S39+Belgium!S39+UK!S39+Ireland!S39+Denmark!S39+Spain!S39+Portugal!S39+Finland!S39+Sweden!S39+Austria!S39","v":{"v":8129,"d":"8,129"}},{"$f":"Germany!T39+France!T39+Italy!T39+'The Netherlands'!T39+Belgium!T39+UK!T39+Ireland!T39+Denmark!T39+Spain!T39+Portugal!T39+Finland!T39+Sweden!T39+Austria!T39","v":{"v":8203,"d":"8,203"}},{"$f":"Germany!U39+France!U39+Italy!U39+'The Netherlands'!U39+Belgium!U39+UK!U39+Ireland!U39+Denmark!U39+Spain!U39+Portugal!U39+Finland!U39+Sweden!U39+Austria!U39","v":{"v":6491,"d":"6,491"}},{"$f":"Germany!V39+France!V39+Italy!V39+'The Netherlands'!V39+Belgium!V39+UK!V39+Ireland!V39+Denmark!V39+Spain!V39+Portugal!V39+Finland!V39+Sweden!V39+Austria!V39","v":{"v":6119,"d":"6,119"}},{"$f":"Germany!W39+France!W39+Italy!W39+'The Netherlands'!W39+Belgium!W39+UK!W39+Ireland!W39+Denmark!W39+Spain!W39+Portugal!W39+Finland!W39+Sweden!W39+Austria!W39","v":{"v":6569,"d":"6,569"}},{"$f":"Germany!X39+France!X39+Italy!X39+'The Netherlands'!X39+Belgium!X39+UK!X39+Ireland!X39+Denmark!X39+Spain!X39+Portugal!X39+Finland!X39+Sweden!X39+Austria!X39","v":{"v":6342,"d":"6,342"}},{"$f":"Germany!Y39+France!Y39+Italy!Y39+'The Netherlands'!Y39+Belgium!Y39+UK!Y39+Ireland!Y39+Denmark!Y39+Spain!Y39+Portugal!Y39+Finland!Y39+Sweden!Y39+Austria!Y39","v":{"v":6435,"d":"6,435"}},{"$f":"Germany!Z39+France!Z39+Italy!Z39+'The Netherlands'!Z39+Belgium!Z39+UK!Z39+Ireland!Z39+Denmark!Z39+Spain!Z39+Portugal!Z39+Finland!Z39+Sweden!Z39+Austria!Z39","v":{"v":6529,"d":"6,529"}},{"$f":"Germany!#REF!+France!AA39+Italy!AA39+'The Netherlands'!AA39+Belgium!AA39+UK!AA39+Ireland!AA39+Denmark!AA39+Spain!AA39+Portugal!AA39+Finland!AA39+Sweden!AA39+Austria!AA39","v":{"$error":"#REF!"}},{"$f":"Germany!AB39+France!AB39+Italy!AB39+'The Netherlands'!AB39+Belgium!AB39+UK!AB39+Ireland!AB39+Denmark!AB39+Spain!AB39+Portugal!AB39+Finland!AB39+Sweden!AB39+Austria!AB39","v":{"v":6901,"d":"6,901"}},{"$f":"Germany!AC39+France!AC39+Italy!AC39+'The Netherlands'!AC39+Belgium!AC39+UK!AC39+Ireland!AC39+Denmark!AC39+Spain!AC39+Portugal!AC39+Finland!AC39+Sweden!AC39+Austria!AC39","v":{"v":6506,"d":"6,506"}},{"$f":"Germany!AD39+France!AD39+Italy!AD39+'The Netherlands'!AD39+Belgium!AD39+UK!AD39+Ireland!AD39+Denmark!AD39+Spain!AD39+Portugal!AD39+Finland!AD39+Sweden!AD39+Austria!AD39","v":{"v":6829.683,"d":"6,830"}},{"$f":"Germany!AE39+France!AE39+Italy!AE39+'The Netherlands'!AE39+Belgium!AE39+UK!AE39+Ireland!AE39+Denmark!AE39+Spain!AE39+Portugal!AE39+Finland!AE39+Sweden!AE39+Austria!AE39","v":{"v":6974.988,"d":"6,975"}},{"$f":"Germany!AF39+France!AF39+Italy!AF39+'The Netherlands'!AF39+Belgium!AF39+UK!AF39+Ireland!AF39+Denmark!AF39+Spain!AF39+Portugal!AF39+Finland!AF39+Sweden!AF39+Austria!AF39","v":{"v":6721.032999999999,"d":"6,721"}},{"$f":"Germany!AG39+France!AG39+Italy!AG39+'The Netherlands'!AG39+Belgium!AG39+UK!AG39+Ireland!AG39+Denmark!AG39+Spain!AG39+Portugal!AG39+Finland!AG39+Sweden!AG39+Austria!AG39","v":{"v":6782.28,"d":"6,782"}},{"$f":"Germany!AH39+France!AH39+Italy!AH39+'The Netherlands'!AH39+Belgium!AH39+UK!AH39+Ireland!AH39+Denmark!AH39+Spain!AH39+Portugal!AH39+Finland!AH39+Sweden!AH39+Austria!AH39","v":{"v":6884.029500000001,"d":"6,884"}}]
[]
[]
["TOTAL",{"$f":"B39+B36+B30+B23+B16","v":{"v":103260,"d":"103,260"}},{"v":105066,"d":"105,066"},{"v":109914,"d":"109,914"},{"v":111156,"d":"111,156"},{"v":113728,"d":"113,728"},{"v":113377,"d":"113,377"},{"v":121169,"d":"121,169"},{"v":122564,"d":"122,564"},{"v":121201,"d":"121,201"},{"v":123067,"d":"123,067"},{"v":124424,"d":"124,424"},{"v":123697,"d":"123,697"},{"v":125749,"d":"125,749"},{"v":126695,"d":"126,695"},{"v":125588,"d":"125,588"},{"v":127602,"d":"127,602"},{"v":125940,"d":"125,940"},{"v":124980,"d":"124,980"},{"v":129787,"d":"129,787"},{"v":131139,"d":"131,139"},{"v":125910,"d":"125,910"},{"v":128794,"d":"128,794"},{"v":128828,"d":"128,828"},{"v":130308,"d":"130,308"},{"v":130679,"d":"130,679"},{"$error":"#REF!"},{"v":133553,"d":"133,553"},{"v":135021.375,"d":"135,021"},{"v":137220.141,"d":"137,220"},{"v":139992.36,"d":"139,992"},{"v":139930.39,"d":"139,930"},{"v":141803.30800000002,"d":"141,803"},{"v":143818.97850000003,"d":"143,819"}]
[]
[]
[]
[]
[]
[]
["FEFAC SECRETARIAT GENERAL"]
[]
["EU1"]
["INDUSTRIAL COMPOUND FEED PRODUCTION"]
[]
[]
[]
["COUNTRY: EU-15"]
["COUNTRY: EU-15 from 2020"]
[]
[]
["1 000 t",1989,1990,1991,1992,1993,1994,1995,1996,1997,1998,1999,2000,2001,2002,2003,2004,2005,2006,2007,2008,2009,2010,2011,2012,2013,2014,2015,2016,2017,2018,2019,2020,2021]
[null,"final figures","final figures","final figures","final figures","final figures","final figures","final figures","final figures","final figures","final figures","final figures","final figures","final figures","final figures","final figures","final figures","final figures","final figures","final figures","final figures","final figures","final figures","final figures","final figures","final figures","final figures","final figures","final figures","final figures","final figures","final figures","estimates","forecasts"]
[]
[]
["Cattle",{"$f":"Germany!B64+France!B64+Italy!B64+'The Netherlands'!B64+Belgium!B64+UK!B64+Ireland!B64+Denmark!B64+Spain!B64+Portugal!B64","v":0},{"$f":"Germany!C64+France!C64+Italy!C64+'The Netherlands'!C64+Belgium!C64+UK!C64+Ireland!C64+Denmark!C64+Spain!C64+Portugal!C64","v":0},{"$f":"Germany!D64+France!D64+Italy!D64+'The Netherlands'!D64+Belgium!D64+UK!D64+Ireland!D64+Denmark!D64+Spain!D64+Portugal!D64","v":0},{"$f":"Germany!E64+France!E64+Italy!E64+'The Netherlands'!E64+Belgium!E64+UK!E64+Ireland!E64+Denmark!E64+Spain!E64+Portugal!E64","v":0},{"$f":"Germany!F64+France!F64+Italy!F64+'The Netherlands'!F64+Belgium!F64+UK!F64+Ireland!F64+Denmark!F64+Spain!F64+Portugal!F64","v":0},{"$f":"Germany!G64+France!G64+Italy!G64+'The Netherlands'!G64+Belgium!G64+UK!G64+Ireland!G64+Denmark!G64+Spain!G64+Portugal!G64","v":0},{"$f":"Germany!H64+France!H64+Italy!H64+'The Netherlands'!H64+Belgium!H64+UK!H64+Ireland!H64+Denmark!H64+Spain!H64+Portugal!H64+Finland!H64+Sweden!H64+Austria!H64","v":0},{"$f":"Germany!I64+France!I64+Italy!I64+'The Netherlands'!I64+Belgium!I64+UK!I64+Ireland!I64+Denmark!I64+Spain!I64+Portugal!I64+Finland!I64+Sweden!I64+Austria!I64","v":0},{"$f":"Germany!J64+France!J64+Italy!J64+'The Netherlands'!J64+Belgium!J64+UK!J64+Ireland!J64+Denmark!J64+Spain!J64+Portugal!J64+Finland!J64+Sweden!J64+Austria!J64","v":0},{"$f":"Germany!K64+France!K64+Italy!K64+'The Netherlands'!K64+Belgium!K64+UK!K64+Ireland!K64+Denmark!K64+Spain!K64+Portugal!K64+Finland!K64+Sweden!K64+Austria!K64","v":0},{"$f":"Germany!L64+France!L64+Italy!L64+'The Netherlands'!L64+Belgium!L64+UK!L64+Ireland!L64+Denmark!L64+Spain!L64+Portugal!L64+Finland!L64+Sweden!L64+Austria!L64","v":0},{"$f":"Germany!M64+France!M64+Italy!M64+'The Netherlands'!M64+Belgium!M64+UK!M64+Ireland!M64+Denmark!M64+Spain!M64+Portugal!M64+Finland!M64+Sweden!M64+Austria!M64","v":0},{"$f":"Germany!N64+France!N64+Italy!N64+'The Netherlands'!N64+Belgium!N64+UK!N64+Ireland!N64+Denmark!N64+Spain!N64+Portugal!N64+Finland!N64+Sweden!N64+Austria!N64","v":0},{"$f":"Germany!O64+France!O64+Italy!O64+'The Netherlands'!O64+Belgium!O64+UK!O64+Ireland!O64+Denmark!O64+Spain!O64+Portugal!O64+Finland!O64+Sweden!O64+Austria!O64","v":0},{"$f":"Germany!P64+France!P64+Italy!P64+'The Netherlands'!P64+Belgium!P64+UK!P64+Ireland!P64+Denmark!P64+Spain!P64+Portugal!P64+Finland!P64+Sweden!P64+Austria!P64","v":0},{"$f":"Germany!Q64+France!Q64+Italy!Q64+'The Netherlands'!Q64+Belgium!Q64+UK!Q64+Ireland!Q64+Denmark!Q64+Spain!Q64+Portugal!Q64+Finland!Q64+Sweden!Q64+Austria!Q64","v":0},{"$f":"Germany!R64+France!R64+Italy!R64+'The Netherlands'!R64+Belgium!R64+UK!R64+Ireland!R64+Denmark!R64+Spain!R64+Portugal!R64+Finland!R64+Sweden!R64+Austria!R64","v":0},{"$f":"Germany!S64+France!S64+Italy!S64+'The Netherlands'!S64+Belgium!S64+UK!S64+Ireland!S64+Denmark!S64+Spain!S64+Portugal!S64+Finland!S64+Sweden!S64+Austria!S64","v":0},{"$f":"Germany!T64+France!T64+Italy!T64+'The Netherlands'!T64+Belgium!T64+UK!T64+Ireland!T64+Denmark!T64+Spain!T64+Portugal!T64+Finland!T64+Sweden!T64+Austria!T64","v":0},{"$f":"Germany!U64+France!U64+Italy!U64+'The Netherlands'!U64+Belgium!U64+UK!U64+Ireland!U64+Denmark!U64+Spain!U64+Portugal!U64+Finland!U64+Sweden!U64+Austria!U64","v":0},{"$f":"Germany!V64+France!V64+Italy!V64+'The Netherlands'!V64+Belgium!V64+UK!V64+Ireland!V64+Denmark!V64+Spain!V64+Portugal!V64+Finland!V64+Sweden!V64+Austria!V64","v":0},{"$f":"Germany!W64+France!W64+Italy!W64+'The Netherlands'!W64+Belgium!W64+UK!W64+Ireland!W64+Denmark!W64+Spain!W64+Portugal!W64+Finland!W64+Sweden!W64+Austria!W64","v":0},{"$f":"Germany!X64+France!X64+Italy!X64+'The Netherlands'!X64+Belgium!X64+UK!X64+Ireland!X64+Denmark!X64+Spain!X64+Portugal!X64+Finland!X64+Sweden!X64+Austria!X64","v":0},{"$f":"Germany!Y64+France!Y64+Italy!Y64+'The Netherlands'!Y64+Belgium!Y64+UK!Y64+Ireland!Y64+Denmark!Y64+Spain!Y64+Portugal!Y64+Finland!Y64+Sweden!Y64+Austria!Y64","v":0},{"$f":"Germany!Z64+France!Z64+Italy!Z64+'The Netherlands'!Z64+Belgium!Z64+UK!Z64+Ireland!Z64+Denmark!Z64+Spain!Z64+Portugal!Z64+Finland!Z64+Sweden!Z64+Austria!Z64","v":0},{"$f":"Germany!#REF!+France!AA64+Italy!AA64+'The Netherlands'!AA64+Belgium!AA64+UK!AA64+Ireland!AA64+Denmark!AA64+Spain!AA64+Portugal!AA64+Finland!AA64+Sweden!AA64+Austria!AA64","v":{"$error":"#REF!"}},{"$f":"Germany!AB64+France!AB64+Italy!AB64+'The Netherlands'!AB64+Belgium!AB64+UK!AB64+Ireland!AB64+Denmark!AB64+Spain!AB64+Portugal!AB64+Finland!AB64+Sweden!AB64+Austria!AB64","v":0},{"$f":"Germany!AC64+France!AC64+Italy!AC64+'The Netherlands'!AC64+Belgium!AC64+UK!AC64+Ireland!AC64+Denmark!AC64+Spain!AC64+Portugal!AC64+Finland!AC64+Sweden!AC64+Austria!AC64","v":0},{"$f":"Germany!AD64+France!AD64+Italy!AD64+'The Netherlands'!AD64+Belgium!AD64+UK!AD64+Ireland!AD64+Denmark!AD64+Spain!AD64+Portugal!AD64+Finland!AD64+Sweden!AD64+Austria!AD64","v":0},{"$f":"Germany!AE64+France!AE64+Italy!AE64+'The Netherlands'!AE64+Belgium!AE64+UK!AE64+Ireland!AE64+Denmark!AE64+Spain!AE64+Portugal!AE64+Finland!AE64+Sweden!AE64+Austria!AE64","v":0},{"$f":"Germany!AF64+France!AF64+Italy!AF64+'The Netherlands'!AF64+Belgium!AF64+UK!AF64+Ireland!AF64+Denmark!AF64+Spain!AF64+Portugal!AF64+Finland!AF64+Sweden!AF64+Austria!AF64","v":0},{"$f":"Germany!AG64+France!AG64+Italy!AG64+'The Netherlands'!AG64+Belgium!AG64+UK!AG64+Ireland!AG64+Denmark!AG64+Spain!AG64+Portugal!AG64+Finland!AG64+Sweden!AG64+Austria!AG64+Greece!AG58+Luxembourg!AG64","v":0},{"$f":"Germany!AH64+France!AH64+Italy!AH64+'The Netherlands'!AH64+Belgium!AH64+UK!AH64+Ireland!AH64+Denmark!AH64+Spain!AH64+Portugal!AH64+Finland!AH64+Sweden!AH64+Austria!AH64+Greece!AH58+Luxembourg!AH64","v":0}]
["fattening",":",":",":",":",":",":",":",":",":",":",":",":",":",":",":",":",":",":",":",":",":",":",":",":",":",":",":",":",":",":",":",":",":"]
["dairy cow",":",":",":",":",":",":",":",":",":",":",":",":",":",":",":",":",":",":",":",":",":",":",":",":",":",":",":",":",":",":",":",":",":"]
["calves (excl. milk replacers)",":",":",":",":",":",":",":",":",":",":",":",":",":",":",":",":",":",":",":",":",":",":",":",":",":",":",":",":",":",":",":",":",":"]
["others",":",":",":",":",":",":",":",":",":",":",":",":",":",":",":",":",":",":",":",":",":",":",":",":",":",":",":",":",":",":",":",":",":"]
[]
[]
["Pigs",{"$f":"Germany!B71+France!B71+Italy!B71+'The Netherlands'!B71+Belgium!B71+UK!B71+Ireland!B71+Denmark!B71+Spain!B71+Portugal!B71","v":0},{"$f":"Germany!C71+France!C71+Italy!C71+'The Netherlands'!C71+Belgium!C71+UK!C71+Ireland!C71+Denmark!C71+Spain!C71+Portugal!C71","v":0},{"$f":"Germany!D71+France!D71+Italy!D71+'The Netherlands'!D71+Belgium!D71+UK!D71+Ireland!D71+Denmark!D71+Spain!D71+Portugal!D71","v":0},{"$f":"Germany!E71+France!E71+Italy!E71+'The Netherlands'!E71+Belgium!E71+UK!E71+Ireland!E71+Denmark!E71+Spain!E71+Portugal!E71","v":0},{"$f":"Germany!F71+France!F71+Italy!F71+'The Netherlands'!F71+Belgium!F71+UK!F71+Ireland!F71+Denmark!F71+Spain!F71+Portugal!F71","v":0},{"$f":"Germany!G71+France!G71+Italy!G71+'The Netherlands'!G71+Belgium!G71+UK!G71+Ireland!G71+Denmark!G71+Spain!G71+Portugal!G71","v":0},{"$f":"Germany!H71+France!H71+Italy!H71+'The Netherlands'!H71+Belgium!H71+UK!H71+Ireland!H71+Denmark!H71+Spain!H71+Portugal!H71+Finland!H71+Sweden!H71+Austria!H71","v":0},{"$f":"Germany!I71+France!I71+Italy!I71+'The Netherlands'!I71+Belgium!I71+UK!I71+Ireland!I71+Denmark!I71+Spain!I71+Portugal!I71+Finland!I71+Sweden!I71+Austria!I71","v":0},{"$f":"Germany!J71+France!J71+Italy!J71+'The Netherlands'!J71+Belgium!J71+UK!J71+Ireland!J71+Denmark!J71+Spain!J71+Portugal!J71+Finland!J71+Sweden!J71+Austria!J71","v":0},{"$f":"Germany!K71+France!K71+Italy!K71+'The Netherlands'!K71+Belgium!K71+UK!K71+Ireland!K71+Denmark!K71+Spain!K71+Portugal!K71+Finland!K71+Sweden!K71+Austria!K71","v":0},{"$f":"Germany!L71+France!L71+Italy!L71+'The Netherlands'!L71+Belgium!L71+UK!L71+Ireland!L71+Denmark!L71+Spain!L71+Portugal!L71+Finland!L71+Sweden!L71+Austria!L71","v":0},{"$f":"Germany!M71+France!M71+Italy!M71+'The Netherlands'!M71+Belgium!M71+UK!M71+Ireland!M71+Denmark!M71+Spain!M71+Portugal!M71+Finland!M71+Sweden!M71+Austria!M71","v":0},{"$f":"Germany!N71+France!N71+Italy!N71+'The Netherlands'!N71+Belgium!N71+UK!N71+Ireland!N71+Denmark!N71+Spain!N71+Portugal!N71+Finland!N71+Sweden!N71+Austria!N71","v":0},{"$f":"Germany!O71+France!O71+Italy!O71+'The Netherlands'!O71+Belgium!O71+UK!O71+Ireland!O71+Denmark!O71+Spain!O71+Portugal!O71+Finland!O71+Sweden!O71+Austria!O71","v":0},{"$f":"Germany!P71+France!P71+Italy!P71+'The Netherlands'!P71+Belgium!P71+UK!P71+Ireland!P71+Denmark!P71+Spain!P71+Portugal!P71+Finland!P71+Sweden!P71+Austria!P71","v":0},{"$f":"Germany!Q71+France!Q71+Italy!Q71+'The Netherlands'!Q71+Belgium!Q71+UK!Q71+Ireland!Q71+Denmark!Q71+Spain!Q71+Portugal!Q71+Finland!Q71+Sweden!Q71+Austria!Q71","v":0},{"$f":"Germany!R71+France!R71+Italy!R71+'The Netherlands'!R71+Belgium!R71+UK!R71+Ireland!R71+Denmark!R71+Spain!R71+Portugal!R71+Finland!R71+Sweden!R71+Austria!R71","v":0},{"$f":"Germany!S71+France!S71+Italy!S71+'The Netherlands'!S71+Belgium!S71+UK!S71+Ireland!S71+Denmark!S71+Spain!S71+Portugal!S71+Finland!S71+Sweden!S71+Austria!S71","v":0},{"$f":"Germany!T71+France!T71+Italy!T71+'The Netherlands'!T71+Belgium!T71+UK!T71+Ireland!T71+Denmark!T71+Spain!T71+Portugal!T71+Finland!T71+Sweden!T71+Austria!T71","v":0},{"$f":"Germany!U71+France!U71+Italy!U71+'The Netherlands'!U71+Belgium!U71+UK!U71+Ireland!U71+Denmark!U71+Spain!U71+Portugal!U71+Finland!U71+Sweden!U71+Austria!U71","v":0},{"$f":"Germany!V71+France!V71+Italy!V71+'The Netherlands'!V71+Belgium!V71+UK!V71+Ireland!V71+Denmark!V71+Spain!V71+Portugal!V71+Finland!V71+Sweden!V71+Austria!V71","v":0},{"$f":"Germany!W71+France!W71+Italy!W71+'The Netherlands'!W71+Belgium!W71+UK!W71+Ireland!W71+Denmark!W71+Spain!W71+Portugal!W71+Finland!W71+Sweden!W71+Austria!W71","v":0},{"$f":"Germany!X71+France!X71+Italy!X71+'The Netherlands'!X71+Belgium!X71+UK!X71+Ireland!X71+Denmark!X71+Spain!X71+Portugal!X71+Finland!X71+Sweden!X71+Austria!X71","v":0},{"$f":"Germany!Y71+France!Y71+Italy!Y71+'The Netherlands'!Y71+Belgium!Y71+UK!Y71+Ireland!Y71+Denmark!Y71+Spain!Y71+Portugal!Y71+Finland!Y71+Sweden!Y71+Austria!Y71","v":0},{"$f":"Germany!Z71+France!Z71+Italy!Z71+'The Netherlands'!Z71+Belgium!Z71+UK!Z71+Ireland!Z71+Denmark!Z71+Spain!Z71+Portugal!Z71+Finland!Z71+Sweden!Z71+Austria!Z71","v":0},{"$f":"Germany!#REF!+France!AA71+Italy!AA71+'The Netherlands'!AA71+Belgium!AA71+UK!AA71+Ireland!AA71+Denmark!AA71+Spain!AA71+Portugal!AA71+Finland!AA71+Sweden!AA71+Austria!AA71","v":{"$error":"#REF!"}},{"$f":"Germany!AB71+France!AB71+Italy!AB71+'The Netherlands'!AB71+Belgium!AB71+UK!AB71+Ireland!AB71+Denmark!AB71+Spain!AB71+Portugal!AB71+Finland!AB71+Sweden!AB71+Austria!AB71","v":0},{"$f":"Germany!AC71+France!AC71+Italy!AC71+'The Netherlands'!AC71+Belgium!AC71+UK!AC71+Ireland!AC71+Denmark!AC71+Spain!AC71+Portugal!AC71+Finland!AC71+Sweden!AC71+Austria!AC71","v":0},{"$f":"Germany!AD71+France!AD71+Italy!AD71+'The Netherlands'!AD71+Belgium!AD71+UK!AD71+Ireland!AD71+Denmark!AD71+Spain!AD71+Portugal!AD71+Finland!AD71+Sweden!AD71+Austria!AD71","v":0},{"$f":"Germany!AE71+France!AE71+Italy!AE71+'The Netherlands'!AE71+Belgium!AE71+UK!AE71+Ireland!AE71+Denmark!AE71+Spain!AE71+Portugal!AE71+Finland!AE71+Sweden!AE71+Austria!AE71","v":0},{"$f":"Germany!AF71+France!AF71+Italy!AF71+'The Netherlands'!AF71+Belgium!AF71+UK!AF71+Ireland!AF71+Denmark!AF71+Spain!AF71+Portugal!AF71+Finland!AF71+Sweden!AF71+Austria!AF71","v":0},{"$f":"Germany!AG71+France!AG71+Italy!AG71+'The Netherlands'!AG71+Belgium!AG71+UK!AG71+Ireland!AG71+Denmark!AG71+Spain!AG71+Portugal!AG71+Finland!AG71+Sweden!AG71+Austria!AG71+Greece!AG66+Luxembourg!AG72","v":0},{"$f":"Germany!AH71+France!AH71+Italy!AH71+'The Netherlands'!AH71+Belgium!AH71+UK!AH71+Ireland!AH71+Denmark!AH71+Spain!AH71+Portugal!AH71+Finland!AH71+Sweden!AH71+Austria!AH71+Greece!AH66+Luxembourg!AH72","v":0}]
["piglets",":",":",":",":",":",":",":",":",":",":",":",":",":",":",":",":",":",":",":",":",":",":",":",":",":",":",":",":",":",":",":",":",":"]
["pigs for fattening",":",":",":",":",":",":",":",":",":",":",":",":",":",":",":",":",":",":",":",":",":",":",":",":",":",":",":",":",":",":",":",":",":"]
["breeding pigs",":",":",":",":",":",":",":",":",":",":",":",":",":",":",":",":",":",":",":",":",":",":",":",":",":",":",":",":",":",":",":",":",":"]
["others",":",":",":",":",":",":",":",":",":",":",":",":",":",":",":",":",":",":",":",":",":",":",":",":",":",":",":",":",":",":",":",":",":"]
[]
[]
["Poultry",{"$f":"Germany!B78+France!B78+Italy!B78+'The Netherlands'!B78+Belgium!B78+UK!B78+Ireland!B78+Denmark!B78+Spain!B78+Portugal!B78","v":0},{"$f":"Germany!C78+France!C78+Italy!C78+'The Netherlands'!C78+Belgium!C78+UK!C78+Ireland!C78+Denmark!C78+Spain!C78+Portugal!C78","v":0},{"$f":"Germany!D78+France!D78+Italy!D78+'The Netherlands'!D78+Belgium!D78+UK!D78+Ireland!D78+Denmark!D78+Spain!D78+Portugal!D78","v":0},{"$f":"Germany!E78+France!E78+Italy!E78+'The Netherlands'!E78+Belgium!E78+UK!E78+Ireland!E78+Denmark!E78+Spain!E78+Portugal!E78","v":0},{"$f":"Germany!F78+France!F78+Italy!F78+'The Netherlands'!F78+Belgium!F78+UK!F78+Ireland!F78+Denmark!F78+Spain!F78+Portugal!F78","v":0},{"$f":"Germany!G78+France!G78+Italy!G78+'The Netherlands'!G78+Belgium!G78+UK!G78+Ireland!G78+Denmark!G78+Spain!G78+Portugal!G78","v":0},{"$f":"Germany!H78+France!H78+Italy!H78+'The Netherlands'!H78+Belgium!H78+UK!H78+Ireland!H78+Denmark!H78+Spain!H78+Portugal!H78+Finland!H78+Sweden!H78+Austria!H78","v":0},{"$f":"Germany!I78+France!I78+Italy!I78+'The Netherlands'!I78+Belgium!I78+UK!I78+Ireland!I78+Denmark!I78+Spain!I78+Portugal!I78+Finland!I78+Sweden!I78+Austria!I78","v":0},{"$f":"Germany!J78+France!J78+Italy!J78+'The Netherlands'!J78+Belgium!J78+UK!J78+Ireland!J78+Denmark!J78+Spain!J78+Portugal!J78+Finland!J78+Sweden!J78+Austria!J78","v":0},{"$f":"Germany!K78+France!K78+Italy!K78+'The Netherlands'!K78+Belgium!K78+UK!K78+Ireland!K78+Denmark!K78+Spain!K78+Portugal!K78+Finland!K78+Sweden!K78+Austria!K78","v":0},{"$f":"Germany!L78+France!L78+Italy!L78+'The Netherlands'!L78+Belgium!L78+UK!L78+Ireland!L78+Denmark!L78+Spain!L78+Portugal!L78+Finland!L78+Sweden!L78+Austria!L78","v":0},{"$f":"Germany!M78+France!M78+Italy!M78+'The Netherlands'!M78+Belgium!M78+UK!M78+Ireland!M78+Denmark!M78+Spain!M78+Portugal!M78+Finland!M78+Sweden!M78+Austria!M78","v":0},{"$f":"Germany!N78+France!N78+Italy!N78+'The Netherlands'!N78+Belgium!N78+UK!N78+Ireland!N78+Denmark!N78+Spain!N78+Portugal!N78+Finland!N78+Sweden!N78+Austria!N78","v":0},{"$f":"Germany!O78+France!O78+Italy!O78+'The Netherlands'!O78+Belgium!O78+UK!O78+Ireland!O78+Denmark!O78+Spain!O78+Portugal!O78+Finland!O78+Sweden!O78+Austria!O78","v":0},{"$f":"Germany!P78+France!P78+Italy!P78+'The Netherlands'!P78+Belgium!P78+UK!P78+Ireland!P78+Denmark!P78+Spain!P78+Portugal!P78+Finland!P78+Sweden!P78+Austria!P78","v":0},{"$f":"Germany!Q78+France!Q78+Italy!Q78+'The Netherlands'!Q78+Belgium!Q78+UK!Q78+Ireland!Q78+Denmark!Q78+Spain!Q78+Portugal!Q78+Finland!Q78+Sweden!Q78+Austria!Q78","v":0},{"$f":"Germany!R78+France!R78+Italy!R78+'The Netherlands'!R78+Belgium!R78+UK!R78+Ireland!R78+Denmark!R78+Spain!R78+Portugal!R78+Finland!R78+Sweden!R78+Austria!R78","v":0},{"$f":"Germany!S78+France!S78+Italy!S78+'The Netherlands'!S78+Belgium!S78+UK!S78+Ireland!S78+Denmark!S78+Spain!S78+Portugal!S78+Finland!S78+Sweden!S78+Austria!S78","v":0},{"$f":"Germany!T78+France!T78+Italy!T78+'The Netherlands'!T78+Belgium!T78+UK!T78+Ireland!T78+Denmark!T78+Spain!T78+Portugal!T78+Finland!T78+Sweden!T78+Austria!T78","v":0},{"$f":"Germany!U78+France!U78+Italy!U78+'The Netherlands'!U78+Belgium!U78+UK!U78+Ireland!U78+Denmark!U78+Spain!U78+Portugal!U78+Finland!U78+Sweden!U78+Austria!U78","v":0},{"$f":"Germany!V78+France!V78+Italy!V78+'The Netherlands'!V78+Belgium!V78+UK!V78+Ireland!V78+Denmark!V78+Spain!V78+Portugal!V78+Finland!V78+Sweden!V78+Austria!V78","v":0},{"$f":"Germany!W78+France!W78+Italy!W78+'The Netherlands'!W78+Belgium!W78+UK!W78+Ireland!W78+Denmark!W78+Spain!W78+Portugal!W78+Finland!W78+Sweden!W78+Austria!W78","v":0},{"$f":"Germany!X78+France!X78+Italy!X78+'The Netherlands'!X78+Belgium!X78+UK!X78+Ireland!X78+Denmark!X78+Spain!X78+Portugal!X78+Finland!X78+Sweden!X78+Austria!X78","v":0},{"$f":"Germany!Y78+France!Y78+Italy!Y78+'The Netherlands'!Y78+Belgium!Y78+UK!Y78+Ireland!Y78+Denmark!Y78+Spain!Y78+Portugal!Y78+Finland!Y78+Sweden!Y78+Austria!Y78","v":0},{"$f":"Germany!Z78+France!Z78+Italy!Z78+'The Netherlands'!Z78+Belgium!Z78+UK!Z78+Ireland!Z78+Denmark!Z78+Spain!Z78+Portugal!Z78+Finland!Z78+Sweden!Z78+Austria!Z78","v":0},{"$f":"Germany!#REF!+France!AA78+Italy!AA78+'The Netherlands'!AA78+Belgium!AA78+UK!AA78+Ireland!AA78+Denmark!AA78+Spain!AA78+Portugal!AA78+Finland!AA78+Sweden!AA78+Austria!AA78","v":{"$error":"#REF!"}},{"$f":"Germany!AB78+France!AB78+Italy!AB78+'The Netherlands'!AB78+Belgium!AB78+UK!AB78+Ireland!AB78+Denmark!AB78+Spain!AB78+Portugal!AB78+Finland!AB78+Sweden!AB78+Austria!AB78","v":0},{"$f":"Germany!AC78+France!AC78+Italy!AC78+'The Netherlands'!AC78+Belgium!AC78+UK!AC78+Ireland!AC78+Denmark!AC78+Spain!AC78+Portugal!AC78+Finland!AC78+Sweden!AC78+Austria!AC78","v":0},{"$f":"Germany!AD78+France!AD78+Italy!AD78+'The Netherlands'!AD78+Belgium!AD78+UK!AD78+Ireland!AD78+Denmark!AD78+Spain!AD78+Portugal!AD78+Finland!AD78+Sweden!AD78+Austria!AD78","v":0},{"$f":"Germany!AE78+France!AE78+Italy!AE78+'The Netherlands'!AE78+Belgium!AE78+UK!AE78+Ireland!AE78+Denmark!AE78+Spain!AE78+Portugal!AE78+Finland!AE78+Sweden!AE78+Austria!AE78","v":0},{"$f":"Germany!AF78+France!AF78+Italy!AF78+'The Netherlands'!AF78+Belgium!AF78+UK!AF78+Ireland!AF78+Denmark!AF78+Spain!AF78+Portugal!AF78+Finland!AF78+Sweden!AF78+Austria!AF78","v":0},{"$f":"Germany!AG78+France!AG78+Italy!AG78+'The Netherlands'!AG78+Belgium!AG78+UK!AG78+Ireland!AG78+Denmark!AG78+Spain!AG78+Portugal!AG78+Finland!AG78+Sweden!AG78+Austria!AG78+Greece!AG73+Luxembourg!AG79","v":0},{"$f":"Germany!AH78+France!AH78+Italy!AH78+'The Netherlands'!AH78+Belgium!AH78+UK!AH78+Ireland!AH78+Denmark!AH78+Spain!AH78+Portugal!AH78+Finland!AH78+Sweden!AH78+Austria!AH78+Greece!AH73+Luxembourg!AH79","v":0}]
["broilers",":",":",":",":",":",":",":",":",":",":",":",":",":",":",":",":",":",":",":",":",":",":",":",":",":",":",":",":",":",":",":",":",":"]
["chicks & layers",":",":",":",":",":",":",":",":",":",":",":",":",":",":",":",":",":",":",":",":",":",":",":",":",":",":",":",":",":",":",":",":",":"]
["others",":",":",":",":",":",":",":",":",":",":",":",":",":",":",":",":",":",":",":",":",":",":",":",":",":",":",":",":",":",":",":",":",":"]
[]
[]
["Milk replacers",{"$f":"Germany!B84+France!B84+Italy!B84+'The Netherlands'!B84+Belgium!B84+UK!B84+Ireland!B84+Denmark!B84+Spain!B84+Portugal!B84","v":0},{"$f":"Germany!C84+France!C84+Italy!C84+'The Netherlands'!C84+Belgium!C84+UK!C84+Ireland!C84+Denmark!C84+Spain!C84+Portugal!C84","v":0},{"$f":"Germany!D84+France!D84+Italy!D84+'The Netherlands'!D84+Belgium!D84+UK!D84+Ireland!D84+Denmark!D84+Spain!D84+Portugal!D84","v":0},{"$f":"Germany!E84+France!E84+Italy!E84+'The Netherlands'!E84+Belgium!E84+UK!E84+Ireland!E84+Denmark!E84+Spain!E84+Portugal!E84","v":0},{"$f":"Germany!F84+France!F84+Italy!F84+'The Netherlands'!F84+Belgium!F84+UK!F84+Ireland!F84+Denmark!F84+Spain!F84+Portugal!F84","v":0},{"$f":"Germany!G84+France!G84+Italy!G84+'The Netherlands'!G84+Belgium!G84+UK!G84+Ireland!G84+Denmark!G84+Spain!G84+Portugal!G84","v":0},{"$f":"Germany!H84+France!H84+Italy!H84+'The Netherlands'!H84+Belgium!H84+UK!H84+Ireland!H84+Denmark!H84+Spain!H84+Portugal!H84+Sweden!H84+Austria!H84","v":0},{"$f":"Germany!I84+France!I84+Italy!I84+'The Netherlands'!I84+Belgium!I84+UK!I84+Ireland!I84+Denmark!I84+Spain!I84+Portugal!I84+Sweden!I84+Austria!I84","v":0},{"$f":"Germany!J84+France!J84+Italy!J84+'The Netherlands'!J84+Belgium!J84+UK!J84+Ireland!J84+Denmark!J84+Spain!J84+Portugal!J84+Sweden!J84+Austria!J84","v":0},{"$f":"Germany!K84+France!K84+Italy!K84+'The Netherlands'!K84+Belgium!K84+UK!K84+Ireland!K84+Denmark!K84+Spain!K84+Portugal!K84+Sweden!K84+Austria!K84","v":0},{"$f":"Germany!L84+France!L84+Italy!L84+'The Netherlands'!L84+Belgium!L84+UK!L84+Ireland!L84+Denmark!L84+Spain!L84+Portugal!L84+Sweden!L84+Austria!L84","v":0},{"$f":"Germany!M84+France!M84+Italy!M84+'The Netherlands'!M84+Belgium!M84+UK!M84+Ireland!M84+Denmark!M84+Spain!M84+Portugal!M84+Sweden!M84+Austria!M84","v":0},{"$f":"Germany!N84+France!N84+Italy!N84+'The Netherlands'!N84+Belgium!N84+UK!N84+Ireland!N84+Denmark!N84+Spain!N84+Portugal!N84+Sweden!N84+Austria!N84","v":0},{"$f":"Germany!O84+France!O84+Italy!O84+'The Netherlands'!O84+Belgium!O84+UK!O84+Ireland!O84+Denmark!O84+Spain!O84+Portugal!O84+Sweden!O84+Austria!O84","v":0},{"$f":"Germany!P84+France!P84+Italy!P84+'The Netherlands'!P84+Belgium!P84+UK!P84+Ireland!P84+Denmark!P84+Spain!P84+Portugal!P84+Sweden!P84+Austria!P84","v":0},{"$f":"Germany!Q84+France!Q84+Italy!Q84+'The Netherlands'!Q84+Belgium!Q84+UK!Q84+Ireland!Q84+Denmark!Q84+Spain!Q84+Portugal!Q84+Sweden!Q84+Austria!Q84","v":0},{"$f":"Germany!R84+France!R84+Italy!R84+'The Netherlands'!R84+Belgium!R84+UK!R84+Ireland!R84+Denmark!R84+Spain!R84+Portugal!R84+Sweden!R84+Austria!R84","v":0},{"$f":"Germany!S84+France!S84+Italy!S84+'The Netherlands'!S84+Belgium!S84+UK!S84+Ireland!S84+Denmark!S84+Spain!S84+Portugal!S84+Sweden!S84+Austria!S84","v":0},{"$f":"Germany!T84+France!T84+Italy!T84+'The Netherlands'!T84+Belgium!T84+UK!T84+Ireland!T84+Denmark!T84+Spain!T84+Portugal!T84+Sweden!T84+Austria!T84","v":0},{"$f":"Germany!U84+France!U84+Italy!U84+'The Netherlands'!U84+Belgium!U84+UK!U84+Ireland!U84+Denmark!U84+Spain!U84+Portugal!U84+Sweden!U84+Austria!U84","v":0},{"$f":"Germany!V84+France!V84+Italy!V84+'The Netherlands'!V84+Belgium!V84+UK!V84+Ireland!V84+Denmark!V84+Spain!V84+Portugal!V84+Sweden!V84+Austria!V84","v":0},{"$f":"Germany!W84+France!W84+Italy!W84+'The Netherlands'!W84+Belgium!W84+UK!W84+Ireland!W84+Denmark!W84+Spain!W84+Portugal!W84+Sweden!W84+Austria!W84","v":0},{"$f":"Germany!X84+France!X84+Italy!X84+'The Netherlands'!X84+Belgium!X84+UK!X84+Ireland!X84+Denmark!X84+Spain!X84+Portugal!X84+Sweden!X84+Austria!X84","v":0},{"$f":"Germany!Y84+France!Y84+Italy!Y84+'The Netherlands'!Y84+Belgium!Y84+UK!Y84+Ireland!Y84+Denmark!Y84+Spain!Y84+Portugal!Y84+Sweden!Y84+Austria!Y84","v":0},{"$f":"Germany!Z84+France!Z84+Italy!Z84+'The Netherlands'!Z84+Belgium!Z84+UK!Z84+Ireland!Z84+Denmark!Z84+Spain!Z84+Portugal!Z84+Sweden!Z84+Austria!Z84","v":0},{"$f":"Germany!#REF!+France!AA84+Italy!AA84+'The Netherlands'!AA84+Belgium!AA84+UK!AA84+Ireland!AA84+Denmark!AA84+Spain!AA84+Portugal!AA84+Sweden!AA84+Austria!AA84","v":{"$error":"#REF!"}},{"$f":"Germany!AB84+France!AB84+Italy!AB84+'The Netherlands'!AB84+Belgium!AB84+UK!AB84+Ireland!AB84+Denmark!AB84+Spain!AB84+Portugal!AB84+Sweden!AB84+Austria!AB84","v":0},{"$f":"Germany!AC84+France!AC84+Italy!AC84+'The Netherlands'!AC84+Belgium!AC84+UK!AC84+Ireland!AC84+Denmark!AC84+Spain!AC84+Portugal!AC84+Sweden!AC84+Austria!AC84","v":0},{"$f":"Germany!AD84+France!AD84+Italy!AD84+'The Netherlands'!AD84+Belgium!AD84+UK!AD84+Ireland!AD84+Denmark!AD84+Spain!AD84+Portugal!AD84+Sweden!AD84+Austria!AD84","v":0},{"$f":"Germany!AE84+France!AE84+Italy!AE84+'The Netherlands'!AE84+Belgium!AE84+UK!AE84+Ireland!AE84+Denmark!AE84+Spain!AE84+Portugal!AE84+Sweden!AE84+Austria!AE84","v":0},{"$f":"Germany!AF84+France!AF84+Italy!AF84+'The Netherlands'!AF84+Belgium!AF84+UK!AF84+Ireland!AF84+Denmark!AF84+Spain!AF84+Portugal!AF84+Sweden!AF84+Austria!AF84","v":0},{"$f":"Germany!AG84+France!AG84+Italy!AG84+'The Netherlands'!AG84+Belgium!AG84+UK!AG84+Ireland!AG84+Denmark!AG84+Spain!AG84+Portugal!AG84+Sweden!AG84+Austria!AG84","v":0},{"$f":"Germany!AH84+France!AH84+Italy!AH84+'The Netherlands'!AH84+Belgium!AH84+UK!AH84+Ireland!AH84+Denmark!AH84+Spain!AH84+Portugal!AH84+Sweden!AH84+Austria!AH84","v":0}]
[]
[]
["Others",{"$f":"Germany!B87+France!B87+Italy!B87+'The Netherlands'!B87+Belgium!B87+UK!B87+Ireland!B87+Denmark!B87+Spain!B87+Portugal!B87","v":0},{"$f":"Germany!C87+France!C87+Italy!C87+'The Netherlands'!C87+Belgium!C87+UK!C87+Ireland!C87+Denmark!C87+Spain!C87+Portugal!C87","v":0},{"$f":"Germany!D87+France!D87+Italy!D87+'The Netherlands'!D87+Belgium!D87+UK!D87+Ireland!D87+Denmark!D87+Spain!D87+Portugal!D87","v":0},{"$f":"Germany!E87+France!E87+Italy!E87+'The Netherlands'!E87+Belgium!E87+UK!E87+Ireland!E87+Denmark!E87+Spain!E87+Portugal!E87","v":0},{"$f":"Germany!F87+France!F87+Italy!F87+'The Netherlands'!F87+Belgium!F87+UK!F87+Ireland!F87+Denmark!F87+Spain!F87+Portugal!F87","v":0},{"$f":"Germany!G87+France!G87+Italy!G87+'The Netherlands'!G87+Belgium!G87+UK!G87+Ireland!G87+Denmark!G87+Spain!G87+Portugal!G87","v":0},{"$f":"Germany!H87+France!H87+Italy!H87+'The Netherlands'!H87+Belgium!H87+UK!H87+Ireland!H87+Denmark!H87+Spain!H87+Portugal!H87+Finland!H87+Sweden!H87+Austria!H87","v":0},{"$f":"Germany!I87+France!I87+Italy!I87+'The Netherlands'!I87+Belgium!I87+UK!I87+Ireland!I87+Denmark!I87+Spain!I87+Portugal!I87+Finland!I87+Sweden!I87+Austria!I87","v":0},{"$f":"Germany!J87+France!J87+Italy!J87+'The Netherlands'!J87+Belgium!J87+UK!J87+Ireland!J87+Denmark!J87+Spain!J87+Portugal!J87+Finland!J87+Sweden!J87+Austria!J87","v":0},{"$f":"Germany!K87+France!K87+Italy!K87+'The Netherlands'!K87+Belgium!K87+UK!K87+Ireland!K87+Denmark!K87+Spain!K87+Portugal!K87+Finland!K87+Sweden!K87+Austria!K87","v":0},{"$f":"Germany!L87+France!L87+Italy!L87+'The Netherlands'!L87+Belgium!L87+UK!L87+Ireland!L87+Denmark!L87+Spain!L87+Portugal!L87+Finland!L87+Sweden!L87+Austria!L87","v":0},{"$f":"Germany!M87+France!M87+Italy!M87+'The Netherlands'!M87+Belgium!M87+UK!M87+Ireland!M87+Denmark!M87+Spain!M87+Portugal!M87+Finland!M87+Sweden!M87+Austria!M87","v":0},{"$f":"Germany!N87+France!N87+Italy!N87+'The Netherlands'!N87+Belgium!N87+UK!N87+Ireland!N87+Denmark!N87+Spain!N87+Portugal!N87+Finland!N87+Sweden!N87+Austria!N87","v":0},{"$f":"Germany!O87+France!O87+Italy!O87+'The Netherlands'!O87+Belgium!O87+UK!O87+Ireland!O87+Denmark!O87+Spain!O87+Portugal!O87+Finland!O87+Sweden!O87+Austria!O87","v":0},{"$f":"Germany!P87+France!P87+Italy!P87+'The Netherlands'!P87+Belgium!P87+UK!P87+Ireland!P87+Denmark!P87+Spain!P87+Portugal!P87+Finland!P87+Sweden!P87+Austria!P87","v":0},{"$f":"Germany!Q87+France!Q87+Italy!Q87+'The Netherlands'!Q87+Belgium!Q87+UK!Q87+Ireland!Q87+Denmark!Q87+Spain!Q87+Portugal!Q87+Finland!Q87+Sweden!Q87+Austria!Q87","v":0},{"$f":"Germany!R87+France!R87+Italy!R87+'The Netherlands'!R87+Belgium!R87+UK!R87+Ireland!R87+Denmark!R87+Spain!R87+Portugal!R87+Finland!R87+Sweden!R87+Austria!R87","v":0},{"$f":"Germany!S87+France!S87+Italy!S87+'The Netherlands'!S87+Belgium!S87+UK!S87+Ireland!S87+Denmark!S87+Spain!S87+Portugal!S87+Finland!S87+Sweden!S87+Austria!S87","v":0},{"$f":"Germany!T87+France!T87+Italy!T87+'The Netherlands'!T87+Belgium!T87+UK!T87+Ireland!T87+Denmark!T87+Spain!T87+Portugal!T87+Finland!T87+Sweden!T87+Austria!T87","v":0},{"$f":"Germany!U87+France!U87+Italy!U87+'The Netherlands'!U87+Belgium!U87+UK!U87+Ireland!U87+Denmark!U87+Spain!U87+Portugal!U87+Finland!U87+Sweden!U87+Austria!U87","v":0},{"$f":"Germany!V87+France!V87+Italy!V87+'The Netherlands'!V87+Belgium!V87+UK!V87+Ireland!V87+Denmark!V87+Spain!V87+Portugal!V87+Finland!V87+Sweden!V87+Austria!V87","v":0},{"$f":"Germany!W87+France!W87+Italy!W87+'The Netherlands'!W87+Belgium!W87+UK!W87+Ireland!W87+Denmark!W87+Spain!W87+Portugal!W87+Finland!W87+Sweden!W87+Austria!W87","v":0},{"$f":"Germany!X87+France!X87+Italy!X87+'The Netherlands'!X87+Belgium!X87+UK!X87+Ireland!X87+Denmark!X87+Spain!X87+Portugal!X87+Finland!X87+Sweden!X87+Austria!X87","v":0},{"$f":"Germany!Y87+France!Y87+Italy!Y87+'The Netherlands'!Y87+Belgium!Y87+UK!Y87+Ireland!Y87+Denmark!Y87+Spain!Y87+Portugal!Y87+Finland!Y87+Sweden!Y87+Austria!Y87","v":0},{"$f":"Germany!Z87+France!Z87+Italy!Z87+'The Netherlands'!Z87+Belgium!Z87+UK!Z87+Ireland!Z87+Denmark!Z87+Spain!Z87+Portugal!Z87+Finland!Z87+Sweden!Z87+Austria!Z87","v":0},{"$f":"Germany!#REF!+France!AA87+Italy!AA87+'The Netherlands'!AA87+Belgium!AA87+UK!AA87+Ireland!AA87+Denmark!AA87+Spain!AA87+Portugal!AA87+Finland!AA87+Sweden!AA87+Austria!AA87","v":{"$error":"#REF!"}},{"$f":"Germany!AB87+France!AB87+Italy!AB87+'The Netherlands'!AB87+Belgium!AB87+UK!AB87+Ireland!AB87+Denmark!AB87+Spain!AB87+Portugal!AB87+Finland!AB87+Sweden!AB87+Austria!AB87","v":0},{"$f":"Germany!AC87+France!AC87+Italy!AC87+'The Netherlands'!AC87+Belgium!AC87+UK!AC87+Ireland!AC87+Denmark!AC87+Spain!AC87+Portugal!AC87+Finland!AC87+Sweden!AC87+Austria!AC87","v":0},{"$f":"Germany!AD87+France!AD87+Italy!AD87+'The Netherlands'!AD87+Belgium!AD87+UK!AD87+Ireland!AD87+Denmark!AD87+Spain!AD87+Portugal!AD87+Finland!AD87+Sweden!AD87+Austria!AD87","v":0},{"$f":"Germany!AE87+France!AE87+Italy!AE87+'The Netherlands'!AE87+Belgium!AE87+UK!AE87+Ireland!AE87+Denmark!AE87+Spain!AE87+Portugal!AE87+Finland!AE87+Sweden!AE87+Austria!AE87","v":0},{"$f":"Germany!AF87+France!AF87+Italy!AF87+'The Netherlands'!AF87+Belgium!AF87+UK!AF87+Ireland!AF87+Denmark!AF87+Spain!AF87+Portugal!AF87+Finland!AF87+Sweden!AF87+Austria!AF87","v":0},{"$f":"Germany!AG87+France!AG87+Italy!AG87+'The Netherlands'!AG87+Belgium!AG87+UK!AG87+Ireland!AG87+Denmark!AG87+Spain!AG87+Portugal!AG87+Finland!AG87+Sweden!AG87+Austria!AG87","v":0},{"$f":"Germany!AH87+France!AH87+Italy!AH87+'The Netherlands'!AH87+Belgium!AH87+UK!AH87+Ireland!AH87+Denmark!AH87+Spain!AH87+Portugal!AH87+Finland!AH87+Sweden!AH87+Austria!AH87","v":0}]
[]
[]
["TOTAL",{"$f":"B87+B84+B78+B71+B64","v":0},0,0,0,0,0,0,0,0,0,0,0,0,0,0,0,0,0,0,0,0,0,0,0,0,{"$error":"#REF!"},0,0,0,0,0,0,0]

{"sheet":"EU-13","index":74,"n_rows":42,"n_cols":34,"rows_kept":42,"merged":[[3,0,3,32]]}
["FEFAC SECRETARIAT GENERAL"]
[]
[]
["INDUSTRIAL COMPOUND FEED PRODUCTION"]
[]
[]
[]
["COUNTRY: EU-13"]
[]
[]
[]
["1 000 t",1989,1990,1991,1992,1993,1994,1995,1996,1997,1998,1999,2000,2001,2002,2003,2004,2005,2006,2007,2008,2009,2010,2011,2012,2013,2014,2015,2016,2017,2018,2019,2020,2021]
[null,"final figures","final figures","final figures","final figures","final figures","final figures","final figures","final figures","final figures","final figures","final figures","final figures","final figures","final figures","final figures","final figures","final figures","final figures","final figures","final figures","final figures","final figures","final figures","final figures","final figures","final figures","final figures","final figures","final figures","final figures","final figures","estimates","forecasts"]
[]
[]
["Cattle",{"$f":"Cyprus!B16+'Czech Rep'!B16+Estonia!B16+Hungary!B16+Latvia!B16+Lithuania!B16+Malta!B16+Poland!B16+Slovakia!B16+Slovenia!B16+Bulgaria!B16+Romania!B17 + Croatia!B16","v":0},{"$f":"Cyprus!C16+'Czech Rep'!C16+Estonia!C16+Hungary!C16+Latvia!C16+Lithuania!C16+Malta!C16+Poland!C16+Slovakia!C16+Slovenia!C16+Bulgaria!C16+Romania!C17 + Croatia!C16","v":0},{"$f":"Cyprus!D16+'Czech Rep'!D16+Estonia!D16+Hungary!D16+Latvia!D16+Lithuania!D16+Malta!D16+Poland!D16+Slovakia!D16+Slovenia!D16+Bulgaria!D16+Romania!D17 + Croatia!D16","v":0},{"$f":"Cyprus!E16+'Czech Rep'!E16+Estonia!E16+Hungary!E16+Latvia!E16+Lithuania!E16+Malta!E16+Poland!E16+Slovakia!E16+Slovenia!E16+Bulgaria!E16+Romania!E17 + Croatia!E16","v":0},{"$f":"Cyprus!F16+'Czech Rep'!F16+Estonia!F16+Hungary!F16+Latvia!F16+Lithuania!F16+Malta!F16+Poland!F16+Slovakia!F16+Slovenia!F16+Bulgaria!F16+Romania!F17 + Croatia!F16","v":0},{"$f":"Cyprus!G16+'Czech Rep'!G16+Estonia!G16+Hungary!G16+Latvia!G16+Lithuania!G16+Malta!G16+Poland!G16+Slovakia!G16+Slovenia!G16+Bulgaria!G16+Romania!G17 + Croatia!G16","v":0},{"$f":"Cyprus!H16+'Czech Rep'!H16+Estonia!H16+Hungary!H16+Latvia!H16+Lithuania!H16+Malta!H16+Poland!H16+Slovakia!H16+Slovenia!H16+Bulgaria!H16+Romania!H17 + Croatia!H16","v":0},{"$f":"Cyprus!I16+'Czech Rep'!I16+Estonia!I16+Hungary!I16+Latvia!I16+Lithuania!I16+Malta!I16+Poland!I16+Slovakia!I16+Slovenia!I16+Bulgaria!I16+Romania!I17 + Croatia!I16","v":0},{"$f":"Cyprus!J16+'Czech Rep'!J16+Estonia!J16+Hungary!J16+Latvia!J16+Lithuania!J16+Malta!J16+Poland!J16+Slovakia!J16+Slovenia!J16+Bulgaria!J16+Romania!J17 + Croatia!J16","v":{"v":1561,"d":"1,561"}},{"$f":"Cyprus!K16+'Czech Rep'!K16+Estonia!K16+Hungary!K16+Latvia!K16+Lithuania!K16+Malta!K16+Poland!K16+Slovakia!K16+Slovenia!K16+Bulgaria!K16+Romania!K17 + Croatia!K16","v":{"v":1866,"d":"1,866"}},{"$f":"Cyprus!L16+'Czech Rep'!L16+Estonia!L16+Hungary!L16+Latvia!L16+Lithuania!L16+Malta!L16+Poland!L16+Slovakia!L16+Slovenia!L16+Bulgaria!L16+Romania!L17 + Croatia!L16","v":{"v":1874,"d":"1,874"}},{"$f":"Cyprus!M16+'Czech Rep'!M16+Estonia!M16+Hungary!M16+Latvia!M16+Lithuania!M16+Malta!M16+Poland!M16+Slovakia!M16+Slovenia!M16+Bulgaria!M16+Romania!M17 + Croatia!M16","v":{"v":1978,"d":"1,978"}},{"$f":"Cyprus!N16+'Czech Rep'!N16+Estonia!N16+Hungary!N16+Latvia!N16+Lithuania!N16+Malta!N16+Poland!N16+Slovakia!N16+Slovenia!N16+Bulgaria!N16+Romania!N17 + Croatia!N16","v":{"v":2060,"d":"2,060"}},{"$f":"Cyprus!O16+'Czech Rep'!O16+Estonia!O16+Hungary!O16+Latvia!O16+Lithuania!O16+Malta!O16+Poland!O16+Slovakia!O16+Slovenia!O16+Bulgaria!O16+Romania!O17 + Croatia!O16","v":{"v":2080,"d":"2,080"}},{"$f":"Cyprus!P16+'Czech Rep'!P16+Estonia!P16+Hungary!P16+Latvia!P16+Lithuania!P16+Malta!P16+Poland!P16+Slovakia!P16+Slovenia!P16+Bulgaria!P16+Romania!P17 + Croatia!P16","v":{"v":2129,"d":"2,129"}},{"$f":"Cyprus!Q16+'Czech Rep'!Q16+Estonia!Q16+Hungary!Q16+Latvia!Q16+Lithuania!Q16+Malta!Q16+Poland!Q16+Slovakia!Q16+Slovenia!Q16+Bulgaria!Q16+Romania!Q17 + Croatia!Q16","v":{"v":2108,"d":"2,108"}},{"$f":"Cyprus!R16+'Czech Rep'!R16+Estonia!R16+Hungary!R16+Latvia!R16+Lithuania!R16+Malta!R16+Poland!R16+Slovakia!R16+Slovenia!R16+Bulgaria!R16+Romania!R17 + Croatia!R16","v":{"v":2281,"d":"2,281"}},{"$f":"Cyprus!S16+'Czech Rep'!S16+Estonia!S16+Hungary!S16+Latvia!S16+Lithuania!S16+Malta!S16+Poland!S16+Slovakia!S16+Slovenia!S16+Bulgaria!S16+Romania!S17 + Croatia!S16","v":{"v":2484,"d":"2,484"}},{"$f":"Cyprus!T16+'Czech Rep'!T16+Estonia!T16+Hungary!T16+Latvia!T16+Lithuania!T16+Malta!T16+Poland!T16+Slovakia!T16+Slovenia!T16+Bulgaria!T16+Romania!T17 + Croatia!T16","v":{"v":2708,"d":"2,708"}},{"$f":"Cyprus!U16+'Czech Rep'!U16+Estonia!U16+Hungary!U16+Latvia!U16+Lithuania!U16+Malta!U16+Poland!U16+Slovakia!U16+Slovenia!U16+Bulgaria!U16+Romania!U17 + Croatia!U16","v":{"v":2783,"d":"2,783"}},{"$f":"Cyprus!V16+'Czech Rep'!V16+Estonia!V16+Hungary!V16+Latvia!V16+Lithuania!V16+Malta!V16+Poland!V16+Slovakia!V16+Slovenia!V16+Bulgaria!V16+Romania!V17 + Croatia!V16","v":{"v":2511,"d":"2,511"}},{"$f":"Cyprus!W16+'Czech Rep'!W16+Estonia!W16+Hungary!W16+Latvia!W16+Lithuania!W16+Malta!W16+Poland!W16+Slovakia!W16+Slovenia!W16+Bulgaria!W16+Romania!W17 + Croatia!W16","v":{"v":2616,"d":"2,616"}},{"$f":"Cyprus!X16+'Czech Rep'!X16+Estonia!X16+Hungary!X16+Latvia!X16+Lithuania!X16+Malta!X16+Poland!X16+Slovakia!X16+Slovenia!X16+Bulgaria!X16+Romania!X17 + Croatia!X16","v":{"v":2779,"d":"2,779"}},{"$f":"Cyprus!Y16+'Czech Rep'!Y16+Estonia!Y16+Hungary!Y16+Latvia!Y16+Lithuania!Y16+Malta!Y16+Poland!Y16+Slovakia!Y16+Slovenia!Y16+Bulgaria!Y16+Romania!Y17 + Croatia!Y16","v":{"v":2918,"d":"2,918"}},{"$f":"Cyprus!Z16+'Czech Rep'!Z16+Estonia!Z16+Hungary!Z16+Latvia!Z16+Lithuania!Z16+Malta!Z16+Poland!Z16+Slovakia!Z16+Slovenia!Z16+Bulgaria!Z16+Romania!Z17 + Croatia!Z16","v":{"v":2972,"d":"2,972"}},{"$f":"Cyprus!AA16+'Czech Rep'!AA16+Estonia!AA16+Hungary!AA16+Latvia!AA16+Lithuania!AA16+Malta!AA16+Poland!AA16+Slovakia!AA16+Slovenia!AA16+Bulgaria!AA16+Romania!AA17 + Croatia!AA16","v":{"v":3049,"d":"3,049"}},{"$f":"Cyprus!AB16+'Czech Rep'!AB16+Estonia!AB16+Hungary!AB16+Latvia!AB16+Lithuania!AB16+Malta!AB16+Poland!AB16+Slovakia!AB16+Slovenia!AB16+Bulgaria!AB16+Romania!AB17 + Croatia!AB16","v":{"v":2652,"d":"2,652"}},{"$f":"Cyprus!AC16+'Czech Rep'!AC16+Estonia!AC16+Hungary!AC16+Latvia!AC16+Lithuania!AC16+Malta!AC16+Poland!AC16+Slovakia!AC16+Slovenia!AC16+Bulgaria!AC16+Romania!AC17 + Croatia!AC16","v":{"v":2765,"d":"2,765"}},{"$f":"Cyprus!AD16+'Czech Rep'!AD16+Estonia!AD16+Hungary!AD16+Latvia!AD16+Lithuania!AD16+Malta!AD16+Poland!AD16+Slovakia!AD16+Slovenia!AD16+Bulgaria!AD16+Romania!AD17 + Croatia!AD16","v":{"v":2956,"d":"2,956"}},{"$f":"Cyprus!AE16+'Czech Rep'!AE16+Estonia!AE16+Hungary!AE16+Latvia!AE16+Lithuania!AE16+Malta!AE16+Poland!AE16+Slovakia!AE16+Slovenia!AE16+Bulgaria!AE16+Romania!AE17 + Croatia!AE16","v":{"v":3098.787,"d":"3,099"}},{"$f":"Cyprus!AF16+'Czech Rep'!AF16+Estonia!AF16+Hungary!AF16+Latvia!AF16+Lithuania!AF16+Malta!AF16+Poland!AF16+Slovakia!AF16+Slovenia!AF16+Bulgaria!AF16+Romania!AF17 + Croatia!AF16","v":{"v":3266.8679999999995,"d":"3,267"}},{"$f":"Cyprus!AG16+'Czech Rep'!AG16+Estonia!AG16+Hungary!AG16+Latvia!AG16+Lithuania!AG16+Malta!AG16+Poland!AG16+Slovakia!AG16+Slovenia!AG16+Bulgaria!AG16+Romania!AG17 + Croatia!AG16","v":{"v":3342.84,"d":"3,343"}},{"$f":"Cyprus!AH16+'Czech Rep'!AH16+Estonia!AH16+Hungary!AH16+Latvia!AH16+Lithuania!AH16+Malta!AH16+Poland!AH16+Slovakia!AH16+Slovenia!AH16+Bulgaria!AH16+Romania!AH17 + Croatia!AH16","v":{"v":3348.15,"d":"3,348"}}]
["fattening",":",":",":",":",":",":",":",":",":",":",":",":",":",":",":",":",":",":",":",":",":",":",":",":",":",":",":",":",":",":",":",":",":"]
["dairy cow",":",":",":",":",":",":",":",":",":",":",":",":",":",":",":",":",":",":",":",":",":",":",":",":",":",":",":",":",":",":",":",":",":"]
["calves (excl. milk replacers)",":",":",":",":",":",":",":",":",":",":",":",":",":",":",":",":",":",":",":",":",":",":",":",":",":",":",":",":",":",":",":",":",":"]
["others",":",":",":",":",":",":",":",":",":",":",":",":",":",":",":",":",":",":",":",":",":",":",":",":",":",":",":",":",":",":",":",":",":"]
[]
[]
["Pigs",{"$f":"Cyprus!B23+'Czech Rep'!B23+Estonia!B23+Hungary!B23+Latvia!B23+Lithuania!B23+Malta!B23+Poland!B23+Slovakia!B23+Slovenia!B23+Bulgaria!B23+Romania!B24 + Croatia!B23","v":0},{"$f":"Cyprus!C23+'Czech Rep'!C23+Estonia!C23+Hungary!C23+Latvia!C23+Lithuania!C23+Malta!C23+Poland!C23+Slovakia!C23+Slovenia!C23+Bulgaria!C23+Romania!C24 + Croatia!C23","v":0},{"$f":"Cyprus!D23+'Czech Rep'!D23+Estonia!D23+Hungary!D23+Latvia!D23+Lithuania!D23+Malta!D23+Poland!D23+Slovakia!D23+Slovenia!D23+Bulgaria!D23+Romania!D24 + Croatia!D23","v":0},{"$f":"Cyprus!E23+'Czech Rep'!E23+Estonia!E23+Hungary!E23+Latvia!E23+Lithuania!E23+Malta!E23+Poland!E23+Slovakia!E23+Slovenia!E23+Bulgaria!E23+Romania!E24 + Croatia!E23","v":0},{"$f":"Cyprus!F23+'Czech Rep'!F23+Estonia!F23+Hungary!F23+Latvia!F23+Lithuania!F23+Malta!F23+Poland!F23+Slovakia!F23+Slovenia!F23+Bulgaria!F23+Romania!F24 + Croatia!F23","v":0},{"$f":"Cyprus!G23+'Czech Rep'!G23+Estonia!G23+Hungary!G23+Latvia!G23+Lithuania!G23+Malta!G23+Poland!G23+Slovakia!G23+Slovenia!G23+Bulgaria!G23+Romania!G24 + Croatia!G23","v":0},{"$f":"Cyprus!H23+'Czech Rep'!H23+Estonia!H23+Hungary!H23+Latvia!H23+Lithuania!H23+Malta!H23+Poland!H23+Slovakia!H23+Slovenia!H23+Bulgaria!H23+Romania!H24 + Croatia!H23","v":0},{"$f":"Cyprus!I23+'Czech Rep'!I23+Estonia!I23+Hungary!I23+Latvia!I23+Lithuania!I23+Malta!I23+Poland!I23+Slovakia!I23+Slovenia!I23+Bulgaria!I23+Romania!I24 + Croatia!I23","v":0},{"$f":"Cyprus!J23+'Czech Rep'!J23+Estonia!J23+Hungary!J23+Latvia!J23+Lithuania!J23+Malta!J23+Poland!J23+Slovakia!J23+Slovenia!J23+Bulgaria!J23+Romania!J24 + Croatia!J23","v":{"v":8294,"d":"8,294"}},{"$f":"Cyprus!K23+'Czech Rep'!K23+Estonia!K23+Hungary!K23+Latvia!K23+Lithuania!K23+Malta!K23+Poland!K23+Slovakia!K23+Slovenia!K23+Bulgaria!K23+Romania!K24 + Croatia!K23","v":{"v":8635,"d":"8,635"}},{"$f":"Cyprus!L23+'Czech Rep'!L23+Estonia!L23+Hungary!L23+Latvia!L23+Lithuania!L23+Malta!L23+Poland!L23+Slovakia!L23+Slovenia!L23+Bulgaria!L23+Romania!L24 + Croatia!L23","v":{"v":8115,"d":"8,115"}},{"$f":"Cyprus!M23+'Czech Rep'!M23+Estonia!M23+Hungary!M23+Latvia!M23+Lithuania!M23+Malta!M23+Poland!M23+Slovakia!M23+Slovenia!M23+Bulgaria!M23+Romania!M24 + Croatia!M23","v":{"v":7655,"d":"7,655"}},{"$f":"Cyprus!N23+'Czech Rep'!N23+Estonia!N23+Hungary!N23+Latvia!N23+Lithuania!N23+Malta!N23+Poland!N23+Slovakia!N23+Slovenia!N23+Bulgaria!N23+Romania!N24 + Croatia!N23","v":{"v":7390,"d":"7,390"}},{"$f":"Cyprus!O23+'Czech Rep'!O23+Estonia!O23+Hungary!O23+Latvia!O23+Lithuania!O23+Malta!O23+Poland!O23+Slovakia!O23+Slovenia!O23+Bulgaria!O23+Romania!O24 + Croatia!O23","v":{"v":7016,"d":"7,016"}},{"$f":"Cyprus!P23+'Czech Rep'!P23+Estonia!P23+Hungary!P23+Latvia!P23+Lithuania!P23+Malta!P23+Poland!P23+Slovakia!P23+Slovenia!P23+Bulgaria!P23+Romania!P24 + Croatia!P23","v":{"v":7034,"d":"7,034"}},{"$f":"Cyprus!Q23+'Czech Rep'!Q23+Estonia!Q23+Hungary!Q23+Latvia!Q23+Lithuania!Q23+Malta!Q23+Poland!Q23+Slovakia!Q23+Slovenia!Q23+Bulgaria!Q23+Romania!Q24 + Croatia!Q23","v":{"v":6652,"d":"6,652"}},{"$f":"Cyprus!R23+'Czech Rep'!R23+Estonia!R23+Hungary!R23+Latvia!R23+Lithuania!R23+Malta!R23+Poland!R23+Slovakia!R23+Slovenia!R23+Bulgaria!R23+Romania!R24 + Croatia!R23","v":{"v":6360,"d":"6,360"}},{"$f":"Cyprus!S23+'Czech Rep'!S23+Estonia!S23+Hungary!S23+Latvia!S23+Lithuania!S23+Malta!S23+Poland!S23+Slovakia!S23+Slovenia!S23+Bulgaria!S23+Romania!S24 + Croatia!S23","v":{"v":7297,"d":"7,297"}},{"$f":"Cyprus!T23+'Czech Rep'!T23+Estonia!T23+Hungary!T23+Latvia!T23+Lithuania!T23+Malta!T23+Poland!T23+Slovakia!T23+Slovenia!T23+Bulgaria!T23+Romania!T24 + Croatia!T23","v":{"v":7448,"d":"7,448"}},{"$f":"Cyprus!U23+'Czech Rep'!U23+Estonia!U23+Hungary!U23+Latvia!U23+Lithuania!U23+Malta!U23+Poland!U23+Slovakia!U23+Slovenia!U23+Bulgaria!U23+Romania!U24 + Croatia!U23","v":{"v":7123,"d":"7,123"}},{"$f":"Cyprus!V23+'Czech Rep'!V23+Estonia!V23+Hungary!V23+Latvia!V23+Lithuania!V23+Malta!V23+Poland!V23+Slovakia!V23+Slovenia!V23+Bulgaria!V23+Romania!V24 + Croatia!V23","v":{"v":6466,"d":"6,466"}},{"$f":"Cyprus!W23+'Czech Rep'!W23+Estonia!W23+Hungary!W23+Latvia!W23+Lithuania!W23+Malta!W23+Poland!W23+Slovakia!W23+Slovenia!W23+Bulgaria!W23+Romania!W24 + Croatia!W23","v":{"v":6641,"d":"6,641"}},{"$f":"Cyprus!X23+'Czech Rep'!X23+Estonia!X23+Hungary!X23+Latvia!X23+Lithuania!X23+Malta!X23+Poland!X23+Slovakia!X23+Slovenia!X23+Bulgaria!X23+Romania!X24 + Croatia!X23","v":{"v":6570,"d":"6,570"}},{"$f":"Cyprus!Y23+'Czech Rep'!Y23+Estonia!Y23+Hungary!Y23+Latvia!Y23+Lithuania!Y23+Malta!Y23+Poland!Y23+Slovakia!Y23+Slovenia!Y23+Bulgaria!Y23+Romania!Y24 + Croatia!Y23","v":{"v":6658,"d":"6,658"}},{"$f":"Cyprus!Z23+'Czech Rep'!Z23+Estonia!Z23+Hungary!Z23+Latvia!Z23+Lithuania!Z23+Malta!Z23+Poland!Z23+Slovakia!Z23+Slovenia!Z23+Bulgaria!Z23+Romania!Z24 + Croatia!Z23","v":{"v":6157,"d":"6,157"}},{"$f":"Cyprus!AA23+'Czech Rep'!AA23+Estonia!AA23+Hungary!AA23+Latvia!AA23+Lithuania!AA23+Malta!AA23+Poland!AA23+Slovakia!AA23+Slovenia!AA23+Bulgaria!AA23+Romania!AA24 + Croatia!AA23","v":{"v":6205,"d":"6,205"}},{"$f":"Cyprus!AB23+'Czech Rep'!AB23+Estonia!AB23+Hungary!AB23+Latvia!AB23+Lithuania!AB23+Malta!AB23+Poland!AB23+Slovakia!AB23+Slovenia!AB23+Bulgaria!AB23+Romania!AB24 + Croatia!AB23","v":{"v":6235,"d":"6,235"}},{"$f":"Cyprus!AC23+'Czech Rep'!AC23+Estonia!AC23+Hungary!AC23+Latvia!AC23+Lithuania!AC23+Malta!AC23+Poland!AC23+Slovakia!AC23+Slovenia!AC23+Bulgaria!AC23+Romania!AC24 + Croatia!AC23","v":{"v":6409,"d":"6,409"}},{"$f":"Cyprus!AD23+'Czech Rep'!AD23+Estonia!AD23+Hungary!AD23+Latvia!AD23+Lithuania!AD23+Malta!AD23+Poland!AD23+Slovakia!AD23+Slovenia!AD23+Bulgaria!AD23+Romania!AD24 + Croatia!AD23","v":{"v":6796,"d":"6,796"}},{"$f":"Cyprus!AE23+'Czech Rep'!AE23+Estonia!AE23+Hungary!AE23+Latvia!AE23+Lithuania!AE23+Malta!AE23+Poland!AE23+Slovakia!AE23+Slovenia!AE23+Bulgaria!AE23+Romania!AE24 + Croatia!AE23","v":{"v":7114.049,"d":"7,114"}},{"$f":"Cyprus!AF23+'Czech Rep'!AF23+Estonia!AF23+Hungary!AF23+Latvia!AF23+Lithuania!AF23+Malta!AF23+Poland!AF23+Slovakia!AF23+Slovenia!AF23+Bulgaria!AF23+Romania!AF24 + Croatia!AF23","v":{"v":6731.502,"d":"6,732"}},{"$f":"Cyprus!AG23+'Czech Rep'!AG23+Estonia!AG23+Hungary!AG23+Latvia!AG23+Lithuania!AG23+Malta!AG23+Poland!AG23+Slovakia!AG23+Slovenia!AG23+Bulgaria!AG23+Romania!AG24 + Croatia!AG23","v":{"v":6821.2609999999995,"d":"6,821"}},{"$f":"Cyprus!AH23+'Czech Rep'!AH23+Estonia!AH23+Hungary!AH23+Latvia!AH23+Lithuania!AH23+Malta!AH23+Poland!AH23+Slovakia!AH23+Slovenia!AH23+Bulgaria!AH23+Romania!AH24 + Croatia!AH23","v":{"v":6944.991,"d":"6,945"}}]
["piglets",":",":",":",":",":",":",":",":",":",":",":",":",":",":",":",":",":",":",":",":",":",":",":",":",":",":",":",":",":",":",":",":",":"]
["pigs for fattening",":",":",":",":",":",":",":",":",":",":",":",":",":",":",":",":",":",":",":",":",":",":",":",":",":",":",":",":",":",":",":",":",":"]
["breeding pigs",":",":",":",":",":",":",":",":",":",":",":",":",":",":",":",":",":",":",":",":",":",":",":",":",":",":",":",":",":",":",":",":",":"]
["others",":",":",":",":",":",":",":",":",":",":",":",":",":",":",":",":",":",":",":",":",":",":",":",":",":",":",":",":",":",":",":",":",":"]
[]
[]
["Poultry",{"$f":"Cyprus!B30+'Czech Rep'!B30+Estonia!B30+Hungary!B30+Latvia!B30+Lithuania!B30+Malta!B30+Poland!B30+Slovakia!B30+Slovenia!B30+Bulgaria!B30+Romania!B31 + Croatia!B30","v":0},{"$f":"Cyprus!C30+'Czech Rep'!C30+Estonia!C30+Hungary!C30+Latvia!C30+Lithuania!C30+Malta!C30+Poland!C30+Slovakia!C30+Slovenia!C30+Bulgaria!C30+Romania!C31 + Croatia!C30","v":0},{"$f":"Cyprus!D30+'Czech Rep'!D30+Estonia!D30+Hungary!D30+Latvia!D30+Lithuania!D30+Malta!D30+Poland!D30+Slovakia!D30+Slovenia!D30+Bulgaria!D30+Romania!D31 + Croatia!D30","v":0},{"$f":"Cyprus!E30+'Czech Rep'!E30+Estonia!E30+Hungary!E30+Latvia!E30+Lithuania!E30+Malta!E30+Poland!E30+Slovakia!E30+Slovenia!E30+Bulgaria!E30+Romania!E31 + Croatia!E30","v":0},{"$f":"Cyprus!F30+'Czech Rep'!F30+Estonia!F30+Hungary!F30+Latvia!F30+Lithuania!F30+Malta!F30+Poland!F30+Slovakia!F30+Slovenia!F30+Bulgaria!F30+Romania!F31 + Croatia!F30","v":0},{"$f":"Cyprus!G30+'Czech Rep'!G30+Estonia!G30+Hungary!G30+Latvia!G30+Lithuania!G30+Malta!G30+Poland!G30+Slovakia!G30+Slovenia!G30+Bulgaria!G30+Romania!G31 + Croatia!G30","v":0},{"$f":"Cyprus!H30+'Czech Rep'!H30+Estonia!H30+Hungary!H30+Latvia!H30+Lithuania!H30+Malta!H30+Poland!H30+Slovakia!H30+Slovenia!H30+Bulgaria!H30+Romania!H31 + Croatia!H30","v":0},{"$f":"Cyprus!I30+'Czech Rep'!I30+Estonia!I30+Hungary!I30+Latvia!I30+Lithuania!I30+Malta!I30+Poland!I30+Slovakia!I30+Slovenia!I30+Bulgaria!I30+Romania!I31 + Croatia!I30","v":0},{"$f":"Cyprus!J30+'Czech Rep'!J30+Estonia!J30+Hungary!J30+Latvia!J30+Lithuania!J30+Malta!J30+Poland!J30+Slovakia!J30+Slovenia!J30+Bulgaria!J30+Romania!J31 + Croatia!J30","v":{"v":7815,"d":"7,815"}},{"$f":"Cyprus!K30+'Czech Rep'!K30+Estonia!K30+Hungary!K30+Latvia!K30+Lithuania!K30+Malta!K30+Poland!K30+Slovakia!K30+Slovenia!K30+Bulgaria!K30+Romania!K31 + Croatia!K30","v":{"v":7957,"d":"7,957"}},{"$f":"Cyprus!L30+'Czech Rep'!L30+Estonia!L30+Hungary!L30+Latvia!L30+Lithuania!L30+Malta!L30+Poland!L30+Slovakia!L30+Slovenia!L30+Bulgaria!L30+Romania!L31 + Croatia!L30","v":{"v":7581,"d":"7,581"}},{"$f":"Cyprus!M30+'Czech Rep'!M30+Estonia!M30+Hungary!M30+Latvia!M30+Lithuania!M30+Malta!M30+Poland!M30+Slovakia!M30+Slovenia!M30+Bulgaria!M30+Romania!M31 + Croatia!M30","v":{"v":7740,"d":"7,740"}},{"$f":"Cyprus!N30+'Czech Rep'!N30+Estonia!N30+Hungary!N30+Latvia!N30+Lithuania!N30+Malta!N30+Poland!N30+Slovakia!N30+Slovenia!N30+Bulgaria!N30+Romania!N31 + Croatia!N30","v":{"v":8429,"d":"8,429"}},{"$f":"Cyprus!O30+'Czech Rep'!O30+Estonia!O30+Hungary!O30+Latvia!O30+Lithuania!O30+Malta!O30+Poland!O30+Slovakia!O30+Slovenia!O30+Bulgaria!O30+Romania!O31 + Croatia!O30","v":{"v":8622,"d":"8,622"}},{"$f":"Cyprus!P30+'Czech Rep'!P30+Estonia!P30+Hungary!P30+Latvia!P30+Lithuania!P30+Malta!P30+Poland!P30+Slovakia!P30+Slovenia!P30+Bulgaria!P30+Romania!P31 + Croatia!P30","v":{"v":8693,"d":"8,693"}},{"$f":"Cyprus!Q30+'Czech Rep'!Q30+Estonia!Q30+Hungary!Q30+Latvia!Q30+Lithuania!Q30+Malta!Q30+Poland!Q30+Slovakia!Q30+Slovenia!Q30+Bulgaria!Q30+Romania!Q31 + Croatia!Q30","v":{"v":9328,"d":"9,328"}},{"$f":"Cyprus!R30+'Czech Rep'!R30+Estonia!R30+Hungary!R30+Latvia!R30+Lithuania!R30+Malta!R30+Poland!R30+Slovakia!R30+Slovenia!R30+Bulgaria!R30+Romania!R31 + Croatia!R30","v":{"v":8829,"d":"8,829"}},{"$f":"Cyprus!S30+'Czech Rep'!S30+Estonia!S30+Hungary!S30+Latvia!S30+Lithuania!S30+Malta!S30+Poland!S30+Slovakia!S30+Slovenia!S30+Bulgaria!S30+Romania!S31 + Croatia!S30","v":{"v":9212,"d":"9,212"}},{"$f":"Cyprus!T30+'Czech Rep'!T30+Estonia!T30+Hungary!T30+Latvia!T30+Lithuania!T30+Malta!T30+Poland!T30+Slovakia!T30+Slovenia!T30+Bulgaria!T30+Romania!T31 + Croatia!T30","v":{"v":9840,"d":"9,840"}},{"$f":"Cyprus!U30+'Czech Rep'!U30+Estonia!U30+Hungary!U30+Latvia!U30+Lithuania!U30+Malta!U30+Poland!U30+Slovakia!U30+Slovenia!U30+Bulgaria!U30+Romania!U31 + Croatia!U30","v":{"v":10334,"d":"10,334"}},{"$f":"Cyprus!V30+'Czech Rep'!V30+Estonia!V30+Hungary!V30+Latvia!V30+Lithuania!V30+Malta!V30+Poland!V30+Slovakia!V30+Slovenia!V30+Bulgaria!V30+Romania!V31 + Croatia!V30","v":{"v":10951,"d":"10,951"}},{"$f":"Cyprus!W30+'Czech Rep'!W30+Estonia!W30+Hungary!W30+Latvia!W30+Lithuania!W30+Malta!W30+Poland!W30+Slovakia!W30+Slovenia!W30+Bulgaria!W30+Romania!W31 + Croatia!W30","v":{"v":11282,"d":"11,282"}},{"$f":"Cyprus!X30+'Czech Rep'!X30+Estonia!X30+Hungary!X30+Latvia!X30+Lithuania!X30+Malta!X30+Poland!X30+Slovakia!X30+Slovenia!X30+Bulgaria!X30+Romania!X31 + Croatia!X30","v":{"v":10854,"d":"10,854"}},{"$f":"Cyprus!Y30+'Czech Rep'!Y30+Estonia!Y30+Hungary!Y30+Latvia!Y30+Lithuania!Y30+Malta!Y30+Poland!Y30+Slovakia!Y30+Slovenia!Y30+Bulgaria!Y30+Romania!Y31 + Croatia!Y30","v":{"v":11266,"d":"11,266"}},{"$f":"Cyprus!Z30+'Czech Rep'!Z30+Estonia!Z30+Hungary!Z30+Latvia!Z30+Lithuania!Z30+Malta!Z30+Poland!Z30+Slovakia!Z30+Slovenia!Z30+Bulgaria!Z30+Romania!Z31 + Croatia!Z30","v":{"v":10978,"d":"10,978"}},{"$f":"Cyprus!AA30+'Czech Rep'!AA30+Estonia!AA30+Hungary!AA30+Latvia!AA30+Lithuania!AA30+Malta!AA30+Poland!AA30+Slovakia!AA30+Slovenia!AA30+Bulgaria!AA30+Romania!AA31 + Croatia!AA30","v":{"v":10959,"d":"10,959"}},{"$f":"Cyprus!AB30+'Czech Rep'!AB30+Estonia!AB30+Hungary!AB30+Latvia!AB30+Lithuania!AB30+Malta!AB30+Poland!AB30+Slovakia!AB30+Slovenia!AB30+Bulgaria!AB30+Romania!AB31 + Croatia!AB30","v":{"v":11698,"d":"11,698"}},{"$f":"Cyprus!AC30+'Czech Rep'!AC30+Estonia!AC30+Hungary!AC30+Latvia!AC30+Lithuania!AC30+Malta!AC30+Poland!AC30+Slovakia!AC30+Slovenia!AC30+Bulgaria!AC30+Romania!AC31 + Croatia!AC30","v":{"v":12811,"d":"12,811"}},{"$f":"Cyprus!AD30+'Czech Rep'!AD30+Estonia!AD30+Hungary!AD30+Latvia!AD30+Lithuania!AD30+Malta!AD30+Poland!AD30+Slovakia!AD30+Slovenia!AD30+Bulgaria!AD30+Romania!AD31 + Croatia!AD30","v":{"v":13027,"d":"13,027"}},{"$f":"Cyprus!AE30+'Czech Rep'!AE30+Estonia!AE30+Hungary!AE30+Latvia!AE30+Lithuania!AE30+Malta!AE30+Poland!AE30+Slovakia!AE30+Slovenia!AE30+Bulgaria!AE30+Romania!AE31 + Croatia!AE30","v":{"v":13216.663,"d":"13,217"}},{"$f":"Cyprus!AF30+'Czech Rep'!AF30+Estonia!AF30+Hungary!AF30+Latvia!AF30+Lithuania!AF30+Malta!AF30+Poland!AF30+Slovakia!AF30+Slovenia!AF30+Bulgaria!AF30+Romania!AF31 + Croatia!AF30","v":{"v":13364.103000000001,"d":"13,364"}},{"$f":"Cyprus!AG30+'Czech Rep'!AG30+Estonia!AG30+Hungary!AG30+Latvia!AG30+Lithuania!AG30+Malta!AG30+Poland!AG30+Slovakia!AG30+Slovenia!AG30+Bulgaria!AG30+Romania!AG31 + Croatia!AG30","v":{"v":13473.467,"d":"13,473"}},{"$f":"Cyprus!AH30+'Czech Rep'!AH30+Estonia!AH30+Hungary!AH30+Latvia!AH30+Lithuania!AH30+Malta!AH30+Poland!AH30+Slovakia!AH30+Slovenia!AH30+Bulgaria!AH30+Romania!AH31 + Croatia!AH30","v":{"v":12866.779,"d":"12,867"}}]
["broilers",":",":",":",":",":",":",":",":",":",":",":",":",":",":",":",":",":",":",":",":",":",":",":",":",":",":",":",":",":",":",":",":",":"]
["chicks & layers",":",":",":",":",":",":",":",":",":",":",":",":",":",":",":",":",":",":",":",":",":",":",":",":",":",":",":",":",":",":",":",":",":"]
["others",":",":",":",":",":",":",":",":",":",":",":",":",":",":",":",":",":",":",":",":",":",":",":",":",":",":",":",":",":",":",":",":",":"]
[]
[]
["Milk replacers",{"$f":"Cyprus!B36+'Czech Rep'!B36+Estonia!B36+Hungary!B36+Latvia!B36+Lithuania!B36+Malta!B36+Poland!B36+Slovakia!B36+Slovenia!B36+Bulgaria!B36+Romania!B37 + Croatia!B36","v":0},{"$f":"Cyprus!C36+'Czech Rep'!C36+Estonia!C36+Hungary!C36+Latvia!C36+Lithuania!C36+Malta!C36+Poland!C36+Slovakia!C36+Slovenia!C36+Bulgaria!C36+Romania!C37 + Croatia!C36","v":0},{"$f":"Cyprus!D36+'Czech Rep'!D36+Estonia!D36+Hungary!D36+Latvia!D36+Lithuania!D36+Malta!D36+Poland!D36+Slovakia!D36+Slovenia!D36+Bulgaria!D36+Romania!D37 + Croatia!D36","v":0},{"$f":"Cyprus!E36+'Czech Rep'!E36+Estonia!E36+Hungary!E36+Latvia!E36+Lithuania!E36+Malta!E36+Poland!E36+Slovakia!E36+Slovenia!E36+Bulgaria!E36+Romania!E37 + Croatia!E36","v":0},{"$f":"Cyprus!F36+'Czech Rep'!F36+Estonia!F36+Hungary!F36+Latvia!F36+Lithuania!F36+Malta!F36+Poland!F36+Slovakia!F36+Slovenia!F36+Bulgaria!F36+Romania!F37 + Croatia!F36","v":0},{"$f":"Cyprus!G36+'Czech Rep'!G36+Estonia!G36+Hungary!G36+Latvia!G36+Lithuania!G36+Malta!G36+Poland!G36+Slovakia!G36+Slovenia!G36+Bulgaria!G36+Romania!G37 + Croatia!G36","v":0},{"$f":"Cyprus!H36+'Czech Rep'!H36+Estonia!H36+Hungary!H36+Latvia!H36+Lithuania!H36+Malta!H36+Poland!H36+Slovakia!H36+Slovenia!H36+Bulgaria!H36+Romania!H37 + Croatia!H36","v":0},{"$f":"Cyprus!I36+'Czech Rep'!I36+Estonia!I36+Hungary!I36+Latvia!I36+Lithuania!I36+Malta!I36+Poland!I36+Slovakia!I36+Slovenia!I36+Bulgaria!I36+Romania!I37 + Croatia!I36","v":0},{"$f":"Cyprus!J36+'Czech Rep'!J36+Estonia!J36+Hungary!J36+Latvia!J36+Lithuania!J36+Malta!J36+Poland!J36+Slovakia!J36+Slovenia!J36+Bulgaria!J36+Romania!J37 + Croatia!J36","v":0},{"$f":"Cyprus!K36+'Czech Rep'!K36+Estonia!K36+Hungary!K36+Latvia!K36+Lithuania!K36+Malta!K36+Poland!K36+Slovakia!K36+Slovenia!K36+Bulgaria!K36+Romania!K37 + Croatia!K36","v":0},{"$f":"Cyprus!L36+'Czech Rep'!L36+Estonia!L36+Hungary!L36+Latvia!L36+Lithuania!L36+Malta!L36+Poland!L36+Slovakia!L36+Slovenia!L36+Bulgaria!L36+Romania!L37 + Croatia!L36","v":0},{"$f":"Cyprus!M36+'Czech Rep'!M36+Estonia!M36+Hungary!M36+Latvia!M36+Lithuania!M36+Malta!M36+Poland!M36+Slovakia!M36+Slovenia!M36+Bulgaria!M36+Romania!M37 + Croatia!M36","v":0},{"$f":"Cyprus!N36+'Czech Rep'!N36+Estonia!N36+Hungary!N36+Latvia!N36+Lithuania!N36+Malta!N36+Poland!N36+Slovakia!N36+Slovenia!N36+Bulgaria!N36+Romania!N37 + Croatia!N36","v":0},{"$f":"Cyprus!O36+'Czech Rep'!O36+Estonia!O36+Hungary!O36+Latvia!O36+Lithuania!O36+Malta!O36+Poland!O36+Slovakia!O36+Slovenia!O36+Bulgaria!O36+Romania!O37 + Croatia!O36","v":0},{"$f":"Cyprus!P36+'Czech Rep'!P36+Estonia!P36+Hungary!P36+Latvia!P36+Lithuania!P36+Malta!P36+Poland!P36+Slovakia!P36+Slovenia!P36+Bulgaria!P36+Romania!P37 + Croatia!P36","v":9},{"$f":"Cyprus!Q36+'Czech Rep'!Q36+Estonia!Q36+Hungary!Q36+Latvia!Q36+Lithuania!Q36+Malta!Q36+Poland!Q36+Slovakia!Q36+Slovenia!Q36+Bulgaria!Q36+Romania!Q37 + Croatia!Q36","v":10},{"$f":"Cyprus!R36+'Czech Rep'!R36+Estonia!R36+Hungary!R36+Latvia!R36+Lithuania!R36+Malta!R36+Poland!R36+Slovakia!R36+Slovenia!R36+Bulgaria!R36+Romania!R37 + Croatia!R36","v":10},{"$f":"Cyprus!S36+'Czech Rep'!S36+Estonia!S36+Hungary!S36+Latvia!S36+Lithuania!S36+Malta!S36+Poland!S36+Slovakia!S36+Slovenia!S36+Bulgaria!S36+Romania!S37 + Croatia!S36","v":11},{"$f":"Cyprus!T36+'Czech Rep'!T36+Estonia!T36+Hungary!T36+Latvia!T36+Lithuania!T36+Malta!T36+Poland!T36+Slovakia!T36+Slovenia!T36+Bulgaria!T36+Romania!T37 + Croatia!T36","v":10},{"$f":"Cyprus!U36+'Czech Rep'!U36+Estonia!U36+Hungary!U36+Latvia!U36+Lithuania!U36+Malta!U36+Poland!U36+Slovakia!U36+Slovenia!U36+Bulgaria!U36+Romania!U37 + Croatia!U36","v":8},{"$f":"Cyprus!V36+'Czech Rep'!V36+Estonia!V36+Hungary!V36+Latvia!V36+Lithuania!V36+Malta!V36+Poland!V36+Slovakia!V36+Slovenia!V36+Bulgaria!V36+Romania!V37 + Croatia!V36","v":8},{"$f":"Cyprus!W36+'Czech Rep'!W36+Estonia!W36+Hungary!W36+Latvia!W36+Lithuania!W36+Malta!W36+Poland!W36+Slovakia!W36+Slovenia!W36+Bulgaria!W36+Romania!W37 + Croatia!W36","v":7},{"$f":"Cyprus!X36+'Czech Rep'!X36+Estonia!X36+Hungary!X36+Latvia!X36+Lithuania!X36+Malta!X36+Poland!X36+Slovakia!X36+Slovenia!X36+Bulgaria!X36+Romania!X37 + Croatia!X36","v":7},{"$f":"Cyprus!Y36+'Czech Rep'!Y36+Estonia!Y36+Hungary!Y36+Latvia!Y36+Lithuania!Y36+Malta!Y36+Poland!Y36+Slovakia!Y36+Slovenia!Y36+Bulgaria!Y36+Romania!Y37 + Croatia!Y36","v":6},{"$f":"Cyprus!Z36+'Czech Rep'!Z36+Estonia!Z36+Hungary!Z36+Latvia!Z36+Lithuania!Z36+Malta!Z36+Poland!Z36+Slovakia!Z36+Slovenia!Z36+Bulgaria!Z36+Romania!Z37 + Croatia!Z36","v":6},{"$f":"Cyprus!AA36+'Czech Rep'!AA36+Estonia!AA36+Hungary!AA36+Latvia!AA36+Lithuania!AA36+Malta!AA36+Poland!AA36+Slovakia!AA36+Slovenia!AA36+Bulgaria!AA36+Romania!AA37 + Croatia!AA36","v":7},{"$f":"Cyprus!AB36+'Czech Rep'!AB36+Estonia!AB36+Hungary!AB36+Latvia!AB36+Lithuania!AB36+Malta!AB36+Poland!AB36+Slovakia!AB36+Slovenia!AB36+Bulgaria!AB36+Romania!AB37 + Croatia!AB36","v":3},{"$f":"Cyprus!AC36+'Czech Rep'!AC36+Estonia!AC36+Hungary!AC36+Latvia!AC36+Lithuania!AC36+Malta!AC36+Poland!AC36+Slovakia!AC36+Slovenia!AC36+Bulgaria!AC36+Romania!AC37 + Croatia!AC36","v":3},{"$f":"Cyprus!AD36+'Czech Rep'!AD36+Estonia!AD36+Hungary!AD36+Latvia!AD36+Lithuania!AD36+Malta!AD36+Poland!AD36+Slovakia!AD36+Slovenia!AD36+Bulgaria!AD36+Romania!AD37 + Croatia!AD36","v":2},{"$f":"Cyprus!AE36+'Czech Rep'!AE36+Estonia!AE36+Hungary!AE36+Latvia!AE36+Lithuania!AE36+Malta!AE36+Poland!AE36+Slovakia!AE36+Slovenia!AE36+Bulgaria!AE36+Romania!AE37 + Croatia!AE36","v":2},{"$f":"Cyprus!AF36+'Czech Rep'!AF36+Estonia!AF36+Hungary!AF36+Latvia!AF36+Lithuania!AF36+Malta!AF36+Poland!AF36+Slovakia!AF36+Slovenia!AF36+Bulgaria!AF36+Romania!AF37 + Croatia!AF36","v":1},{"$f":"Cyprus!AG36+'Czech Rep'!AG36+Estonia!AG36+Hungary!AG36+Latvia!AG36+Lithuania!AG36+Malta!AG36+Poland!AG36+Slovakia!AG36+Slovenia!AG36+Bulgaria!AG36+Romania!AG37 + Croatia!AG36","v":1},{"$f":"Cyprus!AH36+'Czech Rep'!AH36+Estonia!AH36+Hungary!AH36+Latvia!AH36+Lithuania!AH36+Malta!AH36+Poland!AH36+Slovakia!AH36+Slovenia!AH36+Bulgaria!AH36+Romania!AH37 + Croatia!AH36","v":1}]
[]
[]
["Others",{"$f":"Cyprus!B39+'Czech Rep'!B39+Estonia!B39+Hungary!B39+Latvia!B39+Lithuania!B39+Malta!B39+Poland!B39+Slovakia!B39+Slovenia!B39+Bulgaria!B39+Romania!B40 + Croatia!B39","v":0},{"$f":"Cyprus!C39+'Czech Rep'!C39+Estonia!C39+Hungary!C39+Latvia!C39+Lithuania!C39+Malta!C39+Poland!C39+Slovakia!C39+Slovenia!C39+Bulgaria!C39+Romania!C40 + Croatia!C39","v":0},{"$f":"Cyprus!D39+'Czech Rep'!D39+Estonia!D39+Hungary!D39+Latvia!D39+Lithuania!D39+Malta!D39+Poland!D39+Slovakia!D39+Slovenia!D39+Bulgaria!D39+Romania!D40 + Croatia!D39","v":0},{"$f":"Cyprus!E39+'Czech Rep'!E39+Estonia!E39+Hungary!E39+Latvia!E39+Lithuania!E39+Malta!E39+Poland!E39+Slovakia!E39+Slovenia!E39+Bulgaria!E39+Romania!E40 + Croatia!E39","v":0},{"$f":"Cyprus!F39+'Czech Rep'!F39+Estonia!F39+Hungary!F39+Latvia!F39+Lithuania!F39+Malta!F39+Poland!F39+Slovakia!F39+Slovenia!F39+Bulgaria!F39+Romania!F40 + Croatia!F39","v":0},{"$f":"Cyprus!G39+'Czech Rep'!G39+Estonia!G39+Hungary!G39+Latvia!G39+Lithuania!G39+Malta!G39+Poland!G39+Slovakia!G39+Slovenia!G39+Bulgaria!G39+Romania!G40 + Croatia!G39","v":0},{"$f":"Cyprus!H39+'Czech Rep'!H39+Estonia!H39+Hungary!H39+Latvia!H39+Lithuania!H39+Malta!H39+Poland!H39+Slovakia!H39+Slovenia!H39+Bulgaria!H39+Romania!H40 + Croatia!H39","v":0},{"$f":"Cyprus!I39+'Czech Rep'!I39+Estonia!I39+Hungary!I39+Latvia!I39+Lithuania!I39+Malta!I39+Poland!I39+Slovakia!I39+Slovenia!I39+Bulgaria!I39+Romania!I40 + Croatia!I39","v":0},{"$f":"Cyprus!J39+'Czech Rep'!J39+Estonia!J39+Hungary!J39+Latvia!J39+Lithuania!J39+Malta!J39+Poland!J39+Slovakia!J39+Slovenia!J39+Bulgaria!J39+Romania!J40 + Croatia!J39","v":397},{"$f":"Cyprus!K39+'Czech Rep'!K39+Estonia!K39+Hungary!K39+Latvia!K39+Lithuania!K39+Malta!K39+Poland!K39+Slovakia!K39+Slovenia!K39+Bulgaria!K39+Romania!K40 + Croatia!K39","v":400},{"$f":"Cyprus!L39+'Czech Rep'!L39+Estonia!L39+Hungary!L39+Latvia!L39+Lithuania!L39+Malta!L39+Poland!L39+Slovakia!L39+Slovenia!L39+Bulgaria!L39+Romania!L40 + Croatia!L39","v":451},{"$f":"Cyprus!M39+'Czech Rep'!M39+Estonia!M39+Hungary!M39+Latvia!M39+Lithuania!M39+Malta!M39+Poland!M39+Slovakia!M39+Slovenia!M39+Bulgaria!M39+Romania!M40 + Croatia!M39","v":445},{"$f":"Cyprus!N39+'Czech Rep'!N39+Estonia!N39+Hungary!N39+Latvia!N39+Lithuania!N39+Malta!N39+Poland!N39+Slovakia!N39+Slovenia!N39+Bulgaria!N39+Romania!N40 + Croatia!N39","v":765},{"$f":"Cyprus!O39+'Czech Rep'!O39+Estonia!O39+Hungary!O39+Latvia!O39+Lithuania!O39+Malta!O39+Poland!O39+Slovakia!O39+Slovenia!O39+Bulgaria!O39+Romania!O40 + Croatia!O39","v":822},{"$f":"Cyprus!P39+'Czech Rep'!P39+Estonia!P39+Hungary!P39+Latvia!P39+Lithuania!P39+Malta!P39+Poland!P39+Slovakia!P39+Slovenia!P39+Bulgaria!P39+Romania!P40 + Croatia!P39","v":878},{"$f":"Cyprus!Q39+'Czech Rep'!Q39+Estonia!Q39+Hungary!Q39+Latvia!Q39+Lithuania!Q39+Malta!Q39+Poland!Q39+Slovakia!Q39+Slovenia!Q39+Bulgaria!Q39+Romania!Q40 + Croatia!Q39","v":703},{"$f":"Cyprus!R39+'Czech Rep'!R39+Estonia!R39+Hungary!R39+Latvia!R39+Lithuania!R39+Malta!R39+Poland!R39+Slovakia!R39+Slovenia!R39+Bulgaria!R39+Romania!R40 + Croatia!R39","v":755},{"$f":"Cyprus!S39+'Czech Rep'!S39+Estonia!S39+Hungary!S39+Latvia!S39+Lithuania!S39+Malta!S39+Poland!S39+Slovakia!S39+Slovenia!S39+Bulgaria!S39+Romania!S40 + Croatia!S39","v":783},{"$f":"Cyprus!T39+'Czech Rep'!T39+Estonia!T39+Hungary!T39+Latvia!T39+Lithuania!T39+Malta!T39+Poland!T39+Slovakia!T39+Slovenia!T39+Bulgaria!T39+Romania!T40 + Croatia!T39","v":930},{"$f":"Cyprus!U39+'Czech Rep'!U39+Estonia!U39+Hungary!U39+Latvia!U39+Lithuania!U39+Malta!U39+Poland!U39+Slovakia!U39+Slovenia!U39+Bulgaria!U39+Romania!U40 + Croatia!U39","v":895},{"$f":"Cyprus!V39+'Czech Rep'!V39+Estonia!V39+Hungary!V39+Latvia!V39+Lithuania!V39+Malta!V39+Poland!V39+Slovakia!V39+Slovenia!V39+Bulgaria!V39+Romania!V40 + Croatia!V39","v":816},{"$f":"Cyprus!W39+'Czech Rep'!W39+Estonia!W39+Hungary!W39+Latvia!W39+Lithuania!W39+Malta!W39+Poland!W39+Slovakia!W39+Slovenia!W39+Bulgaria!W39+Romania!W40 + Croatia!W39","v":810},{"$f":"Cyprus!X39+'Czech Rep'!X39+Estonia!X39+Hungary!X39+Latvia!X39+Lithuania!X39+Malta!X39+Poland!X39+Slovakia!X39+Slovenia!X39+Bulgaria!X39+Romania!X40 + Croatia!X39","v":776},{"$f":"Cyprus!Y39+'Czech Rep'!Y39+Estonia!Y39+Hungary!Y39+Latvia!Y39+Lithuania!Y39+Malta!Y39+Poland!Y39+Slovakia!Y39+Slovenia!Y39+Bulgaria!Y39+Romania!Y40 + Croatia!Y39","v":843},{"$f":"Cyprus!Z39+'Czech Rep'!Z39+Estonia!Z39+Hungary!Z39+Latvia!Z39+Lithuania!Z39+Malta!Z39+Poland!Z39+Slovakia!Z39+Slovenia!Z39+Bulgaria!Z39+Romania!Z40 + Croatia!Z39","v":958},{"$f":"Cyprus!AA39+'Czech Rep'!AA39+Estonia!AA39+Hungary!AA39+Latvia!AA39+Lithuania!AA39+Malta!AA39+Poland!AA39+Slovakia!AA39+Slovenia!AA39+Bulgaria!AA39+Romania!AA40 + Croatia!AA39","v":{"v":1005,"d":"1,005"}},{"$f":"Cyprus!AB39+'Czech Rep'!AB39+Estonia!AB39+Hungary!AB39+Latvia!AB39+Lithuania!AB39+Malta!AB39+Poland!AB39+Slovakia!AB39+Slovenia!AB39+Bulgaria!AB39+Romania!AB40 + Croatia!AB39","v":{"v":1127,"d":"1,127"}},{"$f":"Cyprus!AC39+'Czech Rep'!AC39+Estonia!AC39+Hungary!AC39+Latvia!AC39+Lithuania!AC39+Malta!AC39+Poland!AC39+Slovakia!AC39+Slovenia!AC39+Bulgaria!AC39+Romania!AC40 + Croatia!AC39","v":{"v":1261,"d":"1,261"}},{"$f":"Cyprus!AD39+'Czech Rep'!AD39+Estonia!AD39+Hungary!AD39+Latvia!AD39+Lithuania!AD39+Malta!AD39+Poland!AD39+Slovakia!AD39+Slovenia!AD39+Bulgaria!AD39+Romania!AD40 + Croatia!AD39","v":{"v":1350,"d":"1,350"}},{"$f":"Cyprus!AE39+'Czech Rep'!AE39+Estonia!AE39+Hungary!AE39+Latvia!AE39+Lithuania!AE39+Malta!AE39+Poland!AE39+Slovakia!AE39+Slovenia!AE39+Bulgaria!AE39+Romania!AE40 + Croatia!AE39","v":{"v":1486,"d":"1,486"}},{"$f":"Cyprus!AF39+'Czech Rep'!AF39+Estonia!AF39+Hungary!AF39+Latvia!AF39+Lithuania!AF39+Malta!AF39+Poland!AF39+Slovakia!AF39+Slovenia!AF39+Bulgaria!AF39+Romania!AF40 + Croatia!AF39","v":{"v":1432.502,"d":"1,433"}},{"$f":"Cyprus!AG39+'Czech Rep'!AG39+Estonia!AG39+Hungary!AG39+Latvia!AG39+Lithuania!AG39+Malta!AG39+Poland!AG39+Slovakia!AG39+Slovenia!AG39+Bulgaria!AG39+Romania!AG40 + Croatia!AG39","v":{"v":1517.5,"d":"1,518"}},{"$f":"Cyprus!AH39+'Czech Rep'!AH39+Estonia!AH39+Hungary!AH39+Latvia!AH39+Lithuania!AH39+Malta!AH39+Poland!AH39+Slovakia!AH39+Slovenia!AH39+Bulgaria!AH39+Romania!AH40 + Croatia!AH39","v":{"v":1624,"d":"1,624"}}]
[]
[]
["TOTAL",{"$f":"B39+B36+B30+B23+B16","v":0},0,0,0,0,0,0,0,{"v":18067,"d":"18,067"},{"v":18858,"d":"18,858"},{"v":18021,"d":"18,021"},{"v":17818,"d":"17,818"},{"v":18644,"d":"18,644"},{"v":18540,"d":"18,540"},{"v":18743,"d":"18,743"},{"v":18801,"d":"18,801"},{"v":18235,"d":"18,235"},{"v":19787,"d":"19,787"},{"v":20936,"d":"20,936"},{"v":21143,"d":"21,143"},{"v":20752,"d":"20,752"},{"v":21356,"d":"21,356"},{"v":20986,"d":"20,986"},{"v":21691,"d":"21,691"},{"v":21071,"d":"21,071"},{"v":21225,"d":"21,225"},{"v":21715,"d":"21,715"},{"v":23249,"d":"23,249"},{"v":24131,"d":"24,131"},{"v":24917.499,"d":"24,917"},{"v":24795.975000000002,"d":"24,796"},{"v":25156.068,"d":"25,156"},{"v":24784.920000000002,"d":"24,785"}]

{"sheet":"EU28","index":75,"n_rows":42,"n_cols":35,"rows_kept":42,"merged":[[3,0,3,32]]}
["FEFAC SECRETARIAT GENERAL"]
[]
[]
["INDUSTRIAL COMPOUND FEED PRODUCTION"]
[]
[]
[]
["COUNTRY: EU-28"]
[]
[]
[]
["1 000 t",1989,1990,1991,1992,1993,1994,1995,1996,1997,1998,1999,2000,2001,2002,2003,2004,2005,2006,2007,2008,2009,2010,2011,2012,2013,2014,2015,2016,2017,2018,2019,2020,2021,2022]
[null,"final figures","final figures","final figures","final figures","final figures","final figures","final figures","final figures","final figures","final figures","final figures","final figures","final figures","final figures","final figures","final figures","final figures","final figures","final figures","final figures","final figures","final figures","final figures","final figures","final figures","final figures","final figures","final figures","final figures","estimates","forecasts","forecasts","forecasts","forecasts"]
[]
[]
["Cattle",{"$f":"Germany!B16+France!B16+Italy!B16+'The Netherlands'!B16+Belgium!B16+UK!B16+Ireland!B16+Denmark!B16+Spain!B16+Portugal!B16","v":{"v":31642,"d":"31,642"}},{"$f":"Germany!C16+France!C16+Italy!C16+'The Netherlands'!C16+Belgium!C16+UK!C16+Ireland!C16+Denmark!C16+Spain!C16+Portugal!C16","v":{"v":31277,"d":"31,277"}},{"$f":"Germany!D16+France!D16+Italy!D16+'The Netherlands'!D16+Belgium!D16+UK!D16+Ireland!D16+Denmark!D16+Spain!D16+Portugal!D16","v":{"v":32915,"d":"32,915"}},{"$f":"Germany!E16+France!E16+Italy!E16+'The Netherlands'!E16+Belgium!E16+UK!E16+Ireland!E16+Denmark!E16+Spain!E16+Portugal!E16","v":{"v":32054,"d":"32,054"}},{"$f":"Germany!F16+France!F16+Italy!F16+'The Netherlands'!F16+Belgium!F16+UK!F16+Ireland!F16+Denmark!F16+Spain!F16+Portugal!F16","v":{"v":32517,"d":"32,517"}},{"$f":"Germany!G16+France!G16+Italy!G16+'The Netherlands'!G16+Belgium!G16+UK!G16+Ireland!G16+Denmark!G16+Spain!G16+Portugal!G16","v":{"v":33016,"d":"33,016"}},{"$f":"Germany!H16+France!H16+Italy!H16+'The Netherlands'!H16+Belgium!H16+UK!H16+Ireland!H16+Denmark!H16+Spain!H16+Portugal!H16+Finland!H16+Sweden!H16+Austria!H16","v":{"v":35705,"d":"35,705"}},{"$f":"Germany!I16+France!I16+Italy!I16+'The Netherlands'!I16+Belgium!I16+UK!I16+Ireland!I16+Denmark!I16+Spain!I16+Portugal!I16+Finland!I16+Sweden!I16+Austria!I16","v":{"v":35075,"d":"35,075"}},{"$f":"Germany!J16+France!J16+Italy!J16+'The Netherlands'!J16+Belgium!J16+UK!J16+Ireland!J16+Denmark!J16+Spain!J16+Portugal!J16+Finland!J16+Sweden!J16+Austria!J16","v":{"v":32993,"d":"32,993"}},{"$f":"Germany!K16+France!K16+Italy!K16+'The Netherlands'!K16+Belgium!K16+UK!K16+Ireland!K16+Denmark!K16+Spain!K16+Portugal!K16+Finland!K16+Sweden!K16+Austria!K16","v":{"v":32628,"d":"32,628"}},{"$f":"Germany!L16+France!L16+Italy!L16+'The Netherlands'!L16+Belgium!L16+UK!L16+Ireland!L16+Denmark!L16+Spain!L16+Portugal!L16+Finland!L16+Sweden!L16+Austria!L16","v":{"v":34343,"d":"34,343"}},{"$f":"Germany!M16+France!M16+Italy!M16+'The Netherlands'!M16+Belgium!M16+UK!M16+Ireland!M16+Denmark!M16+Spain!M16+Portugal!M16+Finland!M16+Sweden!M16+Austria!M16","v":{"v":34204,"d":"34,204"}},{"$f":"Germany!N16+France!N16+Italy!N16+'The Netherlands'!N16+Belgium!N16+UK!N16+Ireland!N16+Denmark!N16+Spain!N16+Portugal!N16+Finland!N16+Sweden!N16+Austria!N16","v":{"v":35305,"d":"35,305"}},{"$f":"Germany!O16+France!O16+Italy!O16+'The Netherlands'!O16+Belgium!O16+UK!O16+Ireland!O16+Denmark!O16+Spain!O16+Portugal!O16+Finland!O16+Sweden!O16+Austria!O16","v":{"v":35465,"d":"35,465"}},{"$f":"Germany!P16+France!P16+Italy!P16+'The Netherlands'!P16+Belgium!P16+UK!P16+Ireland!P16+Denmark!P16+Spain!P16+Portugal!P16+Finland!P16+Sweden!P16+Austria!P16","v":{"v":35963,"d":"35,963"}},{"$f":"Germany!Q16+France!Q16+Italy!Q16+'The Netherlands'!Q16+Belgium!Q16+UK!Q16+Ireland!Q16+Denmark!Q16+Spain!Q16+Portugal!Q16+Finland!Q16+Sweden!Q16+Austria!Q16+Cyprus!Q16+'Czech Rep'!Q16+Estonia!Q16+Hungary!Q16+Latvia!Q16+Lithuania!Q16+Malta!Q16+Poland!Q16+Slovakia!Q16+Slovenia!Q16","v":{"v":38135,"d":"38,135"}},{"$f":"Germany!R16+France!R16+Italy!R16+'The Netherlands'!R16+Belgium!R16+UK!R16+Ireland!R16+Denmark!R16+Spain!R16+Portugal!R16+Finland!R16+Sweden!R16+Austria!R16+Cyprus!R16+'Czech Rep'!R16+Estonia!R16+Hungary!R16+Latvia!R16+Lithuania!R16+Malta!R16+Poland!R16+Slovakia!R16+Slovenia!R16","v":{"v":37867,"d":"37,867"}},{"$f":"Germany!S16+France!S16+Italy!S16+'The Netherlands'!S16+Belgium!S16+UK!S16+Ireland!S16+Denmark!S16+Spain!S16+Portugal!S16+Finland!S16+Sweden!S16+Austria!S16+Cyprus!S16+'Czech Rep'!S16+Estonia!S16+Hungary!S16+Latvia!S16+Lithuania!S16+Malta!S16+Poland!S16+Slovakia!S16+Slovenia!S16","v":{"v":36838,"d":"36,838"}},{"$f":"Germany!T16+France!T16+Italy!T16+'The Netherlands'!T16+Belgium!T16+UK!T16+Ireland!T16+Denmark!T16+Spain!T16+Portugal!T16+Finland!T16+Sweden!T16+Austria!T16+Cyprus!T16+'Czech Rep'!T16+Estonia!T16+Hungary!T16+Latvia!T16+Lithuania!T16+Malta!T16+Poland!T16+Slovakia!T16+Slovenia!T16+Bulgaria!T16+Romania!T17","v":{"v":38603,"d":"38,603"}},{"$f":"Germany!U16+France!U16+Italy!U16+'The Netherlands'!U16+Belgium!U16+UK!U16+Ireland!U16+Denmark!U16+Spain!U16+Portugal!U16+Finland!U16+Sweden!U16+Austria!U16+Cyprus!U16+'Czech Rep'!U16+Estonia!U16+Hungary!U16+Latvia!U16+Lithuania!U16+Malta!U16+Poland!U16+Slovakia!U16+Slovenia!U16+Bulgaria!U16+Romania!U17","v":{"v":41207,"d":"41,207"}},{"$f":"Germany!V16+France!V16+Italy!V16+'The Netherlands'!V16+Belgium!V16+UK!V16+Ireland!V16+Denmark!V16+Spain!V16+Portugal!V16+Finland!V16+Sweden!V16+Austria!V16+Cyprus!V16+'Czech Rep'!V16+Estonia!V16+Hungary!V16+Latvia!V16+Lithuania!V16+Malta!V16+Poland!V16+Slovakia!V16+Slovenia!V16+Bulgaria!V16+Romania!V17","v":{"v":38577,"d":"38,577"}},{"$f":"Germany!W16+France!W16+Italy!W16+'The Netherlands'!W16+Belgium!W16+UK!W16+Ireland!W16+Denmark!W16+Spain!W16+Portugal!W16+Finland!W16+Sweden!W16+Austria!W16+Cyprus!W16+'Czech Rep'!W16+Estonia!W16+Hungary!W16+Latvia!W16+Lithuania!W16+Malta!W16+Poland!W16+Slovakia!W16+Slovenia!W16+Bulgaria!W16+Romania!W17","v":{"v":39583,"d":"39,583"}},{"$f":"Germany!X16+France!X16+Italy!X16+'The Netherlands'!X16+Belgium!X16+UK!X16+Ireland!X16+Denmark!X16+Spain!X16+Portugal!X16+Finland!X16+Sweden!X16+Austria!X16+Cyprus!X16+'Czech Rep'!X16+Estonia!X16+Hungary!X16+Latvia!X16+Lithuania!X16+Malta!X16+Poland!X16+Slovakia!X16+Slovenia!X16+Bulgaria!X16+Romania!X17","v":{"v":39804,"d":"39,804"}},{"$f":"Germany!Y16+France!Y16+Italy!Y16+'The Netherlands'!Y16+Belgium!Y16+UK!Y16+Ireland!Y16+Denmark!Y16+Spain!Y16+Portugal!Y16+Finland!Y16+Sweden!Y16+Austria!Y16+Cyprus!Y16+'Czech Rep'!Y16+Estonia!Y16+Hungary!Y16+Latvia!Y16+Lithuania!Y16+Malta!Y16+Poland!Y16+Slovakia!Y16+Slovenia!Y16+Bulgaria!Y16+Romania!Y17","v":{"v":41495,"d":"41,495"}},{"$f":"Germany!Z16+France!Z16+Italy!Z16+'The Netherlands'!Z16+Belgium!Z16+UK!Z16+Ireland!Z16+Denmark!Z16+Spain!Z16+Portugal!Z16+Finland!Z16+Sweden!Z16+Austria!Z16+Cyprus!Z16+'Czech Rep'!Z16+Estonia!Z16+Hungary!Z16+Latvia!Z16+Lithuania!Z16+Malta!Z16+Poland!Z16+Slovakia!Z16+Slovenia!Z16+Bulgaria!Z16+Romania!Z17 + Croatia!Z16","v":{"v":42356,"d":"42,356"}},{"$f":"Germany!#REF!+France!AA16+Italy!AA16+'The Netherlands'!AA16+Belgium!AA16+UK!AA16+Ireland!AA16+Denmark!AA16+Spain!AA16+Portugal!AA16+Finland!AA16+Sweden!AA16+Austria!AA16+Cyprus!AA16+'Czech Rep'!AA16+Estonia!AA16+Hungary!AA16+Latvia!AA16+Lithuania!AA16+Malta!AA16+Poland!AA16+Slovakia!AA16+Slovenia!AA16+Bulgaria!AA16+Romania!AA17 + Croatia!AA16","v":{"$error":"#REF!"}},{"$f":"Germany!AB16+France!AB16+Italy!AB16+'The Netherlands'!AB16+Belgium!AB16+UK!AB16+Ireland!AB16+Denmark!AB16+Spain!AB16+Portugal!AB16+Finland!AB16+Sweden!AB16+Austria!AB16+Cyprus!AB16+'Czech Rep'!AB16+Estonia!AB16+Hungary!AB16+Latvia!AB16+Lithuania!AB16+Malta!AB16+Poland!AB16+Slovakia!AB16+Slovenia!AB16+Bulgaria!AB16+Romania!AB17 + Croatia!AB16","v":{"v":42432,"d":"42,432"}},{"$f":"Germany!AC16+France!AC16+Italy!AC16+'The Netherlands'!AC16+Belgium!AC16+UK!AC16+Ireland!AC16+Denmark!AC16+Spain!AC16+Portugal!AC16+Finland!AC16+Sweden!AC16+Austria!AC16+Cyprus!AC16+'Czech Rep'!AC16+Estonia!AC16+Hungary!AC16+Latvia!AC16+Lithuania!AC16+Malta!AC16+Poland!AC16+Slovakia!AC16+Slovenia!AC16+Bulgaria!AC16+Romania!AC17 + Croatia!AC16","v":{"v":43579.575,"d":"43,580"}},{"$f":"Germany!AD16+France!AD16+Italy!AD16+'The Netherlands'!AD16+Belgium!AD16+UK!AD16+Ireland!AD16+Denmark!AD16+Spain!AD16+Portugal!AD16+Finland!AD16+Sweden!AD16+Austria!AD16+Cyprus!AD16+'Czech Rep'!AD16+Estonia!AD16+Hungary!AD16+Latvia!AD16+Lithuania!AD16+Malta!AD16+Poland!AD16+Slovakia!AD16+Slovenia!AD16+Bulgaria!AD16+Romania!AD17 + Croatia!AD16","v":{"v":45519.285,"d":"45,519"}},{"$f":"Germany!AE16+France!AE16+Italy!AE16+'The Netherlands'!AE16+Belgium!AE16+UK!AE16+Ireland!AE16+Denmark!AE16+Spain!AE16+Portugal!AE16+Finland!AE16+Sweden!AE16+Austria!AE16+Cyprus!AE16+'Czech Rep'!AE16+Estonia!AE16+Hungary!AE16+Latvia!AE16+Lithuania!AE16+Malta!AE16+Poland!AE16+Slovakia!AE16+Slovenia!AE16+Bulgaria!AE16+Romania!AE17 + Croatia!AE16","v":{"v":48109.871999999996,"d":"48,110"}},{"$f":"Germany!AF16+France!AF16+Italy!AF16+'The Netherlands'!AF16+Belgium!AF16+UK!AF16+Ireland!AF16+Denmark!AF16+Spain!AF16+Portugal!AF16+Finland!AF16+Sweden!AF16+Austria!AF16+Cyprus!AF16+'Czech Rep'!AF16+Estonia!AF16+Hungary!AF16+Latvia!AF16+Lithuania!AF16+Malta!AF16+Poland!AF16+Slovakia!AF16+Slovenia!AF16+Bulgaria!AF16+Romania!AF17 + Croatia!AF16","v":{"v":47690.789000000004,"d":"47,691"}},{"$f":"Germany!AG16+France!AG16+Italy!AG16+'The Netherlands'!AG16+Belgium!AG16+UK!AG16+Ireland!AG16+Denmark!AG16+Spain!AG16+Portugal!AG16+Finland!AG16+Sweden!AG16+Austria!AG16+Cyprus!AG16+'Czech Rep'!AG16+Estonia!AG16+Hungary!AG16+Latvia!AG16+Lithuania!AG16+Malta!AG16+Poland!AG16+Slovakia!AG16+Slovenia!AG16+Bulgaria!AG16+Romania!AG17 + Croatia!AG16","v":{"v":47827.081,"d":"47,827"}},{"$f":"Germany!AH16+France!AH16+Italy!AH16+'The Netherlands'!AH16+Belgium!AH16+UK!AH16+Ireland!AH16+Denmark!AH16+Spain!AH16+Portugal!AH16+Finland!AH16+Sweden!AH16+Austria!AH16+Cyprus!AH16+'Czech Rep'!AH16+Estonia!AH16+Hungary!AH16+Latvia!AH16+Lithuania!AH16+Malta!AH16+Poland!AH16+Slovakia!AH16+Slovenia!AH16+Bulgaria!AH16+Romania!AH17 + Croatia!AH16","v":{"v":47780.8445,"d":"47,781"}},{"$f":"Germany!AI16+France!AI16+Italy!AI16+'The Netherlands'!AI16+Belgium!AI16+UK!AI16+Ireland!AI16+Denmark!AI16+Spain!AI16+Portugal!AI16+Finland!AI16+Sweden!AI16+Austria!AI16+Cyprus!AI16+'Czech Rep'!AI16+Estonia!AI16+Hungary!AI16+Latvia!AI16+Lithuania!AI16+Malta!AI16+Poland!AI16+Slovakia!AI16+Slovenia!AI16+Bulgaria!AI16+Romania!AI17 + Croatia!AI16","v":{"v":47031.80421800518,"d":"47,032"}}]
["fattening",":",":",":",":",":",":",":",":",":",":",":",":",":",":",":",":",":",":",":",":",":",":",":",":",":",":",":",":",":",":",":",":",":",":"]
["dairy cow",":",":",":",":",":",":",":",":",":",":",":",":",":",":",":",":",":",":",":",":",":",":",":",":",":",":",":",":",":",":",":",":",":",":"]
["calves (excl. milk replacers)",":",":",":",":",":",":",":",":",":",":",":",":",":",":",":",":",":",":",":",":",":",":",":",":",":",":",":",":",":",":",":",":",":",":"]
["others",":",":",":",":",":",":",":",":",":",":",":",":",":",":",":",":",":",":",":",":",":",":",":",":",":",":",":",":",":",":",":",":",":",":"]
[]
[]
["Pigs",{"$f":"Germany!B23+France!B23+Italy!B23+'The Netherlands'!B23+Belgium!B23+UK!B23+Ireland!B23+Denmark!B23+Spain!B23+Portugal!B23","v":{"v":35676,"d":"35,676"}},{"$f":"Germany!C23+France!C23+Italy!C23+'The Netherlands'!C23+Belgium!C23+UK!C23+Ireland!C23+Denmark!C23+Spain!C23+Portugal!C23","v":{"v":36389,"d":"36,389"}},{"$f":"Germany!D23+France!D23+Italy!D23+'The Netherlands'!D23+Belgium!D23+UK!D23+Ireland!D23+Denmark!D23+Spain!D23+Portugal!D23","v":{"v":38077,"d":"38,077"}},{"$f":"Germany!E23+France!E23+Italy!E23+'The Netherlands'!E23+Belgium!E23+UK!E23+Ireland!E23+Denmark!E23+Spain!E23+Portugal!E23","v":{"v":39663,"d":"39,663"}},{"$f":"Germany!F23+France!F23+Italy!F23+'The Netherlands'!F23+Belgium!F23+UK!F23+Ireland!F23+Denmark!F23+Spain!F23+Portugal!F23","v":{"v":41418,"d":"41,418"}},{"$f":"Germany!G23+France!G23+Italy!G23+'The Netherlands'!G23+Belgium!G23+UK!G23+Ireland!G23+Denmark!G23+Spain!G23+Portugal!G23","v":{"v":39921,"d":"39,921"}},{"$f":"Germany!H23+France!H23+Italy!H23+'The Netherlands'!H23+Belgium!H23+UK!H23+Ireland!H23+Denmark!H23+Spain!H23+Portugal!H23+Finland!H23+Sweden!H23+Austria!H23","v":{"v":40477,"d":"40,477"}},{"$f":"Germany!I23+France!I23+Italy!I23+'The Netherlands'!I23+Belgium!I23+UK!I23+Ireland!I23+Denmark!I23+Spain!I23+Portugal!I23+Finland!I23+Sweden!I23+Austria!I23","v":{"v":41996,"d":"41,996"}},{"$f":"Germany!J23+France!J23+Italy!J23+'The Netherlands'!J23+Belgium!J23+UK!J23+Ireland!J23+Denmark!J23+Spain!J23+Portugal!J23+Finland!J23+Sweden!J23+Austria!J23","v":{"v":42236,"d":"42,236"}},{"$f":"Germany!K23+France!K23+Italy!K23+'The Netherlands'!K23+Belgium!K23+UK!K23+Ireland!K23+Denmark!K23+Spain!K23+Portugal!K23+Finland!K23+Sweden!K23+Austria!K23","v":{"v":43495,"d":"43,495"}},{"$f":"Germany!L23+France!L23+Italy!L23+'The Netherlands'!L23+Belgium!L23+UK!L23+Ireland!L23+Denmark!L23+Spain!L23+Portugal!L23+Finland!L23+Sweden!L23+Austria!L23","v":{"v":43442,"d":"43,442"}},{"$f":"Germany!M23+France!M23+Italy!M23+'The Netherlands'!M23+Belgium!M23+UK!M23+Ireland!M23+Denmark!M23+Spain!M23+Portugal!M23+Finland!M23+Sweden!M23+Austria!M23","v":{"v":43099,"d":"43,099"}},{"$f":"Germany!N23+France!N23+Italy!N23+'The Netherlands'!N23+Belgium!N23+UK!N23+Ireland!N23+Denmark!N23+Spain!N23+Portugal!N23+Finland!N23+Sweden!N23+Austria!N23","v":{"v":42582,"d":"42,582"}},{"$f":"Germany!O23+France!O23+Italy!O23+'The Netherlands'!O23+Belgium!O23+UK!O23+Ireland!O23+Denmark!O23+Spain!O23+Portugal!O23+Finland!O23+Sweden!O23+Austria!O23","v":{"v":42501,"d":"42,501"}},{"$f":"Germany!P23+France!P23+Italy!P23+'The Netherlands'!P23+Belgium!P23+UK!P23+Ireland!P23+Denmark!P23+Spain!P23+Portugal!P23+Finland!P23+Sweden!P23+Austria!P23","v":{"v":42013,"d":"42,013"}},{"$f":"Germany!Q23+France!Q23+Italy!Q23+'The Netherlands'!Q23+Belgium!Q23+UK!Q23+Ireland!Q23+Denmark!Q23+Spain!Q23+Portugal!Q23+Finland!Q23+Sweden!Q23+Austria!Q23+Cyprus!Q23+'Czech Rep'!Q23+Estonia!Q23+Hungary!Q23+Latvia!Q23+Lithuania!Q23+Malta!Q24+Poland!Q23+Slovakia!Q23+Slovenia!Q23","v":{"v":47903,"d":"47,903"}},{"$f":"Germany!R23+France!R23+Italy!R23+'The Netherlands'!R23+Belgium!R23+UK!R23+Ireland!R23+Denmark!R23+Spain!R23+Portugal!R23+Finland!R23+Sweden!R23+Austria!R23+Cyprus!R23+'Czech Rep'!R23+Estonia!R23+Hungary!R23+Latvia!R23+Lithuania!R23+Malta!R24+Poland!R23+Slovakia!R23+Slovenia!R23","v":{"v":47222,"d":"47,222"}},{"$f":"Germany!S23+France!S23+Italy!S23+'The Netherlands'!S23+Belgium!S23+UK!S23+Ireland!S23+Denmark!S23+Spain!S23+Portugal!S23+Finland!S23+Sweden!S23+Austria!S23+Cyprus!S23+'Czech Rep'!S23+Estonia!S23+Hungary!S23+Latvia!S23+Lithuania!S23+Malta!S24+Poland!S23+Slovakia!S23+Slovenia!S23","v":{"v":48861,"d":"48,861"}},{"$f":"Germany!T23+France!T23+Italy!T23+'The Netherlands'!T23+Belgium!T23+UK!T23+Ireland!T23+Denmark!T23+Spain!T23+Portugal!T23+Finland!T23+Sweden!T23+Austria!T23+Cyprus!T23+'Czech Rep'!T23+Estonia!T23+Hungary!T23+Latvia!T23+Lithuania!T23+Malta!T24+Poland!T23+Slovakia!T23+Slovenia!T23+Bulgaria!T23+Romania!T24","v":{"v":52951,"d":"52,951"}},{"$f":"Germany!U23+France!U23+Italy!U23+'The Netherlands'!U23+Belgium!U23+UK!U23+Ireland!U23+Denmark!U23+Spain!U23+Portugal!U23+Finland!U23+Sweden!U23+Austria!U23+Cyprus!U23+'Czech Rep'!U23+Estonia!U23+Hungary!U23+Latvia!U23+Lithuania!U23+Malta!U24+Poland!U23+Slovakia!U23+Slovenia!U23+Bulgaria!U23+Romania!U24","v":{"v":52470,"d":"52,470"}},{"$f":"Germany!V23+France!V23+Italy!V23+'The Netherlands'!V23+Belgium!V23+UK!V23+Ireland!V23+Denmark!V23+Spain!V23+Portugal!V23+Finland!V23+Sweden!V23+Austria!V23+Cyprus!V23+'Czech Rep'!V23+Estonia!V23+Hungary!V23+Latvia!V23+Lithuania!V23+Malta!V24+Poland!V23+Slovakia!V23+Slovenia!V23+Bulgaria!V23+Romania!V24","v":{"v":49696,"d":"49,696"}},{"$f":"Germany!W23+France!W23+Italy!W23+'The Netherlands'!W23+Belgium!W23+UK!W23+Ireland!W23+Denmark!W23+Spain!W23+Portugal!W23+Finland!W23+Sweden!W23+Austria!W23+Cyprus!W23+'Czech Rep'!W23+Estonia!W23+Hungary!W23+Latvia!W23+Lithuania!W23+Malta!W24+Poland!W23+Slovakia!W23+Slovenia!W23+Bulgaria!W23+Romania!W24","v":{"v":50218,"d":"50,218"}},{"$f":"Germany!X23+France!X23+Italy!X23+'The Netherlands'!X23+Belgium!X23+UK!X23+Ireland!X23+Denmark!X23+Spain!X23+Portugal!X23+Finland!X23+Sweden!X23+Austria!X23+Cyprus!X23+'Czech Rep'!X23+Estonia!X23+Hungary!X23+Latvia!X23+Lithuania!X23+Malta!X24+Poland!X23+Slovakia!X23+Slovenia!X23+Bulgaria!X23+Romania!X24","v":{"v":50363,"d":"50,363"}},{"$f":"Germany!Y23+France!Y23+Italy!Y23+'The Netherlands'!Y23+Belgium!Y23+UK!Y23+Ireland!Y23+Denmark!Y23+Spain!Y23+Portugal!Y23+Finland!Y23+Sweden!Y23+Austria!Y23+Cyprus!Y23+'Czech Rep'!Y23+Estonia!Y23+Hungary!Y23+Latvia!Y23+Lithuania!Y23+Malta!Y24+Poland!Y23+Slovakia!Y23+Slovenia!Y23+Bulgaria!Y23+Romania!Y24","v":{"v":49840,"d":"49,840"}},{"$f":"Germany!Z23+France!Z23+Italy!Z23+'The Netherlands'!Z23+Belgium!Z23+UK!Z23+Ireland!Z23+Denmark!Z23+Spain!Z23+Portugal!Z23+Finland!Z23+Sweden!Z23+Austria!Z23+Cyprus!Z23+'Czech Rep'!Z23+Estonia!Z23+Hungary!Z23+Latvia!Z23+Lithuania!Z23+Malta!Z24+Poland!Z23+Slovakia!Z23+Slovenia!Z23+Bulgaria!Z23+Romania!Z24+Croatia!Z23","v":{"v":49206,"d":"49,206"}},{"$f":"Germany!#REF!+France!AA23+Italy!AA23+'The Netherlands'!AA23+Belgium!AA23+UK!AA23+Ireland!AA23+Denmark!AA23+Spain!AA23+Portugal!AA23+Finland!AA23+Sweden!AA23+Austria!AA23+Cyprus!AA23+'Czech Rep'!AA23+Estonia!AA23+Hungary!AA23+Latvia!AA23+Lithuania!AA23+Malta!AA24+Poland!AA23+Slovakia!AA23+Slovenia!AA23+Bulgaria!AA23+Romania!AA24+Croatia!AA23","v":{"$error":"#REF!"}},{"$f":"Germany!AB23+France!AB23+Italy!AB23+'The Netherlands'!AB23+Belgium!AB23+UK!AB23+Ireland!AB23+Denmark!AB23+Spain!AB23+Portugal!AB23+Finland!AB23+Sweden!AB23+Austria!AB23+Cyprus!AB23+'Czech Rep'!AB23+Estonia!AB23+Hungary!AB23+Latvia!AB23+Lithuania!AB23+Malta!AB24+Poland!AB23+Slovakia!AB23+Slovenia!AB23+Bulgaria!AB23+Romania!AB24+Croatia!AB23","v":{"v":50591,"d":"50,591"}},{"$f":"Germany!AC23+France!AC23+Italy!AC23+'The Netherlands'!AC23+Belgium!AC23+UK!AC23+Ireland!AC23+Denmark!AC23+Spain!AC23+Portugal!AC23+Finland!AC23+Sweden!AC23+Austria!AC23+Cyprus!AC23+'Czech Rep'!AC23+Estonia!AC23+Hungary!AC23+Latvia!AC23+Lithuania!AC23+Malta!AC24+Poland!AC23+Slovakia!AC23+Slovenia!AC23+Bulgaria!AC23+Romania!AC24+Croatia!AC23","v":{"v":50809.2,"d":"50,809"}},{"$f":"Germany!AD23+France!AD23+Italy!AD23+'The Netherlands'!AD23+Belgium!AD23+UK!AD23+Ireland!AD23+Denmark!AD23+Spain!AD23+Portugal!AD23+Finland!AD23+Sweden!AD23+Austria!AD23+Cyprus!AD23+'Czech Rep'!AD23+Estonia!AD23+Hungary!AD23+Latvia!AD23+Lithuania!AD23+Malta!AD24+Poland!AD23+Slovakia!AD23+Slovenia!AD23+Bulgaria!AD23+Romania!AD24+Croatia!AD23","v":{"v":51432.432,"d":"51,432"}},{"$f":"Germany!AE23+France!AE23+Italy!AE23+'The Netherlands'!AE23+Belgium!AE23+UK!AE23+Ireland!AE23+Denmark!AE23+Spain!AE23+Portugal!AE23+Finland!AE23+Sweden!AE23+Austria!AE23+Cyprus!AE23+'Czech Rep'!AE23+Estonia!AE23+Hungary!AE23+Latvia!AE23+Lithuania!AE23+Malta!AE24+Poland!AE23+Slovakia!AE23+Slovenia!AE23+Bulgaria!AE23+Romania!AE24+Croatia!AE23","v":{"v":51489.145,"d":"51,489"}},{"$f":"Germany!AF23+France!AF23+Italy!AF23+'The Netherlands'!AF23+Belgium!AF23+UK!AF23+Ireland!AF23+Denmark!AF23+Spain!AF23+Portugal!AF23+Finland!AF23+Sweden!AF23+Austria!AF23+Cyprus!AF23+'Czech Rep'!AF23+Estonia!AF23+Hungary!AF23+Latvia!AF23+Lithuania!AF23+Malta!AF24+Poland!AF23+Slovakia!AF23+Slovenia!AF23+Bulgaria!AF23+Romania!AF24+Croatia!AF23","v":{"v":51727.919,"d":"51,728"}},{"$f":"Germany!AG23+France!AG23+Italy!AG23+'The Netherlands'!AG23+Belgium!AG23+UK!AG23+Ireland!AG23+Denmark!AG23+Spain!AG23+Portugal!AG23+Finland!AG23+Sweden!AG23+Austria!AG23+Cyprus!AG23+'Czech Rep'!AG23+Estonia!AG23+Hungary!AG23+Latvia!AG23+Lithuania!AG23+Malta!AG24+Poland!AG23+Slovakia!AG23+Slovenia!AG23+Bulgaria!AG23+Romania!AG24+Croatia!AG23","v":{"v":53585.684,"d":"53,586"}},{"$f":"Germany!AH23+France!AH23+Italy!AH23+'The Netherlands'!AH23+Belgium!AH23+UK!AH23+Ireland!AH23+Denmark!AH23+Spain!AH23+Portugal!AH23+Finland!AH23+Sweden!AH23+Austria!AH23+Cyprus!AH23+'Czech Rep'!AH23+Estonia!AH23+Hungary!AH23+Latvia!AH23+Lithuania!AH23+Malta!AH24+Poland!AH23+Slovakia!AH23+Slovenia!AH23+Bulgaria!AH23+Romania!AH24+Croatia!AH23","v":{"v":54941.23499999999,"d":"54,941"}},{"$f":"Germany!AI23+France!AI23+Italy!AI23+'The Netherlands'!AI23+Belgium!AI23+UK!AI23+Ireland!AI23+Denmark!AI23+Spain!AI23+Portugal!AI23+Finland!AI23+Sweden!AI23+Austria!AI23+Cyprus!AI23+'Czech Rep'!AI23+Estonia!AI23+Hungary!AI23+Latvia!AI23+Lithuania!AI23+Malta!AI24+Poland!AI23+Slovakia!AI23+Slovenia!AI23+Bulgaria!AI23+Romania!AI24+Croatia!AI23","v":{"v":52068.61744048139,"d":"52,069"}}]
["piglets",":",":",":",":",":",":",":",":",":",":",":",":",":",":",":",":",":",":",":",":",":",":",":",":",":",":",":",":",":",":",":",":",":",":"]
["pigs for fattening",":",":",":",":",":",":",":",":",":",":",":",":",":",":",":",":",":",":",":",":",":",":",":",":",":",":",":",":",":",":",":",":",":",":"]
["breeding pigs",":",":",":",":",":",":",":",":",":",":",":",":",":",":",":",":",":",":",":",":",":",":",":",":",":",":",":",":",":",":",":",":",":",":"]
["others",":",":",":",":",":",":",":",":",":",":",":",":",":",":",":",":",":",":",":",":",":",":",":",":",":",":",":",":",":",":",":",":",":",":"]
[]
[]
["Poultry",{"$f":"Germany!B30+France!B30+Italy!B30+'The Netherlands'!B30+Belgium!B30+UK!B30+Ireland!B30+Denmark!B30+Spain!B30+Portugal!B30","v":{"v":28115,"d":"28,115"}},{"$f":"Germany!C30+France!C30+Italy!C30+'The Netherlands'!C30+Belgium!C30+UK!C30+Ireland!C30+Denmark!C30+Spain!C30+Portugal!C30","v":{"v":29404,"d":"29,404"}},{"$f":"Germany!D30+France!D30+Italy!D30+'The Netherlands'!D30+Belgium!D30+UK!D30+Ireland!D30+Denmark!D30+Spain!D30+Portugal!D30","v":{"v":30756,"d":"30,756"}},{"$f":"Germany!E30+France!E30+Italy!E30+'The Netherlands'!E30+Belgium!E30+UK!E30+Ireland!E30+Denmark!E30+Spain!E30+Portugal!E30","v":{"v":31016,"d":"31,016"}},{"$f":"Germany!F30+France!F30+Italy!F30+'The Netherlands'!F30+Belgium!F30+UK!F30+Ireland!F30+Denmark!F30+Spain!F30+Portugal!F30","v":{"v":31312,"d":"31,312"}},{"$f":"Germany!G30+France!G30+Italy!G30+'The Netherlands'!G30+Belgium!G30+UK!G30+Ireland!G30+Denmark!G30+Spain!G30+Portugal!G30","v":{"v":31785,"d":"31,785"}},{"$f":"Germany!H30+France!H30+Italy!H30+'The Netherlands'!H30+Belgium!H30+UK!H30+Ireland!H30+Denmark!H30+Spain!H30+Portugal!H30+Finland!H30+Sweden!H30+Austria!H30","v":{"v":35281,"d":"35,281"}},{"$f":"Germany!I30+France!I30+Italy!I30+'The Netherlands'!I30+Belgium!I30+UK!I30+Ireland!I30+Denmark!I30+Spain!I30+Portugal!I30+Finland!I30+Sweden!I30+Austria!I30","v":{"v":36181,"d":"36,181"}},{"$f":"Germany!J30+France!J30+Italy!J30+'The Netherlands'!J30+Belgium!J30+UK!J30+Ireland!J30+Denmark!J30+Spain!J30+Portugal!J30+Finland!J30+Sweden!J30+Austria!J30","v":{"v":36983,"d":"36,983"}},{"$f":"Germany!K30+France!K30+Italy!K30+'The Netherlands'!K30+Belgium!K30+UK!K30+Ireland!K30+Denmark!K30+Spain!K30+Portugal!K30+Finland!K30+Sweden!K30+Austria!K30","v":{"v":37774,"d":"37,774"}},{"$f":"Germany!L30+France!L30+Italy!L30+'The Netherlands'!L30+Belgium!L30+UK!L30+Ireland!L30+Denmark!L30+Spain!L30+Portugal!L30+Finland!L30+Sweden!L30+Austria!L30","v":{"v":37390,"d":"37,390"}},{"$f":"Germany!M30+France!M30+Italy!M30+'The Netherlands'!M30+Belgium!M30+UK!M30+Ireland!M30+Denmark!M30+Spain!M30+Portugal!M30+Finland!M30+Sweden!M30+Austria!M30","v":{"v":37158,"d":"37,158"}},{"$f":"Germany!N30+France!N30+Italy!N30+'The Netherlands'!N30+Belgium!N30+UK!N30+Ireland!N30+Denmark!N30+Spain!N30+Portugal!N30+Finland!N30+Sweden!N30+Austria!N30","v":{"v":38233,"d":"38,233"}},{"$f":"Germany!O30+France!O30+Italy!O30+'The Netherlands'!O30+Belgium!O30+UK!O30+Ireland!O30+Denmark!O30+Spain!O30+Portugal!O30+Finland!O30+Sweden!O30+Austria!O30","v":{"v":38941,"d":"38,941"}},{"$f":"Germany!P30+France!P30+Italy!P30+'The Netherlands'!P30+Belgium!P30+UK!P30+Ireland!P30+Denmark!P30+Spain!P30+Portugal!P30+Finland!P30+Sweden!P30+Austria!P30","v":{"v":37561,"d":"37,561"}},{"$f":"Germany!Q30+France!Q30+Italy!Q30+'The Netherlands'!Q30+Belgium!Q30+UK!Q30+Ireland!Q30+Denmark!Q30+Spain!Q30+Portugal!Q30+Finland!Q30+Sweden!Q30+Austria!Q30+Cyprus!Q30+'Czech Rep'!Q30+Estonia!Q30+Hungary!Q30+Latvia!Q30+Lithuania!Q30+Malta!Q31+Poland!Q30+Slovakia!Q30+Slovenia!Q30","v":{"v":46753,"d":"46,753"}},{"$f":"Germany!R30+France!R30+Italy!R30+'The Netherlands'!R30+Belgium!R30+UK!R30+Ireland!R30+Denmark!R30+Spain!R30+Portugal!R30+Finland!R30+Sweden!R30+Austria!R30+Cyprus!R30+'Czech Rep'!R30+Estonia!R30+Hungary!R30+Latvia!R30+Lithuania!R30+Malta!R31+Poland!R30+Slovakia!R30+Slovenia!R30","v":{"v":45593,"d":"45,593"}},{"$f":"Germany!S30+France!S30+Italy!S30+'The Netherlands'!S30+Belgium!S30+UK!S30+Ireland!S30+Denmark!S30+Spain!S30+Portugal!S30+Finland!S30+Sweden!S30+Austria!S30+Cyprus!S30+'Czech Rep'!S30+Estonia!S30+Hungary!S30+Latvia!S30+Lithuania!S30+Malta!S31+Poland!S30+Slovakia!S30+Slovenia!S30","v":{"v":45067,"d":"45,067"}},{"$f":"Germany!T30+France!T30+Italy!T30+'The Netherlands'!T30+Belgium!T30+UK!T30+Ireland!T30+Denmark!T30+Spain!T30+Portugal!T30+Finland!T30+Sweden!T30+Austria!T30+Cyprus!T30+'Czech Rep'!T30+Estonia!T30+Hungary!T30+Latvia!T30+Lithuania!T30+Malta!T31+Poland!T30+Slovakia!T30+Slovenia!T30+Bulgaria!T30+Romania!T31","v":{"v":47876,"d":"47,876"}},{"$f":"Germany!U30+France!U30+Italy!U30+'The Netherlands'!U30+Belgium!U30+UK!U30+Ireland!U30+Denmark!U30+Spain!U30+Portugal!U30+Finland!U30+Sweden!U30+Austria!U30+Cyprus!U30+'Czech Rep'!U30+Estonia!U30+Hungary!U30+Latvia!U30+Lithuania!U30+Malta!U31+Poland!U30+Slovakia!U30+Slovenia!U30+Bulgaria!U30+Romania!U31","v":{"v":49070,"d":"49,070"}},{"$f":"Germany!V30+France!V30+Italy!V30+'The Netherlands'!V30+Belgium!V30+UK!V30+Ireland!V30+Denmark!V30+Spain!V30+Portugal!V30+Finland!V30+Sweden!V30+Austria!V30+Cyprus!V30+'Czech Rep'!V30+Estonia!V30+Hungary!V30+Latvia!V30+Lithuania!V30+Malta!V31+Poland!V30+Slovakia!V30+Slovenia!V30+Bulgaria!V30+Romania!V31","v":{"v":49418,"d":"49,418"}},{"$f":"Germany!W30+France!W30+Italy!W30+'The Netherlands'!W30+Belgium!W30+UK!W30+Ireland!W30+Denmark!W30+Spain!W30+Portugal!W30+Finland!W30+Sweden!W30+Austria!W30+Cyprus!W30+'Czech Rep'!W30+Estonia!W30+Hungary!W30+Latvia!W30+Lithuania!W30+Malta!W31+Poland!W30+Slovakia!W30+Slovenia!W30+Bulgaria!W30+Romania!W31","v":{"v":50943,"d":"50,943"}},{"$f":"Germany!X30+France!X30+Italy!X30+'The Netherlands'!X30+Belgium!X30+UK!X30+Ireland!X30+Denmark!X30+Spain!X30+Portugal!X30+Finland!X30+Sweden!X30+Austria!X30+Cyprus!X30+'Czech Rep'!X30+Estonia!X30+Hungary!X30+Latvia!X30+Lithuania!X30+Malta!X31+Poland!X30+Slovakia!X30+Slovenia!X30+Bulgaria!X30+Romania!X31","v":{"v":50575,"d":"50,575"}},{"$f":"Germany!Y30+France!Y30+Italy!Y30+'The Netherlands'!Y30+Belgium!Y30+UK!Y30+Ireland!Y30+Denmark!Y30+Spain!Y30+Portugal!Y30+Finland!Y30+Sweden!Y30+Austria!Y30+Cyprus!Y30+'Czech Rep'!Y30+Estonia!Y30+Hungary!Y30+Latvia!Y30+Lithuania!Y30+Malta!Y31+Poland!Y30+Slovakia!Y30+Slovenia!Y30+Bulgaria!Y30+Romania!Y31","v":{"v":51449,"d":"51,449"}},{"$f":"Germany!Z30+France!Z30+Italy!Z30+'The Netherlands'!Z30+Belgium!Z30+UK!Z30+Ireland!Z30+Denmark!Z30+Spain!Z30+Portugal!Z30+Finland!Z30+Sweden!Z30+Austria!Z30+Cyprus!Z30+'Czech Rep'!Z30+Estonia!Z30+Hungary!Z30+Latvia!Z30+Lithuania!Z30+Malta!Z31+Poland!Z30+Slovakia!Z30+Slovenia!Z30+Bulgaria!Z30+Romania!Z31+Croatia!Z30","v":{"v":51412,"d":"51,412"}},{"$f":"Germany!#REF!+France!AA30+Italy!AA30+'The Netherlands'!AA30+Belgium!AA30+UK!AA30+Ireland!AA30+Denmark!AA30+Spain!AA30+Portugal!AA30+Finland!AA30+Sweden!AA30+Austria!AA30+Cyprus!AA30+'Czech Rep'!AA30+Estonia!AA30+Hungary!AA30+Latvia!AA30+Lithuania!AA30+Malta!AA31+Poland!AA30+Slovakia!AA30+Slovenia!AA30+Bulgaria!AA30+Romania!AA31+Croatia!AA30","v":{"$error":"#REF!"}},{"$f":"Germany!AB30+France!AB30+Italy!AB30+'The Netherlands'!AB30+Belgium!AB30+UK!AB30+Ireland!AB30+Denmark!AB30+Spain!AB30+Portugal!AB30+Finland!AB30+Sweden!AB30+Austria!AB30+Cyprus!AB30+'Czech Rep'!AB30+Estonia!AB30+Hungary!AB30+Latvia!AB30+Lithuania!AB30+Malta!AB31+Poland!AB30+Slovakia!AB30+Slovenia!AB30+Bulgaria!AB30+Romania!AB31+Croatia!AB30","v":{"v":53014,"d":"53,014"}},{"$f":"Germany!AC30+France!AC30+Italy!AC30+'The Netherlands'!AC30+Belgium!AC30+UK!AC30+Ireland!AC30+Denmark!AC30+Spain!AC30+Portugal!AC30+Finland!AC30+Sweden!AC30+Austria!AC30+Cyprus!AC30+'Czech Rep'!AC30+Estonia!AC30+Hungary!AC30+Latvia!AC30+Lithuania!AC30+Malta!AC31+Poland!AC30+Slovakia!AC30+Slovenia!AC30+Bulgaria!AC30+Romania!AC31+Croatia!AC30","v":{"v":54936.6,"d":"54,937"}},{"$f":"Germany!AD30+France!AD30+Italy!AD30+'The Netherlands'!AD30+Belgium!AD30+UK!AD30+Ireland!AD30+Denmark!AD30+Spain!AD30+Portugal!AD30+Finland!AD30+Sweden!AD30+Austria!AD30+Cyprus!AD30+'Czech Rep'!AD30+Estonia!AD30+Hungary!AD30+Latvia!AD30+Lithuania!AD30+Malta!AD31+Poland!AD30+Slovakia!AD30+Slovenia!AD30+Bulgaria!AD30+Romania!AD31+Croatia!AD30","v":{"v":55076.741,"d":"55,077"}},{"$f":"Germany!AE30+France!AE30+Italy!AE30+'The Netherlands'!AE30+Belgium!AE30+UK!AE30+Ireland!AE30+Denmark!AE30+Spain!AE30+Portugal!AE30+Finland!AE30+Sweden!AE30+Austria!AE30+Cyprus!AE30+'Czech Rep'!AE30+Estonia!AE30+Hungary!AE30+Latvia!AE30+Lithuania!AE30+Malta!AE31+Poland!AE30+Slovakia!AE30+Slovenia!AE30+Bulgaria!AE30+Romania!AE31+Croatia!AE30","v":{"v":55712.854,"d":"55,713"}},{"$f":"Germany!AF30+France!AF30+Italy!AF30+'The Netherlands'!AF30+Belgium!AF30+UK!AF30+Ireland!AF30+Denmark!AF30+Spain!AF30+Portugal!AF30+Finland!AF30+Sweden!AF30+Austria!AF30+Cyprus!AF30+'Czech Rep'!AF30+Estonia!AF30+Hungary!AF30+Latvia!AF30+Lithuania!AF30+Malta!AF31+Poland!AF30+Slovakia!AF30+Slovenia!AF30+Bulgaria!AF30+Romania!AF31+Croatia!AF30","v":{"v":56009.121999999996,"d":"56,009"}},{"$f":"Germany!AG30+France!AG30+Italy!AG30+'The Netherlands'!AG30+Belgium!AG30+UK!AG30+Ireland!AG30+Denmark!AG30+Spain!AG30+Portugal!AG30+Finland!AG30+Sweden!AG30+Austria!AG30+Cyprus!AG30+'Czech Rep'!AG30+Estonia!AG30+Hungary!AG30+Latvia!AG30+Lithuania!AG30+Malta!AG31+Poland!AG30+Slovakia!AG30+Slovenia!AG30+Bulgaria!AG30+Romania!AG31+Croatia!AG30","v":{"v":56107.831,"d":"56,108"}},{"$f":"Germany!AH30+France!AH30+Italy!AH30+'The Netherlands'!AH30+Belgium!AH30+UK!AH30+Ireland!AH30+Denmark!AH30+Spain!AH30+Portugal!AH30+Finland!AH30+Sweden!AH30+Austria!AH30+Cyprus!AH30+'Czech Rep'!AH30+Estonia!AH30+Hungary!AH30+Latvia!AH30+Lithuania!AH30+Malta!AH31+Poland!AH30+Slovakia!AH30+Slovenia!AH30+Bulgaria!AH30+Romania!AH31+Croatia!AH30","v":{"v":56230.789500000006,"d":"56,231"}},{"$f":"Germany!AI30+France!AI30+Italy!AI30+'The Netherlands'!AI30+Belgium!AI30+UK!AI30+Ireland!AI30+Denmark!AI30+Spain!AI30+Portugal!AI30+Finland!AI30+Sweden!AI30+Austria!AI30+Cyprus!AI30+'Czech Rep'!AI30+Estonia!AI30+Hungary!AI30+Latvia!AI30+Lithuania!AI30+Malta!AI31+Poland!AI30+Slovakia!AI30+Slovenia!AI30+Bulgaria!AI30+Romania!AI31+Croatia!AI30","v":{"v":54780.01832035873,"d":"54,780"}}]
["broilers",":",":",":",":",":",":",":",":",":",":",":",":",":",":",":",":",":",":",":",":",":",":",":",":",":",":",":",":",":",":",":",":",":",":"]
["chicks & layers",":",":",":",":",":",":",":",":",":",":",":",":",":",":",":",":",":",":",":",":",":",":",":",":",":",":",":",":",":",":",":",":",":",":"]
["others",":",":",":",":",":",":",":",":",":",":",":",":",":",":",":",":",":",":",":",":",":",":",":",":",":",":",":",":",":",":",":",":",":",":"]
[]
[]
["Milk replacers",{"$f":"Germany!B36+France!B36+Italy!B36+'The Netherlands'!B36+Belgium!B36+UK!B36+Ireland!B36+Denmark!B36+Spain!B36+Portugal!B36","v":{"v":2057,"d":"2,057"}},{"$f":"Germany!C36+France!C36+Italy!C36+'The Netherlands'!C36+Belgium!C36+UK!C36+Ireland!C36+Denmark!C36+Spain!C36+Portugal!C36","v":{"v":1974,"d":"1,974"}},{"$f":"Germany!D36+France!D36+Italy!D36+'The Netherlands'!D36+Belgium!D36+UK!D36+Ireland!D36+Denmark!D36+Spain!D36+Portugal!D36","v":{"v":1988,"d":"1,988"}},{"$f":"Germany!E36+France!E36+Italy!E36+'The Netherlands'!E36+Belgium!E36+UK!E36+Ireland!E36+Denmark!E36+Spain!E36+Portugal!E36","v":{"v":1934,"d":"1,934"}},{"$f":"Germany!F36+France!F36+Italy!F36+'The Netherlands'!F36+Belgium!F36+UK!F36+Ireland!F36+Denmark!F36+Spain!F36+Portugal!F36","v":{"v":1910,"d":"1,910"}},{"$f":"Germany!G36+France!G36+Italy!G36+'The Netherlands'!G36+Belgium!G36+UK!G36+Ireland!G36+Denmark!G36+Spain!G36+Portugal!G36","v":{"v":1942,"d":"1,942"}},{"$f":"Germany!H36+France!H36+Italy!H36+'The Netherlands'!H36+Belgium!H36+UK!H36+Ireland!H36+Denmark!H36+Spain!H36+Portugal!H36+Sweden!H36+Austria!H36","v":{"v":1950,"d":"1,950"}},{"$f":"Germany!I36+France!I36+Italy!I36+'The Netherlands'!I36+Belgium!I36+UK!I36+Ireland!I36+Denmark!I36+Spain!I36+Portugal!I36+Sweden!I36+Austria!I36","v":{"v":1860,"d":"1,860"}},{"$f":"Germany!J36+France!J36+Italy!J36+'The Netherlands'!J36+Belgium!J36+UK!J36+Ireland!J36+Denmark!J36+Spain!J36+Portugal!J36+Sweden!J36+Austria!J36","v":{"v":1761,"d":"1,761"}},{"$f":"Germany!K36+France!K36+Italy!K36+'The Netherlands'!K36+Belgium!K36+UK!K36+Ireland!K36+Denmark!K36+Spain!K36+Portugal!K36+Sweden!K36+Austria!K36","v":{"v":1784,"d":"1,784"}},{"$f":"Germany!L36+France!L36+Italy!L36+'The Netherlands'!L36+Belgium!L36+UK!L36+Ireland!L36+Denmark!L36+Spain!L36+Portugal!L36+Sweden!L36+Austria!L36","v":{"v":1813,"d":"1,813"}},{"$f":"Germany!M36+France!M36+Italy!M36+'The Netherlands'!M36+Belgium!M36+UK!M36+Ireland!M36+Denmark!M36+Spain!M36+Portugal!M36+Sweden!M36+Austria!M36","v":{"v":1838,"d":"1,838"}},{"$f":"Germany!N36+France!N36+Italy!N36+'The Netherlands'!N36+Belgium!N36+UK!N36+Ireland!N36+Denmark!N36+Spain!N36+Portugal!N36+Sweden!N36+Austria!N36","v":{"v":1641,"d":"1,641"}},{"$f":"Germany!O36+France!O36+Italy!O36+'The Netherlands'!O36+Belgium!O36+UK!O36+Ireland!O36+Denmark!O36+Spain!O36+Portugal!O36+Sweden!O36+Austria!O36","v":{"v":1614,"d":"1,614"}},{"$f":"Germany!P36+France!P36+Italy!P36+'The Netherlands'!P36+Belgium!P36+UK!P36+Ireland!P36+Denmark!P36+Spain!P36+Portugal!P36+Sweden!P36+Austria!P36","v":{"v":1600,"d":"1,600"}},{"$f":"Germany!Q36+France!Q36+Italy!Q36+'The Netherlands'!Q36+Belgium!Q36+UK!Q36+Ireland!Q36+Denmark!Q36+Spain!Q36+Portugal!Q36+Finland!Q36+Sweden!Q36+Austria!Q36+Cyprus!Q36+'Czech Rep'!Q36+Estonia!Q36+Hungary!Q36+Latvia!Q36+Lithuania!Q36+Malta!Q37+Poland!Q36+Slovakia!Q36+Slovenia!Q36","v":{"v":1637,"d":"1,637"}},{"$f":"Germany!R36+France!R36+Italy!R36+'The Netherlands'!R36+Belgium!R36+UK!R36+Ireland!R36+Denmark!R36+Spain!R36+Portugal!R36+Finland!R36+Sweden!R36+Austria!R36+Cyprus!R36+'Czech Rep'!R36+Estonia!R36+Hungary!R36+Latvia!R36+Lithuania!R36+Malta!R37+Poland!R36+Slovakia!R36+Slovenia!R36","v":{"v":1672,"d":"1,672"}},{"$f":"Germany!S36+France!S36+Italy!S36+'The Netherlands'!S36+Belgium!S36+UK!S36+Ireland!S36+Denmark!S36+Spain!S36+Portugal!S36+Finland!S36+Sweden!S36+Austria!S36+Cyprus!S36+'Czech Rep'!S36+Estonia!S36+Hungary!S36+Latvia!S36+Lithuania!S36+Malta!S37+Poland!S36+Slovakia!S36+Slovenia!S36","v":{"v":1571,"d":"1,571"}},{"$f":"Germany!T36+France!T36+Italy!T36+'The Netherlands'!T36+Belgium!T36+UK!T36+Ireland!T36+Denmark!T36+Spain!T36+Portugal!T36+Finland!T36+Sweden!T36+Austria!T36+Cyprus!T36+'Czech Rep'!T36+Estonia!T36+Hungary!T36+Latvia!T36+Lithuania!T36+Malta!T37+Poland!T36+Slovakia!T36+Slovenia!T36","v":{"v":1571,"d":"1,571"}},{"$f":"Germany!U36+France!U36+Italy!U36+'The Netherlands'!U36+Belgium!U36+UK!U36+Ireland!U36+Denmark!U36+Spain!U36+Portugal!U36+Finland!U36+Sweden!U36+Austria!U36+Cyprus!U36+'Czech Rep'!U36+Estonia!U36+Hungary!U36+Latvia!U36+Lithuania!U36+Malta!U37+Poland!U36+Slovakia!U36+Slovenia!U36","v":{"v":1546,"d":"1,546"}},{"$f":"Germany!V36+France!V36+Italy!V36+'The Netherlands'!V36+Belgium!V36+UK!V36+Ireland!V36+Denmark!V36+Spain!V36+Portugal!V36+Finland!V36+Sweden!V36+Austria!V36+Cyprus!V36+'Czech Rep'!V36+Estonia!V36+Hungary!V36+Latvia!V36+Lithuania!V36+Malta!V37+Poland!V36+Slovakia!V36+Slovenia!V36","v":{"v":1468,"d":"1,468"}},{"$f":"Germany!W36+France!W36+Italy!W36+'The Netherlands'!W36+Belgium!W36+UK!W36+Ireland!W36+Denmark!W36+Spain!W36+Portugal!W36+Finland!W36+Sweden!W36+Austria!W36+Cyprus!W36+'Czech Rep'!W36+Estonia!W36+Hungary!W36+Latvia!W36+Lithuania!W36+Malta!W37+Poland!W36+Slovakia!W36+Slovenia!W36","v":{"v":1450,"d":"1,450"}},{"$f":"Germany!X36+France!X36+Italy!X36+'The Netherlands'!X36+Belgium!X36+UK!X36+Ireland!X36+Denmark!X36+Spain!X36+Portugal!X36+Finland!X36+Sweden!X36+Austria!X36+Cyprus!X36+'Czech Rep'!X36+Estonia!X36+Hungary!X36+Latvia!X36+Lithuania!X36+Malta!X37+Poland!X36+Slovakia!X36+Slovenia!X36","v":{"v":1354,"d":"1,354"}},{"$f":"Germany!Y36+France!Y36+Italy!Y36+'The Netherlands'!Y36+Belgium!Y36+UK!Y36+Ireland!Y36+Denmark!Y36+Spain!Y36+Portugal!Y36+Finland!Y36+Sweden!Y36+Austria!Y36+Cyprus!Y36+'Czech Rep'!Y36+Estonia!Y36+Hungary!Y36+Latvia!Y36+Lithuania!Y36+Malta!Y37+Poland!Y36+Slovakia!Y36+Slovenia!Y36","v":{"v":1312,"d":"1,312"}},{"$f":"Germany!Z36+France!Z36+Italy!Z36+'The Netherlands'!Z36+Belgium!Z36+UK!Z36+Ireland!Z36+Denmark!Z36+Spain!Z36+Portugal!Z36+Finland!Z36+Sweden!Z36+Austria!Z36+Cyprus!Z36+'Czech Rep'!Z36+Estonia!Z36+Hungary!Z36+Latvia!Z36+Lithuania!Z36+Malta!Z37+Poland!Z36+Slovakia!Z36+Slovenia!Z36+Bulgaria!Z36+Romania!Z37+Croatia!Z36","v":{"v":1289,"d":"1,289"}},{"$f":"Germany!#REF!+France!AA36+Italy!AA36+'The Netherlands'!AA36+Belgium!AA36+UK!AA36+Ireland!AA36+Denmark!AA36+Spain!AA36+Portugal!AA36+Finland!AA36+Sweden!AA36+Austria!AA36+Cyprus!AA36+'Czech Rep'!AA36+Estonia!AA36+Hungary!AA36+Latvia!AA36+Lithuania!AA36+Malta!AA37+Poland!AA36+Slovakia!AA36+Slovenia!AA36+Bulgaria!AA36+Romania!AA37+Croatia!AA36","v":{"$error":"#REF!"}},{"$f":"Germany!AB36+France!AB36+Italy!AB36+'The Netherlands'!AB36+Belgium!AB36+UK!AB36+Ireland!AB36+Denmark!AB36+Spain!AB36+Portugal!AB36+Finland!AB36+Sweden!AB36+Austria!AB36+Cyprus!AB36+'Czech Rep'!AB36+Estonia!AB36+Hungary!AB36+Latvia!AB36+Lithuania!AB36+Malta!AB37+Poland!AB36+Slovakia!AB36+Slovenia!AB36+Bulgaria!AB36+Romania!AB37+Croatia!AB36","v":{"v":1203,"d":"1,203"}},{"$f":"Germany!AC36+France!AC36+Italy!AC36+'The Netherlands'!AC36+Belgium!AC36+UK!AC36+Ireland!AC36+Denmark!AC36+Spain!AC36+Portugal!AC36+Finland!AC36+Sweden!AC36+Austria!AC36+Cyprus!AC36+'Czech Rep'!AC36+Estonia!AC36+Hungary!AC36+Latvia!AC36+Lithuania!AC36+Malta!AC37+Poland!AC36+Slovakia!AC36+Slovenia!AC36+Bulgaria!AC36+Romania!AC37+Croatia!AC36","v":{"v":1178,"d":"1,178"}},{"$f":"Germany!AD36+France!AD36+Italy!AD36+'The Netherlands'!AD36+Belgium!AD36+UK!AD36+Ireland!AD36+Denmark!AD36+Spain!AD36+Portugal!AD36+Finland!AD36+Sweden!AD36+Austria!AD36+Cyprus!AD36+'Czech Rep'!AD36+Estonia!AD36+Hungary!AD36+Latvia!AD36+Lithuania!AD36+Malta!AD37+Poland!AD36+Slovakia!AD36+Slovenia!AD36+Bulgaria!AD36+Romania!AD37+Croatia!AD36","v":{"v":1143,"d":"1,143"}},{"$f":"Germany!AE36+France!AE36+Italy!AE36+'The Netherlands'!AE36+Belgium!AE36+UK!AE36+Ireland!AE36+Denmark!AE36+Spain!AE36+Portugal!AE36+Finland!AE36+Sweden!AE36+Austria!AE36+Cyprus!AE36+'Czech Rep'!AE36+Estonia!AE36+Hungary!AE36+Latvia!AE36+Lithuania!AE36+Malta!AE37+Poland!AE36+Slovakia!AE36+Slovenia!AE36+Bulgaria!AE36+Romania!AE37+Croatia!AE36","v":{"v":1137,"d":"1,137"}},{"$f":"Germany!AF36+France!AF36+Italy!AF36+'The Netherlands'!AF36+Belgium!AF36+UK!AF36+Ireland!AF36+Denmark!AF36+Spain!AF36+Portugal!AF36+Finland!AF36+Sweden!AF36+Austria!AF36+Cyprus!AF36+'Czech Rep'!AF36+Estonia!AF36+Hungary!AF36+Latvia!AF36+Lithuania!AF36+Malta!AF37+Poland!AF36+Slovakia!AF36+Slovenia!AF36+Bulgaria!AF36+Romania!AF37+Croatia!AF36","v":{"v":1145,"d":"1,145"}},{"$f":"Germany!AG36+France!AG36+Italy!AG36+'The Netherlands'!AG36+Belgium!AG36+UK!AG36+Ireland!AG36+Denmark!AG36+Spain!AG36+Portugal!AG36+Finland!AG36+Sweden!AG36+Austria!AG36+Cyprus!AG36+'Czech Rep'!AG36+Estonia!AG36+Hungary!AG36+Latvia!AG36+Lithuania!AG36+Malta!AG37+Poland!AG36+Slovakia!AG36+Slovenia!AG36+Bulgaria!AG36+Romania!AG37+Croatia!AG36","v":{"v":1139,"d":"1,139"}},{"$f":"Germany!AH36+France!AH36+Italy!AH36+'The Netherlands'!AH36+Belgium!AH36+UK!AH36+Ireland!AH36+Denmark!AH36+Spain!AH36+Portugal!AH36+Finland!AH36+Sweden!AH36+Austria!AH36+Cyprus!AH36+'Czech Rep'!AH36+Estonia!AH36+Hungary!AH36+Latvia!AH36+Lithuania!AH36+Malta!AH37+Poland!AH36+Slovakia!AH36+Slovenia!AH36+Bulgaria!AH36+Romania!AH37+Croatia!AH36","v":{"v":1143,"d":"1,143"}},{"$f":"Germany!AI36+France!AI36+Italy!AI36+'The Netherlands'!AI36+Belgium!AI36+UK!AI36+Ireland!AI36+Denmark!AI36+Spain!AI36+Portugal!AI36+Finland!AI36+Sweden!AI36+Austria!AI36+Cyprus!AI36+'Czech Rep'!AI36+Estonia!AI36+Hungary!AI36+Latvia!AI36+Lithuania!AI36+Malta!AI37+Poland!AI36+Slovakia!AI36+Slovenia!AI36+Bulgaria!AI36+Romania!AI37+Croatia!AI36","v":{"v":1117,"d":"1,117"}}]
[]
[]
["Others",{"$f":"Germany!B39+France!B39+Italy!B39+'The Netherlands'!B39+Belgium!B39+UK!B39+Ireland!B39+Denmark!B39+Spain!B39+Portugal!B39","v":{"v":5770,"d":"5,770"}},{"$f":"Germany!C39+France!C39+Italy!C39+'The Netherlands'!C39+Belgium!C39+UK!C39+Ireland!C39+Denmark!C39+Spain!C39+Portugal!C39","v":{"v":6022,"d":"6,022"}},{"$f":"Germany!D39+France!D39+Italy!D39+'The Netherlands'!D39+Belgium!D39+UK!D39+Ireland!D39+Denmark!D39+Spain!D39+Portugal!D39","v":{"v":6178,"d":"6,178"}},{"$f":"Germany!E39+France!E39+Italy!E39+'The Netherlands'!E39+Belgium!E39+UK!E39+Ireland!E39+Denmark!E39+Spain!E39+Portugal!E39","v":{"v":6489,"d":"6,489"}},{"$f":"Germany!F39+France!F39+Italy!F39+'The Netherlands'!F39+Belgium!F39+UK!F39+Ireland!F39+Denmark!F39+Spain!F39+Portugal!F39","v":{"v":6571,"d":"6,571"}},{"$f":"Germany!G39+France!G39+Italy!G39+'The Netherlands'!G39+Belgium!G39+UK!G39+Ireland!G39+Denmark!G39+Spain!G39+Portugal!G39","v":{"v":6713,"d":"6,713"}},{"$f":"Germany!H39+France!H39+Italy!H39+'The Netherlands'!H39+Belgium!H39+UK!H39+Ireland!H39+Denmark!H39+Spain!H39+Portugal!H39+Finland!H39+Sweden!H39+Austria!H39","v":{"v":7756,"d":"7,756"}},{"$f":"Germany!I39+France!I39+Italy!I39+'The Netherlands'!I39+Belgium!I39+UK!I39+Ireland!I39+Denmark!I39+Spain!I39+Portugal!I39+Finland!I39+Sweden!I39+Austria!I39","v":{"v":7452,"d":"7,452"}},{"$f":"Germany!J39+France!J39+Italy!J39+'The Netherlands'!J39+Belgium!J39+UK!J39+Ireland!J39+Denmark!J39+Spain!J39+Portugal!J39+Finland!J39+Sweden!J39+Austria!J39","v":{"v":7228,"d":"7,228"}},{"$f":"Germany!K39+France!K39+Italy!K39+'The Netherlands'!K39+Belgium!K39+UK!K39+Ireland!K39+Denmark!K39+Spain!K39+Portugal!K39+Finland!K39+Sweden!K39+Austria!K39","v":{"v":7386,"d":"7,386"}},{"$f":"Germany!L39+France!L39+Italy!L39+'The Netherlands'!L39+Belgium!L39+UK!L39+Ireland!L39+Denmark!L39+Spain!L39+Portugal!L39+Finland!L39+Sweden!L39+Austria!L39","v":{"v":7436,"d":"7,436"}},{"$f":"Germany!M39+France!M39+Italy!M39+'The Netherlands'!M39+Belgium!M39+UK!M39+Ireland!M39+Denmark!M39+Spain!M39+Portugal!M39+Finland!M39+Sweden!M39+Austria!M39","v":{"v":7398,"d":"7,398"}},{"$f":"Germany!N39+France!N39+Italy!N39+'The Netherlands'!N39+Belgium!N39+UK!N39+Ireland!N39+Denmark!N39+Spain!N39+Portugal!N39+Finland!N39+Sweden!N39+Austria!N39","v":{"v":7988,"d":"7,988"}},{"$f":"Germany!O39+France!O39+Italy!O39+'The Netherlands'!O39+Belgium!O39+UK!O39+Ireland!O39+Denmark!O39+Spain!O39+Portugal!O39+Finland!O39+Sweden!O39+Austria!O39","v":{"v":8174,"d":"8,174"}},{"$f":"Germany!P39+France!P39+Italy!P39+'The Netherlands'!P39+Belgium!P39+UK!P39+Ireland!P39+Denmark!P39+Spain!P39+Portugal!P39+Finland!P39+Sweden!P39+Austria!P39","v":{"v":8451,"d":"8,451"}},{"$f":"Germany!Q39+France!Q39+Italy!Q39+'The Netherlands'!Q39+Belgium!Q39+UK!Q39+Ireland!Q39+Denmark!Q39+Spain!Q39+Portugal!Q39+Finland!Q39+Sweden!Q39+Austria!Q39+Cyprus!Q39+'Czech Rep'!Q39+Estonia!Q39+Hungary!Q39+Latvia!Q39+Lithuania!Q39+Malta!Q45+Poland!Q39+Slovakia!Q39+Slovenia!Q39","v":{"v":9000,"d":"9,000"}},{"$f":"Germany!R39+France!R39+Italy!R39+'The Netherlands'!R39+Belgium!R39+UK!R39+Ireland!R39+Denmark!R39+Spain!R39+Portugal!R39+Finland!R39+Sweden!R39+Austria!R39+Cyprus!R39+'Czech Rep'!R39+Estonia!R39+Hungary!R39+Latvia!R39+Lithuania!R39+Malta!R45+Poland!R39+Slovakia!R39+Slovenia!R39","v":{"v":8570,"d":"8,570"}},{"$f":"Germany!S39+France!S39+Italy!S39+'The Netherlands'!S39+Belgium!S39+UK!S39+Ireland!S39+Denmark!S39+Spain!S39+Portugal!S39+Finland!S39+Sweden!S39+Austria!S39+Cyprus!S39+'Czech Rep'!S39+Estonia!S39+Hungary!S39+Latvia!S39+Lithuania!S39+Malta!S45+Poland!S39+Slovakia!S39+Slovenia!S39","v":{"v":8881,"d":"8,881"}},{"$f":"Germany!T39+France!T39+Italy!T39+'The Netherlands'!T39+Belgium!T39+UK!T39+Ireland!T39+Denmark!T39+Spain!T39+Portugal!T39+Finland!T39+Sweden!T39+Austria!T39+Cyprus!T39+'Czech Rep'!T39+Estonia!T39+Hungary!T39+Latvia!T39+Lithuania!T39+Malta!T45+Poland!T39+Slovakia!T39+Slovenia!T39+Bulgaria!T39+Romania!T40","v":{"v":9119,"d":"9,119"}},{"$f":"Germany!U39+France!U39+Italy!U39+'The Netherlands'!U39+Belgium!U39+UK!U39+Ireland!U39+Denmark!U39+Spain!U39+Portugal!U39+Finland!U39+Sweden!U39+Austria!U39+Cyprus!U39+'Czech Rep'!U39+Estonia!U39+Hungary!U39+Latvia!U39+Lithuania!U39+Malta!U45+Poland!U39+Slovakia!U39+Slovenia!U39+Bulgaria!U39+Romania!U40","v":{"v":7373,"d":"7,373"}},{"$f":"Germany!V39+France!V39+Italy!V39+'The Netherlands'!V39+Belgium!V39+UK!V39+Ireland!V39+Denmark!V39+Spain!V39+Portugal!V39+Finland!V39+Sweden!V39+Austria!V39+Cyprus!V39+'Czech Rep'!V39+Estonia!V39+Hungary!V39+Latvia!V39+Lithuania!V39+Malta!V45+Poland!V39+Slovakia!V39+Slovenia!V39+Bulgaria!V39+Romania!V40","v":{"v":6925,"d":"6,925"}},{"$f":"Germany!W39+France!W39+Italy!W39+'The Netherlands'!W39+Belgium!W39+UK!W39+Ireland!W39+Denmark!W39+Spain!W39+Portugal!W39+Finland!W39+Sweden!W39+Austria!W39+Cyprus!W39+'Czech Rep'!W39+Estonia!W39+Hungary!W39+Latvia!W39+Lithuania!W39+Malta!W45+Poland!W39+Slovakia!W39+Slovenia!W39+Bulgaria!W39+Romania!W40","v":{"v":7369,"d":"7,369"}},{"$f":"Germany!X39+France!X39+Italy!X39+'The Netherlands'!X39+Belgium!X39+UK!X39+Ireland!X39+Denmark!X39+Spain!X39+Portugal!X39+Finland!X39+Sweden!X39+Austria!X39+Cyprus!X39+'Czech Rep'!X39+Estonia!X39+Hungary!X39+Latvia!X39+Lithuania!X39+Malta!X45+Poland!X39+Slovakia!X39+Slovenia!X39+Bulgaria!X39+Romania!X40","v":{"v":7107,"d":"7,107"}},{"$f":"Germany!Y39+France!Y39+Italy!Y39+'The Netherlands'!Y39+Belgium!Y39+UK!Y39+Ireland!Y39+Denmark!Y39+Spain!Y39+Portugal!Y39+Finland!Y39+Sweden!Y39+Austria!Y39+Cyprus!Y39+'Czech Rep'!Y39+Estonia!Y39+Hungary!Y39+Latvia!Y39+Lithuania!Y39+Malta!Y45+Poland!Y39+Slovakia!Y39+Slovenia!Y39+Bulgaria!Y39+Romania!Y40","v":{"v":7268,"d":"7,268"}},{"$f":"Germany!Z39+France!Z39+Italy!Z39+'The Netherlands'!Z39+Belgium!Z39+UK!Z39+Ireland!Z39+Denmark!Z39+Spain!Z39+Portugal!Z39+Finland!Z39+Sweden!Z39+Austria!Z39+Cyprus!Z39+'Czech Rep'!Z39+Estonia!Z39+Hungary!Z39+Latvia!Z39+Lithuania!Z39+Malta!Z45+Poland!Z39+Slovakia!Z39+Slovenia!Z39+Bulgaria!Z39+Romania!Z40+Croatia!Z39","v":{"v":7487,"d":"7,487"}},{"$f":"Germany!#REF!+France!AA39+Italy!AA39+'The Netherlands'!AA39+Belgium!AA39+UK!AA39+Ireland!AA39+Denmark!AA39+Spain!AA39+Portugal!AA39+Finland!AA39+Sweden!AA39+Austria!AA39+Cyprus!AA39+'Czech Rep'!AA39+Estonia!AA39+Hungary!AA39+Latvia!AA39+Lithuania!AA39+Malta!AA45+Poland!AA39+Slovakia!AA39+Slovenia!AA39+Bulgaria!AA39+Romania!AA40+Croatia!AA39","v":{"$error":"#REF!"}},{"$f":"Germany!AB39+France!AB39+Italy!AB39+'The Netherlands'!AB39+Belgium!AB39+UK!AB39+Ireland!AB39+Denmark!AB39+Spain!AB39+Portugal!AB39+Finland!AB39+Sweden!AB39+Austria!AB39+Cyprus!AB39+'Czech Rep'!AB39+Estonia!AB39+Hungary!AB39+Latvia!AB39+Lithuania!AB39+Malta!AB45+Poland!AB39+Slovakia!AB39+Slovenia!AB39+Bulgaria!AB39+Romania!AB40+Croatia!AB39","v":{"v":8028,"d":"8,028"}},{"$f":"Germany!AC39+France!AC39+Italy!AC39+'The Netherlands'!AC39+Belgium!AC39+UK!AC39+Ireland!AC39+Denmark!AC39+Spain!AC39+Portugal!AC39+Finland!AC39+Sweden!AC39+Austria!AC39+Cyprus!AC39+'Czech Rep'!AC39+Estonia!AC39+Hungary!AC39+Latvia!AC39+Lithuania!AC39+Malta!AC45+Poland!AC39+Slovakia!AC39+Slovenia!AC39+Bulgaria!AC39+Romania!AC40+Croatia!AC39","v":{"v":7767,"d":"7,767"}},{"$f":"Germany!AD39+France!AD39+Italy!AD39+'The Netherlands'!AD39+Belgium!AD39+UK!AD39+Ireland!AD39+Denmark!AD39+Spain!AD39+Portugal!AD39+Finland!AD39+Sweden!AD39+Austria!AD39+Cyprus!AD39+'Czech Rep'!AD39+Estonia!AD39+Hungary!AD39+Latvia!AD39+Lithuania!AD39+Malta!AD45+Poland!AD39+Slovakia!AD39+Slovenia!AD39+Bulgaria!AD39+Romania!AD40+Croatia!AD39","v":{"v":8179.683,"d":"8,180"}},{"$f":"Germany!AE39+France!AE39+Italy!AE39+'The Netherlands'!AE39+Belgium!AE39+UK!AE39+Ireland!AE39+Denmark!AE39+Spain!AE39+Portugal!AE39+Finland!AE39+Sweden!AE39+Austria!AE39+Cyprus!AE39+'Czech Rep'!AE39+Estonia!AE39+Hungary!AE39+Latvia!AE39+Lithuania!AE39+Malta!AE45+Poland!AE39+Slovakia!AE39+Slovenia!AE39+Bulgaria!AE39+Romania!AE40+Croatia!AE39","v":{"v":8460.988000000001,"d":"8,461"}},{"$f":"Germany!AF39+France!AF39+Italy!AF39+'The Netherlands'!AF39+Belgium!AF39+UK!AF39+Ireland!AF39+Denmark!AF39+Spain!AF39+Portugal!AF39+Finland!AF39+Sweden!AF39+Austria!AF39+Cyprus!AF39+'Czech Rep'!AF39+Estonia!AF39+Hungary!AF39+Latvia!AF39+Lithuania!AF39+Malta!AF45+Poland!AF39+Slovakia!AF39+Slovenia!AF39+Bulgaria!AF39+Romania!AF40+Croatia!AF39","v":{"v":8153.535,"d":"8,154"}},{"$f":"Germany!AG39+France!AG39+Italy!AG39+'The Netherlands'!AG39+Belgium!AG39+UK!AG39+Ireland!AG39+Denmark!AG39+Spain!AG39+Portugal!AG39+Finland!AG39+Sweden!AG39+Austria!AG39+Cyprus!AG39+'Czech Rep'!AG39+Estonia!AG39+Hungary!AG39+Latvia!AG39+Lithuania!AG39+Malta!AG45+Poland!AG39+Slovakia!AG39+Slovenia!AG39+Bulgaria!AG39+Romania!AG40+Croatia!AG39","v":{"v":8299.779999999999,"d":"8,300"}},{"$f":"Germany!AH39+France!AH39+Italy!AH39+'The Netherlands'!AH39+Belgium!AH39+UK!AH39+Ireland!AH39+Denmark!AH39+Spain!AH39+Portugal!AH39+Finland!AH39+Sweden!AH39+Austria!AH39+Cyprus!AH39+'Czech Rep'!AH39+Estonia!AH39+Hungary!AH39+Latvia!AH39+Lithuania!AH39+Malta!AH45+Poland!AH39+Slovakia!AH39+Slovenia!AH39+Bulgaria!AH39+Romania!AH40+Croatia!AH39","v":{"v":8508.0295,"d":"8,508"}},{"$f":"Germany!AI39+France!AI39+Italy!AI39+'The Netherlands'!AI39+Belgium!AI39+UK!AI39+Ireland!AI39+Denmark!AI39+Spain!AI39+Portugal!AI39+Finland!AI39+Sweden!AI39+Austria!AI39+Cyprus!AI39+'Czech Rep'!AI39+Estonia!AI39+Hungary!AI39+Latvia!AI39+Lithuania!AI39+Malta!AI45+Poland!AI39+Slovakia!AI39+Slovenia!AI39+Bulgaria!AI39+Romania!AI40+Croatia!AI39","v":{"v":8265.66105164884,"d":"8,266"}}]
[]
[]
["TOTAL",{"$f":"B39+B36+B30+B23+B16","v":{"v":103260,"d":"103,260"}},{"v":105066,"d":"105,066"},{"v":109914,"d":"109,914"},{"v":111156,"d":"111,156"},{"v":113728,"d":"113,728"},{"v":113377,"d":"113,377"},{"v":121169,"d":"121,169"},{"v":122564,"d":"122,564"},{"v":121201,"d":"121,201"},{"v":123067,"d":"123,067"},{"v":124424,"d":"124,424"},{"v":123697,"d":"123,697"},{"v":125749,"d":"125,749"},{"v":126695,"d":"126,695"},{"v":125588,"d":"125,588"},{"v":143428,"d":"143,428"},{"v":140924,"d":"140,924"},{"v":141218,"d":"141,218"},{"v":150120,"d":"150,120"},{"v":151666,"d":"151,666"},{"v":146084,"d":"146,084"},{"v":149563,"d":"149,563"},{"v":149203,"d":"149,203"},{"v":151364,"d":"151,364"},{"v":151750,"d":"151,750"},{"$error":"#REF!"},{"v":155268,"d":"155,268"},{"v":158270.375,"d":"158,270"},{"v":161351.141,"d":"161,351"},{"v":164909.859,"d":"164,910"},{"v":164726.365,"d":"164,726"},{"v":166959.37600000002,"d":"166,959"},{"v":168603.8985,"d":"168,604"},{"v":163263.10103049414,"d":"163,263"}]

{"sheet":"Austria","index":76,"n_rows":42,"n_cols":43,"rows_kept":42,"merged":[[3,0,3,32]]}
["FEFAC SECRETARIAT GENERAL"]
[]
[{"$nulls":37},"2025/24"]
["INDUSTRIAL COMPOUND FEED PRODUCTION",{"$nulls":36},"Cattle","Pigs","Poultry","Milk replacers","Others","TOTAL"]
[{"$nulls":37},{"$f":"(($AL$16/$AK$16)-1)*100","v":{"v":1.4999999999999902,"d":"1.5"}},{"$f":"(($AL$23/$AK$23)-1)*100","v":{"v":0.49999999999998934,"d":"0.5"}},{"$f":"(($AL$30/$AK$30)-1)*100","v":{"v":3.499999999999992,"d":"3.5"}},{"$f":"(($AK$36/$AJ$36)-1)*100","v":{"$error":"#DIV/0!"}},{"$f":"(($AL$39/$AK$39)-1)*100","v":{"v":1.0000000000000009,"d":"1.0"}},{"$f":"(($AL$42/$AK$42)-1)*100","v":{"v":2.14020617635462,"d":"2.1"}}]
["TAB 3"]
[{"$nulls":37},"2024/23"]
["COUNTRY: AUSTRIA",{"$nulls":36},"Cattle","Pigs","Poultry","Milk replacers","Others","TOTAL"]
[{"$nulls":37},{"$f":"(($AK$16/$AJ$16)-1)*100","v":{"v":4.588765822784802,"d":"4.6"}},{"$f":"(($AK$23/$AJ$23)-1)*100","v":{"v":-0.5604000000000053,"d":"-0.6"}},{"$f":"(($AK$30/$AJ$30)-1)*100","v":{"v":3.8384724186704355,"d":"3.8"}},{"$f":"(($AJ$36/$AI$36)-1)*100","v":{"$error":"#DIV/0!"}},{"$f":"(($AK$39/$AJ$39)-1)*100","v":{"v":1.2193103448275844,"d":"1.2"}},{"$f":"(($AK$42/$AJ$42)-1)*100","v":{"v":3.2587081891580105,"d":"3.3"}}]
[]
[]
["1 000 t",1989,1990,1991,1992,1993,1994,1995,1996,1997,1998,1999,2000,2001,2002,2003,2004,2005,2006,2007,2008,2009,2010,2011,2012,2013,2014,2015,2016,2017,2018,2019,2020,2021,2022,2023,2024,2025]
[null,"final figures","final figures","final figures","final figures","final figures","final figures","final figures","final figures","final figures","final figures","final figures","final figures","final figures","final figures","final figures","final figures","final figures","final figures","final figures","final figures","final figures","final figures","final figures","final figures","final figures","final figures","final figures","final figures","final figures","final figures","final figures","final figures","final figures","final figures","final figures","final figures"]
[]
[]
["Cattle",{"$nulls":3},157,173,163,174,202,195,221,254,260,287,304,327,342,352,390,402,392,393,438,452,472,482,522,556,543,588,585,605,611,649,634,632,{"v":661.001,"d":"661"},{"$f":"+AK16*1.015","v":{"v":670.9160149999999,"d":"671"}}]
["fattening",{"$nulls":3},":",":",":",":",":",":",":",":",":",":",":",":",":",":",":",{"$nulls":8},":",":",":",":",":",":",":"]
["dairy cow",{"$nulls":3},":",":",":",":",":",":",":",":",":",":",":",":",":",":",":",{"$nulls":8},":",":",":",":",":",":",":"]
["calves (excl. milk replacers)",{"$nulls":3},":",":",":",":",":",":",":",":",":",":",":",":",":",":",":",{"$nulls":8},":",":",":",":",":",":",":"]
["others",{"$nulls":3},":",":",":",":",":",":",":",":",":",":",":",":",":",":",":",{"$nulls":8},":",":",":",":",":",":",":"]
[]
[]
["Pigs",{"$nulls":3},212,233,235,261,229,227,219,206,204,196,218,216,219,202,219,243,237,232,256,274,274,275,277,273,257,263,251,252,279,274,267,250,{"v":248.599,"d":"249"},{"$f":"+AK23*1.005","v":{"v":249.84199499999997,"d":"250"}}]
["piglets",{"$nulls":3},":",":",":",":",":",":",":",":",":",":",":",":",":",":",":",{"$nulls":8},":",":",":",":",":",":",":"]
["pigs for fattening",{"$nulls":3},":",":",":",":",":",":",":",":",":",":",":",":",":",":",":",{"$nulls":8},":",":",":",":",":",":",":"]
["breeding pigs",{"$nulls":3},":",":",":",":",":",":",":",":",":",":",":",":",":",":",":",{"$nulls":8},":",":",":",":",":",":",":"]
["others",{"$nulls":3},":",":",":",":",":",":",":",":",":",":",":",":",":",":",":",{"$nulls":8},":",":",":",":",":",":",":"]
[]
[]
["Poultry",{"$nulls":3},463,459,443,435,399,380,411,387,370,382,386,394,387,384,387,420,440,446,471,493,504,524,547,570,601,628,608,651,661,697,721,707,{"v":734.138,"d":"734"},{"$f":"+AK30*1.035","v":{"v":759.83283,"d":"760"}}]
["broilers",{"$nulls":3},":",":",":",":",":",":",":",":",":",":",":",":",":",":",":",{"$nulls":8},":",":",":",":",":",":",":"]
["chicks & layers",{"$nulls":3},":",":",":",":",":",":",":",":",":",":",":",":",":",":",":",{"$nulls":8},":",":",":",":",":",":",":"]
["others",{"$nulls":3},":",":",":",":",":",":",":",":",":",":",":",":",":",":",":",{"$nulls":8},":",":",":",":",":",":",":"]
[]
[]
["Milk replacers",{"$nulls":3},":",":",16,13,4,4,4,5,4,2,0,0,0,0,0,0,0,0,0,0,0,0,0,0,0,0,0,0,0,0]
[]
[]
["Others",{"$nulls":3},237,239,83,37,64,82,62,75,73,54,60,64,67,80,85,88,102,106,111,111,120,125,126,138,125,139,154,137,127,141,140,145,{"v":146.768,"d":"147"},{"$f":"+AK39*1.01","v":{"v":148.23568,"d":"148"}}]
[]
[]
["TOTAL",{"$f":"B39+B30+B23+B16+B36","v":0},0,0,{"$f":"E39+E30+E23+E16","v":{"v":1069,"d":"1,069"}},{"v":1104,"d":"1,104"},{"$f":"G39+G30+G23+G16+G36","v":940},920,898,888,917,927,911,921,968,{"v":1001,"d":"1,001"},{"v":1015,"d":"1,015"},{"v":1018,"d":"1,018"},{"v":1081,"d":"1,081"},{"v":1153,"d":"1,153"},{"v":1171,"d":"1,171"},{"v":1177,"d":"1,177"},{"v":1276,"d":"1,276"},{"v":1330,"d":"1,330"},{"v":1370,"d":"1,370"},{"v":1406,"d":"1,406"},{"v":1472,"d":"1,472"},{"v":1537,"d":"1,537"},{"v":1526,"d":"1,526"},{"v":1618,"d":"1,618"},{"v":1598,"d":"1,598"},{"v":1645,"d":"1,645"},{"v":1678,"d":"1,678"},{"v":1761,"d":"1,761"},{"v":1762,"d":"1,762"},{"v":1734,"d":"1,734"},{"$f":"AK16+AK23+AK30+AK39","v":{"v":1790.5059999999999,"d":"1,791"}},{"$f":"AL16+AL23+AL30+AL39","v":{"v":1828.8265199999998,"d":"1,829"}}]

{"sheet":"EU","index":77,"n_rows":42,"n_cols":36,"rows_kept":42,"merged":[[3,0,3,32]]}
["FEFAC SECRETARIAT GENERAL"]
[]
[]
["INDUSTRIAL COMPOUND FEED PRODUCTION"]
[]
[]
[]
["COUNTRY: EU-28"]
[]
[{"$nulls":32},"UK out","UK out","UK out","UK out"]
[]
["1 000 t",1989,1990,1991,1992,1993,1994,1995,1996,1997,1998,1999,2000,2001,2002,2003,2004,2005,2006,2007,2008,2009,2010,2011,2012,2013,2014,2015,2016,2017,2018,2019,2020,2021,2022,2023]
[null,"final figures","final figures","final figures","final figures","final figures","final figures","final figures","final figures","final figures","final figures","final figures","final figures","final figures","final figures","final figures","final figures","final figures","final figures","final figures","final figures","final figures","final figures","final figures","final figures","final figures","final figures","final figures","final figures","final figures","estimates","forecasts","forecasts","forecasts","forecasts","forecasts"]
[]
[]
["Cattle",{"$f":"Germany!B16+France!B16+Italy!B16+'The Netherlands'!B16+Belgium!B16+UK!B16+Ireland!B16+Denmark!B16+Spain!B16+Portugal!B16","v":{"v":31642,"d":"31,642"}},{"$f":"Germany!C16+France!C16+Italy!C16+'The Netherlands'!C16+Belgium!C16+UK!C16+Ireland!C16+Denmark!C16+Spain!C16+Portugal!C16","v":{"v":31277,"d":"31,277"}},{"$f":"Germany!D16+France!D16+Italy!D16+'The Netherlands'!D16+Belgium!D16+UK!D16+Ireland!D16+Denmark!D16+Spain!D16+Portugal!D16","v":{"v":32915,"d":"32,915"}},{"$f":"Germany!E16+France!E16+Italy!E16+'The Netherlands'!E16+Belgium!E16+UK!E16+Ireland!E16+Denmark!E16+Spain!E16+Portugal!E16","v":{"v":32054,"d":"32,054"}},{"$f":"Germany!F16+France!F16+Italy!F16+'The Netherlands'!F16+Belgium!F16+UK!F16+Ireland!F16+Denmark!F16+Spain!F16+Portugal!F16","v":{"v":32517,"d":"32,517"}},{"$f":"Germany!G16+France!G16+Italy!G16+'The Netherlands'!G16+Belgium!G16+UK!G16+Ireland!G16+Denmark!G16+Spain!G16+Portugal!G16","v":{"v":33016,"d":"33,016"}},{"$f":"Germany!H16+France!H16+Italy!H16+'The Netherlands'!H16+Belgium!H16+UK!H16+Ireland!H16+Denmark!H16+Spain!H16+Portugal!H16+Finland!H16+Sweden!H16+Austria!H16","v":{"v":35705,"d":"35,705"}},{"$f":"Germany!I16+France!I16+Italy!I16+'The Netherlands'!I16+Belgium!I16+UK!I16+Ireland!I16+Denmark!I16+Spain!I16+Portugal!I16+Finland!I16+Sweden!I16+Austria!I16","v":{"v":35075,"d":"35,075"}},{"$f":"Germany!J16+France!J16+Italy!J16+'The Netherlands'!J16+Belgium!J16+UK!J16+Ireland!J16+Denmark!J16+Spain!J16+Portugal!J16+Finland!J16+Sweden!J16+Austria!J16","v":{"v":32993,"d":"32,993"}},{"$f":"Germany!K16+France!K16+Italy!K16+'The Netherlands'!K16+Belgium!K16+UK!K16+Ireland!K16+Denmark!K16+Spain!K16+Portugal!K16+Finland!K16+Sweden!K16+Austria!K16","v":{"v":32628,"d":"32,628"}},{"$f":"Germany!L16+France!L16+Italy!L16+'The Netherlands'!L16+Belgium!L16+UK!L16+Ireland!L16+Denmark!L16+Spain!L16+Portugal!L16+Finland!L16+Sweden!L16+Austria!L16","v":{"v":34343,"d":"34,343"}},{"$f":"Germany!M16+France!M16+Italy!M16+'The Netherlands'!M16+Belgium!M16+UK!M16+Ireland!M16+Denmark!M16+Spain!M16+Portugal!M16+Finland!M16+Sweden!M16+Austria!M16","v":{"v":34204,"d":"34,204"}},{"$f":"Germany!N16+France!N16+Italy!N16+'The Netherlands'!N16+Belgium!N16+UK!N16+Ireland!N16+Denmark!N16+Spain!N16+Portugal!N16+Finland!N16+Sweden!N16+Austria!N16","v":{"v":35305,"d":"35,305"}},{"$f":"Germany!O16+France!O16+Italy!O16+'The Netherlands'!O16+Belgium!O16+UK!O16+Ireland!O16+Denmark!O16+Spain!O16+Portugal!O16+Finland!O16+Sweden!O16+Austria!O16","v":{"v":35465,"d":"35,465"}},{"$f":"Germany!P16+France!P16+Italy!P16+'The Netherlands'!P16+Belgium!P16+UK!P16+Ireland!P16+Denmark!P16+Spain!P16+Portugal!P16+Finland!P16+Sweden!P16+Austria!P16","v":{"v":35963,"d":"35,963"}},{"$f":"Germany!Q16+France!Q16+Italy!Q16+'The Netherlands'!Q16+Belgium!Q16+UK!Q16+Ireland!Q16+Denmark!Q16+Spain!Q16+Portugal!Q16+Finland!Q16+Sweden!Q16+Austria!Q16+Cyprus!Q16+'Czech Rep'!Q16+Estonia!Q16+Hungary!Q16+Latvia!Q16+Lithuania!Q16+Malta!Q16+Poland!Q16+Slovakia!Q16+Slovenia!Q16","v":{"v":38135,"d":"38,135"}},{"$f":"Germany!R16+France!R16+Italy!R16+'The Netherlands'!R16+Belgium!R16+UK!R16+Ireland!R16+Denmark!R16+Spain!R16+Portugal!R16+Finland!R16+Sweden!R16+Austria!R16+Cyprus!R16+'Czech Rep'!R16+Estonia!R16+Hungary!R16+Latvia!R16+Lithuania!R16+Malta!R16+Poland!R16+Slovakia!R16+Slovenia!R16","v":{"v":37867,"d":"37,867"}},{"$f":"Germany!S16+France!S16+Italy!S16+'The Netherlands'!S16+Belgium!S16+UK!S16+Ireland!S16+Denmark!S16+Spain!S16+Portugal!S16+Finland!S16+Sweden!S16+Austria!S16+Cyprus!S16+'Czech Rep'!S16+Estonia!S16+Hungary!S16+Latvia!S16+Lithuania!S16+Malta!S16+Poland!S16+Slovakia!S16+Slovenia!S16","v":{"v":36838,"d":"36,838"}},{"$f":"Germany!T16+France!T16+Italy!T16+'The Netherlands'!T16+Belgium!T16+UK!T16+Ireland!T16+Denmark!T16+Spain!T16+Portugal!T16+Finland!T16+Sweden!T16+Austria!T16+Cyprus!T16+'Czech Rep'!T16+Estonia!T16+Hungary!T16+Latvia!T16+Lithuania!T16+Malta!T16+Poland!T16+Slovakia!T16+Slovenia!T16+Bulgaria!T16+Romania!T17","v":{"v":38603,"d":"38,603"}},{"$f":"Germany!U16+France!U16+Italy!U16+'The Netherlands'!U16+Belgium!U16+UK!U16+Ireland!U16+Denmark!U16+Spain!U16+Portugal!U16+Finland!U16+Sweden!U16+Austria!U16+Cyprus!U16+'Czech Rep'!U16+Estonia!U16+Hungary!U16+Latvia!U16+Lithuania!U16+Malta!U16+Poland!U16+Slovakia!U16+Slovenia!U16+Bulgaria!U16+Romania!U17","v":{"v":41207,"d":"41,207"}},{"$f":"Germany!V16+France!V16+Italy!V16+'The Netherlands'!V16+Belgium!V16+UK!V16+Ireland!V16+Denmark!V16+Spain!V16+Portugal!V16+Finland!V16+Sweden!V16+Austria!V16+Cyprus!V16+'Czech Rep'!V16+Estonia!V16+Hungary!V16+Latvia!V16+Lithuania!V16+Malta!V16+Poland!V16+Slovakia!V16+Slovenia!V16+Bulgaria!V16+Romania!V17","v":{"v":38577,"d":"38,577"}},{"$f":"Germany!W16+France!W16+Italy!W16+'The Netherlands'!W16+Belgium!W16+UK!W16+Ireland!W16+Denmark!W16+Spain!W16+Portugal!W16+Finland!W16+Sweden!W16+Austria!W16+Cyprus!W16+'Czech Rep'!W16+Estonia!W16+Hungary!W16+Latvia!W16+Lithuania!W16+Malta!W16+Poland!W16+Slovakia!W16+Slovenia!W16+Bulgaria!W16+Romania!W17","v":{"v":39583,"d":"39,583"}},{"$f":"Germany!X16+France!X16+Italy!X16+'The Netherlands'!X16+Belgium!X16+UK!X16+Ireland!X16+Denmark!X16+Spain!X16+Portugal!X16+Finland!X16+Sweden!X16+Austria!X16+Cyprus!X16+'Czech Rep'!X16+Estonia!X16+Hungary!X16+Latvia!X16+Lithuania!X16+Malta!X16+Poland!X16+Slovakia!X16+Slovenia!X16+Bulgaria!X16+Romania!X17","v":{"v":39804,"d":"39,804"}},{"$f":"Germany!Y16+France!Y16+Italy!Y16+'The Netherlands'!Y16+Belgium!Y16+UK!Y16+Ireland!Y16+Denmark!Y16+Spain!Y16+Portugal!Y16+Finland!Y16+Sweden!Y16+Austria!Y16+Cyprus!Y16+'Czech Rep'!Y16+Estonia!Y16+Hungary!Y16+Latvia!Y16+Lithuania!Y16+Malta!Y16+Poland!Y16+Slovakia!Y16+Slovenia!Y16+Bulgaria!Y16+Romania!Y17","v":{"v":41495,"d":"41,495"}},{"$f":"Germany!Z16+France!Z16+Italy!Z16+'The Netherlands'!Z16+Belgium!Z16+UK!Z16+Ireland!Z16+Denmark!Z16+Spain!Z16+Portugal!Z16+Finland!Z16+Sweden!Z16+Austria!Z16+Cyprus!Z16+'Czech Rep'!Z16+Estonia!Z16+Hungary!Z16+Latvia!Z16+Lithuania!Z16+Malta!Z16+Poland!Z16+Slovakia!Z16+Slovenia!Z16+Bulgaria!Z16+Romania!Z17 + Croatia!Z16","v":{"v":42356,"d":"42,356"}},{"$f":"Germany!#REF!+France!AA16+Italy!AA16+'The Netherlands'!AA16+Belgium!AA16+UK!AA16+Ireland!AA16+Denmark!AA16+Spain!AA16+Portugal!AA16+Finland!AA16+Sweden!AA16+Austria!AA16+Cyprus!AA16+'Czech Rep'!AA16+Estonia!AA16+Hungary!AA16+Latvia!AA16+Lithuania!AA16+Malta!AA16+Poland!AA16+Slovakia!AA16+Slovenia!AA16+Bulgaria!AA16+Romania!AA17 + Croatia!AA16","v":{"$error":"#REF!"}},{"$f":"Germany!AB16+France!AB16+Italy!AB16+'The Netherlands'!AB16+Belgium!AB16+UK!AB16+Ireland!AB16+Denmark!AB16+Spain!AB16+Portugal!AB16+Finland!AB16+Sweden!AB16+Austria!AB16+Cyprus!AB16+'Czech Rep'!AB16+Estonia!AB16+Hungary!AB16+Latvia!AB16+Lithuania!AB16+Malta!AB16+Poland!AB16+Slovakia!AB16+Slovenia!AB16+Bulgaria!AB16+Romania!AB17 + Croatia!AB16","v":{"v":42432,"d":"42,432"}},{"$f":"Germany!AC16+France!AC16+Italy!AC16+'The Netherlands'!AC16+Belgium!AC16+UK!AC16+Ireland!AC16+Denmark!AC16+Spain!AC16+Portugal!AC16+Finland!AC16+Sweden!AC16+Austria!AC16+Cyprus!AC16+'Czech Rep'!AC16+Estonia!AC16+Hungary!AC16+Latvia!AC16+Lithuania!AC16+Malta!AC16+Poland!AC16+Slovakia!AC16+Slovenia!AC16+Bulgaria!AC16+Romania!AC17 + Croatia!AC16","v":{"v":43579.575,"d":"43,580"}},{"$f":"Germany!AD16+France!AD16+Italy!AD16+'The Netherlands'!AD16+Belgium!AD16+UK!AD16+Ireland!AD16+Denmark!AD16+Spain!AD16+Portugal!AD16+Finland!AD16+Sweden!AD16+Austria!AD16+Cyprus!AD16+'Czech Rep'!AD16+Estonia!AD16+Hungary!AD16+Latvia!AD16+Lithuania!AD16+Malta!AD16+Poland!AD16+Slovakia!AD16+Slovenia!AD16+Bulgaria!AD16+Romania!AD17 + Croatia!AD16","v":{"v":45519.285,"d":"45,519"}},{"$f":"Germany!AE16+France!AE16+Italy!AE16+'The Netherlands'!AE16+Belgium!AE16+UK!AE16+Ireland!AE16+Denmark!AE16+Spain!AE16+Portugal!AE16+Finland!AE16+Sweden!AE16+Austria!AE16+Cyprus!AE16+'Czech Rep'!AE16+Estonia!AE16+Hungary!AE16+Latvia!AE16+Lithuania!AE16+Malta!AE16+Poland!AE16+Slovakia!AE16+Slovenia!AE16+Bulgaria!AE16+Romania!AE17 + Croatia!AE16","v":{"v":48109.871999999996,"d":"48,110"}},{"$f":"Germany!AF16+France!AF16+Italy!AF16+'The Netherlands'!AF16+Belgium!AF16+UK!AF16+Ireland!AF16+Denmark!AF16+Spain!AF16+Portugal!AF16+Finland!AF16+Sweden!AF16+Austria!AF16+Cyprus!AF16+'Czech Rep'!AF16+Estonia!AF16+Hungary!AF16+Latvia!AF16+Lithuania!AF16+Malta!AF16+Poland!AF16+Slovakia!AF16+Slovenia!AF16+Bulgaria!AF16+Romania!AF17 + Croatia!AF16","v":{"v":47690.789000000004,"d":"47,691"}},{"$f":"Germany!AG16+France!AG16+Italy!AG16+'The Netherlands'!AG16+Belgium!AG16+Ireland!AG16+Denmark!AG16+Spain!AG16+Portugal!AG16+Finland!AG16+Sweden!AG16+Austria!AG16+Cyprus!AG16+'Czech Rep'!AG16+Estonia!AG16+Hungary!AG16+Latvia!AG16+Lithuania!AG16+Malta!AG16+Poland!AG16+Slovakia!AG16+Slovenia!AG16+Bulgaria!AG16+Romania!AG17 + Croatia!AG16","v":{"v":42418.081,"d":"42,418"}},{"$f":"Germany!AH16+France!AH16+Italy!AH16+'The Netherlands'!AH16+Belgium!AH16+Ireland!AH16+Denmark!AH16+Spain!AH16+Portugal!AH16+Finland!AH16+Sweden!AH16+Austria!AH16+Cyprus!AH16+'Czech Rep'!AH16+Estonia!AH16+Hungary!AH16+Latvia!AH16+Lithuania!AH16+Malta!AH16+Poland!AH16+Slovakia!AH16+Slovenia!AH16+Bulgaria!AH16+Romania!AH17 + Croatia!AH16","v":{"v":42312.8445,"d":"42,313"}},{"$f":"Germany!AI16+France!AI16+Italy!AI16+'The Netherlands'!AI16+Belgium!AI16+Ireland!AI16+Denmark!AI16+Spain!AI16+Portugal!AI16+Finland!AI16+Sweden!AI16+Austria!AI16+Cyprus!AI16+'Czech Rep'!AI16+Estonia!AI16+Hungary!AI16+Latvia!AI16+Lithuania!AI16+Malta!AI16+Poland!AI16+Slovakia!AI16+Slovenia!AI16+Bulgaria!AI16+Romania!AI17 + Croatia!AI16","v":{"v":41698.80421800518,"d":"41,699"}},{"$f":"Germany!AJ16+France!AJ16+Italy!AJ16+'The Netherlands'!AJ16+Belgium!AJ16+Ireland!AJ16+Denmark!AJ16+Spain!AJ16+Portugal!AJ16+Finland!AJ16+Sweden!AJ16+Austria!AJ16+Cyprus!AJ16+'Czech Rep'!AJ16+Estonia!AJ16+Hungary!AJ16+Latvia!AJ16+Lithuania!AJ16+Malta!AJ16+Poland!AJ16+Slovakia!AJ16+Slovenia!AJ16+Bulgaria!AJ16+Romania!AJ17 + Croatia!AJ16","v":{"v":42080.439,"d":"42,080"}}]
["fattening",":",":",":",":",":",":",":",":",":",":",":",":",":",":",":",":",":",":",":",":",":",":",":",":",":",":",":",":",":",":",":",":",":",":",":"]
["dairy cow",":",":",":",":",":",":",":",":",":",":",":",":",":",":",":",":",":",":",":",":",":",":",":",":",":",":",":",":",":",":",":",":",":",":",":"]
["calves (excl. milk replacers)",":",":",":",":",":",":",":",":",":",":",":",":",":",":",":",":",":",":",":",":",":",":",":",":",":",":",":",":",":",":",":",":",":",":",":"]
["others",":",":",":",":",":",":",":",":",":",":",":",":",":",":",":",":",":",":",":",":",":",":",":",":",":",":",":",":",":",":",":",":",":",":",":"]
[]
[]
["Pigs",{"$f":"Germany!B23+France!B23+Italy!B23+'The Netherlands'!B23+Belgium!B23+UK!B23+Ireland!B23+Denmark!B23+Spain!B23+Portugal!B23","v":{"v":35676,"d":"35,676"}},{"$f":"Germany!C23+France!C23+Italy!C23+'The Netherlands'!C23+Belgium!C23+UK!C23+Ireland!C23+Denmark!C23+Spain!C23+Portugal!C23","v":{"v":36389,"d":"36,389"}},{"$f":"Germany!D23+France!D23+Italy!D23+'The Netherlands'!D23+Belgium!D23+UK!D23+Ireland!D23+Denmark!D23+Spain!D23+Portugal!D23","v":{"v":38077,"d":"38,077"}},{"$f":"Germany!E23+France!E23+Italy!E23+'The Netherlands'!E23+Belgium!E23+UK!E23+Ireland!E23+Denmark!E23+Spain!E23+Portugal!E23","v":{"v":39663,"d":"39,663"}},{"$f":"Germany!F23+France!F23+Italy!F23+'The Netherlands'!F23+Belgium!F23+UK!F23+Ireland!F23+Denmark!F23+Spain!F23+Portugal!F23","v":{"v":41418,"d":"41,418"}},{"$f":"Germany!G23+France!G23+Italy!G23+'The Netherlands'!G23+Belgium!G23+UK!G23+Ireland!G23+Denmark!G23+Spain!G23+Portugal!G23","v":{"v":39921,"d":"39,921"}},{"$f":"Germany!H23+France!H23+Italy!H23+'The Netherlands'!H23+Belgium!H23+UK!H23+Ireland!H23+Denmark!H23+Spain!H23+Portugal!H23+Finland!H23+Sweden!H23+Austria!H23","v":{"v":40477,"d":"40,477"}},{"$f":"Germany!I23+France!I23+Italy!I23+'The Netherlands'!I23+Belgium!I23+UK!I23+Ireland!I23+Denmark!I23+Spain!I23+Portugal!I23+Finland!I23+Sweden!I23+Austria!I23","v":{"v":41996,"d":"41,996"}},{"$f":"Germany!J23+France!J23+Italy!J23+'The Netherlands'!J23+Belgium!J23+UK!J23+Ireland!J23+Denmark!J23+Spain!J23+Portugal!J23+Finland!J23+Sweden!J23+Austria!J23","v":{"v":42236,"d":"42,236"}},{"$f":"Germany!K23+France!K23+Italy!K23+'The Netherlands'!K23+Belgium!K23+UK!K23+Ireland!K23+Denmark!K23+Spain!K23+Portugal!K23+Finland!K23+Sweden!K23+Austria!K23","v":{"v":43495,"d":"43,495"}},{"$f":"Germany!L23+France!L23+Italy!L23+'The Netherlands'!L23+Belgium!L23+UK!L23+Ireland!L23+Denmark!L23+Spain!L23+Portugal!L23+Finland!L23+Sweden!L23+Austria!L23","v":{"v":43442,"d":"43,442"}},{"$f":"Germany!M23+France!M23+Italy!M23+'The Netherlands'!M23+Belgium!M23+UK!M23+Ireland!M23+Denmark!M23+Spain!M23+Portugal!M23+Finland!M23+Sweden!M23+Austria!M23","v":{"v":43099,"d":"43,099"}},{"$f":"Germany!N23+France!N23+Italy!N23+'The Netherlands'!N23+Belgium!N23+UK!N23+Ireland!N23+Denmark!N23+Spain!N23+Portugal!N23+Finland!N23+Sweden!N23+Austria!N23","v":{"v":42582,"d":"42,582"}},{"$f":"Germany!O23+France!O23+Italy!O23+'The Netherlands'!O23+Belgium!O23+UK!O23+Ireland!O23+Denmark!O23+Spain!O23+Portugal!O23+Finland!O23+Sweden!O23+Austria!O23","v":{"v":42501,"d":"42,501"}},{"$f":"Germany!P23+France!P23+Italy!P23+'The Netherlands'!P23+Belgium!P23+UK!P23+Ireland!P23+Denmark!P23+Spain!P23+Portugal!P23+Finland!P23+Sweden!P23+Austria!P23","v":{"v":42013,"d":"42,013"}},{"$f":"Germany!Q23+France!Q23+Italy!Q23+'The Netherlands'!Q23+Belgium!Q23+UK!Q23+Ireland!Q23+Denmark!Q23+Spain!Q23+Portugal!Q23+Finland!Q23+Sweden!Q23+Austria!Q23+Cyprus!Q23+'Czech Rep'!Q23+Estonia!Q23+Hungary!Q23+Latvia!Q23+Lithuania!Q23+Malta!Q24+Poland!Q23+Slovakia!Q23+Slovenia!Q23","v":{"v":47903,"d":"47,903"}},{"$f":"Germany!R23+France!R23+Italy!R23+'The Netherlands'!R23+Belgium!R23+UK!R23+Ireland!R23+Denmark!R23+Spain!R23+Portugal!R23+Finland!R23+Sweden!R23+Austria!R23+Cyprus!R23+'Czech Rep'!R23+Estonia!R23+Hungary!R23+Latvia!R23+Lithuania!R23+Malta!R24+Poland!R23+Slovakia!R23+Slovenia!R23","v":{"v":47222,"d":"47,222"}},{"$f":"Germany!S23+France!S23+Italy!S23+'The Netherlands'!S23+Belgium!S23+UK!S23+Ireland!S23+Denmark!S23+Spain!S23+Portugal!S23+Finland!S23+Sweden!S23+Austria!S23+Cyprus!S23+'Czech Rep'!S23+Estonia!S23+Hungary!S23+Latvia!S23+Lithuania!S23+Malta!S24+Poland!S23+Slovakia!S23+Slovenia!S23","v":{"v":48861,"d":"48,861"}},{"$f":"Germany!T23+France!T23+Italy!T23+'The Netherlands'!T23+Belgium!T23+UK!T23+Ireland!T23+Denmark!T23+Spain!T23+Portugal!T23+Finland!T23+Sweden!T23+Austria!T23+Cyprus!T23+'Czech Rep'!T23+Estonia!T23+Hungary!T23+Latvia!T23+Lithuania!T23+Malta!T24+Poland!T23+Slovakia!T23+Slovenia!T23+Bulgaria!T23+Romania!T24","v":{"v":52951,"d":"52,951"}},{"$f":"Germany!U23+France!U23+Italy!U23+'The Netherlands'!U23+Belgium!U23+UK!U23+Ireland!U23+Denmark!U23+Spain!U23+Portugal!U23+Finland!U23+Sweden!U23+Austria!U23+Cyprus!U23+'Czech Rep'!U23+Estonia!U23+Hungary!U23+Latvia!U23+Lithuania!U23+Malta!U24+Poland!U23+Slovakia!U23+Slovenia!U23+Bulgaria!U23+Romania!U24","v":{"v":52470,"d":"52,470"}},{"$f":"Germany!V23+France!V23+Italy!V23+'The Netherlands'!V23+Belgium!V23+UK!V23+Ireland!V23+Denmark!V23+Spain!V23+Portugal!V23+Finland!V23+Sweden!V23+Austria!V23+Cyprus!V23+'Czech Rep'!V23+Estonia!V23+Hungary!V23+Latvia!V23+Lithuania!V23+Malta!V24+Poland!V23+Slovakia!V23+Slovenia!V23+Bulgaria!V23+Romania!V24","v":{"v":49696,"d":"49,696"}},{"$f":"Germany!W23+France!W23+Italy!W23+'The Netherlands'!W23+Belgium!W23+UK!W23+Ireland!W23+Denmark!W23+Spain!W23+Portugal!W23+Finland!W23+Sweden!W23+Austria!W23+Cyprus!W23+'Czech Rep'!W23+Estonia!W23+Hungary!W23+Latvia!W23+Lithuania!W23+Malta!W24+Poland!W23+Slovakia!W23+Slovenia!W23+Bulgaria!W23+Romania!W24","v":{"v":50218,"d":"50,218"}},{"$f":"Germany!X23+France!X23+Italy!X23+'The Netherlands'!X23+Belgium!X23+UK!X23+Ireland!X23+Denmark!X23+Spain!X23+Portugal!X23+Finland!X23+Sweden!X23+Austria!X23+Cyprus!X23+'Czech Rep'!X23+Estonia!X23+Hungary!X23+Latvia!X23+Lithuania!X23+Malta!X24+Poland!X23+Slovakia!X23+Slovenia!X23+Bulgaria!X23+Romania!X24","v":{"v":50363,"d":"50,363"}},{"$f":"Germany!Y23+France!Y23+Italy!Y23+'The Netherlands'!Y23+Belgium!Y23+UK!Y23+Ireland!Y23+Denmark!Y23+Spain!Y23+Portugal!Y23+Finland!Y23+Sweden!Y23+Austria!Y23+Cyprus!Y23+'Czech Rep'!Y23+Estonia!Y23+Hungary!Y23+Latvia!Y23+Lithuania!Y23+Malta!Y24+Poland!Y23+Slovakia!Y23+Slovenia!Y23+Bulgaria!Y23+Romania!Y24","v":{"v":49840,"d":"49,840"}},{"$f":"Germany!Z23+France!Z23+Italy!Z23+'The Netherlands'!Z23+Belgium!Z23+UK!Z23+Ireland!Z23+Denmark!Z23+Spain!Z23+Portugal!Z23+Finland!Z23+Sweden!Z23+Austria!Z23+Cyprus!Z23+'Czech Rep'!Z23+Estonia!Z23+Hungary!Z23+Latvia!Z23+Lithuania!Z23+Malta!Z24+Poland!Z23+Slovakia!Z23+Slovenia!Z23+Bulgaria!Z23+Romania!Z24+Croatia!Z23","v":{"v":49206,"d":"49,206"}},{"$f":"Germany!#REF!+France!AA23+Italy!AA23+'The Netherlands'!AA23+Belgium!AA23+UK!AA23+Ireland!AA23+Denmark!AA23+Spain!AA23+Portugal!AA23+Finland!AA23+Sweden!AA23+Austria!AA23+Cyprus!AA23+'Czech Rep'!AA23+Estonia!AA23+Hungary!AA23+Latvia!AA23+Lithuania!AA23+Malta!AA24+Poland!AA23+Slovakia!AA23+Slovenia!AA23+Bulgaria!AA23+Romania!AA24+Croatia!AA23","v":{"$error":"#REF!"}},{"$f":"Germany!AB23+France!AB23+Italy!AB23+'The Netherlands'!AB23+Belgium!AB23+UK!AB23+Ireland!AB23+Denmark!AB23+Spain!AB23+Portugal!AB23+Finland!AB23+Sweden!AB23+Austria!AB23+Cyprus!AB23+'Czech Rep'!AB23+Estonia!AB23+Hungary!AB23+Latvia!AB23+Lithuania!AB23+Malta!AB24+Poland!AB23+Slovakia!AB23+Slovenia!AB23+Bulgaria!AB23+Romania!AB24+Croatia!AB23","v":{"v":50591,"d":"50,591"}},{"$f":"Germany!AC23+France!AC23+Italy!AC23+'The Netherlands'!AC23+Belgium!AC23+UK!AC23+Ireland!AC23+Denmark!AC23+Spain!AC23+Portugal!AC23+Finland!AC23+Sweden!AC23+Austria!AC23+Cyprus!AC23+'Czech Rep'!AC23+Estonia!AC23+Hungary!AC23+Latvia!AC23+Lithuania!AC23+Malta!AC24+Poland!AC23+Slovakia!AC23+Slovenia!AC23+Bulgaria!AC23+Romania!AC24+Croatia!AC23","v":{"v":50809.2,"d":"50,809"}},{"$f":"Germany!AD23+France!AD23+Italy!AD23+'The Netherlands'!AD23+Belgium!AD23+UK!AD23+Ireland!AD23+Denmark!AD23+Spain!AD23+Portugal!AD23+Finland!AD23+Sweden!AD23+Austria!AD23+Cyprus!AD23+'Czech Rep'!AD23+Estonia!AD23+Hungary!AD23+Latvia!AD23+Lithuania!AD23+Malta!AD24+Poland!AD23+Slovakia!AD23+Slovenia!AD23+Bulgaria!AD23+Romania!AD24+Croatia!AD23","v":{"v":51432.432,"d":"51,432"}},{"$f":"Germany!AE23+France!AE23+Italy!AE23+'The Netherlands'!AE23+Belgium!AE23+UK!AE23+Ireland!AE23+Denmark!AE23+Spain!AE23+Portugal!AE23+Finland!AE23+Sweden!AE23+Austria!AE23+Cyprus!AE23+'Czech Rep'!AE23+Estonia!AE23+Hungary!AE23+Latvia!AE23+Lithuania!AE23+Malta!AE24+Poland!AE23+Slovakia!AE23+Slovenia!AE23+Bulgaria!AE23+Romania!AE24+Croatia!AE23","v":{"v":51489.145,"d":"51,489"}},{"$f":"Germany!AF23+France!AF23+Italy!AF23+'The Netherlands'!AF23+Belgium!AF23+UK!AF23+Ireland!AF23+Denmark!AF23+Spain!AF23+Portugal!AF23+Finland!AF23+Sweden!AF23+Austria!AF23+Cyprus!AF23+'Czech Rep'!AF23+Estonia!AF23+Hungary!AF23+Latvia!AF23+Lithuania!AF23+Malta!AF24+Poland!AF23+Slovakia!AF23+Slovenia!AF23+Bulgaria!AF23+Romania!AF24+Croatia!AF23","v":{"v":51727.919,"d":"51,728"}},{"$f":"Germany!AG23+France!AG23+Italy!AG23+'The Netherlands'!AG23+Belgium!AG23+Ireland!AG23+Denmark!AG23+Spain!AG23+Portugal!AG23+Finland!AG23+Sweden!AG23+Austria!AG23+Cyprus!AG23+'Czech Rep'!AG23+Estonia!AG23+Hungary!AG23+Latvia!AG23+Lithuania!AG23+Malta!AG24+Poland!AG23+Slovakia!AG23+Slovenia!AG23+Bulgaria!AG23+Romania!AG24+Croatia!AG23","v":{"v":51312.684,"d":"51,313"}},{"$f":"Germany!AH23+France!AH23+Italy!AH23+'The Netherlands'!AH23+Belgium!AH23+Ireland!AH23+Denmark!AH23+Spain!AH23+Portugal!AH23+Finland!AH23+Sweden!AH23+Austria!AH23+Cyprus!AH23+'Czech Rep'!AH23+Estonia!AH23+Hungary!AH23+Latvia!AH23+Lithuania!AH23+Malta!AH24+Poland!AH23+Slovakia!AH23+Slovenia!AH23+Bulgaria!AH23+Romania!AH24+Croatia!AH23","v":{"v":52554.23499999999,"d":"52,554"}},{"$f":"Germany!AI23+France!AI23+Italy!AI23+'The Netherlands'!AI23+Belgium!AI23+Ireland!AI23+Denmark!AI23+Spain!AI23+Portugal!AI23+Finland!AI23+Sweden!AI23+Austria!AI23+Cyprus!AI23+'Czech Rep'!AI23+Estonia!AI23+Hungary!AI23+Latvia!AI23+Lithuania!AI23+Malta!AI24+Poland!AI23+Slovakia!AI23+Slovenia!AI23+Bulgaria!AI23+Romania!AI24+Croatia!AI23","v":{"v":49754.61744048139,"d":"49,755"}},{"$f":"Germany!AJ23+France!AJ23+Italy!AJ23+'The Netherlands'!AJ23+Belgium!AJ23+Ireland!AJ23+Denmark!AJ23+Spain!AJ23+Portugal!AJ23+Finland!AJ23+Sweden!AJ23+Austria!AJ23+Cyprus!AJ23+'Czech Rep'!AJ23+Estonia!AJ23+Hungary!AJ23+Latvia!AJ23+Lithuania!AJ23+Malta!AJ24+Poland!AJ23+Slovakia!AJ23+Slovenia!AJ23+Bulgaria!AJ23+Romania!AJ24+Croatia!AJ23","v":{"v":47696.954999999994,"d":"47,697"}}]
["piglets",":",":",":",":",":",":",":",":",":",":",":",":",":",":",":",":",":",":",":",":",":",":",":",":",":",":",":",":",":",":",":",":",":",":",":"]
["pigs for fattening",":",":",":",":",":",":",":",":",":",":",":",":",":",":",":",":",":",":",":",":",":",":",":",":",":",":",":",":",":",":",":",":",":",":",":"]
["breeding pigs",":",":",":",":",":",":",":",":",":",":",":",":",":",":",":",":",":",":",":",":",":",":",":",":",":",":",":",":",":",":",":",":",":",":",":"]
["others",":",":",":",":",":",":",":",":",":",":",":",":",":",":",":",":",":",":",":",":",":",":",":",":",":",":",":",":",":",":",":",":",":",":",":"]
[]
[]
["Poultry",{"$f":"Germany!B30+France!B30+Italy!B30+'The Netherlands'!B30+Belgium!B30+UK!B30+Ireland!B30+Denmark!B30+Spain!B30+Portugal!B30","v":{"v":28115,"d":"28,115"}},{"$f":"Germany!C30+France!C30+Italy!C30+'The Netherlands'!C30+Belgium!C30+UK!C30+Ireland!C30+Denmark!C30+Spain!C30+Portugal!C30","v":{"v":29404,"d":"29,404"}},{"$f":"Germany!D30+France!D30+Italy!D30+'The Netherlands'!D30+Belgium!D30+UK!D30+Ireland!D30+Denmark!D30+Spain!D30+Portugal!D30","v":{"v":30756,"d":"30,756"}},{"$f":"Germany!E30+France!E30+Italy!E30+'The Netherlands'!E30+Belgium!E30+UK!E30+Ireland!E30+Denmark!E30+Spain!E30+Portugal!E30","v":{"v":31016,"d":"31,016"}},{"$f":"Germany!F30+France!F30+Italy!F30+'The Netherlands'!F30+Belgium!F30+UK!F30+Ireland!F30+Denmark!F30+Spain!F30+Portugal!F30","v":{"v":31312,"d":"31,312"}},{"$f":"Germany!G30+France!G30+Italy!G30+'The Netherlands'!G30+Belgium!G30+UK!G30+Ireland!G30+Denmark!G30+Spain!G30+Portugal!G30","v":{"v":31785,"d":"31,785"}},{"$f":"Germany!H30+France!H30+Italy!H30+'The Netherlands'!H30+Belgium!H30+UK!H30+Ireland!H30+Denmark!H30+Spain!H30+Portugal!H30+Finland!H30+Sweden!H30+Austria!H30","v":{"v":35281,"d":"35,281"}},{"$f":"Germany!I30+France!I30+Italy!I30+'The Netherlands'!I30+Belgium!I30+UK!I30+Ireland!I30+Denmark!I30+Spain!I30+Portugal!I30+Finland!I30+Sweden!I30+Austria!I30","v":{"v":36181,"d":"36,181"}},{"$f":"Germany!J30+France!J30+Italy!J30+'The Netherlands'!J30+Belgium!J30+UK!J30+Ireland!J30+Denmark!J30+Spain!J30+Portugal!J30+Finland!J30+Sweden!J30+Austria!J30","v":{"v":36983,"d":"36,983"}},{"$f":"Germany!K30+France!K30+Italy!K30+'The Netherlands'!K30+Belgium!K30+UK!K30+Ireland!K30+Denmark!K30+Spain!K30+Portugal!K30+Finland!K30+Sweden!K30+Austria!K30","v":{"v":37774,"d":"37,774"}},{"$f":"Germany!L30+France!L30+Italy!L30+'The Netherlands'!L30+Belgium!L30+UK!L30+Ireland!L30+Denmark!L30+Spain!L30+Portugal!L30+Finland!L30+Sweden!L30+Austria!L30","v":{"v":37390,"d":"37,390"}},{"$f":"Germany!M30+France!M30+Italy!M30+'The Netherlands'!M30+Belgium!M30+UK!M30+Ireland!M30+Denmark!M30+Spain!M30+Portugal!M30+Finland!M30+Sweden!M30+Austria!M30","v":{"v":37158,"d":"37,158"}},{"$f":"Germany!N30+France!N30+Italy!N30+'The Netherlands'!N30+Belgium!N30+UK!N30+Ireland!N30+Denmark!N30+Spain!N30+Portugal!N30+Finland!N30+Sweden!N30+Austria!N30","v":{"v":38233,"d":"38,233"}},{"$f":"Germany!O30+France!O30+Italy!O30+'The Netherlands'!O30+Belgium!O30+UK!O30+Ireland!O30+Denmark!O30+Spain!O30+Portugal!O30+Finland!O30+Sweden!O30+Austria!O30","v":{"v":38941,"d":"38,941"}},{"$f":"Germany!P30+France!P30+Italy!P30+'The Netherlands'!P30+Belgium!P30+UK!P30+Ireland!P30+Denmark!P30+Spain!P30+Portugal!P30+Finland!P30+Sweden!P30+Austria!P30","v":{"v":37561,"d":"37,561"}},{"$f":"Germany!Q30+France!Q30+Italy!Q30+'The Netherlands'!Q30+Belgium!Q30+UK!Q30+Ireland!Q30+Denmark!Q30+Spain!Q30+Portugal!Q30+Finland!Q30+Sweden!Q30+Austria!Q30+Cyprus!Q30+'Czech Rep'!Q30+Estonia!Q30+Hungary!Q30+Latvia!Q30+Lithuania!Q30+Malta!Q31+Poland!Q30+Slovakia!Q30+Slovenia!Q30","v":{"v":46753,"d":"46,753"}},{"$f":"Germany!R30+France!R30+Italy!R30+'The Netherlands'!R30+Belgium!R30+UK!R30+Ireland!R30+Denmark!R30+Spain!R30+Portugal!R30+Finland!R30+Sweden!R30+Austria!R30+Cyprus!R30+'Czech Rep'!R30+Estonia!R30+Hungary!R30+Latvia!R30+Lithuania!R30+Malta!R31+Poland!R30+Slovakia!R30+Slovenia!R30","v":{"v":45593,"d":"45,593"}},{"$f":"Germany!S30+France!S30+Italy!S30+'The Netherlands'!S30+Belgium!S30+UK!S30+Ireland!S30+Denmark!S30+Spain!S30+Portugal!S30+Finland!S30+Sweden!S30+Austria!S30+Cyprus!S30+'Czech Rep'!S30+Estonia!S30+Hungary!S30+Latvia!S30+Lithuania!S30+Malta!S31+Poland!S30+Slovakia!S30+Slovenia!S30","v":{"v":45067,"d":"45,067"}},{"$f":"Germany!T30+France!T30+Italy!T30+'The Netherlands'!T30+Belgium!T30+UK!T30+Ireland!T30+Denmark!T30+Spain!T30+Portugal!T30+Finland!T30+Sweden!T30+Austria!T30+Cyprus!T30+'Czech Rep'!T30+Estonia!T30+Hungary!T30+Latvia!T30+Lithuania!T30+Malta!T31+Poland!T30+Slovakia!T30+Slovenia!T30+Bulgaria!T30+Romania!T31","v":{"v":47876,"d":"47,876"}},{"$f":"Germany!U30+France!U30+Italy!U30+'The Netherlands'!U30+Belgium!U30+UK!U30+Ireland!U30+Denmark!U30+Spain!U30+Portugal!U30+Finland!U30+Sweden!U30+Austria!U30+Cyprus!U30+'Czech Rep'!U30+Estonia!U30+Hungary!U30+Latvia!U30+Lithuania!U30+Malta!U31+Poland!U30+Slovakia!U30+Slovenia!U30+Bulgaria!U30+Romania!U31","v":{"v":49070,"d":"49,070"}},{"$f":"Germany!V30+France!V30+Italy!V30+'The Netherlands'!V30+Belgium!V30+UK!V30+Ireland!V30+Denmark!V30+Spain!V30+Portugal!V30+Finland!V30+Sweden!V30+Austria!V30+Cyprus!V30+'Czech Rep'!V30+Estonia!V30+Hungary!V30+Latvia!V30+Lithuania!V30+Malta!V31+Poland!V30+Slovakia!V30+Slovenia!V30+Bulgaria!V30+Romania!V31","v":{"v":49418,"d":"49,418"}},{"$f":"Germany!W30+France!W30+Italy!W30+'The Netherlands'!W30+Belgium!W30+UK!W30+Ireland!W30+Denmark!W30+Spain!W30+Portugal!W30+Finland!W30+Sweden!W30+Austria!W30+Cyprus!W30+'Czech Rep'!W30+Estonia!W30+Hungary!W30+Latvia!W30+Lithuania!W30+Malta!W31+Poland!W30+Slovakia!W30+Slovenia!W30+Bulgaria!W30+Romania!W31","v":{"v":50943,"d":"50,943"}},{"$f":"Germany!X30+France!X30+Italy!X30+'The Netherlands'!X30+Belgium!X30+UK!X30+Ireland!X30+Denmark!X30+Spain!X30+Portugal!X30+Finland!X30+Sweden!X30+Austria!X30+Cyprus!X30+'Czech Rep'!X30+Estonia!X30+Hungary!X30+Latvia!X30+Lithuania!X30+Malta!X31+Poland!X30+Slovakia!X30+Slovenia!X30+Bulgaria!X30+Romania!X31","v":{"v":50575,"d":"50,575"}},{"$f":"Germany!Y30+France!Y30+Italy!Y30+'The Netherlands'!Y30+Belgium!Y30+UK!Y30+Ireland!Y30+Denmark!Y30+Spain!Y30+Portugal!Y30+Finland!Y30+Sweden!Y30+Austria!Y30+Cyprus!Y30+'Czech Rep'!Y30+Estonia!Y30+Hungary!Y30+Latvia!Y30+Lithuania!Y30+Malta!Y31+Poland!Y30+Slovakia!Y30+Slovenia!Y30+Bulgaria!Y30+Romania!Y31","v":{"v":51449,"d":"51,449"}},{"$f":"Germany!Z30+France!Z30+Italy!Z30+'The Netherlands'!Z30+Belgium!Z30+UK!Z30+Ireland!Z30+Denmark!Z30+Spain!Z30+Portugal!Z30+Finland!Z30+Sweden!Z30+Austria!Z30+Cyprus!Z30+'Czech Rep'!Z30+Estonia!Z30+Hungary!Z30+Latvia!Z30+Lithuania!Z30+Malta!Z31+Poland!Z30+Slovakia!Z30+Slovenia!Z30+Bulgaria!Z30+Romania!Z31+Croatia!Z30","v":{"v":51412,"d":"51,412"}},{"$f":"Germany!#REF!+France!AA30+Italy!AA30+'The Netherlands'!AA30+Belgium!AA30+UK!AA30+Ireland!AA30+Denmark!AA30+Spain!AA30+Portugal!AA30+Finland!AA30+Sweden!AA30+Austria!AA30+Cyprus!AA30+'Czech Rep'!AA30+Estonia!AA30+Hungary!AA30+Latvia!AA30+Lithuania!AA30+Malta!AA31+Poland!AA30+Slovakia!AA30+Slovenia!AA30+Bulgaria!AA30+Romania!AA31+Croatia!AA30","v":{"$error":"#REF!"}},{"$f":"Germany!AB30+France!AB30+Italy!AB30+'The Netherlands'!AB30+Belgium!AB30+UK!AB30+Ireland!AB30+Denmark!AB30+Spain!AB30+Portugal!AB30+Finland!AB30+Sweden!AB30+Austria!AB30+Cyprus!AB30+'Czech Rep'!AB30+Estonia!AB30+Hungary!AB30+Latvia!AB30+Lithuania!AB30+Malta!AB31+Poland!AB30+Slovakia!AB30+Slovenia!AB30+Bulgaria!AB30+Romania!AB31+Croatia!AB30","v":{"v":53014,"d":"53,014"}},{"$f":"Germany!AC30+France!AC30+Italy!AC30+'The Netherlands'!AC30+Belgium!AC30+UK!AC30+Ireland!AC30+Denmark!AC30+Spain!AC30+Portugal!AC30+Finland!AC30+Sweden!AC30+Austria!AC30+Cyprus!AC30+'Czech Rep'!AC30+Estonia!AC30+Hungary!AC30+Latvia!AC30+Lithuania!AC30+Malta!AC31+Poland!AC30+Slovakia!AC30+Slovenia!AC30+Bulgaria!AC30+Romania!AC31+Croatia!AC30","v":{"v":54936.6,"d":"54,937"}},{"$f":"Germany!AD30+France!AD30+Italy!AD30+'The Netherlands'!AD30+Belgium!AD30+UK!AD30+Ireland!AD30+Denmark!AD30+Spain!AD30+Portugal!AD30+Finland!AD30+Sweden!AD30+Austria!AD30+Cyprus!AD30+'Czech Rep'!AD30+Estonia!AD30+Hungary!AD30+Latvia!AD30+Lithuania!AD30+Malta!AD31+Poland!AD30+Slovakia!AD30+Slovenia!AD30+Bulgaria!AD30+Romania!AD31+Croatia!AD30","v":{"v":55076.741,"d":"55,077"}},{"$f":"Germany!AE30+France!AE30+Italy!AE30+'The Netherlands'!AE30+Belgium!AE30+UK!AE30+Ireland!AE30+Denmark!AE30+Spain!AE30+Portugal!AE30+Finland!AE30+Sweden!AE30+Austria!AE30+Cyprus!AE30+'Czech Rep'!AE30+Estonia!AE30+Hungary!AE30+Latvia!AE30+Lithuania!AE30+Malta!AE31+Poland!AE30+Slovakia!AE30+Slovenia!AE30+Bulgaria!AE30+Romania!AE31+Croatia!AE30","v":{"v":55712.854,"d":"55,713"}},{"$f":"Germany!AF30+France!AF30+Italy!AF30+'The Netherlands'!AF30+Belgium!AF30+UK!AF30+Ireland!AF30+Denmark!AF30+Spain!AF30+Portugal!AF30+Finland!AF30+Sweden!AF30+Austria!AF30+Cyprus!AF30+'Czech Rep'!AF30+Estonia!AF30+Hungary!AF30+Latvia!AF30+Lithuania!AF30+Malta!AF31+Poland!AF30+Slovakia!AF30+Slovenia!AF30+Bulgaria!AF30+Romania!AF31+Croatia!AF30","v":{"v":56009.121999999996,"d":"56,009"}},{"$f":"Germany!AG30+France!AG30+Italy!AG30+'The Netherlands'!AG30+Belgium!AG30+Ireland!AG30+Denmark!AG30+Spain!AG30+Portugal!AG30+Finland!AG30+Sweden!AG30+Austria!AG30+Cyprus!AG30+'Czech Rep'!AG30+Estonia!AG30+Hungary!AG30+Latvia!AG30+Lithuania!AG30+Malta!AG31+Poland!AG30+Slovakia!AG30+Slovenia!AG30+Bulgaria!AG30+Romania!AG31+Croatia!AG30","v":{"v":48918.831,"d":"48,919"}},{"$f":"Germany!AH30+France!AH30+Italy!AH30+'The Netherlands'!AH30+Belgium!AH30+Ireland!AH30+Denmark!AH30+Spain!AH30+Portugal!AH30+Finland!AH30+Sweden!AH30+Austria!AH30+Cyprus!AH30+'Czech Rep'!AH30+Estonia!AH30+Hungary!AH30+Latvia!AH30+Lithuania!AH30+Malta!AH31+Poland!AH30+Slovakia!AH30+Slovenia!AH30+Bulgaria!AH30+Romania!AH31+Croatia!AH30","v":{"v":48870.789500000006,"d":"48,871"}},{"$f":"Germany!AI30+France!AI30+Italy!AI30+'The Netherlands'!AI30+Belgium!AI30+Ireland!AI30+Denmark!AI30+Spain!AI30+Portugal!AI30+Finland!AI30+Sweden!AI30+Austria!AI30+Cyprus!AI30+'Czech Rep'!AI30+Estonia!AI30+Hungary!AI30+Latvia!AI30+Lithuania!AI30+Malta!AI31+Poland!AI30+Slovakia!AI30+Slovenia!AI30+Bulgaria!AI30+Romania!AI31+Croatia!AI30","v":{"v":47844.01832035873,"d":"47,844"}},{"$f":"Germany!AJ30+France!AJ30+Italy!AJ30+'The Netherlands'!AJ30+Belgium!AJ30+Ireland!AJ30+Denmark!AJ30+Spain!AJ30+Portugal!AJ30+Finland!AJ30+Sweden!AJ30+Austria!AJ30+Cyprus!AJ30+'Czech Rep'!AJ30+Estonia!AJ30+Hungary!AJ30+Latvia!AJ30+Lithuania!AJ30+Malta!AJ31+Poland!AJ30+Slovakia!AJ30+Slovenia!AJ30+Bulgaria!AJ30+Romania!AJ31+Croatia!AJ30","v":{"v":49050.387709,"d":"49,050"}}]
["broilers",":",":",":",":",":",":",":",":",":",":",":",":",":",":",":",":",":",":",":",":",":",":",":",":",":",":",":",":",":",":",":",":",":",":",":"]
["chicks & layers",":",":",":",":",":",":",":",":",":",":",":",":",":",":",":",":",":",":",":",":",":",":",":",":",":",":",":",":",":",":",":",":",":",":",":"]
["others",":",":",":",":",":",":",":",":",":",":",":",":",":",":",":",":",":",":",":",":",":",":",":",":",":",":",":",":",":",":",":",":",":",":",":"]
[]
[]
["Milk replacers",{"$f":"Germany!B36+France!B36+Italy!B36+'The Netherlands'!B36+Belgium!B36+UK!B36+Ireland!B36+Denmark!B36+Spain!B36+Portugal!B36","v":{"v":2057,"d":"2,057"}},{"$f":"Germany!C36+France!C36+Italy!C36+'The Netherlands'!C36+Belgium!C36+UK!C36+Ireland!C36+Denmark!C36+Spain!C36+Portugal!C36","v":{"v":1974,"d":"1,974"}},{"$f":"Germany!D36+France!D36+Italy!D36+'The Netherlands'!D36+Belgium!D36+UK!D36+Ireland!D36+Denmark!D36+Spain!D36+Portugal!D36","v":{"v":1988,"d":"1,988"}},{"$f":"Germany!E36+France!E36+Italy!E36+'The Netherlands'!E36+Belgium!E36+UK!E36+Ireland!E36+Denmark!E36+Spain!E36+Portugal!E36","v":{"v":1934,"d":"1,934"}},{"$f":"Germany!F36+France!F36+Italy!F36+'The Netherlands'!F36+Belgium!F36+UK!F36+Ireland!F36+Denmark!F36+Spain!F36+Portugal!F36","v":{"v":1910,"d":"1,910"}},{"$f":"Germany!G36+France!G36+Italy!G36+'The Netherlands'!G36+Belgium!G36+UK!G36+Ireland!G36+Denmark!G36+Spain!G36+Portugal!G36","v":{"v":1942,"d":"1,942"}},{"$f":"Germany!H36+France!H36+Italy!H36+'The Netherlands'!H36+Belgium!H36+UK!H36+Ireland!H36+Denmark!H36+Spain!H36+Portugal!H36+Sweden!H36+Austria!H36","v":{"v":1950,"d":"1,950"}},{"$f":"Germany!I36+France!I36+Italy!I36+'The Netherlands'!I36+Belgium!I36+UK!I36+Ireland!I36+Denmark!I36+Spain!I36+Portugal!I36+Sweden!I36+Austria!I36","v":{"v":1860,"d":"1,860"}},{"$f":"Germany!J36+France!J36+Italy!J36+'The Netherlands'!J36+Belgium!J36+UK!J36+Ireland!J36+Denmark!J36+Spain!J36+Portugal!J36+Sweden!J36+Austria!J36","v":{"v":1761,"d":"1,761"}},{"$f":"Germany!K36+France!K36+Italy!K36+'The Netherlands'!K36+Belgium!K36+UK!K36+Ireland!K36+Denmark!K36+Spain!K36+Portugal!K36+Sweden!K36+Austria!K36","v":{"v":1784,"d":"1,784"}},{"$f":"Germany!L36+France!L36+Italy!L36+'The Netherlands'!L36+Belgium!L36+UK!L36+Ireland!L36+Denmark!L36+Spain!L36+Portugal!L36+Sweden!L36+Austria!L36","v":{"v":1813,"d":"1,813"}},{"$f":"Germany!M36+France!M36+Italy!M36+'The Netherlands'!M36+Belgium!M36+UK!M36+Ireland!M36+Denmark!M36+Spain!M36+Portugal!M36+Sweden!M36+Austria!M36","v":{"v":1838,"d":"1,838"}},{"$f":"Germany!N36+France!N36+Italy!N36+'The Netherlands'!N36+Belgium!N36+UK!N36+Ireland!N36+Denmark!N36+Spain!N36+Portugal!N36+Sweden!N36+Austria!N36","v":{"v":1641,"d":"1,641"}},{"$f":"Germany!O36+France!O36+Italy!O36+'The Netherlands'!O36+Belgium!O36+UK!O36+Ireland!O36+Denmark!O36+Spain!O36+Portugal!O36+Sweden!O36+Austria!O36","v":{"v":1614,"d":"1,614"}},{"$f":"Germany!P36+France!P36+Italy!P36+'The Netherlands'!P36+Belgium!P36+UK!P36+Ireland!P36+Denmark!P36+Spain!P36+Portugal!P36+Sweden!P36+Austria!P36","v":{"v":1600,"d":"1,600"}},{"$f":"Germany!Q36+France!Q36+Italy!Q36+'The Netherlands'!Q36+Belgium!Q36+UK!Q36+Ireland!Q36+Denmark!Q36+Spain!Q36+Portugal!Q36+Finland!Q36+Sweden!Q36+Austria!Q36+Cyprus!Q36+'Czech Rep'!Q36+Estonia!Q36+Hungary!Q36+Latvia!Q36+Lithuania!Q36+Malta!Q37+Poland!Q36+Slovakia!Q36+Slovenia!Q36","v":{"v":1637,"d":"1,637"}},{"$f":"Germany!R36+France!R36+Italy!R36+'The Netherlands'!R36+Belgium!R36+UK!R36+Ireland!R36+Denmark!R36+Spain!R36+Portugal!R36+Finland!R36+Sweden!R36+Austria!R36+Cyprus!R36+'Czech Rep'!R36+Estonia!R36+Hungary!R36+Latvia!R36+Lithuania!R36+Malta!R37+Poland!R36+Slovakia!R36+Slovenia!R36","v":{"v":1672,"d":"1,672"}},{"$f":"Germany!S36+France!S36+Italy!S36+'The Netherlands'!S36+Belgium!S36+UK!S36+Ireland!S36+Denmark!S36+Spain!S36+Portugal!S36+Finland!S36+Sweden!S36+Austria!S36+Cyprus!S36+'Czech Rep'!S36+Estonia!S36+Hungary!S36+Latvia!S36+Lithuania!S36+Malta!S37+Poland!S36+Slovakia!S36+Slovenia!S36","v":{"v":1571,"d":"1,571"}},{"$f":"Germany!T36+France!T36+Italy!T36+'The Netherlands'!T36+Belgium!T36+UK!T36+Ireland!T36+Denmark!T36+Spain!T36+Portugal!T36+Finland!T36+Sweden!T36+Austria!T36+Cyprus!T36+'Czech Rep'!T36+Estonia!T36+Hungary!T36+Latvia!T36+Lithuania!T36+Malta!T37+Poland!T36+Slovakia!T36+Slovenia!T36","v":{"v":1571,"d":"1,571"}},{"$f":"Germany!U36+France!U36+Italy!U36+'The Netherlands'!U36+Belgium!U36+UK!U36+Ireland!U36+Denmark!U36+Spain!U36+Portugal!U36+Finland!U36+Sweden!U36+Austria!U36+Cyprus!U36+'Czech Rep'!U36+Estonia!U36+Hungary!U36+Latvia!U36+Lithuania!U36+Malta!U37+Poland!U36+Slovakia!U36+Slovenia!U36","v":{"v":1546,"d":"1,546"}},{"$f":"Germany!V36+France!V36+Italy!V36+'The Netherlands'!V36+Belgium!V36+UK!V36+Ireland!V36+Denmark!V36+Spain!V36+Portugal!V36+Finland!V36+Sweden!V36+Austria!V36+Cyprus!V36+'Czech Rep'!V36+Estonia!V36+Hungary!V36+Latvia!V36+Lithuania!V36+Malta!V37+Poland!V36+Slovakia!V36+Slovenia!V36","v":{"v":1468,"d":"1,468"}},{"$f":"Germany!W36+France!W36+Italy!W36+'The Netherlands'!W36+Belgium!W36+UK!W36+Ireland!W36+Denmark!W36+Spain!W36+Portugal!W36+Finland!W36+Sweden!W36+Austria!W36+Cyprus!W36+'Czech Rep'!W36+Estonia!W36+Hungary!W36+Latvia!W36+Lithuania!W36+Malta!W37+Poland!W36+Slovakia!W36+Slovenia!W36","v":{"v":1450,"d":"1,450"}},{"$f":"Germany!X36+France!X36+Italy!X36+'The Netherlands'!X36+Belgium!X36+UK!X36+Ireland!X36+Denmark!X36+Spain!X36+Portugal!X36+Finland!X36+Sweden!X36+Austria!X36+Cyprus!X36+'Czech Rep'!X36+Estonia!X36+Hungary!X36+Latvia!X36+Lithuania!X36+Malta!X37+Poland!X36+Slovakia!X36+Slovenia!X36","v":{"v":1354,"d":"1,354"}},{"$f":"Germany!Y36+France!Y36+Italy!Y36+'The Netherlands'!Y36+Belgium!Y36+UK!Y36+Ireland!Y36+Denmark!Y36+Spain!Y36+Portugal!Y36+Finland!Y36+Sweden!Y36+Austria!Y36+Cyprus!Y36+'Czech Rep'!Y36+Estonia!Y36+Hungary!Y36+Latvia!Y36+Lithuania!Y36+Malta!Y37+Poland!Y36+Slovakia!Y36+Slovenia!Y36","v":{"v":1312,"d":"1,312"}},{"$f":"Germany!Z36+France!Z36+Italy!Z36+'The Netherlands'!Z36+Belgium!Z36+UK!Z36+Ireland!Z36+Denmark!Z36+Spain!Z36+Portugal!Z36+Finland!Z36+Sweden!Z36+Austria!Z36+Cyprus!Z36+'Czech Rep'!Z36+Estonia!Z36+Hungary!Z36+Latvia!Z36+Lithuania!Z36+Malta!Z37+Poland!Z36+Slovakia!Z36+Slovenia!Z36+Bulgaria!Z36+Romania!Z37+Croatia!Z36","v":{"v":1289,"d":"1,289"}},{"$f":"Germany!#REF!+France!AA36+Italy!AA36+'The Netherlands'!AA36+Belgium!AA36+UK!AA36+Ireland!AA36+Denmark!AA36+Spain!AA36+Portugal!AA36+Finland!AA36+Sweden!AA36+Austria!AA36+Cyprus!AA36+'Czech Rep'!AA36+Estonia!AA36+Hungary!AA36+Latvia!AA36+Lithuania!AA36+Malta!AA37+Poland!AA36+Slovakia!AA36+Slovenia!AA36+Bulgaria!AA36+Romania!AA37+Croatia!AA36","v":{"$error":"#REF!"}},{"$f":"Germany!AB36+France!AB36+Italy!AB36+'The Netherlands'!AB36+Belgium!AB36+UK!AB36+Ireland!AB36+Denmark!AB36+Spain!AB36+Portugal!AB36+Finland!AB36+Sweden!AB36+Austria!AB36+Cyprus!AB36+'Czech Rep'!AB36+Estonia!AB36+Hungary!AB36+Latvia!AB36+Lithuania!AB36+Malta!AB37+Poland!AB36+Slovakia!AB36+Slovenia!AB36+Bulgaria!AB36+Romania!AB37+Croatia!AB36","v":{"v":1203,"d":"1,203"}},{"$f":"Germany!AC36+France!AC36+Italy!AC36+'The Netherlands'!AC36+Belgium!AC36+UK!AC36+Ireland!AC36+Denmark!AC36+Spain!AC36+Portugal!AC36+Finland!AC36+Sweden!AC36+Austria!AC36+Cyprus!AC36+'Czech Rep'!AC36+Estonia!AC36+Hungary!AC36+Latvia!AC36+Lithuania!AC36+Malta!AC37+Poland!AC36+Slovakia!AC36+Slovenia!AC36+Bulgaria!AC36+Romania!AC37+Croatia!AC36","v":{"v":1178,"d":"1,178"}},{"$f":"Germany!AD36+France!AD36+Italy!AD36+'The Netherlands'!AD36+Belgium!AD36+UK!AD36+Ireland!AD36+Denmark!AD36+Spain!AD36+Portugal!AD36+Finland!AD36+Sweden!AD36+Austria!AD36+Cyprus!AD36+'Czech Rep'!AD36+Estonia!AD36+Hungary!AD36+Latvia!AD36+Lithuania!AD36+Malta!AD37+Poland!AD36+Slovakia!AD36+Slovenia!AD36+Bulgaria!AD36+Romania!AD37+Croatia!AD36","v":{"v":1143,"d":"1,143"}},{"$f":"Germany!AE36+France!AE36+Italy!AE36+'The Netherlands'!AE36+Belgium!AE36+UK!AE36+Ireland!AE36+Denmark!AE36+Spain!AE36+Portugal!AE36+Finland!AE36+Sweden!AE36+Austria!AE36+Cyprus!AE36+'Czech Rep'!AE36+Estonia!AE36+Hungary!AE36+Latvia!AE36+Lithuania!AE36+Malta!AE37+Poland!AE36+Slovakia!AE36+Slovenia!AE36+Bulgaria!AE36+Romania!AE37+Croatia!AE36","v":{"v":1137,"d":"1,137"}},{"$f":"Germany!AF36+France!AF36+Italy!AF36+'The Netherlands'!AF36+Belgium!AF36+UK!AF36+Ireland!AF36+Denmark!AF36+Spain!AF36+Portugal!AF36+Finland!AF36+Sweden!AF36+Austria!AF36+Cyprus!AF36+'Czech Rep'!AF36+Estonia!AF36+Hungary!AF36+Latvia!AF36+Lithuania!AF36+Malta!AF37+Poland!AF36+Slovakia!AF36+Slovenia!AF36+Bulgaria!AF36+Romania!AF37+Croatia!AF36","v":{"v":1145,"d":"1,145"}},{"$f":"Germany!AG36+France!AG36+Italy!AG36+'The Netherlands'!AG36+Belgium!AG36+Ireland!AG36+Denmark!AG36+Spain!AG36+Portugal!AG36+Finland!AG36+Sweden!AG36+Austria!AG36+Cyprus!AG36+'Czech Rep'!AG36+Estonia!AG36+Hungary!AG36+Latvia!AG36+Lithuania!AG36+Malta!AG37+Poland!AG36+Slovakia!AG36+Slovenia!AG36+Bulgaria!AG36+Romania!AG37+Croatia!AG36","v":{"v":1139,"d":"1,139"}},{"$f":"Germany!AH36+France!AH36+Italy!AH36+'The Netherlands'!AH36+Belgium!AH36+Ireland!AH36+Denmark!AH36+Spain!AH36+Portugal!AH36+Finland!AH36+Sweden!AH36+Austria!AH36+Cyprus!AH36+'Czech Rep'!AH36+Estonia!AH36+Hungary!AH36+Latvia!AH36+Lithuania!AH36+Malta!AH37+Poland!AH36+Slovakia!AH36+Slovenia!AH36+Bulgaria!AH36+Romania!AH37+Croatia!AH36","v":{"v":1143,"d":"1,143"}},{"$f":"Germany!AI36+France!AI36+Italy!AI36+'The Netherlands'!AI36+Belgium!AI36+Ireland!AI36+Denmark!AI36+Spain!AI36+Portugal!AI36+Finland!AI36+Sweden!AI36+Austria!AI36+Cyprus!AI36+'Czech Rep'!AI36+Estonia!AI36+Hungary!AI36+Latvia!AI36+Lithuania!AI36+Malta!AI37+Poland!AI36+Slovakia!AI36+Slovenia!AI36+Bulgaria!AI36+Romania!AI37+Croatia!AI36","v":{"v":1117,"d":"1,117"}},{"$f":"Germany!AJ36+France!AJ36+Italy!AJ36+'The Netherlands'!AJ36+Belgium!AJ36+Ireland!AJ36+Denmark!AJ36+Spain!AJ36+Portugal!AJ36+Finland!AJ36+Sweden!AJ36+Austria!AJ36+Cyprus!AJ36+'Czech Rep'!AJ36+Estonia!AJ36+Hungary!AJ36+Latvia!AJ36+Lithuania!AJ36+Malta!AJ37+Poland!AJ36+Slovakia!AJ36+Slovenia!AJ36+Bulgaria!AJ36+Romania!AJ37+Croatia!AJ36","v":{"v":1108,"d":"1,108"}}]
[]
[]
["Others",{"$f":"Germany!B39+France!B39+Italy!B39+'The Netherlands'!B39+Belgium!B39+UK!B39+Ireland!B39+Denmark!B39+Spain!B39+Portugal!B39","v":{"v":5770,"d":"5,770"}},{"$f":"Germany!C39+France!C39+Italy!C39+'The Netherlands'!C39+Belgium!C39+UK!C39+Ireland!C39+Denmark!C39+Spain!C39+Portugal!C39","v":{"v":6022,"d":"6,022"}},{"$f":"Germany!D39+France!D39+Italy!D39+'The Netherlands'!D39+Belgium!D39+UK!D39+Ireland!D39+Denmark!D39+Spain!D39+Portugal!D39","v":{"v":6178,"d":"6,178"}},{"$f":"Germany!E39+France!E39+Italy!E39+'The Netherlands'!E39+Belgium!E39+UK!E39+Ireland!E39+Denmark!E39+Spain!E39+Portugal!E39","v":{"v":6489,"d":"6,489"}},{"$f":"Germany!F39+France!F39+Italy!F39+'The Netherlands'!F39+Belgium!F39+UK!F39+Ireland!F39+Denmark!F39+Spain!F39+Portugal!F39","v":{"v":6571,"d":"6,571"}},{"$f":"Germany!G39+France!G39+Italy!G39+'The Netherlands'!G39+Belgium!G39+UK!G39+Ireland!G39+Denmark!G39+Spain!G39+Portugal!G39","v":{"v":6713,"d":"6,713"}},{"$f":"Germany!H39+France!H39+Italy!H39+'The Netherlands'!H39+Belgium!H39+UK!H39+Ireland!H39+Denmark!H39+Spain!H39+Portugal!H39+Finland!H39+Sweden!H39+Austria!H39","v":{"v":7756,"d":"7,756"}},{"$f":"Germany!I39+France!I39+Italy!I39+'The Netherlands'!I39+Belgium!I39+UK!I39+Ireland!I39+Denmark!I39+Spain!I39+Portugal!I39+Finland!I39+Sweden!I39+Austria!I39","v":{"v":7452,"d":"7,452"}},{"$f":"Germany!J39+France!J39+Italy!J39+'The Netherlands'!J39+Belgium!J39+UK!J39+Ireland!J39+Denmark!J39+Spain!J39+Portugal!J39+Finland!J39+Sweden!J39+Austria!J39","v":{"v":7228,"d":"7,228"}},{"$f":"Germany!K39+France!K39+Italy!K39+'The Netherlands'!K39+Belgium!K39+UK!K39+Ireland!K39+Denmark!K39+Spain!K39+Portugal!K39+Finland!K39+Sweden!K39+Austria!K39","v":{"v":7386,"d":"7,386"}},{"$f":"Germany!L39+France!L39+Italy!L39+'The Netherlands'!L39+Belgium!L39+UK!L39+Ireland!L39+Denmark!L39+Spain!L39+Portugal!L39+Finland!L39+Sweden!L39+Austria!L39","v":{"v":7436,"d":"7,436"}},{"$f":"Germany!M39+France!M39+Italy!M39+'The Netherlands'!M39+Belgium!M39+UK!M39+Ireland!M39+Denmark!M39+Spain!M39+Portugal!M39+Finland!M39+Sweden!M39+Austria!M39","v":{"v":7398,"d":"7,398"}},{"$f":"Germany!N39+France!N39+Italy!N39+'The Netherlands'!N39+Belgium!N39+UK!N39+Ireland!N39+Denmark!N39+Spain!N39+Portugal!N39+Finland!N39+Sweden!N39+Austria!N39","v":{"v":7988,"d":"7,988"}},{"$f":"Germany!O39+France!O39+Italy!O39+'The Netherlands'!O39+Belgium!O39+UK!O39+Ireland!O39+Denmark!O39+Spain!O39+Portugal!O39+Finland!O39+Sweden!O39+Austria!O39","v":{"v":8174,"d":"8,174"}},{"$f":"Germany!P39+France!P39+Italy!P39+'The Netherlands'!P39+Belgium!P39+UK!P39+Ireland!P39+Denmark!P39+Spain!P39+Portugal!P39+Finland!P39+Sweden!P39+Austria!P39","v":{"v":8451,"d":"8,451"}},{"$f":"Germany!Q39+France!Q39+Italy!Q39+'The Netherlands'!Q39+Belgium!Q39+UK!Q39+Ireland!Q39+Denmark!Q39+Spain!Q39+Portugal!Q39+Finland!Q39+Sweden!Q39+Austria!Q39+Cyprus!Q39+'Czech Rep'!Q39+Estonia!Q39+Hungary!Q39+Latvia!Q39+Lithuania!Q39+Malta!Q45+Poland!Q39+Slovakia!Q39+Slovenia!Q39","v":{"v":9000,"d":"9,000"}},{"$f":"Germany!R39+France!R39+Italy!R39+'The Netherlands'!R39+Belgium!R39+UK!R39+Ireland!R39+Denmark!R39+Spain!R39+Portugal!R39+Finland!R39+Sweden!R39+Austria!R39+Cyprus!R39+'Czech Rep'!R39+Estonia!R39+Hungary!R39+Latvia!R39+Lithuania!R39+Malta!R45+Poland!R39+Slovakia!R39+Slovenia!R39","v":{"v":8570,"d":"8,570"}},{"$f":"Germany!S39+France!S39+Italy!S39+'The Netherlands'!S39+Belgium!S39+UK!S39+Ireland!S39+Denmark!S39+Spain!S39+Portugal!S39+Finland!S39+Sweden!S39+Austria!S39+Cyprus!S39+'Czech Rep'!S39+Estonia!S39+Hungary!S39+Latvia!S39+Lithuania!S39+Malta!S45+Poland!S39+Slovakia!S39+Slovenia!S39","v":{"v":8881,"d":"8,881"}},{"$f":"Germany!T39+France!T39+Italy!T39+'The Netherlands'!T39+Belgium!T39+UK!T39+Ireland!T39+Denmark!T39+Spain!T39+Portugal!T39+Finland!T39+Sweden!T39+Austria!T39+Cyprus!T39+'Czech Rep'!T39+Estonia!T39+Hungary!T39+Latvia!T39+Lithuania!T39+Malta!T45+Poland!T39+Slovakia!T39+Slovenia!T39+Bulgaria!T39+Romania!T40","v":{"v":9119,"d":"9,119"}},{"$f":"Germany!U39+France!U39+Italy!U39+'The Netherlands'!U39+Belgium!U39+UK!U39+Ireland!U39+Denmark!U39+Spain!U39+Portugal!U39+Finland!U39+Sweden!U39+Austria!U39+Cyprus!U39+'Czech Rep'!U39+Estonia!U39+Hungary!U39+Latvia!U39+Lithuania!U39+Malta!U45+Poland!U39+Slovakia!U39+Slovenia!U39+Bulgaria!U39+Romania!U40","v":{"v":7373,"d":"7,373"}},{"$f":"Germany!V39+France!V39+Italy!V39+'The Netherlands'!V39+Belgium!V39+UK!V39+Ireland!V39+Denmark!V39+Spain!V39+Portugal!V39+Finland!V39+Sweden!V39+Austria!V39+Cyprus!V39+'Czech Rep'!V39+Estonia!V39+Hungary!V39+Latvia!V39+Lithuania!V39+Malta!V45+Poland!V39+Slovakia!V39+Slovenia!V39+Bulgaria!V39+Romania!V40","v":{"v":6925,"d":"6,925"}},{"$f":"Germany!W39+France!W39+Italy!W39+'The Netherlands'!W39+Belgium!W39+UK!W39+Ireland!W39+Denmark!W39+Spain!W39+Portugal!W39+Finland!W39+Sweden!W39+Austria!W39+Cyprus!W39+'Czech Rep'!W39+Estonia!W39+Hungary!W39+Latvia!W39+Lithuania!W39+Malta!W45+Poland!W39+Slovakia!W39+Slovenia!W39+Bulgaria!W39+Romania!W40","v":{"v":7369,"d":"7,369"}},{"$f":"Germany!X39+France!X39+Italy!X39+'The Netherlands'!X39+Belgium!X39+UK!X39+Ireland!X39+Denmark!X39+Spain!X39+Portugal!X39+Finland!X39+Sweden!X39+Austria!X39+Cyprus!X39+'Czech Rep'!X39+Estonia!X39+Hungary!X39+Latvia!X39+Lithuania!X39+Malta!X45+Poland!X39+Slovakia!X39+Slovenia!X39+Bulgaria!X39+Romania!X40","v":{"v":7107,"d":"7,107"}},{"$f":"Germany!Y39+France!Y39+Italy!Y39+'The Netherlands'!Y39+Belgium!Y39+UK!Y39+Ireland!Y39+Denmark!Y39+Spain!Y39+Portugal!Y39+Finland!Y39+Sweden!Y39+Austria!Y39+Cyprus!Y39+'Czech Rep'!Y39+Estonia!Y39+Hungary!Y39+Latvia!Y39+Lithuania!Y39+Malta!Y45+Poland!Y39+Slovakia!Y39+Slovenia!Y39+Bulgaria!Y39+Romania!Y40","v":{"v":7268,"d":"7,268"}},{"$f":"Germany!Z39+France!Z39+Italy!Z39+'The Netherlands'!Z39+Belgium!Z39+UK!Z39+Ireland!Z39+Denmark!Z39+Spain!Z39+Portugal!Z39+Finland!Z39+Sweden!Z39+Austria!Z39+Cyprus!Z39+'Czech Rep'!Z39+Estonia!Z39+Hungary!Z39+Latvia!Z39+Lithuania!Z39+Malta!Z45+Poland!Z39+Slovakia!Z39+Slovenia!Z39+Bulgaria!Z39+Romania!Z40+Croatia!Z39","v":{"v":7487,"d":"7,487"}},{"$f":"Germany!#REF!+France!AA39+Italy!AA39+'The Netherlands'!AA39+Belgium!AA39+UK!AA39+Ireland!AA39+Denmark!AA39+Spain!AA39+Portugal!AA39+Finland!AA39+Sweden!AA39+Austria!AA39+Cyprus!AA39+'Czech Rep'!AA39+Estonia!AA39+Hungary!AA39+Latvia!AA39+Lithuania!AA39+Malta!AA45+Poland!AA39+Slovakia!AA39+Slovenia!AA39+Bulgaria!AA39+Romania!AA40+Croatia!AA39","v":{"$error":"#REF!"}},{"$f":"Germany!AB39+France!AB39+Italy!AB39+'The Netherlands'!AB39+Belgium!AB39+UK!AB39+Ireland!AB39+Denmark!AB39+Spain!AB39+Portugal!AB39+Finland!AB39+Sweden!AB39+Austria!AB39+Cyprus!AB39+'Czech Rep'!AB39+Estonia!AB39+Hungary!AB39+Latvia!AB39+Lithuania!AB39+Malta!AB45+Poland!AB39+Slovakia!AB39+Slovenia!AB39+Bulgaria!AB39+Romania!AB40+Croatia!AB39","v":{"v":8028,"d":"8,028"}},{"$f":"Germany!AC39+France!AC39+Italy!AC39+'The Netherlands'!AC39+Belgium!AC39+UK!AC39+Ireland!AC39+Denmark!AC39+Spain!AC39+Portugal!AC39+Finland!AC39+Sweden!AC39+Austria!AC39+Cyprus!AC39+'Czech Rep'!AC39+Estonia!AC39+Hungary!AC39+Latvia!AC39+Lithuania!AC39+Malta!AC45+Poland!AC39+Slovakia!AC39+Slovenia!AC39+Bulgaria!AC39+Romania!AC40+Croatia!AC39","v":{"v":7767,"d":"7,767"}},{"$f":"Germany!AD39+France!AD39+Italy!AD39+'The Netherlands'!AD39+Belgium!AD39+UK!AD39+Ireland!AD39+Denmark!AD39+Spain!AD39+Portugal!AD39+Finland!AD39+Sweden!AD39+Austria!AD39+Cyprus!AD39+'Czech Rep'!AD39+Estonia!AD39+Hungary!AD39+Latvia!AD39+Lithuania!AD39+Malta!AD45+Poland!AD39+Slovakia!AD39+Slovenia!AD39+Bulgaria!AD39+Romania!AD40+Croatia!AD39","v":{"v":8179.683,"d":"8,180"}},{"$f":"Germany!AE39+France!AE39+Italy!AE39+'The Netherlands'!AE39+Belgium!AE39+UK!AE39+Ireland!AE39+Denmark!AE39+Spain!AE39+Portugal!AE39+Finland!AE39+Sweden!AE39+Austria!AE39+Cyprus!AE39+'Czech Rep'!AE39+Estonia!AE39+Hungary!AE39+Latvia!AE39+Lithuania!AE39+Malta!AE45+Poland!AE39+Slovakia!AE39+Slovenia!AE39+Bulgaria!AE39+Romania!AE40+Croatia!AE39","v":{"v":8460.988000000001,"d":"8,461"}},{"$f":"Germany!AF39+France!AF39+Italy!AF39+'The Netherlands'!AF39+Belgium!AF39+UK!AF39+Ireland!AF39+Denmark!AF39+Spain!AF39+Portugal!AF39+Finland!AF39+Sweden!AF39+Austria!AF39+Cyprus!AF39+'Czech Rep'!AF39+Estonia!AF39+Hungary!AF39+Latvia!AF39+Lithuania!AF39+Malta!AF45+Poland!AF39+Slovakia!AF39+Slovenia!AF39+Bulgaria!AF39+Romania!AF40+Croatia!AF39","v":{"v":8153.535,"d":"8,154"}},{"$f":"Germany!AG39+France!AG39+Italy!AG39+'The Netherlands'!AG39+Belgium!AG39+Ireland!AG39+Denmark!AG39+Spain!AG39+Portugal!AG39+Finland!AG39+Sweden!AG39+Austria!AG39+Cyprus!AG39+'Czech Rep'!AG39+Estonia!AG39+Hungary!AG39+Latvia!AG39+Lithuania!AG39+Malta!AG45+Poland!AG39+Slovakia!AG39+Slovenia!AG39+Bulgaria!AG39+Romania!AG40+Croatia!AG39","v":{"v":6808.78,"d":"6,809"}},{"$f":"Germany!AH39+France!AH39+Italy!AH39+'The Netherlands'!AH39+Belgium!AH39+Ireland!AH39+Denmark!AH39+Spain!AH39+Portugal!AH39+Finland!AH39+Sweden!AH39+Austria!AH39+Cyprus!AH39+'Czech Rep'!AH39+Estonia!AH39+Hungary!AH39+Latvia!AH39+Lithuania!AH39+Malta!AH45+Poland!AH39+Slovakia!AH39+Slovenia!AH39+Bulgaria!AH39+Romania!AH40+Croatia!AH39","v":{"v":6967.029500000001,"d":"6,967"}},{"$f":"Germany!AI39+France!AI39+Italy!AI39+'The Netherlands'!AI39+Belgium!AI39+Ireland!AI39+Denmark!AI39+Spain!AI39+Portugal!AI39+Finland!AI39+Sweden!AI39+Austria!AI39+Cyprus!AI39+'Czech Rep'!AI39+Estonia!AI39+Hungary!AI39+Latvia!AI39+Lithuania!AI39+Malta!AI45+Poland!AI39+Slovakia!AI39+Slovenia!AI39+Bulgaria!AI39+Romania!AI40+Croatia!AI39","v":{"v":6818.661051648839,"d":"6,819"}},{"$f":"Germany!AJ39+France!AJ39+Italy!AJ39+'The Netherlands'!AJ39+Belgium!AJ39+Ireland!AJ39+Denmark!AJ39+Spain!AJ39+Portugal!AJ39+Finland!AJ39+Sweden!AJ39+Austria!AJ39+Cyprus!AJ39+'Czech Rep'!AJ39+Estonia!AJ39+Hungary!AJ39+Latvia!AJ39+Lithuania!AJ39+Malta!AJ45+Poland!AJ39+Slovakia!AJ39+Slovenia!AJ39+Bulgaria!AJ39+Romania!AJ40+Croatia!AJ39","v":{"v":6977.036,"d":"6,977"}}]
[]
[]
["TOTAL",{"$f":"B39+B36+B30+B23+B16","v":{"v":103260,"d":"103,260"}},{"v":105066,"d":"105,066"},{"v":109914,"d":"109,914"},{"v":111156,"d":"111,156"},{"v":113728,"d":"113,728"},{"v":113377,"d":"113,377"},{"v":121169,"d":"121,169"},{"v":122564,"d":"122,564"},{"v":121201,"d":"121,201"},{"v":123067,"d":"123,067"},{"v":124424,"d":"124,424"},{"v":123697,"d":"123,697"},{"v":125749,"d":"125,749"},{"v":126695,"d":"126,695"},{"v":125588,"d":"125,588"},{"v":143428,"d":"143,428"},{"v":140924,"d":"140,924"},{"v":141218,"d":"141,218"},{"v":150120,"d":"150,120"},{"v":151666,"d":"151,666"},{"v":146084,"d":"146,084"},{"v":149563,"d":"149,563"},{"v":149203,"d":"149,203"},{"v":151364,"d":"151,364"},{"v":151750,"d":"151,750"},{"$error":"#REF!"},{"v":155268,"d":"155,268"},{"v":158270.375,"d":"158,270"},{"v":161351.141,"d":"161,351"},{"v":164909.859,"d":"164,910"},{"v":164726.365,"d":"164,726"},{"v":150597.376,"d":"150,597"},{"v":151847.8985,"d":"151,848"},{"v":147233.10103049414,"d":"147,233"},{"v":146912.817709,"d":"146,913"}]

{"sheet":"Belgium","index":78,"n_rows":45,"n_cols":43,"rows_kept":45,"merged":[[3,0,3,32]]}
["FEFAC SECRETARIAT GENERAL"]
[]
[{"$nulls":37},"2025/24"]
["INDUSTRIAL COMPOUND FEED PRODUCTION",{"$nulls":36},"Cattle","Pigs","Poultry","Milk replacers","Others","TOTAL"]
[{"$nulls":37},{"$f":"(($AL$16/$AK$16)-1)*100","v":{"v":0,"d":"0.0"}},{"$f":"(($AL$23/$AK$23)-1)*100","v":{"v":0,"d":"0.0"}},{"$f":"(($AL$30/$AK$30)-1)*100","v":{"v":2.0000000000000018,"d":"2.0"}},{"$f":"(($AL$36/$AK$36)-1)*100","v":{"v":0,"d":"0.0"}},{"$f":"(($AL$39/$AK$39)-1)*100","v":{"v":0,"d":"0.0"}},{"$f":"(($AL$42/$AK$42)-1)*100","v":{"v":0.40548636291974915,"d":"0.4"}}]
["TAB 3"]
[{"$nulls":37},"2024/23"]
["COUNTRY: BELGIUM",{"$nulls":36},"Cattle","Pigs","Poultry","Milk replacers","Others","TOTAL"]
[{"$nulls":37},{"$f":"(($AK$16/$AJ$16)-1)*100","v":{"v":0.6276150627614996,"d":"0.6"}},{"$f":"(($AK$23/$AJ$23)-1)*100","v":{"v":4.101885544161421,"d":"4.1"}},{"$f":"(($AK$30/$AJ$30)-1)*100","v":{"v":2.063492063492056,"d":"2.1"}},{"$f":"(($AK$36/$AJ$36)-1)*100","v":{"v":0,"d":"0.0"}},{"$f":"(($AK$39/$AJ$39)-1)*100","v":{"v":11.420612813370479,"d":"11.4"}},{"$f":"(($AK$42/$AJ$42)-1)*100","v":{"v":3.2557382386456224,"d":"3.3"}}]
[]
[]
["1 000 t",1989,1990,1991,1992,1993,1994,1995,1996,1997,1998,1999,2000,2001,2002,2003,2004,2005,2006,2007,2008,2009,2010,2011,2012,2013,2014,2015,2016,2017,2018,2019,2020,2021,2022,2023,2024,2025]
[null,"final figures","final figures","final figures","final figures","final figures","final figures","final figures","final figures","final figures","final figures","final figures","final figures","final figures","final figures","final figures","final figures","final figures","final figures","final figures","final figures","final figures","final figures","final figures","final figures","final figures","final figures","final figures","final figures","final figures","final figures","final figures","final figures","final figures","final figures","final figures","final figures","forecasts"]
[]
[]
["Cattle",{"v":1428,"d":"1,428"},{"v":1371,"d":"1,371"},{"$f":"D18+D20","v":{"v":1349,"d":"1,349"}},{"$f":"E18+E20+E17+E19","v":{"v":1248,"d":"1,248"}},{"v":1106,"d":"1,106"},{"v":1145,"d":"1,145"},{"$f":"H18+H20+H17+H19","v":{"v":1217,"d":"1,217"}},{"v":1142,"d":"1,142"},934,{"$f":"SUM(K17:K20)","v":{"v":1216,"d":"1,216"}},{"v":1168,"d":"1,168"},{"v":1165,"d":"1,165"},{"v":1163,"d":"1,163"},{"v":1046,"d":"1,046"},{"v":1074,"d":"1,074"},{"v":1141,"d":"1,141"},{"v":1040,"d":"1,040"},{"v":1091,"d":"1,091"},{"v":1190,"d":"1,190"},{"v":1162,"d":"1,162"},{"v":1097,"d":"1,097"},{"v":1182,"d":"1,182"},{"v":1244,"d":"1,244"},{"v":1253,"d":"1,253"},{"v":1388,"d":"1,388"},{"v":1322,"d":"1,322"},{"v":1332,"d":"1,332"},{"v":1350,"d":"1,350"},{"v":1426,"d":"1,426"},{"v":1411,"d":"1,411"},{"v":1447,"d":"1,447"},{"v":1512,"d":"1,512"},{"v":1466,"d":"1,466"},{"v":1437,"d":"1,437"},{"v":1434,"d":"1,434"},{"$f":"SUM(AK17:AK19)","v":{"v":1443,"d":"1,443"}},{"$f":"AK16","v":{"v":1443,"d":"1,443"}}]
["fattening",":",":",":",479,436,":",434,387,317,394,350,344,322,280,322,344,333,333,339,301,310,324,371,364,435,418,427,443,474,465,470,499,459,423,441,421]
["dairy cow",":",":",592,547,499,":",570,565,458,601,629,613,606,560,534,556,469,494,550,570,559,606,626,646,691,649,658,657,689,712,724,770,765,789,769,795]
["calves (excl. milk replacers)",":",":",":",111,90,":",115,98,84,107,96,106,102,91,85,90,80,85,102,116,70,92,102,100,103,255,247,250,263,234,253,243,241,225,224,227]
["others",":",":",757,111,81,":",98,92,75,114,93,102,133,115,133,151,158,179,199,175,158,160,145,143,159,":",":",":",":",":",":",":"]
[]
[]
["Pigs",{"v":2884,"d":"2,884"},{"v":2995,"d":"2,995"},{"v":2813,"d":"2,813"},{"$f":"E24+E27","v":{"v":2919,"d":"2,919"}},{"v":3099,"d":"3,099"},{"v":3088,"d":"3,088"},{"$f":"H24+H27","v":{"v":3278,"d":"3,278"}},{"$f":"I24+I25","v":{"v":3454,"d":"3,454"}},{"v":3577,"d":"3,577"},{"v":3592,"d":"3,592"},{"v":3570,"d":"3,570"},{"v":3616,"d":"3,616"},{"v":3456,"d":"3,456"},{"v":3509,"d":"3,509"},{"v":3457,"d":"3,457"},{"v":3456,"d":"3,456"},{"v":3425,"d":"3,425"},{"v":3412,"d":"3,412"},{"v":3563,"d":"3,563"},{"v":3638,"d":"3,638"},{"v":3580,"d":"3,580"},{"v":3666,"d":"3,666"},{"v":3653,"d":"3,653"},{"v":3682,"d":"3,682"},{"v":3716,"d":"3,716"},{"$f":"AA24+AA25+AA26","v":{"v":3643,"d":"3,643"}},{"v":3592,"d":"3,592"},{"v":3500,"d":"3,500"},{"v":3497,"d":"3,497"},{"v":3529,"d":"3,529"},{"v":3504,"d":"3,504"},{"v":3639,"d":"3,639"},{"v":3558,"d":"3,558"},{"v":3249,"d":"3,249"},{"v":3023,"d":"3,023"},{"$f":"SUM(AK24:AK26)","v":{"v":3147,"d":"3,147"}},{"$f":"AK23","v":{"v":3147,"d":"3,147"}}]
["piglets",":",":",":",780,805,":",774,757,787,796,769,765,697,709,761,766,786,772,799,814,814,818,844,855,852,{"v":1040,"d":"1,040"},{"v":1028,"d":"1,028"},993,{"v":1024,"d":"1,024"},{"v":1034,"d":"1,034"},{"v":1.02,"d":"1"},{"v":1057,"d":"1,057"},992,871,819,834]
["pigs for fattening",":",":",":",":",":",":",":",{"v":2697,"d":"2,697"},{"v":2790,"d":"2,790"},{"v":2796,"d":"2,796"},{"v":2801,"d":"2,801"},{"v":2851,"d":"2,851"},{"v":2759,"d":"2,759"},{"v":2800,"d":"2,800"},{"v":2696,"d":"2,696"},{"v":2690,"d":"2,690"},{"v":2639,"d":"2,639"},{"v":2640,"d":"2,640"},{"v":2764,"d":"2,764"},{"v":2824,"d":"2,824"},{"v":2766,"d":"2,766"},{"v":2848,"d":"2,848"},{"v":2809,"d":"2,809"},{"v":2827,"d":"2,827"},{"v":2864,"d":"2,864"},{"v":2089,"d":"2,089"},{"v":2072,"d":"2,072"},{"v":2033,"d":"2,033"},{"v":1982,"d":"1,982"},{"v":1994,"d":"1,994"},{"v":2.004,"d":"2"},{"v":2077,"d":"2,077"},{"v":2085,"d":"2,085"},{"v":1938,"d":"1,938"},{"v":1771,"d":"1,771"},{"v":1879,"d":"1,879"}]
["breeding pigs",":",":",":",":",":",":",":",":",":",":",":",":",":",":",":",":",":",":",{"$nulls":7},514,492,474,491,501,480,505,481,440,433,434]
["others",":",":",":",{"v":2139,"d":"2,139"},{"v":2294,"d":"2,294"},":",{"v":2504,"d":"2,504"},":",":",":",":",":",":",":",":",":",":",":",{"$nulls":8},":",":",":",":",":"]
[]
[]
["Poultry",960,990,939,{"$f":"E31+E32+E33","v":939},975,{"v":1014,"d":"1,014"},{"$f":"H31+H32+H33","v":{"v":1058,"d":"1,058"}},{"v":1055,"d":"1,055"},{"v":1122,"d":"1,122"},{"v":1403,"d":"1,403"},{"v":1571,"d":"1,571"},{"v":1310,"d":"1,310"},{"v":1468,"d":"1,468"},{"v":1436,"d":"1,436"},{"v":1313,"d":"1,313"},{"v":1450,"d":"1,450"},{"v":1298,"d":"1,298"},{"v":1264,"d":"1,264"},{"v":1286,"d":"1,286"},{"v":1284,"d":"1,284"},{"v":1326,"d":"1,326"},{"v":1408,"d":"1,408"},{"v":1365,"d":"1,365"},{"v":1392,"d":"1,392"},{"v":1458,"d":"1,458"},{"v":1235,"d":"1,235"},{"v":1297,"d":"1,297"},{"v":1312,"d":"1,312"},{"v":1349,"d":"1,349"},{"v":1368,"d":"1,368"},{"v":1220,"d":"1,220"},{"v":1303,"d":"1,303"},{"v":1249,"d":"1,249"},{"v":1224,"d":"1,224"},{"v":1260,"d":"1,260"},{"$f":"SUM(AK31:AK33)","v":{"v":1286,"d":"1,286"}},{"$f":"AK30*1.02","v":{"v":1311.72,"d":"1,312"}}]
["broilers",":",":",":",325,353,":",395,396,423,710,801,603,683,670,527,650,537,566,584,569,587,652,614,594,632,619,665,702,733,743,730,803,742,739,772,796]
["chicks & layers",":",":",":",391,405,":",384,369,401,480,491,499,617,600,543,560,528,472,457,452,495,509,509,546,562,441,495,476,483,480,367,348,326,303,305,337]
["others",":",":",":",223,217,":",279,290,298,213,279,208,168,166,243,240,233,226,245,263,244,247,242,252,264,175,137,134,133,145,123,152,181,182,183,153]
[]
[]
["Milk replacers",42,53,56,54,54,62,61,55,57,53,53,53,53,53,52,50,102,62,68,57,44,42,39,38,36,46,51,55,52,53,58,74,74,68,67,67,67]
[]
[]
["Others",133,117,110,130,57,55,132,149,140,151,165,159,225,247,254,250,129,129,135,147,138,148,159,182,186,357,378,374,383,379,390,405,394,372,359,400,400]
[]
[]
["TOTAL",{"$f":"B39+B30+B23+B16+B36","v":{"v":5447,"d":"5,447"}},{"v":5526,"d":"5,526"},{"v":5267,"d":"5,267"},{"v":5290,"d":"5,290"},{"v":5291,"d":"5,291"},{"v":5364,"d":"5,364"},{"v":5746,"d":"5,746"},{"v":5855,"d":"5,855"},{"v":5830,"d":"5,830"},{"v":6415,"d":"6,415"},{"v":6527,"d":"6,527"},{"v":6303,"d":"6,303"},{"v":6365,"d":"6,365"},{"v":6291,"d":"6,291"},{"v":6150,"d":"6,150"},{"v":6347,"d":"6,347"},{"v":5994,"d":"5,994"},{"v":5958,"d":"5,958"},{"v":6242,"d":"6,242"},{"v":6288,"d":"6,288"},{"v":6185,"d":"6,185"},{"v":6446,"d":"6,446"},{"v":6460,"d":"6,460"},{"v":6547,"d":"6,547"},{"v":6784,"d":"6,784"},{"v":6603,"d":"6,603"},{"v":6650,"d":"6,650"},{"v":6591,"d":"6,591"},{"v":6707,"d":"6,707"},{"$f":"AE39+AE36+AE30+AE23+AE16","v":{"v":6740,"d":"6,740"}},{"v":6619,"d":"6,619"},{"v":6933,"d":"6,933"},{"v":6741,"d":"6,741"},{"v":6350,"d":"6,350"},{"v":6143,"d":"6,143"},{"v":6343,"d":"6,343"},{"v":6368.72,"d":"6,369"}]
[]
[]
[{"$nulls":30},6740,6619,6933]

{"sheet":"Bulgaria","index":79,"n_rows":42,"n_cols":43,"rows_kept":42,"merged":[[3,0,3,32]]}
["FEFAC SECRETARIAT GENERAL"]
[]
[{"$nulls":37},"2025/24"]
["INDUSTRIAL COMPOUND FEED PRODUCTION",{"$nulls":36},"Cattle","Pigs","Poultry","Milk replacers","Others","TOTAL"]
[{"$nulls":37},{"$f":"(($AL$16/$AK$16)-1)*100","v":{"v":0,"d":"0.0"}},{"$f":"(($AL$23/$AK$23)-1)*100","v":{"v":9.153318077803196,"d":"9.2"}},{"$f":"(($AL$30/$AK$30)-1)*100","v":{"v":-0.6399999999999961,"d":"-0.6"}},{"$f":"(($AK$36/$AJ$36)-1)*100","v":{"$error":"#DIV/0!"}},{"$f":"(($AL$39/$AK$39)-1)*100","v":{"v":0,"d":"0.0"}},{"$f":"(($AL$42/$AK$42)-1)*100","v":{"v":2.7027027027026973,"d":"2.7"}}]
["TAB 3"]
[{"$nulls":37},"2024/23"]
["COUNTRY: BULGARIA",{"$nulls":36},"Cattle","Pigs","Poultry","Milk replacers","Others","TOTAL"]
[{"$nulls":37},{"$f":"(($AK$16/$AJ$16)-1)*100","v":{"v":3.960396039603964,"d":"4.0"}},{"$f":"(($AK$23/$AJ$23)-1)*100","v":{"v":-1.5765765765765716,"d":"-1.6"}},{"$f":"(($AK$30/$AJ$30)-1)*100","v":{"v":-1.1075949367088556,"d":"-1.1"}},{"$f":"(($AJ$36/$AI$36)-1)*100","v":{"$error":"#DIV/0!"}},{"$f":"(($AK$39/$AJ$39)-1)*100","v":{"v":0,"d":"0.0"}},{"$f":"(($AK$42/$AJ$42)-1)*100","v":{"v":-0.4484304932735439,"d":"-0.4"}}]
[]
[]
["1 000 t",1989,1990,1991,1992,1993,1994,1995,1996,1997,1998,1999,2000,2001,2002,2003,2004,2005,2006,2007,2008,2009,2010,2011,2012,2013,2014,2015,2016,2017,2018,2019,2020,2021,2022,2023,2024,2025]
[null,"final figures","final figures","final figures","final figures","final figures","final figures","final figures","final figures","final figures","final figures","final figures","final figures","final figures","final figures","final figures","final figures","estimates","estimates","estimates","final figures","final figures"," final figures"," final figures"," final figures"," final figures"," final figures"," final figures"," final figures"," final figures","final figures","final figures","final figures","final figures","final figures","estimates","forecasts","estimates"]
[]
[]
["Cattle",{"$nulls":8},34,45,36,35,36,29,30,38,38,38,40,{"$f":"SUM(U17:U19)","v":92},76,93,94,109,153,125,{"$f":"SUM(AB17:AB20)","v":141},168,192,168,{"$f":"SUM(AF17:AF20)","v":176},190,205,196,202,210,{"$f":"SUM(AL17:AL20)","v":210}]
["fattening",{"$nulls":13},":",":",":",":",":",":",20,10,9,9,9,null,null,20,25,30,20,18,19,25,22,24,25,25]
["dairy cow",{"$nulls":13},":",":",":",":",":",":",66,62,78,79,90,null,null,73,92,107,91,96,102,102,116,118,120,120]
["calves (excl. milk replacers)",{"$nulls":13},":",":",":",":",":",":",6,4,6,6,10,null,null,40,40,44,46,49,52,57,45,45,50,50]
["others",{"$nulls":13},":",":",":",":",":",":",":",":",":",{"$nulls":4},8,11,11,11,13,17,21,13,15,15,15]
[]
[]
["Pigs",{"$nulls":8},412,413,397,254,204,175,180,214,217,220,220,{"$f":"SUM(U24:U26)","v":248},234,234,240,246,285,291,{"$f":"SUM(AB24:AB26)","v":367},343,320,353,{"$f":"SUM(AF24:AF26)","v":322},317,405,378,444,437,477]
["piglets",{"$nulls":13},":",":",":",":",":",":",15,16,16,18,20,22,null,73,69,61,70,65,58,85,70,85,87,95]
["pigs for fattening",{"$nulls":13},":",":",":",":",":",":",179,174,173,176,180,200,null,203,189,180,198,190,165,200,225,265,260,290]
["breeding pigs",{"$nulls":13},":",":",":",":",":",":",54,44,45,46,46,63,null,91,85,79,85,67,94,120,83,94,90,92]
["others",{"$nulls":13},":",":",":",":",":",":",":",":",":",{"$nulls":4},":",":",":",":"]
[]
[]
["Poultry",{"$nulls":8},227,266,271,265,305,263,260,344,397,410,430,{"$f":"SUM(U31:U33)","v":489},541,553,590,499,530,510,{"$f":"SUM(AB31:AB33)","v":614},638,560,542,{"$f":"SUM(AF31:AF33)","v":565},603,623,596,632,625,621]
["broilers",{"$nulls":13},":",":",":",":",":",":",227,265,253,280,260,280,290,328,325,289,297,320,382,395,386,405,400,400]
["chicks & layers",{"$nulls":13},":",":",":",":",":",":",193,201,220,223,200,211,200,244,268,235,220,215,185,193,180,190,190,186]
["others",{"$nulls":13},":",":",":",":",":",":",69,75,80,87,39,39,20,42,45,36,25,30,36,35,30,37,35,35]
[]
[]
["Milk replacers",{"$nulls":8},0,0,0,0,0,0,0,0,0,0,0,0,0,0,0,0,0,0,0,0,0,0,0,0,0]
[]
[]
["Others",{"$nulls":8},7,26,7,7,10,8,10,17,17,17,20,34,23,24,24,24,25,25,30,41,80,48,53,71,68,74,60,60,60]
[]
[]
["TOTAL",{"$f":"B39+B30+B23+B16+B36","v":0},0,0,0,0,0,0,0,680,750,711,561,555,475,480,613,669,685,710,863,874,904,948,878,993,951,{"v":1152,"d":"1,152"},{"v":1190,"d":"1,190"},{"v":1152,"d":"1,152"},{"v":1111,"d":"1,111"},{"v":1116,"d":"1,116"},{"v":1181,"d":"1,181"},{"v":1301,"d":"1,301"},{"v":1244,"d":"1,244"},{"v":1338,"d":"1,338"},{"$f":"AK39+AK30+AK23+AK16+AK36","v":{"v":1332,"d":"1,332"}},{"v":1368,"d":"1,368"}]

{"sheet":"Cyprus","index":80,"n_rows":42,"n_cols":43,"rows_kept":42,"merged":[[3,0,3,32]]}
["FEFAC SECRETARIAT GENERAL"]
[]
[{"$nulls":37},"2022/21"]
["INDUSTRIAL COMPOUND FEED PRODUCTION",{"$nulls":36},"Cattle","Pigs","Poultry","Milk replacers","Others","TOTAL"]
[{"$nulls":37},{"$f":"(($AI$16/$AH$16)-1)*100","v":{"v":0,"d":"0.0"}},{"$f":"(($AI$23/$AH$23)-1)*100","v":{"v":0,"d":"0.0"}},{"$f":"(($AI$30/$AH$30)-1)*100","v":{"v":0,"d":"0.0"}},{"$f":"(($AI$36/$AH$36)-1)*100","v":{"$error":"#DIV/0!"}},{"$f":"(($AI$39/$AH$39)-1)*100","v":{"v":0,"d":"0.0"}},{"$f":"(($AI$42/$AH$42)-1)*100","v":{"v":0,"d":"0.0"}}]
["TAB 3"]
[{"$nulls":37},"2023/22"]
["COUNTRY: CYPRUS",{"$nulls":36},"Cattle","Pigs","Poultry","Milk replacers","Others","TOTAL"]
[{"$nulls":37},{"$f":"(($AJ$16/$AI$16)-1)*100","v":{"v":0,"d":"0.0"}},{"$f":"(($AJ$23/$AI$23)-1)*100","v":{"v":0,"d":"0.0"}},{"$f":"(($AJ$30/$AI$30)-1)*100","v":{"v":0,"d":"0.0"}},{"$f":"(($AJ$36/$AI$36)-1)*100","v":{"$error":"#DIV/0!"}},{"$f":"(($AJ$39/$AI$39)-1)*100","v":{"v":0,"d":"0.0"}},{"$f":"(($AJ$42/$AI$42)-1)*100","v":{"v":0,"d":"0.0"}}]
[]
[]
["1 000 t",1989,1990,1991,1992,1993,1994,1995,1996,1997,1998,1999,2000,2001,2002,2003,2004,2005,2006,2007,2008,2009,2010,2011,2012,2013,2014,2015,2016,2017,2018,2019,2020,2021,2022,2023,2024]
[null,"final figures","final figures","final figures","final figures","final figures","final figures","final figures","final figures","final figures","final figures","final figures","final figures","final figures","final figures","final figures","final figures","final figures","final figures","final figures","final figures","final figures","final figures","final figures","final figures","final figures","final figures","final figures","final figures","final figures","final figures","final figures","final figures","final figures","estimates","forecasts","forecasts"]
[{"$nulls":32},"FEFAC"]
[]
["Cattle",{"$nulls":10},90,88,85,82,83,78,105,107,110,{"$f":"U17+U18+U19","v":110},111,110,120,117,118,124,127,132,132,131,200,180,180,180,180,180]
["fattening",{"$nulls":13},":",":",":",":",":",null,16,16,16,18,17,16,16,16,16,16,16,15]
["dairy cow",{"$nulls":13},":",":",":",":",":",null,84,85,84,90,89,92,98,100,105,105,104,145]
["calves (excl. milk replacers)",{"$nulls":13},":",":",":",":",":",null,10,10,10,12,11,10,10,11,11,11,11,25]
["others",{"$nulls":13},":",":",":",":",":",{"$nulls":8},":",":",":",":",null,":",":",":",":",":"]
[]
[]
["Pigs",{"$nulls":10},14,14,13,12,13,12,13,13,13,{"$f":"U24+U25+U26","v":12},13,13,50,45,34,36,34,33,36,37,5,{"v":4.7,"d":"5"},{"v":4.7,"d":"5"},{"v":4.7,"d":"5"},{"v":4.7,"d":"5"},{"v":4.7,"d":"5"}]
["piglets",{"$nulls":13},":",":",":",":",":",null,1,1,1,3,3,2,2,2,2,2,3]
["pigs for fattening",{"$nulls":13},":",":",":",":",":",null,7,8,8,34,30,22,26,24,23,25,25,5]
["breeding pigs",{"$nulls":13},":",":",":",":",":",null,4,4,4,13,12,10,8,8,8,9,9]
["others",{"$nulls":13},":",":",":",":",":",{"$nulls":8},":",":",":",":"]
[]
[]
["Poultry",{"$nulls":10},65,64,64,63,64,60,63,65,62,{"$f":"U31+U32+U33","v":60},62,64,54,52,48,49,46,46,47,47,42,37,37,37,37,37]
["broilers",{"$nulls":13},":",":",":",":",":",null,43,44,45,38,35,35,37,34,34,35,35,27]
["chicks & layers",{"$nulls":13},":",":",":",":",":",null,15,16,17,14,15,11,10,10,10,10,10,14]
["others",{"$nulls":13},":",":",":",":",":",null,2,2,2,2,2,2,2,2,2,2,2,1]
[]
[]
["Milk replacers",{"$nulls":10},0,0,0,0,0,0,0,0,0,0,1,1,1,1,1,1,1,1,1,1,0,0,0,0,0,0]
[]
[]
["Others",{"$nulls":10},76,74,76,73,74,70,100,103,102,107,106,105,100,100,100,101,99,112,120,125,140,137,137,137,137,137]
[]
[]
["TOTAL",{"$f":"B39+B30+B23+B16+B36","v":0},0,0,0,0,0,0,0,0,0,245,240,238,230,234,220,281,288,287,289,293,293,325,315,301,311,307,324,336,341,387,{"v":358.7,"d":"359"},{"v":358.7,"d":"359"},{"v":358.7,"d":"359"},{"v":358.7,"d":"359"},{"$f":"AK39+AK30+AK23+AK16+AK36","v":{"v":358.7,"d":"359"}}]

{"sheet":"Czech Rep","index":81,"n_rows":42,"n_cols":43,"rows_kept":42,"merged":[[3,0,3,32]]}
["FEFAC SECRETARIAT GENERAL"]
[]
[{"$nulls":37},"2022/21"]
["INDUSTRIAL COMPOUND FEED PRODUCTION",{"$nulls":36},"Cattle","Pigs","Poultry","Milk replacers","Others","TOTAL"]
[{"$nulls":37},{"$f":"(($AI$16/$AH$16)-1)*100","v":{"v":-1.6722408026755842,"d":"-1.7"}},{"$f":"(($AI$23/$AH$23)-1)*100","v":{"v":-11.180904522613066,"d":"-11.2"}},{"$f":"(($AI$30/$AH$30)-1)*100","v":{"v":-2.9878618113912236,"d":"-3.0"}},{"$f":"(($AI$36/$AH$36)-1)*100","v":{"v":0,"d":"0.0"}},{"$f":"(($AI$39/$AH$39)-1)*100","v":{"v":-0.9803921568627416,"d":"-1.0"}},{"$f":"(($AI$42/$AH$42)-1)*100","v":{"v":-5.1401869158878455,"d":"-5.1"}}]
["TAB 3"]
[{"$nulls":37},"2023/22"]
["COUNTRY: CZECH REPUBLIC",{"$nulls":36},"Cattle","Pigs","Poultry","Milk replacers","Others","TOTAL"]
[{"$nulls":37},{"$f":"(($AJ$16/$AI$16)-1)*100","v":{"v":1.3605442176870763,"d":"1.4"}},{"$f":"(($AJ$23/$AI$23)-1)*100","v":{"v":-4.526166902404527,"d":"-4.5"}},{"$f":"(($AJ$30/$AI$30)-1)*100","v":{"v":-3.1761308950914335,"d":"-3.2"}},{"$f":"(($AJ$39/$AI$39)-1)*100","v":{"v":-0.990099009900991,"d":"-1.0"}},{"v":-0.990099009900991,"d":"-1.0"},{"$f":"(($AJ$42/$AI$42)-1)*100","v":{"v":-2.3809523809523836,"d":"-2.4"}}]
[]
[]
["1 000 t",1989,1990,1991,1992,1993,1994,1995,1996,1997,1998,1999,2000,2001,2002,2003,2004,2005,2006,2007,2008,2009,2010,2011,2012,2013,2014,2015,2016,2017,2018,2019,2020,2021,2022,2023,2024,2024,2025]
[null,"final figures","final figures","final figures","final figures","final figures","final figures","final figures","final figures","final figures","final figures","final figures","final figures","final figures","final figures","final figures","final figures","final figures","final figures","final figures","final figures","final figures","final figures","final figures","final figures","final figures","final figures","final figures","final figures","final figures","final figures","final figures","final figures","final figures","estimates","forecasts","forecasts","forecasts","forecasts"]
[]
[]
["Cattle",{"$nulls":8},342,504,600,591,625,577,498,494,537,540,543,536,502,469,448,427,473,505,520,533,533,{"$f":"SUM(AE17:AE20)","v":525},563,570,598,588,596,596,596,596]
["fattening",{"$nulls":13},":",":",":",":",":",{"$nulls":7},":",":",":",":",65,72,90,99,95]
["dairy cow",{"$nulls":13},":",":",":",":",":",{"$nulls":7},":",":",":",":",360,312,377,388,390]
["calves (excl. milk replacers)",{"$nulls":13},":",":",":",":",":",{"$nulls":7},":",":",":",":",50,115,54,53,53]
["others",{"$nulls":13},":",":",":",":",":",{"$nulls":7},":",":",":",":",50,65,50,43,52]
[]
[]
["Pigs",{"$nulls":8},{"v":1370,"d":"1,370"},{"v":1599,"d":"1,599"},{"v":1593,"d":"1,593"},{"v":1616,"d":"1,616"},{"v":1620,"d":"1,620"},{"v":1411,"d":"1,411"},{"v":1475,"d":"1,475"},{"v":1341,"d":"1,341"},{"v":1199,"d":"1,199"},{"v":1243,"d":"1,243"},{"v":1268,"d":"1,268"},{"v":1093,"d":"1,093"},929,935,795,735,802,803,786,765,775,{"$f":"SUM(AE24:AE27)","v":764},759,761,796,707,675,675,675,675]
["piglets",{"$nulls":13},":",":",":",":",":",{"$nulls":7},":",":",":",":",93,103,76,83,63]
["pigs for fattening",{"$nulls":13},":",":",":",":",":",{"$nulls":7},":",":",":",":",519,515,547,578,521]
["breeding pigs",{"$nulls":13},":",":",":",":",":",{"$nulls":7},":",":",":",":",135,137,130,127,118]
["others",{"$nulls":13},":",":",":",":",":",{"$nulls":7},":",":",":",":",17,7,8,5,6]
[]
[]
["Poultry",{"$nulls":8},{"v":1277,"d":"1,277"},{"v":1211,"d":"1,211"},992,{"v":1033,"d":"1,033"},{"v":1219,"d":"1,219"},{"v":1090,"d":"1,090"},{"v":1038,"d":"1,038"},{"v":1125,"d":"1,125"},905,962,{"v":1074,"d":"1,074"},{"v":1074,"d":"1,074"},{"v":1039,"d":"1,039"},993,887,853,902,956,949,983,{"v":1009,"d":"1,009"},{"$f":"SUM(AE31:AE34)","v":{"v":1065,"d":"1,065"}},{"v":1062,"d":"1,062"},{"v":1044,"d":"1,044"},{"v":1071,"d":"1,071"},{"v":1039,"d":"1,039"},{"v":1006,"d":"1,006"},{"v":1006,"d":"1,006"},{"v":1006,"d":"1,006"},{"v":1006,"d":"1,006"}]
["broilers",{"$nulls":13},":",":",":",":",":",{"$nulls":7},":",":",":",":",553,571,522,531,505]
["chicks & layers",{"$nulls":13},":",":",":",":",":",{"$nulls":7},":",":",":",":",158,169,109,99,93]
["others",{"$nulls":13},":",":",":",":",":",{"$nulls":7},":",":",":",":",354,321,72,80,80]
[]
[]
["Milk replacers",{"$nulls":8},0,0,0,0,0,0,6,5,5,5,5,5,4,4,4,3,2,2,2,2,1,1,1,1,1,1,1,1,1,1]
[]
[]
["Others",{"$nulls":8},124,116,117,122,135,128,121,87,85,89,112,91,102,89,75,72,87,84,94,75,73,77,71,87,102,101,100,100,100,100]
[]
[]
["TOTAL",{"$f":"B39+B30+B23+B16+B36","v":0},0,0,0,0,0,0,0,{"v":3113,"d":"3,113"},{"v":3430,"d":"3,430"},{"v":3302,"d":"3,302"},{"v":3362,"d":"3,362"},{"v":3599,"d":"3,599"},{"v":3206,"d":"3,206"},{"v":3138,"d":"3,138"},{"v":3052,"d":"3,052"},{"v":2731,"d":"2,731"},{"v":2839,"d":"2,839"},{"v":3002,"d":"3,002"},{"v":2799,"d":"2,799"},{"v":2576,"d":"2,576"},{"v":2490,"d":"2,490"},{"v":2209,"d":"2,209"},{"v":2090,"d":"2,090"},{"v":2266,"d":"2,266"},{"v":2350,"d":"2,350"},{"v":2351,"d":"2,351"},{"v":2358,"d":"2,358"},{"v":2391,"d":"2,391"},{"v":2432,"d":"2,432"},{"v":2456,"d":"2,456"},{"v":2463,"d":"2,463"},{"v":2568,"d":"2,568"},{"v":2436,"d":"2,436"},{"v":2378,"d":"2,378"},{"$f":"AK39+AK30+AK23+AK16+AK36","v":{"v":2378,"d":"2,378"}},{"v":2378,"d":"2,378"},{"$f":"AM39+AM30+AM23+AM16+AM36","v":{"v":2378,"d":"2,378"}}]

{"sheet":"Croatia","index":82,"n_rows":42,"n_cols":37,"rows_kept":42,"merged":[[3,0,3,29]]}
["FEFAC SECRETARIAT GENERAL"]
[]
[]
["INDUSTRIAL COMPOUND FEED PRODUCTION"]
[]
["TAB 3"]
[]
["COUNTRY: CROATIA"]
[]
[]
[]
["1 000 t",1989,1990,1991,1992,1993,1994,1995,1996,1997,1998,1999,2000,2001,2002,2003,2004,2005,2006,2007,2008,2009,2010,2011,2012,2013,2014,2015,2016,2017,2018,2019,2020,2021,2022,2023,2024]
[null,"final figures","final figures","final figures","final figures","final figures","final figures","final figures","final figures","final figures","final figures","final figures","final figures","final figures","final figures","final figures","final figures","final figures","final figures","final figures","final figures","final figures","final figures","final figures","final figures","final figures","final figures","final figures","final figures","final figures","final figures","final figures","estimates","final figures","estimates","forecasts","forecasts"]
[]
[]
["Cattle",{"$nulls":15},40,48,58,86,94,99,98,107,120,103,130,129,113,98,101,113,95,95,95,95,95]
["fattening",{"$nulls":26},":",":",":",":",":"]
["dairy cow",{"$nulls":26},":",":",":",":",":"]
["calves (excl. milk replacers)",{"$nulls":26},":",":",":",":",":"]
["others",{"$nulls":26},":",":",":",":",":"]
[]
[]
["Pigs",{"$nulls":15},165,184,210,222,226,187,212,217,229,211,221,223,248,249,269,265,270,270,260,260,260]
["piglets",{"$nulls":26},":",":",":",":",":"]
["pigs for fattening",{"$nulls":26},":",":",":",":",":"]
["breeding pigs",{"$nulls":26},":",":",":",":",":"]
["others",{"$nulls":26},":",":",":",":",":"]
[]
[]
["Poultry",{"$nulls":15},291,292,259,281,283,282,267,276,276,261,276,288,288,288,291,293,300,300,300,300,300]
["broilers",{"$nulls":26},":",":",":",":",":"]
["chicks & layers",{"$nulls":26},":",":",":",":",":"]
["others",{"$nulls":26},":",":",":",":",":"]
[]
[]
["Milk replacers",{"$nulls":25},0,0,0,0,0,0,0,0,0,0,0]
[]
[]
["Others",{"$nulls":15},14,16,14,14,13,10,10,11,10,7,11,8,12,10,15,16,15,15,15,15,15]
[]
[]
["TOTAL",{"$f":"B39+B30+B23+B16+B36","v":0},0,0,0,0,0,0,0,0,0,0,0,0,0,0,510,540,541,603,616,578,587,611,635,582,638,648,661,645,676,687,680,680,670,670,{"$f":"AK39+AK30+AK23+AK16+AK36","v":670}]

{"sheet":"Denmark","index":83,"n_rows":42,"n_cols":43,"rows_kept":42,"merged":[[3,0,3,32]]}
["FEFAC SECRETARIAT GENERAL"]
[]
[{"$nulls":37},"2025/24"]
["INDUSTRIAL COMPOUND FEED PRODUCTION",{"$nulls":36},"Cattle","Pigs","Poultry","Milk replacers","Others","TOTAL"]
[{"$nulls":37},{"$f":"(($AL$16/$AK$16)-1)*100","v":{"v":0,"d":"0.0"}},{"$f":"(($AL$23/$AK$23)-1)*100","v":{"v":-1.4853647881170828,"d":"-1.5"}},{"$f":"(($AL$30/$AK$30)-1)*100","v":{"v":0,"d":"0.0"}},{"$f":"(($AK$36/$AJ$36)-1)*100","v":{"$error":"#DIV/0!"}},{"$f":"(($AL$39/$AK$39)-1)*100","v":{"v":-1.4705882352941124,"d":"-1.5"}},{"$f":"(($AL$42/$AK$42)-1)*100","v":{"v":-0.8529276164130906,"d":"-0.9"}}]
["TAB 3"]
[{"$nulls":37},"2024/23"]
["COUNTRY: DENMARK",{"$nulls":36},"Cattle","Pigs","Poultry","Milk replacers","Others","TOTAL"]
[{"$nulls":37},{"$f":"(($AK$16/$AJ$16)-1)*100","v":{"v":12.671905697445961,"d":"12.7"}},{"$f":"(($AK$23/$AJ$23)-1)*100","v":{"v":9.626436781609193,"d":"9.6"}},{"$f":"(($AK$30/$AJ$30)-1)*100","v":{"v":8.385093167701863,"d":"8.4"}},{"$f":"(($AJ$36/$AI$36)-1)*100","v":{"$error":"#DIV/0!"}},{"$f":"(($AK$39/$AJ$39)-1)*100","v":{"v":-9.734513274336287,"d":"-9.7"}},{"$f":"(($AK$42/$AJ$42)-1)*100","v":{"v":9.104627766599593,"d":"9.1"}}]
[]
[]
["1 000 t",1989,1990,1991,1992,1993,1994,1995,1996,1997,1998,1999,2000,2001,2002,2003,2004,2005,2006,2007,2008,2009,2010,2011,2012,2013,2014,2015,2016,2017,2018,2019,2020,2021,2022,2023,2024,2025]
[null,"final figures","final figures","final figures","final figures","final figures","final figures","final figures","final figures","final figures","final figures","final figures","final figures","final figures","final figures","final figures","final figures","final figures","final figures","final figures","final figures","final figures","final figures","final figures","final figures","final figures","final figures","final figures","final figures","final figures","final figures","final figures","final figures","final figures","final figures","final figures","final figures","estimates"]
[]
[]
["Cattle",{"v":1607,"d":"1,607"},{"v":1542,"d":"1,542"},{"$f":"D18+D20+D19","v":{"v":1562,"d":"1,562"}},{"$f":"E17+E18+E19","v":{"v":1643,"d":"1,643"}},{"v":1700,"d":"1,700"},{"v":1571,"d":"1,571"},{"v":1522,"d":"1,522"},{"v":1517,"d":"1,517"},{"v":1408,"d":"1,408"},{"v":1349,"d":"1,349"},{"v":1335,"d":"1,335"},{"$f":"M17+M18+M19","v":{"v":1506,"d":"1,506"}},{"v":1394,"d":"1,394"},{"v":1302,"d":"1,302"},{"v":1274,"d":"1,274"},{"v":1249,"d":"1,249"},{"v":1090,"d":"1,090"},{"v":1124,"d":"1,124"},{"v":1143,"d":"1,143"},{"v":1079,"d":"1,079"},997,905,871,918,939,917,{"$f":"AB18+AB19","v":897},981,971,{"v":1043,"d":"1,043"},{"v":1071,"d":"1,071"},{"v":1067,"d":"1,067"},{"v":1130,"d":"1,130"},{"v":1104,"d":"1,104"},{"v":1018,"d":"1,018"},{"v":1147,"d":"1,147"},{"v":1147,"d":"1,147"}]
["fattening",":",":",":",571,677,605,594,585,552,525,517,580,522,482,519,{"$nulls":11},":",":",":",":",":"]
["dairy cow",":",":",798,732,650,620,591,585,552,524,517,581,522,482,417,897,734,736,754,767,722,650,640,695,722,698,678,741,748,801,":"]
["calves (excl. milk replacers)",":",":",290,340,373,346,337,347,304,300,301,345,350,338,338,352,356,388,389,312,275,255,231,223,217,219,219,240,224,242,":"]
["others",":",":",474,":",":",":",":",":",":",":",":",":",":",":",":",":",":",":",{"$nulls":8},":",":",":",":",":"]
[]
[]
["Pigs",{"v":2401,"d":"2,401"},{"v":2493,"d":"2,493"},{"v":2799,"d":"2,799"},{"$f":"E24+E25+E26","v":{"v":3295,"d":"3,295"}},{"v":3621,"d":"3,621"},{"v":3426,"d":"3,426"},{"v":3306,"d":"3,306"},{"v":3429,"d":"3,429"},{"v":3546,"d":"3,546"},{"v":3669,"d":"3,669"},{"v":3504,"d":"3,504"},{"v":3804,"d":"3,804"},{"v":3874,"d":"3,874"},{"v":3702,"d":"3,702"},{"v":3518,"d":"3,518"},{"v":3571,"d":"3,571"},{"v":3471,"d":"3,471"},{"v":3329,"d":"3,329"},{"v":3338,"d":"3,338"},{"v":3129,"d":"3,129"},{"v":2867,"d":"2,867"},{"v":2887,"d":"2,887"},{"v":2677,"d":"2,677"},{"v":2649,"d":"2,649"},{"v":2582,"d":"2,582"},{"v":2584,"d":"2,584"},{"v":2421,"d":"2,421"},{"v":2312,"d":"2,312"},{"v":2364,"d":"2,364"},{"v":2417,"d":"2,417"},{"v":2362,"d":"2,362"},{"v":2582,"d":"2,582"},{"v":2863,"d":"2,863"},{"v":2546,"d":"2,546"},{"v":2088,"d":"2,088"},{"v":2289,"d":"2,289"},{"v":2255,"d":"2,255"}]
["piglets",":",":",":",544,585,578,611,575,617,657,607,665,680,725,656,692,678,643,663,620,589,613,589,539,505,536,512,498,491,485,":",{"$nulls":3},437]
["pigs for fattening",":",":",":",{"v":2131,"d":"2,131"},{"v":2384,"d":"2,384"},{"v":2228,"d":"2,228"},{"v":2128,"d":"2,128"},{"v":2186,"d":"2,186"},{"v":2234,"d":"2,234"},{"v":2263,"d":"2,263"},{"v":1948,"d":"1,948"},{"v":2104,"d":"2,104"},{"v":2140,"d":"2,140"},{"v":1962,"d":"1,962"},{"v":1890,"d":"1,890"},{"v":2124,"d":"2,124"},{"v":2077,"d":"2,077"},{"v":1973,"d":"1,973"},{"v":1959,"d":"1,959"},{"v":1799,"d":"1,799"},{"v":1614,"d":"1,614"},{"v":1610,"d":"1,610"},{"v":1513,"d":"1,513"},{"v":1493,"d":"1,493"},{"v":1503,"d":"1,503"},{"v":1477,"d":"1,477"},{"v":1371,"d":"1,371"},{"v":1298,"d":"1,298"},{"v":1334,"d":"1,334"},{"v":1380,"d":"1,380"},":",{"$nulls":3},{"v":1119,"d":"1,119"}]
["breeding pigs",":",":",":",620,652,620,567,668,695,749,949,{"v":1035,"d":"1,035"},{"v":1054,"d":"1,054"},{"v":1015,"d":"1,015"},972,755,716,713,716,710,664,664,575,617,574,571,538,516,538,552,":",{"$nulls":3},531]
["others",":",":",":",":",":",":",":",":",":",":",":",":",":",":",":",":",":",":",{"$nulls":8},":",":",":",":",":"]
[]
[]
["Poultry",521,528,{"$f":"D31+D32+D33","v":564},619,622,635,656,651,654,677,670,696,670,650,617,672,614,598,570,580,550,535,545,548,594,610,598,615,646,673,677,696,673,643,644,698,698]
["broilers",":",":",486,504,507,527,543,541,529,549,564,593,567,528,533,537,305,198,181,162,175,151,155,168,160,158,179,199,377,371,":",{"$nulls":3},343]
["chicks & layers",":",":",38,37,39,41,39,38,36,48,34,33,34,46,35,62,239,326,324,358,312,316,324,320,378,400,399,378,239,245,":",{"$nulls":3},268]
["others",":",":",40,78,76,67,74,72,89,80,72,70,69,76,49,73,70,74,65,60,63,68,66,60,56,52,20,38,30,57,":"]
[]
[]
["Milk replacers",13,13,9,6,6,6,5,5,5,5,6,5,0,0,0,0,0,0,0,0,0,0,0,0,0,0,0,0,0,0,0]
[]
[]
["Others",137,137,124,123,110,150,164,144,164,140,115,117,107,128,153,138,154,155,154,172,174,198,174,170,184,200,200,190,207,212,199,188,237,237,226,204,201]
[]
[]
["TOTAL",{"$f":"B39+B30+B23+B16+B36","v":{"v":4679,"d":"4,679"}},{"v":4713,"d":"4,713"},{"v":5058,"d":"5,058"},{"v":5686,"d":"5,686"},{"v":6059,"d":"6,059"},{"v":5788,"d":"5,788"},{"v":5653,"d":"5,653"},{"v":5746,"d":"5,746"},{"v":5777,"d":"5,777"},{"v":5840,"d":"5,840"},{"v":5630,"d":"5,630"},{"v":6128,"d":"6,128"},{"v":6045,"d":"6,045"},{"v":5782,"d":"5,782"},{"v":5562,"d":"5,562"},{"v":5630,"d":"5,630"},{"v":5329,"d":"5,329"},{"v":5206,"d":"5,206"},{"v":5205,"d":"5,205"},{"v":4960,"d":"4,960"},{"v":4588,"d":"4,588"},{"v":4525,"d":"4,525"},{"v":4267,"d":"4,267"},{"v":4285,"d":"4,285"},{"v":4299,"d":"4,299"},{"v":4311,"d":"4,311"},{"v":4116,"d":"4,116"},{"v":4098,"d":"4,098"},{"v":4188,"d":"4,188"},{"v":4345,"d":"4,345"},{"v":4309,"d":"4,309"},{"v":4533,"d":"4,533"},{"v":4903,"d":"4,903"},{"v":4530,"d":"4,530"},{"v":3976,"d":"3,976"},{"$f":"AK39+AK30+AK23+AK16+AK36","v":{"v":4338,"d":"4,338"}},{"v":4301,"d":"4,301"}]

{"sheet":"Estonia","index":84,"n_rows":42,"n_cols":43,"rows_kept":42,"merged":[[3,0,3,32]]}
["FEFAC SECRETARIAT GENERAL"]
[]
[{"$nulls":37},"2022/21"]
["INDUSTRIAL COMPOUND FEED PRODUCTION",{"$nulls":36},"Cattle","Pigs","Poultry","Milk replacers","Others","TOTAL"]
[{"$nulls":37},{"$f":"(($AI$16/$AH$16)-1)*100","v":{"v":0,"d":"0.0"}},{"$f":"(($AI$23/$AH$23)-1)*100","v":{"v":0,"d":"0.0"}},{"$f":"(($AI$30/$AH$30)-1)*100","v":{"v":0,"d":"0.0"}},{"$f":"(($AI$36/$AH$36)-1)*100","v":{"$error":"#DIV/0!"}},{"$f":"(($AI$39/$AH$39)-1)*100","v":{"v":0,"d":"0.0"}},{"$f":"(($AI$42/$AH$42)-1)*100","v":{"v":0,"d":"0.0"}}]
["TAB 4"]
[{"$nulls":37},"2023/22"]
["COUNTRY: ESTONIA",{"$nulls":36},"Cattle","Pigs","Poultry","Milk replacers","Others","TOTAL"]
[{"$nulls":37},{"$f":"(($AL$16/$AI$16)-1)*100","v":{"v":-100,"d":"-100.0"}},{"$f":"(($AL$23/$AI$23)-1)*100","v":{"v":-100,"d":"-100.0"}},{"$f":"(($AL$30/$AI$30)-1)*100","v":{"v":-100,"d":"-100.0"}},{"$f":"(($AL$36/$AI$36)-1)*100","v":{"$error":"#DIV/0!"}},{"$f":"(($AL$39/$AI$39)-1)*100","v":{"v":-100,"d":"-100.0"}},{"$f":"(($AL$42/$AI$42)-1)*100","v":{"v":-100,"d":"-100.0"}}]
[]
[]
["1 000 t",1989,1990,1991,1992,1993,1994,1995,1996,1997,1998,1999,2000,2001,2002,2003,2004,2005,2006,2007,2008,2009,2010,2011,2012,2013,2014,2015,2016,2017,2018,2019,2020,2021,2022,2023,2024]
[null,"final figures","final figures","final figures","final figures","final figures","final figures","final figures","final figures","final figures","final figures","final figures","final figures","final figures","final figures","final figures","final figures","final figures","final figures","final figures","final figures","final figures","final figures","estimates","estimates","estimates","estimates","estimates","estimates","estimates","estimates","final figures","final figures","final figures","estimates","forecasts","forecasts"]
[]
[]
["Cattle",{"$nulls":8},37,50,31,34,33,31,28,42,49,42,47,44,40,40,40,40,40,40,40,40,40,40,40,40,40,40,40,40]
["fattening",{"$nulls":13},":",":",":",":",":",":",":",":",":",":",{"$nulls":3},":",":",":",":",":",":",":",":",":",":"]
["dairy cow",{"$nulls":13},":",":",":",":",":",":",":",":",":",":",{"$nulls":3},":",":",":",":",":",":",":",":",":",":"]
["calves (excl. milk replacers)",{"$nulls":13},":",":",":",":",":",":",":",":",":",":",{"$nulls":3},":",":",":",":",":",":",":",":",":",":"]
["others",{"$nulls":13},":",":",":",":",":",":",":",":",":",":",{"$nulls":3},":",":",":",":",":",":",":",":",":",":"]
[]
[]
["Pigs",{"$nulls":8},85,93,96,102,120,130,117,119,116,118,129,141,140,140,140,140,140,140,140,140,140,140,140,140,140,140,140,140]
["piglets",{"$nulls":13},":",":",":",":",":",":",":",":",":",":",":",":",":",":",":",":",":",":",":",":",":",":",":"]
["pigs for fattening",{"$nulls":13},":",":",":",":",":",":",":",":",":",":",":",":",":",":",":",":",":",":",":",":",":",":",":"]
["breeding pigs",{"$nulls":13},":",":",":",":",":",":",":",":",":",":",":",":",":",":",":",":",":",":",":",":",":",":",":"]
["others",{"$nulls":13},":",":",":",":",":",":",":",":",":",":",":",":",":",":",":",":",":",":",":",":",":",":",":"]
[]
[]
["Poultry",{"$nulls":8},50,55,49,48,55,56,58,62,54,49,46,49,48,48,48,48,48,48,48,48,48,48,48,48,48,48,48,48]
["broilers",{"$nulls":13},":",":",":",":",":",":",":",":",":",":",":",":",":",":",":",":",":",":",":",":",":",":",":"]
["chicks & layers",{"$nulls":13},":",":",":",":",":",":",":",":",":",":",":",":",":",":",":",":",":",":",":",":",":",":",":"]
["others",{"$nulls":13},":",":",":",":",":",":",":",":",":",":",":",":",":",":",":",":",":",":",":",":",":",":",":"]
[]
[]
["Milk replacers",{"$nulls":8},0,0,0,0,0,0,0,1,1,1,0,0,0,0,0,0,0,0,0,0,0,0,0,0,0,0,0,0]
[]
[]
["Others",{"$nulls":8},0,1,6,3,4,4,3,3,3,2,2,2,2,2,2,2,2,2,2,2,2,2,2,2,2,2,2,2]
[]
[]
["TOTAL",{"$f":"B39+B30+B23+B16+B36","v":0},0,0,0,0,0,0,0,172,199,182,187,212,221,206,227,223,212,224,236,230,230,230,230,230,230,230,230,230,230,230,230,230,230,230,{"$f":"AK39+AK30+AK23+AK16+AK36","v":230}]

{"sheet":"France","index":85,"n_rows":42,"n_cols":43,"rows_kept":42,"merged":[[3,0,3,32]]}
["FEFAC SECRETARIAT GENERAL"]
[]
[{"$nulls":37},"2025/24"]
["INDUSTRIAL COMPOUND FEED PRODUCTION",{"$nulls":36},"Cattle","Pigs","Poultry","Milk replacers","Others","TOTAL"]
[{"$nulls":37},{"$f":"(($AL$16/$AK$16)-1)*100","v":{"v":0,"d":"0.0"}},{"$f":"(($AL$23/$AK$23)-1)*100","v":{"v":0,"d":"0.0"}},{"$f":"(($AL$30/$AK$30)-1)*100","v":{"v":0,"d":"0.0"}},{"$f":"(($AK$36/$AJ$36)-1)*100","v":{"v":0,"d":"0.0"}},{"$f":"(($AL$39/$AK$39)-1)*100","v":{"v":0,"d":"0.0"}},{"$f":"(($AL$42/$AK$42)-1)*100","v":{"v":0,"d":"0.0"}}]
["TAB 3"]
[{"$nulls":37},"2024/23"]
["COUNTRY: FRANCE",{"$nulls":36},"Cattle","Pigs","Poultry","Milk replacers","Others","TOTAL"]
[{"$nulls":37},{"$f":"(($AK$16/$AJ$16)-1)*100","v":{"v":1.96041822255415,"d":"2.0"}},{"$f":"(($AK$23/$AJ$23)-1)*100","v":{"v":-1.0940409683426466,"d":"-1.1"}},{"$f":"(($AK$30/$AJ$30)-1)*100","v":{"v":3.2696499551224445,"d":"3.3"}},{"$f":"(($AK$36/$AJ$36)-1)*100","v":{"v":0,"d":"0.0"}},{"$f":"(($AK$39/$AJ$39)-1)*100","v":{"v":-0.5998800239952029,"d":"-0.6"}},{"$f":"(($AK$42/$AJ$42)-1)*100","v":{"v":0.14438199350281788,"d":"0.1"}}]
[]
[]
["1 000 t",1989,1990,1991,1992,1993,1994,1995,1996,1997,1998,1999,2000,2001,2002,2003,2004,2005,2006,2007,2008,2009,2010,2011,2012,2013,2014,2015,2016,2017,2018,2019,2020,2021,2022,2023,2024,2025]
[null,"final figures","final figures","final figures","final figures","final figures","final figures","final figures","final figures","final figures","final figures","final figures","final figures","final figures","final figures","final figures","final figures","final figures","final figures","final figures","final figures","final figures","final figures","final figures","final figures","final figures","final figures","final figures","final figures","final figures","final figures","final fugures","final fugures","final figures","estimates","forecasts","forecasts","forecasts"]
[]
[]
["Cattle",{"v":3716,"d":"3,716"},{"$f":"C18+C20","v":{"v":3957,"d":"3,957"}},{"v":3997,"d":"3,997"},{"v":3738,"d":"3,738"},{"$f":"F17+F18","v":{"v":3839,"d":"3,839"}},{"$f":"G18+G20","v":{"v":3980,"d":"3,980"}},{"$f":"H18+H20+H17+H19","v":{"v":4037,"d":"4,037"}},{"v":4170,"d":"4,170"},{"v":4207,"d":"4,207"},{"v":4050,"d":"4,050"},{"$f":"L17+L18+L19+L20","v":{"v":4209,"d":"4,209"}},{"v":4379,"d":"4,379"},{"v":4470,"d":"4,470"},{"v":4235,"d":"4,235"},{"v":4459,"d":"4,459"},{"v":4311,"d":"4,311"},{"v":4482,"d":"4,482"},{"v":4778,"d":"4,778"},{"v":5123,"d":"5,123"},{"v":5542,"d":"5,542"},{"v":4927,"d":"4,927"},{"v":5144,"d":"5,144"},{"v":5148,"d":"5,148"},{"v":5236,"d":"5,236"},{"v":5449,"d":"5,449"},{"v":5494,"d":"5,494"},{"$f":"AB17+AB18","v":{"v":5351,"d":"5,351"}},{"v":5168,"d":"5,168"},{"v":5266,"d":"5,266"},{"v":5413,"d":"5,413"},{"v":5457,"d":"5,457"},{"v":5424,"d":"5,424"},{"v":5345,"d":"5,345"},{"v":5254,"d":"5,254"},{"v":5356,"d":"5,356"},{"v":5461,"d":"5,461"},{"v":5461,"d":"5,461"}]
["fattening",":",":",":",":",993,":",636,618,658,670,716,768,804,810,947,975,{"v":1369,"d":"1,369"},{"v":1494,"d":"1,494"},{"v":1544,"d":"1,544"},{"v":1554,"d":"1,554"},{"v":1366,"d":"1,366"},{"v":1349,"d":"1,349"},{"v":1320,"d":"1,320"},{"v":1306,"d":"1,306"},{"v":1316,"d":"1,316"},{"v":1664,"d":"1,664"},{"v":1709,"d":"1,709"},{"v":1771,"d":"1,771"},{"v":1882,"d":"1,882"},{"v":1933,"d":"1,933"},{"v":1941,"d":"1,941"},{"v":1955,"d":"1,955"},{"v":1873,"d":"1,873"},{"v":1775,"d":"1,775"},{"v":1811,"d":"1,811"},{"v":1836,"d":"1,836"},{"v":1836,"d":"1,836"}]
["dairy cow",":",{"v":2900,"d":"2,900"},{"v":2911,"d":"2,911"},{"v":2758,"d":"2,758"},{"v":2846,"d":"2,846"},{"v":2890,"d":"2,890"},{"v":2889,"d":"2,889"},{"v":3042,"d":"3,042"},{"v":3040,"d":"3,040"},{"v":2926,"d":"2,926"},{"v":2994,"d":"2,994"},{"v":3123,"d":"3,123"},{"v":3216,"d":"3,216"},{"v":2995,"d":"2,995"},{"v":2974,"d":"2,974"},{"v":2811,"d":"2,811"},{"v":2699,"d":"2,699"},{"v":2809,"d":"2,809"},{"v":3059,"d":"3,059"},{"v":3443,"d":"3,443"},{"v":3023,"d":"3,023"},{"v":3143,"d":"3,143"},{"v":3100,"d":"3,100"},{"v":3236,"d":"3,236"},{"v":3281,"d":"3,281"},{"v":3830,"d":"3,830"},{"v":3642,"d":"3,642"},{"v":3397,"d":"3,397"},{"v":3385,"d":"3,385"},{"v":3480,"d":"3,480"},{"v":3516,"d":"3,516"},{"v":3469,"d":"3,469"},{"v":3472,"d":"3,472"},{"v":3479,"d":"3,479"},{"v":3545,"d":"3,545"},{"v":3626,"d":"3,626"},{"v":3626,"d":"3,626"}]
["calves (excl. milk replacers)",":",":",":",":",":",":",238,233,226,219,250,254,235,240,290,293,{"$nulls":10},":"]
["others",":",{"v":1057,"d":"1,057"},{"v":1086,"d":"1,086"},980,":",{"v":1090,"d":"1,090"},274,277,283,235,249,234,215,190,248,232,414,475,520,545,538,652,728,694,852,null,":"]
[]
[]
["Pigs",{"v":5134,"d":"5,134"},{"v":5214,"d":"5,214"},{"v":5493,"d":"5,493"},{"$f":"E25+E27","v":{"v":5904,"d":"5,904"}},{"$f":"F24+F25+F26","v":{"v":6373,"d":"6,373"}},{"v":6417,"d":"6,417"},{"v":6381,"d":"6,381"},{"v":6663,"d":"6,663"},{"v":6945,"d":"6,945"},{"v":6986,"d":"6,986"},{"v":6871,"d":"6,871"},{"v":6872,"d":"6,872"},{"v":7016,"d":"7,016"},{"v":6964,"d":"6,964"},{"v":6814,"d":"6,814"},{"v":6670,"d":"6,670"},{"v":6452,"d":"6,452"},{"v":6302,"d":"6,302"},{"v":6418,"d":"6,418"},{"v":6316,"d":"6,316"},{"v":5915,"d":"5,915"},{"v":5771,"d":"5,771"},{"v":5642,"d":"5,642"},{"v":5516,"d":"5,516"},{"v":5332,"d":"5,332"},{"v":5148,"d":"5,148"},{"v":5070,"d":"5,070"},{"v":4989,"d":"4,989"},{"v":4997,"d":"4,997"},{"v":4918,"d":"4,918"},{"v":4963,"d":"4,963"},{"v":4959,"d":"4,959"},{"v":4846,"d":"4,846"},{"v":4543,"d":"4,543"},{"v":4296,"d":"4,296"},{"v":4249,"d":"4,249"},{"v":4249,"d":"4,249"}]
["piglets",":",":",":",":",840,809,797,835,874,879,866,866,883,899,870,819,806,784,774,780,760,728,701,736,761,744,734,752,768,768,762,740,707,640,616,619,619]
["pigs for fattening",":",":",":",{"v":3884,"d":"3,884"},{"v":4211,"d":"4,211"},{"v":4301,"d":"4,301"},{"v":4260,"d":"4,260"},{"v":4451,"d":"4,451"},{"v":4661,"d":"4,661"},{"v":4679,"d":"4,679"},{"v":4638,"d":"4,638"},{"v":4635,"d":"4,635"},{"v":4783,"d":"4,783"},{"v":4740,"d":"4,740"},{"v":4666,"d":"4,666"},{"v":4603,"d":"4,603"},{"v":4497,"d":"4,497"},{"v":4388,"d":"4,388"},{"v":4529,"d":"4,529"},{"v":4459,"d":"4,459"},{"v":4140,"d":"4,140"},{"v":4049,"d":"4,049"},{"v":3996,"d":"3,996"},{"v":3859,"d":"3,859"},{"v":3679,"d":"3,679"},{"v":3532,"d":"3,532"},{"v":3479,"d":"3,479"},{"v":3400,"d":"3,400"},{"v":3396,"d":"3,396"},{"v":3330,"d":"3,330"},{"v":3399,"d":"3,399"},{"v":3423,"d":"3,423"},{"v":3385,"d":"3,385"},{"v":3200,"d":"3,200"},{"v":3013,"d":"3,013"},{"v":2964,"d":"2,964"},{"v":2964,"d":"2,964"}]
["breeding pigs",":",":",":",":",{"v":1322,"d":"1,322"},{"v":1307,"d":"1,307"},{"v":1324,"d":"1,324"},{"v":1377,"d":"1,377"},{"v":1410,"d":"1,410"},{"v":1428,"d":"1,428"},{"v":1367,"d":"1,367"},{"v":1371,"d":"1,371"},{"v":1350,"d":"1,350"},{"v":1325,"d":"1,325"},{"v":1278,"d":"1,278"},{"v":1248,"d":"1,248"},{"v":1149,"d":"1,149"},{"v":1130,"d":"1,130"},{"v":1115,"d":"1,115"},{"v":1077,"d":"1,077"},{"v":1015,"d":"1,015"},994,945,921,892,872,857,837,833,820,802,796,754,703,667,619,619]
["others",":",":",":",{"v":2020,"d":"2,020"},":",":",":",":",":",":",":",":",":",":",":",{"$nulls":11},":"]
[]
[]
["Poultry",{"v":6468,"d":"6,468"},{"$f":"C31+C32+C33","v":{"v":6990,"d":"6,990"}},{"v":7398,"d":"7,398"},{"v":7675,"d":"7,675"},{"v":7999,"d":"7,999"},{"v":8354,"d":"8,354"},{"v":8774,"d":"8,774"},{"v":9136,"d":"9,136"},{"v":9447,"d":"9,447"},{"v":9714,"d":"9,714"},{"v":9592,"d":"9,592"},{"v":9759,"d":"9,759"},{"v":9709,"d":"9,709"},{"v":9443,"d":"9,443"},{"v":9238,"d":"9,238"},{"v":9245,"d":"9,245"},{"v":8992,"d":"8,992"},{"v":8491,"d":"8,491"},{"v":8775,"d":"8,775"},{"v":8772,"d":"8,772"},{"v":8470,"d":"8,470"},{"v":8626,"d":"8,626"},{"v":8630,"d":"8,630"},{"v":8606,"d":"8,606"},{"v":8696,"d":"8,696"},{"v":8680,"d":"8,680"},{"v":8854,"d":"8,854"},{"v":8656,"d":"8,656"},{"v":8547,"d":"8,547"},{"v":8699,"d":"8,699"},{"v":8645,"d":"8,645"},{"v":8607,"d":"8,607"},{"v":8556,"d":"8,556"},{"v":7677,"d":"7,677"},{"v":7799,"d":"7,799"},{"v":8054,"d":"8,054"},{"v":8054,"d":"8,054"}]
["broilers",":",{"v":2701,"d":"2,701"},{"v":2699,"d":"2,699"},{"v":2859,"d":"2,859"},{"v":3011,"d":"3,011"},{"v":3110,"d":"3,110"},{"v":3297,"d":"3,297"},{"v":3437,"d":"3,437"},{"v":3448,"d":"3,448"},{"v":3509,"d":"3,509"},{"v":3380,"d":"3,380"},{"v":3334,"d":"3,334"},{"v":3415,"d":"3,415"},{"v":3301,"d":"3,301"},{"v":3369,"d":"3,369"},{"v":3250,"d":"3,250"},{"v":3280,"d":"3,280"},{"v":2954,"d":"2,954"},{"v":3253,"d":"3,253"},{"v":3238,"d":"3,238"},{"v":3217,"d":"3,217"},{"v":3293,"d":"3,293"},{"v":3355,"d":"3,355"},{"v":3330,"d":"3,330"},{"v":3379,"d":"3,379"},{"v":3265,"d":"3,265"},{"v":3408,"d":"3,408"},{"v":3421,"d":"3,421"},{"v":3489,"d":"3,489"},{"v":3486,"d":"3,486"},{"v":3468,"d":"3,468"},{"v":3479,"d":"3,479"},{"v":3483,"d":"3,483"},{"v":3227,"d":"3,227"},{"v":3173,"d":"3,173"},{"v":3237,"d":"3,237"},{"v":3237,"d":"3,237"}]
["chicks & layers",":",{"v":1989,"d":"1,989"},{"v":2134,"d":"2,134"},{"v":2130,"d":"2,130"},{"v":2175,"d":"2,175"},{"v":2243,"d":"2,243"},{"v":2222,"d":"2,222"},{"v":2313,"d":"2,313"},{"v":2381,"d":"2,381"},{"v":2392,"d":"2,392"},{"v":2410,"d":"2,410"},{"v":2325,"d":"2,325"},{"v":2232,"d":"2,232"},{"v":2213,"d":"2,213"},{"v":2195,"d":"2,195"},{"v":2229,"d":"2,229"},{"v":2097,"d":"2,097"},{"v":2045,"d":"2,045"},{"v":2135,"d":"2,135"},{"v":2188,"d":"2,188"},{"v":2185,"d":"2,185"},{"v":2230,"d":"2,230"},{"v":2178,"d":"2,178"},{"v":2207,"d":"2,207"},{"v":2391,"d":"2,391"},{"v":2417,"d":"2,417"},{"v":2464,"d":"2,464"},{"v":2480,"d":"2,480"},{"v":2499,"d":"2,499"},{"v":2517,"d":"2,517"},{"v":2551,"d":"2,551"},{"v":2664,"d":"2,664"},{"v":2768,"d":"2,768"},{"v":2675,"d":"2,675"},{"v":2748,"d":"2,748"},{"v":2804,"d":"2,804"},{"v":2804,"d":"2,804"}]
["others",":",{"v":2300,"d":"2,300"},{"v":2565,"d":"2,565"},{"v":2686,"d":"2,686"},{"v":2813,"d":"2,813"},{"v":3001,"d":"3,001"},{"v":3255,"d":"3,255"},{"v":3386,"d":"3,386"},{"v":3618,"d":"3,618"},{"v":3813,"d":"3,813"},{"v":3802,"d":"3,802"},{"v":4100,"d":"4,100"},{"v":4062,"d":"4,062"},{"v":3929,"d":"3,929"},{"v":3674,"d":"3,674"},{"v":3766,"d":"3,766"},{"v":3615,"d":"3,615"},{"v":3492,"d":"3,492"},{"v":3387,"d":"3,387"},{"v":3346,"d":"3,346"},{"v":3068,"d":"3,068"},{"v":3103,"d":"3,103"},{"v":3097,"d":"3,097"},{"v":3069,"d":"3,069"},{"v":2926,"d":"2,926"},{"v":2998,"d":"2,998"},{"v":2982,"d":"2,982"},{"v":2755,"d":"2,755"},{"v":2559,"d":"2,559"},{"v":2696,"d":"2,696"},{"v":2626,"d":"2,626"},{"v":2464,"d":"2,464"},{"v":2304,"d":"2,304"},{"v":1775,"d":"1,775"},{"v":1878,"d":"1,878"},{"v":2012,"d":"2,012"},{"v":2012,"d":"2,012"}]
[]
[]
["Milk replacers",721,679,666,609,584,569,555,534,513,517,523,519,499,512,488,485,487,449,406,413,389,385,357,363,364,346,337,338,321,319,323,301,303,273,275,275,275]
[]
[]
["Others",{"v":1454,"d":"1,454"},{"v":1453,"d":"1,453"},{"v":1465,"d":"1,465"},{"v":1437,"d":"1,437"},{"v":1454,"d":"1,454"},{"v":1428,"d":"1,428"},{"v":1483,"d":"1,483"},{"v":1500,"d":"1,500"},{"v":1517,"d":"1,517"},{"v":1643,"d":"1,643"},{"v":1602,"d":"1,602"},{"v":1580,"d":"1,580"},{"v":1591,"d":"1,591"},{"v":1604,"d":"1,604"},{"v":1578,"d":"1,578"},{"v":1579,"d":"1,579"},{"v":1572,"d":"1,572"},{"v":1565,"d":"1,565"},{"v":1622,"d":"1,622"},{"v":1599,"d":"1,599"},{"v":1535,"d":"1,535"},{"v":1552,"d":"1,552"},{"v":1517,"d":"1,517"},{"v":1490,"d":"1,490"},{"v":1458,"d":"1,458"},{"v":1502,"d":"1,502"},{"v":1513,"d":"1,513"},{"v":1515,"d":"1,515"},{"v":1511,"d":"1,511"},{"v":1496,"d":"1,496"},{"v":1526,"d":"1,526"},{"v":1530,"d":"1,530"},{"v":1554,"d":"1,554"},{"v":1487,"d":"1,487"},{"v":1667,"d":"1,667"},{"v":1657,"d":"1,657"},{"v":1657,"d":"1,657"}]
[]
[]
["TOTAL",{"$f":"B39+B30+B23+B16+B36","v":{"v":17493,"d":"17,493"}},{"v":18293,"d":"18,293"},{"v":19019,"d":"19,019"},{"v":19363,"d":"19,363"},{"v":20249,"d":"20,249"},{"v":20748,"d":"20,748"},{"v":21230,"d":"21,230"},{"v":22003,"d":"22,003"},{"v":22629,"d":"22,629"},{"v":22910,"d":"22,910"},{"v":22797,"d":"22,797"},{"v":23109,"d":"23,109"},{"v":23285,"d":"23,285"},{"v":22758,"d":"22,758"},{"v":22577,"d":"22,577"},{"v":22290,"d":"22,290"},{"v":21985,"d":"21,985"},{"v":21585,"d":"21,585"},{"v":22344,"d":"22,344"},{"v":22642,"d":"22,642"},{"v":21236,"d":"21,236"},{"v":21478,"d":"21,478"},{"v":21294,"d":"21,294"},{"v":21211,"d":"21,211"},{"v":21299,"d":"21,299"},{"v":21170,"d":"21,170"},{"v":21125,"d":"21,125"},{"v":20666,"d":"20,666"},{"v":20642,"d":"20,642"},{"v":20845,"d":"20,845"},{"v":20914,"d":"20,914"},{"v":20821,"d":"20,821"},{"$f":"AH39+AH30+AH23+AH16+AH36+AH19","v":{"v":20604,"d":"20,604"}},{"v":19234,"d":"19,234"},{"$f":"AJ39+AJ30+AJ23+AJ16+AJ36","v":{"v":19393,"d":"19,393"}},{"v":19421,"d":"19,421"},{"v":19421,"d":"19,421"}]

{"sheet":"Finland","index":86,"n_rows":42,"n_cols":43,"rows_kept":42,"merged":[[3,0,3,32]]}
["FEFAC SECRETARIAT GENERAL"]
[]
[{"$nulls":37},"2024/23"]
["INDUSTRIAL COMPOUND FEED PRODUCTION",{"$nulls":36},"Cattle","Pigs","Poultry","Milk replacers","Others","TOTAL"]
[{"$nulls":37},{"$f":"(($AK$16/$AJ$16)-1)*100","v":{"v":0,"d":"0.0"}},{"$f":"(($AK$23/$AJ$23)-1)*100","v":{"v":0,"d":"0.0"}},{"$f":"(($AK$30/$AJ$30)-1)*100","v":{"v":0,"d":"0.0"}},{"$f":"(($AK$36/$AJ$36)-1)*100","v":{"$error":"#DIV/0!"}},{"$f":"(($AK$39/$AJ$39)-1)*100","v":{"v":0,"d":"0.0"}},{"$f":"(($AK$42/$AJ$42)-1)*100","v":{"v":0,"d":"0.0"}}]
["TAB 3"]
[{"$nulls":37},"2023/22"]
["COUNTRY: FINLAND",{"$nulls":36},"Cattle","Pigs","Poultry","Milk replacers","Others","TOTAL"]
[{"$nulls":37},{"$f":"(($AJ$16/$AI$16)-1)*100","v":{"v":-1.0294117647058787,"d":"-1.0"}},{"$f":"(($AJ$23/$AI$23)-1)*100","v":{"v":-7.599999999999996,"d":"-7.6"}},{"$f":"(($AJ$30/$AI$30)-1)*100","v":{"v":0,"d":"0.0"}},{"$f":"(($AJ$36/$AI$36)-1)*100","v":{"$error":"#DIV/0!"}},{"$f":"(($AJ$39/$AI$39)-1)*100","v":{"v":0,"d":"0.0"}},{"$f":"(($AJ$42/$AI$42)-1)*100","v":{"v":-5.753424657534245,"d":"-5.8"}}]
[]
[]
["1 000 t",1989,1990,1991,1992,1993,1994,1995,1996,1997,1998,1999,2000,2001,2002,2003,2004,2005,2006,2007,2008,2009,2010,2011,2012,2013,2014,2015,2016,2017,2018,2019,2020,2021,2022,2023,2024,2025]
[null,"final figures","final figures","final figures","final figures","final figures","final figures","final figures","final figures","final figures","final figures","final figures","final figures","final figures","final figures","final figures","final figures","final figures","final figures","final figures","final figures","final figures","final figures","final figures","final figures","final figures","final figures","final figures","final figures","final figures","final figures","final figures","final figures","final figures","final figures","final figures","forecasts","forecasts"]
[]
[]
["Cattle",{"$nulls":3},451,399,460,{"$f":"H19+H20","v":507},472,471,533,{"$f":"L18+L19","v":627},651,652,664,654,669,704,671,641,620,590,616,{"$f":"X18+X19+X20","v":642},662,669,674,681,677,671,670,693,703,672,680,673,673,673]
["fattening",{"$nulls":3},":",":",":",":",":",":",":",":",":",":",":",":",{"$nulls":10},":",":",":",":",":",":"]
["dairy cow",{"$nulls":3},":",":",":",":",":",":",":",584,606,612,624,608,619,637,612,586,565,540,570,574,null,null,":",":",":",":",":",":"]
["calves (excl. milk replacers)",{"$nulls":3},":",":",":",41,37,37,39,43,45,40,40,46,50,67,59,55,55,50,46,45,null,null,":",":",":",":",":",":"]
["others",{"$nulls":3},":",":",":",466,435,434,494,":",":",":",":",":",{"$nulls":7},23,null,null,":",":",":",":",":",":"]
[]
[]
["Pigs",{"$nulls":3},311,293,294,{"$f":"H24+H25+H26+H27","v":324},322,323,311,303,293,293,318,349,346,359,360,368,375,340,342,318,309,293,275,279,262,246,238,222,246,246,250,231,231,231]
["piglets",{"$nulls":3},":",":",":",38,40,42,42,41,41,42,46,47,46,48,49,47,45,51,52,71,65,56,55,54,50,47,47,46,49,48]
["pigs for fattening",{"$nulls":3},":",":",":",208,200,195,188,182,173,170,184,189,185,197,198,203,205,182,182,148,148,131,110,120,113,97,89,89,77,78]
["breeding pigs",{"$nulls":3},":",":",":",31,31,33,32,30,31,34,37,52,53,60,59,59,60,51,50,53,51,62,59,55,53,56,54,50,52,51]
["others",{"$nulls":3},":",":",":",47,51,53,49,50,48,47,51,61,62,54,54,59,65,56,58,46,45,44,51,50,46,46,48,37,68,68]
[]
[]
["Poultry",{"$nulls":3},204,189,196,{"$f":"H31+H32+H33","v":213},222,221,238,251,248,278,295,307,306,297,293,307,315,285,291,296,317,324,330,347,351,364,383,385,390,418,420,420,420,420]
["broilers",{"$nulls":3},":",":",":",116,131,139,158,167,156,175,185,184,181,183,189,205,210,200,199,205,213,217,227,237,241,251,264,263,268,281]
["chicks & layers",{"$nulls":3},":",":",":",92,85,76,69,67,70,67,72,73,72,66,64,64,65,55,60,66,78,83,79,87,87,89,94,98,98,111]
["others",{"$nulls":3},":",":",":",5,6,6,11,17,22,36,38,50,53,48,40,38,40,30,32,25,26,24,24,23,23,24,25,24,24,26]
[]
[]
["Milk replacers",{"$nulls":3},":",":",":",":",":",":",":",0,0,0,0,0,0,0,0,0,0,0,0,0,0,0,0,0,0,0,0,0,0]
[]
[]
["Others",{"$nulls":3},116,81,109,128,145,141,145,103,103,97,91,88,93,92,93,89,75,60,101,94,109,105,113,125,115,120,120,126,110,110,110,110,110,110]
[]
[]
["TOTAL",{"$f":"B39+B30+B23+B16+B36","v":0},0,0,{"$f":"E39+E30+E23+E16","v":{"v":1082,"d":"1,082"}},962,{"v":1059,"d":"1,059"},{"v":1172,"d":"1,172"},{"v":1161,"d":"1,161"},{"v":1156,"d":"1,156"},{"v":1227,"d":"1,227"},{"$f":"L39+L30+L23+L16+L36","v":{"v":1284,"d":"1,284"}},{"v":1295,"d":"1,295"},{"v":1320,"d":"1,320"},{"v":1368,"d":"1,368"},{"v":1398,"d":"1,398"},{"v":1414,"d":"1,414"},{"v":1452,"d":"1,452"},{"v":1417,"d":"1,417"},{"v":1405,"d":"1,405"},{"v":1385,"d":"1,385"},{"v":1275,"d":"1,275"},{"v":1350,"d":"1,350"},{"v":1350,"d":"1,350"},{"v":1397,"d":"1,397"},{"v":1391,"d":"1,391"},{"v":1392,"d":"1,392"},{"v":1432,"d":"1,432"},{"v":1405,"d":"1,405"},{"v":1401,"d":"1,401"},{"v":1411,"d":"1,411"},{"v":1426,"d":"1,426"},{"v":1449,"d":"1,449"},{"v":1446,"d":"1,446"},{"$f":"AI39+AI30+AI23+AI16+AI36+AI19","v":{"v":1460,"d":"1,460"}},{"v":1376,"d":"1,376"},{"v":1376,"d":"1,376"},{"v":1376,"d":"1,376"}]

{"sheet":"Germany","index":87,"n_rows":42,"n_cols":43,"rows_kept":42,"merged":[[3,0,3,32]]}
["FEFAC SECRETARIAT GENERAL"]
[]
[{"$nulls":37},"2025/24"]
["INDUSTRIAL COMPOUND FEED PRODUCTION",{"$nulls":36},"Cattle","Pigs","Poultry","Milk replacers","Others","TOTAL"]
[{"$nulls":37},{"$f":"(($AL$16/$AK$16)-1)*100","v":{"v":1.2438530517790092,"d":"1.2"}},{"$f":"(($AL$23/$AK$23)-1)*100","v":{"v":-3.042055508423225,"d":"-3.0"}},{"$f":"(($AL$30/$AK$30)-1)*100","v":{"v":-0.5210800568451024,"d":"-0.5"}},{"$f":"(($AL$36/$AK$36)-1)*100","v":{"v":3.2258064516129004,"d":"3.2"}},{"$f":"(($AL$39/$AK$39)-1)*100","v":{"v":8.695652173913038,"d":"8.7"}},{"$f":"(($AL$42/$AK$42)-1)*100","v":{"v":-0.7175414052980722,"d":"-0.7"}}]
["TAB 3"]
[{"$nulls":37},"2024/23"]
["COUNTRY: GERMANY",{"$nulls":36},"Cattle","Pigs","Poultry","Milk replacers","Others","TOTAL"]
[{"$nulls":37},{"$f":"(($AK$16/$AJ$16)-1)*100","v":{"v":6.746950748803449,"d":"6.7"}},{"$f":"(($AK$23/$AJ$23)-1)*100","v":{"v":2.586099714037049,"d":"2.6"}},{"$f":"(($AK$30/$AJ$30)-1)*100","v":{"v":1.0370134014039634,"d":"1.0"}},{"$f":"(($AK$36/$AJ$36)-1)*100","v":{"v":3.3333333333333437,"d":"3.3"}},{"$f":"(($AK$39/$AJ$39)-1)*100","v":{"v":-9.964412811387902,"d":"-10.0"}},{"$f":"(($AK$42/$AJ$42)-1)*100","v":{"v":3.0651162790697573,"d":"3.1"}}]
[]
[]
["1 000 t",1989,1990,1991,1992,1993,1994,1995,1996,1997,1998,1999,2000,2001,2002,2003,2004,2005,2006,2007,2008,2009,2010,2011,2012,2013,null,2015,2016,2017,2018,2019,2020,2021,2022,2023,2024,2025]
[null,"final figures","final figures","final figures","final figures","final figures","final figures","final figures","final figures","final figures","final figures","final figures","final figures","final figures","final figures","final figures","final figures","final figures","final figures","final figures","final figures","final figures","final figures","final figures","final figures","final figures",null,"final figures","final figures","final figures","final figures","final figures","final figures","final figures","estimates","final figres","FINAL","forecast"]
[]
[]
["Cattle",{"v":6449,"d":"6,449"},{"$f":"C18+C17+C19","v":{"v":6269,"d":"6,269"}},{"v":7881,"d":"7,881"},{"v":7452,"d":"7,452"},{"$f":"F18+F20+F17+F19","v":{"v":7792,"d":"7,792"}},{"v":7919,"d":"7,919"},{"v":7736,"d":"7,736"},{"v":8108,"d":"8,108"},{"v":7517,"d":"7,517"},{"$f":"K17+K18+K19+K20","v":{"v":6996,"d":"6,996"}},{"v":6985,"d":"6,985"},{"v":7029,"d":"7,029"},{"v":6656,"d":"6,656"},{"v":6620,"d":"6,620"},{"v":6717,"d":"6,717"},{"v":6544,"d":"6,544"},{"v":5959,"d":"5,959"},{"v":5970,"d":"5,970"},{"v":6322,"d":"6,322"},{"v":6327,"d":"6,327"},{"v":5842,"d":"5,842"},{"v":6120,"d":"6,120"},{"v":6357,"d":"6,357"},{"v":6724,"d":"6,724"},{"v":6906,"d":"6,906"},null,{"v":6716,"d":"6,716"},{"$f":"7035+AC19","v":{"v":7327.575,"d":"7,328"}},{"$f":"6936.638+AD19","v":{"v":7238.285,"d":"7,238"}},{"$f":"7047.463+AE19","v":{"v":7352.085,"d":"7,352"}},{"$f":"7068.165+AF19","v":{"v":7377.921,"d":"7,378"}},{"$f":"6934.079+AG19","v":{"v":7251.241,"d":"7,251"}},{"v":7036.6945000000005,"d":"7,037"},{"v":6709.928282005179,"d":"6,710"},{"v":6477,"d":"6,477"},{"v":6914,"d":"6,914"},{"v":7000,"d":"7,000"}]
["fattening",":",422,887,842,656,592,609,566,511,605,662,675,604,650,620,610,519,521,442,326,321,331,338,355,343,null,":",":",":",":",":",":",":",":",":"]
["dairy cow",":",{"v":5630,"d":"5,630"},{"v":6693,"d":"6,693"},{"v":6357,"d":"6,357"},{"v":6252,"d":"6,252"},{"v":6381,"d":"6,381"},{"v":6478,"d":"6,478"},{"v":6563,"d":"6,563"},{"v":6040,"d":"6,040"},{"v":6000,"d":"6,000"},{"v":5582,"d":"5,582"},{"v":5534,"d":"5,534"},{"v":5526,"d":"5,526"},{"v":5454,"d":"5,454"},{"v":5592,"d":"5,592"},{"v":5437,"d":"5,437"},{"v":5132,"d":"5,132"},{"v":5173,"d":"5,173"},{"v":5690,"d":"5,690"},{"v":5821,"d":"5,821"},{"v":5356,"d":"5,356"},{"v":5627,"d":"5,627"},{"v":5855,"d":"5,855"},{"v":6206,"d":"6,206"},{"v":6398,"d":"6,398"},null,":",":",":",":",":",":",":",":",":"]
["calves (excl. milk replacers)",":",217,301,253,371,242,219,194,168,161,163,161,165,165,160,157,{"$nulls":10},":",{"v":292.575,"d":"293"},{"v":301.647,"d":"302"},{"v":304.622,"d":"305"},{"v":309.756,"d":"310"},{"v":317.162,"d":"317"},{"v":336.64,"d":"337"},{"v":321.81367212736984,"d":"322"},322,308]
["others",":",":",":",":",513,704,430,785,798,230,578,659,361,351,345,340,308,276,190,180,165,162,164,163,165,null,":",":",":",":",":",":",":",":",":"]
[]
[]
["Pigs",{"v":5434,"d":"5,434"},{"v":5465,"d":"5,465"},{"v":7476,"d":"7,476"},{"v":6737,"d":"6,737"},{"$f":"F24+F25+F26+F27","v":{"v":6945,"d":"6,945"}},{"v":6280,"d":"6,280"},{"v":5958,"d":"5,958"},{"v":6245,"d":"6,245"},{"v":6274,"d":"6,274"},{"v":6667,"d":"6,667"},{"v":6968,"d":"6,968"},{"v":7075,"d":"7,075"},{"v":7120,"d":"7,120"},{"v":7291,"d":"7,291"},{"v":7444,"d":"7,444"},{"v":7594,"d":"7,594"},{"v":7479,"d":"7,479"},{"v":8142,"d":"8,142"},{"v":8814,"d":"8,814"},{"v":9183,"d":"9,183"},{"v":8913,"d":"8,913"},{"v":9405,"d":"9,405"},{"v":9966,"d":"9,966"},{"v":9721,"d":"9,721"},{"v":9597,"d":"9,597"},null,{"v":9649,"d":"9,649"},{"v":9769.2,"d":"9,769"},{"v":9766.432,"d":"9,766"},{"v":9520.096,"d":"9,520"},{"v":9576.417,"d":"9,576"},{"v":9843.423,"d":"9,843"},{"v":9413.244,"d":"9,413"},{"v":8541.309382481388,"d":"8,541"},{"v":8043,"d":"8,043"},{"v":8251,"d":"8,251"},{"v":8000,"d":"8,000"}]
["piglets",":",":",":",":",{"v":1595,"d":"1,595"},{"v":1345,"d":"1,345"},{"v":1230,"d":"1,230"},{"v":1179,"d":"1,179"},{"v":1203,"d":"1,203"},{"v":1254,"d":"1,254"},{"v":1222,"d":"1,222"},{"v":1389,"d":"1,389"},{"v":1405,"d":"1,405"},{"v":1419,"d":"1,419"},{"v":1443,"d":"1,443"},{"v":1490,"d":"1,490"},{"v":1421,"d":"1,421"},{"v":1628,"d":"1,628"},{"v":1763,"d":"1,763"},{"v":1805,"d":"1,805"},{"v":1735,"d":"1,735"},{"v":1770,"d":"1,770"},{"v":1895,"d":"1,895"},{"v":1775,"d":"1,775"},{"v":1777,"d":"1,777"},null,":",":",":",":",":",":",":",":",":"]
["pigs for fattening",":",":",":",":",{"v":3179,"d":"3,179"},{"v":3230,"d":"3,230"},{"v":2765,"d":"2,765"},{"v":2994,"d":"2,994"},{"v":2951,"d":"2,951"},{"v":3207,"d":"3,207"},{"v":3745,"d":"3,745"},{"v":4128,"d":"4,128"},{"v":3910,"d":"3,910"},{"v":4044,"d":"4,044"},{"v":4161,"d":"4,161"},{"v":4245,"d":"4,245"},{"v":4263,"d":"4,263"},{"v":4885,"d":"4,885"},{"v":5288,"d":"5,288"},{"v":5643,"d":"5,643"},{"v":5510,"d":"5,510"},{"v":5927,"d":"5,927"},{"v":6301,"d":"6,301"},{"v":6306,"d":"6,306"},{"v":6208,"d":"6,208"},null,":",":",":",":",":",":",":",":",":"]
["breeding pigs",":",":",":",":",{"v":1266,"d":"1,266"},{"v":1092,"d":"1,092"},{"v":1070,"d":"1,070"},{"v":1134,"d":"1,134"},{"v":1110,"d":"1,110"},{"v":1180,"d":"1,180"},{"v":1149,"d":"1,149"},{"v":1057,"d":"1,057"},{"v":1195,"d":"1,195"},{"v":1208,"d":"1,208"},{"v":1205,"d":"1,205"},{"v":1229,"d":"1,229"},{"v":1369,"d":"1,369"},{"v":1222,"d":"1,222"},{"v":1322,"d":"1,322"},{"v":1290,"d":"1,290"},{"v":1230,"d":"1,230"},{"v":1267,"d":"1,267"},{"v":1340,"d":"1,340"},{"v":1215,"d":"1,215"},{"v":1195,"d":"1,195"},null,":",":",":",":",":",":",":",":",":"]
["others",":",":",":",":",905,613,893,938,{"v":1010,"d":"1,010"},{"v":1026,"d":"1,026"},852,501,610,620,635,630,426,407,441,445,438,441,430,425,417,null,":",":",":",":",":",":",":",":",":"]
[]
[]
["Poultry",{"v":3318,"d":"3,318"},{"$f":"C31+C32","v":{"v":3454,"d":"3,454"}},{"v":4195,"d":"4,195"},{"v":4156,"d":"4,156"},{"$f":"F31+F32+F33","v":{"v":4073,"d":"4,073"}},{"$f":"G31+G32","v":{"v":4080,"d":"4,080"}},{"$f":"H31+H32+H33","v":{"v":4002,"d":"4,002"}},{"$f":"I31+I32","v":{"v":4136,"d":"4,136"}},{"v":4255,"d":"4,255"},{"v":4389,"d":"4,389"},{"$f":"L31+L32+L33","v":{"v":4361,"d":"4,361"}},{"v":4791,"d":"4,791"},{"v":4995,"d":"4,995"},{"v":5068,"d":"5,068"},{"v":5075,"d":"5,075"},{"v":5209,"d":"5,209"},{"v":5235,"d":"5,235"},{"v":5265,"d":"5,265"},{"v":5272,"d":"5,272"},{"v":5442,"d":"5,442"},{"v":5227,"d":"5,227"},{"v":5581,"d":"5,581"},{"v":5820,"d":"5,820"},{"v":6110,"d":"6,110"},{"v":6094,"d":"6,094"},null,{"$f":"AB31+AB32","v":{"v":6535,"d":"6,535"}},{"v":6520.6,"d":"6,521"},{"v":6435.741,"d":"6,436"},{"v":6388.191,"d":"6,388"},{"v":6392.019,"d":"6,392"},{"v":6460.364,"d":"6,460"},{"v":6358.0105,"d":"6,358"},{"v":6191.814812358734,"d":"6,192"},{"v":6268,"d":"6,268"},{"v":6333,"d":"6,333"},{"v":6300,"d":"6,300"}]
["broilers",":",{"v":1347,"d":"1,347"},{"v":1665,"d":"1,665"},{"v":1773,"d":"1,773"},{"v":1750,"d":"1,750"},{"v":1785,"d":"1,785"},{"v":1525,"d":"1,525"},{"v":1898,"d":"1,898"},{"v":1924,"d":"1,924"},{"v":2069,"d":"2,069"},912,{"v":1208,"d":"1,208"},{"v":1341,"d":"1,341"},{"v":1549,"d":"1,549"},{"v":1600,"d":"1,600"},{"v":1719,"d":"1,719"},{"v":1683,"d":"1,683"},{"v":1690,"d":"1,690"},{"v":1708,"d":"1,708"},{"v":1909,"d":"1,909"},{"v":1976,"d":"1,976"},{"v":2176,"d":"2,176"},{"v":2392,"d":"2,392"},{"v":2623,"d":"2,623"},{"v":2675,"d":"2,675"},null,{"v":4176,"d":"4,176"},{"v":4178,"d":"4,178"},{"v":4109.552,"d":"4,110"},{"v":4149.07,"d":"4,149"},{"v":4151.566,"d":"4,152"},{"v":4152.237,"d":"4,152"},{"v":4024.487,"d":"4,024"},{"v":3922.648,"d":"3,923"},{"v":2280,"d":"2,280"},{"v":4016,"d":"4,016"},{"v":4000,"d":"4,000"}]
["chicks & layers",":",{"v":2107,"d":"2,107"},{"v":2530,"d":"2,530"},{"v":2383,"d":"2,383"},{"v":1912,"d":"1,912"},{"v":2295,"d":"2,295"},{"v":2194,"d":"2,194"},{"v":2238,"d":"2,238"},{"v":2331,"d":"2,331"},{"v":2320,"d":"2,320"},{"v":2264,"d":"2,264"},{"v":2356,"d":"2,356"},{"v":2424,"d":"2,424"},{"v":2319,"d":"2,319"},{"v":2265,"d":"2,265"},{"v":2244,"d":"2,244"},{"v":2176,"d":"2,176"},{"v":2196,"d":"2,196"},{"v":2166,"d":"2,166"},{"v":2093,"d":"2,093"},{"v":1954,"d":"1,954"},{"v":2043,"d":"2,043"},{"v":2060,"d":"2,060"},{"v":2099,"d":"2,099"},{"v":2052,"d":"2,052"},null,{"v":2359,"d":"2,359"},{"v":2342.6,"d":"2,343"},{"v":2326.189,"d":"2,326"},{"v":2239.121,"d":"2,239"},{"v":2240.453,"d":"2,240"},{"v":2308.127,"d":"2,308"},{"v":2333.5235,"d":"2,334"},{"v":2269.1668123587338,"d":"2,269"},{"v":3988,"d":"3,988"},{"v":2317,"d":"2,317"},{"v":2300,"d":"2,300"}]
["others",":",":",":",":",411,":",283,":",":",":",{"v":1185,"d":"1,185"},{"v":1227,"d":"1,227"},{"v":1230,"d":"1,230"},{"v":1200,"d":"1,200"},{"v":1210,"d":"1,210"},{"v":1246,"d":"1,246"},{"v":1376,"d":"1,376"},{"v":1379,"d":"1,379"},{"v":1398,"d":"1,398"},{"v":1440,"d":"1,440"},{"v":1297,"d":"1,297"},{"v":1362,"d":"1,362"},{"v":1368,"d":"1,368"},{"v":1388,"d":"1,388"},{"v":1367,"d":"1,367"},null,":",":",":",":",":",":",":",":",":",":"]
[]
[]
["Milk replacers",230,229,269,256,266,256,250,246,201,183,182,190,174,167,167,159,141,142,140,143,145,150,152,150,155,null,155,159,145,155,150,150,150,160,150,155,160]
[]
[]
["Others",514,511,562,537,567,582,929,599,551,541,545,551,529,549,606,633,635,785,762,730,748,763,724,732,727,null,734,636,{"v":642.683,"d":"643"},{"v":613.988,"d":"614"},{"v":615.0329999999994,"d":"615"},{"v":608.28,"d":"608"},{"v":613.0295,"d":"613"},{"v":600.6789956488391,"d":"601"},562,506,550]
[]
[]
["TOTAL",{"$f":"B39+B30+B23+B16+B36","v":{"v":15945,"d":"15,945"}},{"v":15928,"d":"15,928"},{"v":20383,"d":"20,383"},{"v":19138,"d":"19,138"},{"v":19643,"d":"19,643"},{"v":19117,"d":"19,117"},{"v":18875,"d":"18,875"},{"v":19334,"d":"19,334"},{"v":18798,"d":"18,798"},{"v":18776,"d":"18,776"},{"v":19041,"d":"19,041"},{"v":19636,"d":"19,636"},{"v":19474,"d":"19,474"},{"v":19695,"d":"19,695"},{"v":20009,"d":"20,009"},{"v":20139,"d":"20,139"},{"v":19449,"d":"19,449"},{"v":20304,"d":"20,304"},{"v":21310,"d":"21,310"},{"v":21825,"d":"21,825"},{"v":20875,"d":"20,875"},{"v":22019,"d":"22,019"},{"v":23019,"d":"23,019"},{"v":23437,"d":"23,437"},{"v":23479,"d":"23,479"},null,{"v":23789,"d":"23,789"},{"v":24412.375000000004,"d":"24,412"},{"v":24228.141,"d":"24,228"},{"v":24029.36,"d":"24,029"},{"v":24111.39,"d":"24,111"},{"v":24313.307999999997,"d":"24,313"},{"v":23570.9785,"d":"23,571"},{"v":22203.73147249414,"d":"22,204"},{"$f":"SUM(AJ39,AJ36,AJ30,AJ23,AJ16)","v":{"v":21500,"d":"21,500"}},{"$f":"AK16+AK23+AK30+AK36+AK39","v":{"v":22159,"d":"22,159"}},{"v":22000,"d":"22,000"}]

{"sheet":"Hungary","index":88,"n_rows":42,"n_cols":43,"rows_kept":42,"merged":[[3,0,3,32],[13,27,13,30]]}
["FEFAC SECRETARIAT GENERAL"]
[]
[{"$nulls":37},"2025/24"]
["INDUSTRIAL COMPOUND FEED PRODUCTION",{"$nulls":36},"Cattle","Pigs","Poultry","Milk replacers","Others","TOTAL"]
[{"$nulls":37},{"$f":"(($AL$16/$AK$16)-1)*100","v":{"v":-8.893709327548805,"d":"-8.9"}},{"$f":"(($AL$23/$AK$23)-1)*100","v":{"v":-6.382978723404253,"d":"-6.4"}},{"$f":"(($AL$30/$AK$30)-1)*100","v":{"v":-2.777777777777779,"d":"-2.8"}},{"$f":"(($AK$36/$AJ$36)-1)*100","v":{"$error":"#DIV/0!"}},{"$f":"(($AL$39/$AK$39)-1)*100","v":{"v":0,"d":"0.0"}},{"$f":"(($AL$42/$AK$42)-1)*100","v":{"v":-4.668166479190106,"d":"-4.7"}}]
["TAB 3"]
[{"$nulls":37},"2024/23"]
["COUNTRY: HUNGARY",{"$nulls":36},"Cattle","Pigs","Poultry","Milk replacers","Others","TOTAL"]
[{"$nulls":37},{"$f":"(($AK$16/$AJ$16)-1)*100","v":{"v":0,"d":"0.0"}},{"$f":"(($AK$23/$AJ$23)-1)*100","v":{"v":-6.8592790353316335,"d":"-6.9"}},{"$f":"(($AK$30/$AJ$30)-1)*100","v":{"v":-1.1160156346566419,"d":"-1.1"}},{"$f":"(($AJ$36/$AI$36)-1)*100","v":{"$error":"#DIV/0!"}},{"$f":"(($AK$39/$AJ$39)-1)*100","v":{"v":12.628466844995078,"d":"12.6"}},{"$f":"(($AK$42/$AJ$42)-1)*100","v":{"v":-2.559111216334109,"d":"-2.6"}}]
[]
[]
["1 000 t",1989,1990,1991,1992,1993,1994,1995,1996,1997,1998,1999,2000,2001,2002,2003,2004,2005,2006,2007,2008,2009,2010,2011,2012,2013,2014,2015,2016,2017,2018,2019,2020,2021,2022,2023,2024,2025]
[null,"final figures","final figures","final figures","final figures","final figures","final figures","final figures","final figures","final figures","final figures","final figures","final figures","final figures","final figures","final figures","final figures","final figures","final figures","final figures","final figures","final figures","final figures","final figures","final figures","final figures","final figures"," final figures"," final figures"," final figures","final figures","final figures","final figures","final figures","final figures","final figures","forecasts","forecasts"]
[]
[]
["Cattle",{"$nulls":8},583,592,560,598,616,641,686,575,558,552,540,535,530,505,530,530,570,600,312,378,350,377,380,428,433,403,461,461,420]
["fattening",{"$nulls":13},":",":",":",":",":",{"$nulls":8},":",":",":",":"]
["dairy cow",{"$nulls":13},":",":",":",":",":",{"$nulls":8},":",":",":",":"]
["calves (excl. milk replacers)",{"$nulls":13},":",":",":",":",":",{"$nulls":8},":",":",":",":"]
["others",{"$nulls":13},":",":",":",":",":",{"$nulls":8},":",":",":",":"]
[]
[]
["Pigs",{"$nulls":8},{"v":2355,"d":"2,355"},{"v":2977,"d":"2,977"},{"v":3050,"d":"3,050"},{"v":2598,"d":"2,598"},{"v":2660,"d":"2,660"},{"v":2613,"d":"2,613"},{"v":2275,"d":"2,275"},{"v":2090,"d":"2,090"},{"v":1980,"d":"1,980"},{"v":2039,"d":"2,039"},{"v":1780,"d":"1,780"},{"v":1690,"d":"1,690"},{"v":1580,"d":"1,580"},{"v":1490,"d":"1,490"},{"v":1410,"d":"1,410"},{"v":1380,"d":"1,380"},{"v":1350,"d":"1,350"},{"v":1350,"d":"1,350"},{"v":1204,"d":"1,204"},{"v":1259,"d":"1,259"},{"v":1255,"d":"1,255"},{"v":1319,"d":"1,319"},{"v":1342,"d":"1,342"},{"v":1399,"d":"1,399"},{"v":1382,"d":"1,382"},{"v":1321,"d":"1,321"},{"v":1261.532,"d":"1,262"},{"v":1175,"d":"1,175"},{"v":1100,"d":"1,100"}]
["piglets",{"$nulls":13},":",":",":",":",":",{"$nulls":8},":",":",":",":"]
["pigs for fattening",{"$nulls":13},":",":",":",":",":",{"$nulls":8},":",":",":",":"]
["breeding pigs",{"$nulls":13},":",":",":",":",":",{"$nulls":8},":",":",":",":"]
["others",{"$nulls":13},":",":",":",":",":",{"$nulls":8},":",":",":",":"]
[]
[]
["Poultry",{"$nulls":8},{"v":1916,"d":"1,916"},{"v":2147,"d":"2,147"},{"v":1860,"d":"1,860"},{"v":1943,"d":"1,943"},{"v":2098,"d":"2,098"},{"v":2142,"d":"2,142"},{"v":1980,"d":"1,980"},{"v":1906,"d":"1,906"},{"v":1771,"d":"1,771"},{"v":1683,"d":"1,683"},{"v":1650,"d":"1,650"},{"v":1720,"d":"1,720"},{"v":1755,"d":"1,755"},{"v":1680,"d":"1,680"},{"v":1660,"d":"1,660"},{"v":1640,"d":"1,640"},{"v":1520,"d":"1,520"},{"v":1600,"d":"1,600"},{"v":1681,"d":"1,681"},{"v":1902,"d":"1,902"},{"v":1793,"d":"1,793"},{"v":1944,"d":"1,944"},{"v":1913,"d":"1,913"},{"v":1868,"d":"1,868"},{"v":1997,"d":"1,997"},{"v":1786,"d":"1,786"},{"v":1820.315,"d":"1,820"},{"v":1800,"d":"1,800"},{"v":1750,"d":"1,750"}]
["broilers",{"$nulls":13},":",":",":",":",":",{"$nulls":8},":",":",":",":",806,847,936,887,{"v":857.473,"d":"857"}]
["chicks & layers",{"$nulls":13},":",":",":",":",":",{"$nulls":8},":",":",":",":",323,334,359,351,{"v":368.805,"d":"369"}]
["others",{"$nulls":13},":",":",":",":",":",{"$nulls":8},":",":",":",":",785,686,702,549,{"v":594.037,"d":"594"}]
[]
[]
["Milk replacers",{"$nulls":8},0,0,0,0,0,0,0,0,0,0,0,0,0,0,0,0,0,0,0,0,0,0,0,0,0,0,0]
[]
[]
["Others",{"$nulls":8},141,134,107,149,190,214,182,188,191,182,180,180,205,195,180,170,160,160,122,127,128,142,143,130,144,127,{"v":106.545,"d":"107"},120,120]
[]
[]
["TOTAL",{"$f":"B39+B30+B23+B16+B36","v":0},0,0,0,0,0,0,0,{"v":4995,"d":"4,995"},{"v":5850,"d":"5,850"},{"v":5577,"d":"5,577"},{"v":5288,"d":"5,288"},{"v":5564,"d":"5,564"},{"v":5610,"d":"5,610"},{"v":5123,"d":"5,123"},{"v":4759,"d":"4,759"},{"v":4500,"d":"4,500"},{"v":4456,"d":"4,456"},{"v":4150,"d":"4,150"},{"v":4125,"d":"4,125"},{"v":4070,"d":"4,070"},{"$f":"W39+W30+W23+W16","v":{"v":3870,"d":"3,870"}},{"v":3780,"d":"3,780"},{"v":3720,"d":"3,720"},{"$f":"Z39+Z30+Z23+Z16+Z36","v":{"v":3600,"d":"3,600"}},{"v":3710,"d":"3,710"},{"v":3319,"d":"3,319"},{"$f":"AC39+AC30+AC23+AC16+AC36","v":{"v":3666,"d":"3,666"}},{"v":3526,"d":"3,526"},{"v":3782,"d":"3,782"},{"v":3778,"d":"3,778"},{"v":3825,"d":"3,825"},{"v":3956,"d":"3,956"},{"v":3637,"d":"3,637"},{"$f":"AJ39+AJ30+AJ23+AJ16+AJ36","v":{"v":3649.392,"d":"3,649"}},{"$f":"AK39+AK30+AK23+AK16+AK36","v":{"v":3556,"d":"3,556"}},{"v":3390,"d":"3,390"}]

{"sheet":"Italy","index":89,"n_rows":42,"n_cols":43,"rows_kept":42,"merged":[[3,0,3,32]]}
["FEFAC SECRETARIAT GENERAL"]
[]
[{"$nulls":37},"2025/24"]
["INDUSTRIAL COMPOUND FEED PRODUCTION",{"$nulls":36},"Cattle","Pigs","Poultry","Milk replacers","Others","TOTAL"]
[{"$nulls":37},{"$f":"(($AL$16/$AK$16)-1)*100","v":{"v":0,"d":"0.0"}},{"$f":"(($AL$23/$AK$23)-1)*100","v":{"v":0,"d":"0.0"}},{"$f":"(($AL$30/$AK$30)-1)*100","v":{"v":0,"d":"0.0"}},{"$f":"(($AL$36/$AK$36)-1)*100","v":{"$error":"#DIV/0!"}},{"$f":"(($AL$39/$AK$39)-1)*100","v":{"v":0,"d":"0.0"}},{"$f":"(($AL$42/$AK$42)-1)*100","v":{"v":0,"d":"0.0"}}]
["TAB 3"]
[{"$nulls":37},"2024/23"]
["COUNTRY: ITALY",{"$nulls":36},"Cattle","Pigs","Poultry","Milk replacers","Others","TOTAL"]
[{"$nulls":37},{"$f":"(($AK$16/$AJ$16)-1)*100","v":{"v":0.7772715089788163,"d":"0.8"}},{"$f":"(($AK$23/$AJ$23)-1)*100","v":{"v":-0.7575757575757569,"d":"-0.8"}},{"$f":"(($AK$30/$AJ$30)-1)*100","v":{"v":-0.7658465048069107,"d":"-0.8"}},{"$f":"(($AK$36/$AJ$36)-1)*100","v":{"v":-100,"d":"-100.0"}},{"$f":"(($AK$39/$AJ$39)-1)*100","v":{"v":13.599182004089982,"d":"13.6"}},{"$f":"(($AK$42/$AJ$42)-1)*100","v":{"v":-0.04698617264062843,"d":"-0.0"}}]
[]
[]
["1 000 t",1989,1990,1991,1992,1993,1994,1995,1996,1997,1998,1999,2000,2001,2002,2003,2004,2005,2006,2007,2008,2009,2010,2011,2012,2013,2014,2015,2016,2017,2018,2019,2020,2021,2022,2023,2024,2025]
[null,"final figures","final figures","final figures","final figures","final figures","final figures","final figures","final figures","final figures","final figures","final figures","final figures","final figures","final figures","final figures","final figures","final figures","final figures","final figures","final figures","final figures","final figures","final figures","final figures","final figures","final figures","final figures","final figures","final figures","final figures","final figures","final figures","final figures","final figures","final figures","final?","forecast"]
[]
[]
["Cattle",{"v":4262,"d":"4,262"},{"$f":"C17+C18+C19","v":{"v":4292,"d":"4,292"}},{"v":4332,"d":"4,332"},{"v":4119,"d":"4,119"},{"v":3791,"d":"3,791"},{"v":3657,"d":"3,657"},{"v":3802,"d":"3,802"},{"v":3784,"d":"3,784"},{"v":3503,"d":"3,503"},{"v":3420,"d":"3,420"},{"v":3665,"d":"3,665"},{"v":3680,"d":"3,680"},{"v":3651,"d":"3,651"},{"v":3861,"d":"3,861"},{"v":3919,"d":"3,919"},{"v":4306,"d":"4,306"},{"v":4100,"d":"4,100"},{"v":4155,"d":"4,155"},{"v":4045,"d":"4,045"},{"v":3897,"d":"3,897"},{"v":3640,"d":"3,640"},{"$f":"W17+W18+W20","v":{"v":3528,"d":"3,528"}},{"v":3610,"d":"3,610"},{"v":3420,"d":"3,420"},{"v":3410,"d":"3,410"},{"v":3293,"d":"3,293"},{"v":3172,"d":"3,172"},{"v":3136,"d":"3,136"},{"v":3150,"d":"3,150"},{"v":3314,"d":"3,314"},{"v":3377,"d":"3,377"},{"v":3525,"d":"3,525"},{"v":3659,"d":"3,659"},{"v":3705,"d":"3,705"},{"v":3731,"d":"3,731"},{"v":3760,"d":"3,760"},{"v":3760,"d":"3,760"}]
["fattening",":",{"v":1194,"d":"1,194"},{"v":1274,"d":"1,274"},{"v":1203,"d":"1,203"},{"v":1151,"d":"1,151"},{"v":1072,"d":"1,072"},{"v":1099,"d":"1,099"},{"v":1042,"d":"1,042"},{"v":1018,"d":"1,018"},865,914,950,859,917,933,":",":",":",{"$nulls":3},843,825,735,718,716,721,651,":",":",null,761,788,798,770,725,725]
["dairy cow",":",{"v":2799,"d":"2,799"},{"v":2780,"d":"2,780"},{"v":2666,"d":"2,666"},{"v":2434,"d":"2,434"},{"v":2385,"d":"2,385"},{"v":2508,"d":"2,508"},{"v":2549,"d":"2,549"},{"v":2307,"d":"2,307"},{"v":2417,"d":"2,417"},{"v":2608,"d":"2,608"},{"v":2603,"d":"2,603"},{"v":2656,"d":"2,656"},{"v":2797,"d":"2,797"},{"v":2838,"d":"2,838"},":",":",":",{"$nulls":3},{"v":2600,"d":"2,600"},{"v":2690,"d":"2,690"},{"v":2580,"d":"2,580"},{"v":2587,"d":"2,587"},{"v":2473,"d":"2,473"},{"v":2349,"d":"2,349"},{"v":2365,"d":"2,365"},":",":",null,{"v":2435,"d":"2,435"},{"v":2640,"d":"2,640"},{"v":2671,"d":"2,671"},{"v":2721,"d":"2,721"},{"v":2805,"d":"2,805"},{"v":2805,"d":"2,805"}]
["calves (excl. milk replacers)",":",299,278,250,206,200,195,193,178,138,143,127,136,147,148,":",":",":",{"$nulls":8},":",":",":",":",null,90,95,98,95,90,90]
["others",":",":",":",":",":",":",":",":",":",":",":",":",":",":",":",":",":",":",{"$nulls":3},85,95,105,105,104,102,120,":",":",null,134,136,138,145,140,140]
[]
[]
["Pigs",{"v":2427,"d":"2,427"},{"v":2507,"d":"2,507"},{"v":2429,"d":"2,429"},{"v":2446,"d":"2,446"},{"v":2680,"d":"2,680"},{"v":2464,"d":"2,464"},{"v":2442,"d":"2,442"},{"v":2414,"d":"2,414"},{"v":2394,"d":"2,394"},{"v":2491,"d":"2,491"},{"v":2578,"d":"2,578"},{"v":2470,"d":"2,470"},{"v":2718,"d":"2,718"},{"v":2709,"d":"2,709"},{"v":2757,"d":"2,757"},{"v":2932,"d":"2,932"},{"v":2900,"d":"2,900"},{"v":2980,"d":"2,980"},{"v":3209,"d":"3,209"},{"v":3255,"d":"3,255"},{"v":3187,"d":"3,187"},{"v":3253,"d":"3,253"},{"v":3470,"d":"3,470"},{"v":3310,"d":"3,310"},{"v":3335,"d":"3,335"},{"v":3255,"d":"3,255"},{"v":3558,"d":"3,558"},{"v":3598,"d":"3,598"},{"v":3605,"d":"3,605"},{"v":3731,"d":"3,731"},{"v":3745,"d":"3,745"},{"v":3977,"d":"3,977"},{"v":4101,"d":"4,101"},{"v":4043,"d":"4,043"},{"v":3960,"d":"3,960"},{"v":3930,"d":"3,930"},{"v":3930,"d":"3,930"}]
["piglets",":",":",":",":",":",":",":",":",":",":",":",":",":",":",":",":",":",":",{"$nulls":8},":",":",":",":"]
["pigs for fattening",":",":",":",":",":",":",":",":",":",":",":",":",":",":",":",":",":",":",{"$nulls":8},":",":",":",":"]
["breeding pigs",":",":",":",":",":",":",":",":",":",":",":",":",":",":",":",":",":",":",{"$nulls":8},":",":",":",":"]
["others",":",":",":",":",":",":",":",":",":",":",":",":",":",":",":",":",":",":",{"$nulls":8},":",":",":",":"]
[]
[]
["Poultry",{"v":4236,"d":"4,236"},{"$f":"C31+C32+C33","v":{"v":4355,"d":"4,355"}},{"v":4513,"d":"4,513"},{"v":4306,"d":"4,306"},{"v":4219,"d":"4,219"},{"v":4239,"d":"4,239"},{"v":4258,"d":"4,258"},{"v":4272,"d":"4,272"},{"v":4271,"d":"4,271"},{"v":4396,"d":"4,396"},{"v":4458,"d":"4,458"},{"v":3966,"d":"3,966"},{"v":4253,"d":"4,253"},{"v":5176,"d":"5,176"},{"v":5043,"d":"5,043"},{"v":5394,"d":"5,394"},{"v":5350,"d":"5,350"},{"v":4991,"d":"4,991"},{"v":5213,"d":"5,213"},{"v":5363,"d":"5,363"},{"v":5452,"d":"5,452"},{"$f":"W31+W32+W33","v":{"v":5718,"d":"5,718"}},{"v":5690,"d":"5,690"},{"v":5700,"d":"5,700"},{"v":5695,"d":"5,695"},{"v":5936,"d":"5,936"},{"v":5741,"d":"5,741"},{"v":5887,"d":"5,887"},{"v":5915,"d":"5,915"},{"v":5870,"d":"5,870"},{"v":5975,"d":"5,975"},{"v":6070,"d":"6,070"},{"v":6372,"d":"6,372"},{"v":5705,"d":"5,705"},{"v":6137,"d":"6,137"},{"v":6090,"d":"6,090"},{"v":6090,"d":"6,090"}]
["broilers",":",{"v":2187,"d":"2,187"},{"v":2328,"d":"2,328"},{"v":2231,"d":"2,231"},{"v":2092,"d":"2,092"},{"v":2056,"d":"2,056"},{"v":2085,"d":"2,085"},{"v":2090,"d":"2,090"},{"v":2074,"d":"2,074"},{"v":2013,"d":"2,013"},{"v":2029,"d":"2,029"},{"v":1835,"d":"1,835"},{"v":1926,"d":"1,926"},{"v":2444,"d":"2,444"},{"v":2366,"d":"2,366"},":",":",":",{"$nulls":3},{"v":2690,"d":"2,690"},{"v":2730,"d":"2,730"},{"v":2855,"d":"2,855"},{"v":2972,"d":"2,972"},{"v":3114,"d":"3,114"},{"v":2845,"d":"2,845"},{"v":2920,"d":"2,920"},":",":",null,{"v":3017,"d":"3,017"},{"v":3213,"d":"3,213"},{"v":2972,"d":"2,972"},{"v":3116,"d":"3,116"},{"v":3147,"d":"3,147"},{"v":3147,"d":"3,147"}]
["chicks & layers",":",{"v":1229,"d":"1,229"},{"v":1205,"d":"1,205"},{"v":1131,"d":"1,131"},{"v":1091,"d":"1,091"},{"v":1098,"d":"1,098"},{"v":1060,"d":"1,060"},{"v":1075,"d":"1,075"},{"v":1144,"d":"1,144"},{"v":1124,"d":"1,124"},{"v":1246,"d":"1,246"},{"v":1168,"d":"1,168"},{"v":1283,"d":"1,283"},{"v":1461,"d":"1,461"},{"v":1480,"d":"1,480"},":",":",":",{"$nulls":3},{"v":1830,"d":"1,830"},{"v":1868,"d":"1,868"},{"v":1710,"d":"1,710"},{"v":1615,"d":"1,615"},{"v":1750,"d":"1,750"},{"v":1914,"d":"1,914"},{"v":1929,"d":"1,929"},":",":",null,{"v":2051,"d":"2,051"},{"v":2187,"d":"2,187"},{"v":1979,"d":"1,979"},{"v":2073,"d":"2,073"},{"v":2040,"d":"2,040"},{"v":2040,"d":"2,040"}]
["others",":",939,980,944,{"v":1036,"d":"1,036"},{"v":1085,"d":"1,085"},{"v":1113,"d":"1,113"},{"v":1107,"d":"1,107"},{"v":1053,"d":"1,053"},{"v":1259,"d":"1,259"},{"v":1183,"d":"1,183"},963,{"v":1044,"d":"1,044"},{"v":1271,"d":"1,271"},{"v":1197,"d":"1,197"},":",":",":",{"$nulls":3},{"v":1198,"d":"1,198"},{"v":1092,"d":"1,092"},{"v":1135,"d":"1,135"},{"v":1108,"d":"1,108"},{"v":1072,"d":"1,072"},982,{"v":1038,"d":"1,038"},":",":",null,{"v":1002,"d":"1,002"},972,754,948,903,903]
[]
[]
["Milk replacers",283,250,258,229,213,196,187,175,169,204,196,200,175,186,172,175,175,170,177,160,155,155,145,135,110,109,105,100,100,85,90,90,92,92,92]
[]
[]
["Others",852,948,{"v":1022,"d":"1,022"},{"v":1080,"d":"1,080"},{"v":1035,"d":"1,035"},{"v":1035,"d":"1,035"},{"v":1090,"d":"1,090"},{"v":1030,"d":"1,030"},{"v":1022,"d":"1,022"},{"v":1090,"d":"1,090"},{"v":1161,"d":"1,161"},{"v":1206,"d":"1,206"},{"v":1080,"d":"1,080"},{"v":1214,"d":"1,214"},{"v":1314,"d":"1,314"},975,975,894,909,{"v":1060,"d":"1,060"},811,979,988,937,882,896,880,910,920,985,978,982,970,974,978,{"v":1111,"d":"1,111"},{"v":1111,"d":"1,111"}]
[]
[]
["TOTAL",{"$f":"B39+B30+B23+B16+B36","v":{"v":12060,"d":"12,060"}},{"v":12352,"d":"12,352"},{"v":12554,"d":"12,554"},{"v":12180,"d":"12,180"},{"v":11938,"d":"11,938"},{"v":11591,"d":"11,591"},{"v":11779,"d":"11,779"},{"v":11675,"d":"11,675"},{"v":11359,"d":"11,359"},{"v":11601,"d":"11,601"},{"v":12058,"d":"12,058"},{"v":11522,"d":"11,522"},{"v":11877,"d":"11,877"},{"v":13146,"d":"13,146"},{"v":13205,"d":"13,205"},{"v":13782,"d":"13,782"},{"v":13500,"d":"13,500"},{"v":13190,"d":"13,190"},{"v":13553,"d":"13,553"},{"v":13735,"d":"13,735"},{"v":13245,"d":"13,245"},{"v":13633,"d":"13,633"},{"v":13903,"d":"13,903"},{"v":13502,"d":"13,502"},{"v":13432,"d":"13,432"},{"v":13489,"d":"13,489"},{"v":13456,"d":"13,456"},{"v":13631,"d":"13,631"},{"v":13690,"d":"13,690"},{"v":13985,"d":"13,985"},{"v":14165,"d":"14,165"},{"v":14644,"d":"14,644"},{"v":15194,"d":"15,194"},{"v":14519,"d":"14,519"},{"v":14898,"d":"14,898"},{"v":14891,"d":"14,891"},{"v":14891,"d":"14,891"}]

{"sheet":"Ireland","index":90,"n_rows":42,"n_cols":43,"rows_kept":42,"merged":[[3,0,3,32]]}
["FEFAC SECRETARIAT GENERAL"]
[]
[{"$nulls":37},"2025/24"]
["INDUSTRIAL COMPOUND FEED PRODUCTION",{"$nulls":36},"Cattle","Pigs","Poultry","Milk replacers","Others","TOTAL"]
[{"$nulls":37},{"$f":"(($AL$16/$AK$16)-1)*100","v":{"v":-5.147439213657523,"d":"-5.1"}},{"$f":"(($AL$23/$AK$23)-1)*100","v":{"v":2.0408163265306145,"d":"2.0"}},{"$f":"(($AL$30/$AK$30)-1)*100","v":{"v":0,"d":"0.0"}},{"$f":"(($AK$36/$AJ$36)-1)*100","v":{"$error":"#DIV/0!"}},{"$f":"(($AL$39/$AK$39)-1)*100","v":{"v":-4.01785714285714,"d":"-4.0"}},{"$f":"(($AL$42/$AK$42)-1)*100","v":{"v":-3.5707779194753098,"d":"-3.6"}}]
["TAB 3"]
[{"$nulls":37},"2024/23"]
["COUNTRY: IRELAND",{"$nulls":36},"Cattle","Pigs","Poultry","Milk replacers","Others","TOTAL"]
[{"$nulls":37},{"$f":"(($AK$16/$AJ$16)-1)*100","v":{"v":11.540680900173106,"d":"11.5"}},{"$f":"(($AK$23/$AJ$23)-1)*100","v":{"v":3.469079939668185,"d":"3.5"}},{"$f":"(($AK$30/$AJ$30)-1)*100","v":{"v":3.04347826086957,"d":"3.0"}},{"$f":"(($AJ$36/$AI$36)-1)*100","v":{"$error":"#DIV/0!"}},{"$f":"(($AK$39/$AJ$39)-1)*100","v":{"v":7.177033492822971,"d":"7.2"}},{"$f":"(($AK$42/$AJ$42)-1)*100","v":{"v":9.168655529037384,"d":"9.2"}}]
[]
[]
["1 000 t",1989,1990,1991,1992,1993,1994,1995,1996,1997,1998,1999,2000,2001,2002,2003,2004,2005,2006,2007,2008,2009,2010,2011,2012,2013,2014,2015,2016,2017,2018,2019,2020,2021,2022,2023,2024,2025]
[null,"final figures","final figures","final figures","final figures","final figures","final figures","final figures","final figures","final figures","final figures","final figures","final figures","final figures","final figures","final figures","final figures","final figures","final figures","final figures","final figures","final figures","final figures","final figures","final figures","final figures","final figures","final figures","final figures","final figures","final figures","final figures","final figures","final figures","final figures","final figures","final figures","forecasts"]
[]
[]
["Cattle",{"v":1421,"d":"1,421"},{"$f":"C18+C20+C19","v":{"v":1319,"d":"1,319"}},{"v":1376,"d":"1,376"},{"$f":"E18+E20+E17+E19","v":{"v":1455,"d":"1,455"}},{"v":1676,"d":"1,676"},{"v":1972,"d":"1,972"},{"v":1954,"d":"1,954"},{"v":1714,"d":"1,714"},{"v":1452,"d":"1,452"},{"$f":"K17+K18+K19+K20","v":{"v":1824,"d":"1,824"}},{"v":2155,"d":"2,155"},{"v":1926,"d":"1,926"},{"v":1963,"d":"1,963"},{"v":2144,"d":"2,144"},{"v":2101,"d":"2,101"},{"v":1965,"d":"1,965"},{"v":1982,"d":"1,982"},{"v":2315,"d":"2,315"},{"v":2062,"d":"2,062"},{"v":2163,"d":"2,163"},{"v":2131,"d":"2,131"},{"$f":"W17+W18+W19+W20","v":{"v":2305,"d":"2,305"}},{"v":2102,"d":"2,102"},{"v":2555,"d":"2,555"},{"v":2746,"d":"2,746"},{"v":2327,"d":"2,327"},{"v":2544,"d":"2,544"},{"v":2573,"d":"2,573"},{"v":2919,"d":"2,919"},{"v":3807,"d":"3,807"},{"v":3116,"d":"3,116"},{"v":3120,"d":"3,120"},{"v":3350,"d":"3,350"},{"v":3515,"d":"3,515"},{"v":3466,"d":"3,466"},{"v":3866,"d":"3,866"},{"v":3667,"d":"3,667"}]
["fattening",":",":",":",480,592,740,804,695,607,797,{"v":1056,"d":"1,056"},902,854,949,949,923,933,{"$nulls":4},{"v":1202,"d":"1,202"},890,{"v":1232,"d":"1,232"},{"v":1150,"d":"1,150"},{"v":1113,"d":"1,113"},{"v":1093,"d":"1,093"},{"v":1124,"d":"1,124"},{"v":1278,"d":"1,278"},{"v":1576,"d":"1,576"},{"v":1160,"d":"1,160"},{"v":1080,"d":"1,080"},{"v":1088,"d":"1,088"},{"v":1093,"d":"1,093"},{"v":1104,"d":"1,104"},{"v":1240,"d":"1,240"},{"v":1172,"d":"1,172"}]
["dairy cow",":",801,775,787,890,{"v":1019,"d":"1,019"},937,811,657,821,882,823,885,948,887,792,797,{"$nulls":4},939,{"v":1047,"d":"1,047"},{"v":1044,"d":"1,044"},{"v":1310,"d":"1,310"},952,{"v":1128,"d":"1,128"},{"v":1154,"d":"1,154"},{"v":1326,"d":"1,326"},{"v":1843,"d":"1,843"},{"v":1546,"d":"1,546"},{"v":1626,"d":"1,626"},{"v":1805,"d":"1,805"},{"v":1962,"d":"1,962"},{"v":1925,"d":"1,925"},{"v":2126,"d":"2,126"},{"v":2025,"d":"2,025"}]
["calves (excl. milk replacers)",":",159,164,156,172,181,182,179,147,155,160,150,171,179,170,158,156,{"$nulls":4},128,128,180,196,172,251,222,233,263]
["others",":",359,437,32,22,32,31,29,41,51,57,51,53,68,95,92,96,{"$nulls":4},36,37,99,90,90,72,73,82,125,410,414,457,460,437,500,470]
[]
[]
["Pigs",462,483,550,{"$f":"E24+E25+E26+E27","v":589},636,644,618,685,705,775,706,710,736,748,687,630,625,608,618,648,633,{"$f":"W24+W25+W26+W27","v":580},650,701,690,676,696,669,692,712,706,768,781,724,663,686,700]
["piglets",":",":",":",103,113,114,102,106,117,133,122,116,108,95,96,90,82,{"$nulls":4},103,120,148,126,117,137,122,153,138]
["pigs for fattening",":",":",":",317,354,353,357,401,402,433,412,438,481,498,441,401,406,{"$nulls":4},303,345,366,346,392,388,387,376,421]
["breeding pigs",":",":",":",142,155,155,145,161,167,175,143,133,126,137,128,110,119,{"$nulls":4},103,110,120,120,118,115,109,107,100]
["others",":",":",":",27,14,22,14,17,19,34,29,23,21,18,22,29,18,{"$nulls":4},71,75,67,98,49,56,51,56,53]
[]
[]
["Poultry",351,{"$f":"C31+C32","v":398},408,{"$f":"E31+E32+E33","v":396},431,463,468,468,487,501,491,493,479,493,485,488,491,454,461,465,486,{"$f":"W31+W32+W33","v":448},477,501,529,521,576,655,640,632,631,651,699,697,690,711,711]
["broilers",":",305,313,177,214,254,258,269,279,297,271,296,273,259,267,260,{"$nulls":5},393,314,320,312,350,367,418,394,404]
["chicks & layers",":",93,95,117,127,104,110,104,99,89,98,100,108,119,128,133,{"$nulls":5},55,163,181,181,135,177,193,212,172]
["others",":",":",":",102,90,105,100,95,109,115,122,97,98,115,90,95,{"$nulls":8},36,36,32,44,34,56]
[]
[]
["Milk replacers",22,13,7,5,9,9,8,6,5,9,7,7,8,10,9,10,8,10,6,4,6,6,0,0,0,0,0,0,0,0,0,0]
[]
[]
["Others",162,195,236,250,259,315,323,289,287,346,379,367,375,413,413,452,474,531,409,368,350,315,266,368,412,98,172,108,115,128,187,202,236,222,209,224,215]
[]
[]
["TOTAL",{"$f":"B39+B30+B23+B16+B36","v":{"v":2418,"d":"2,418"}},{"v":2408,"d":"2,408"},{"v":2577,"d":"2,577"},{"v":2695,"d":"2,695"},{"v":3011,"d":"3,011"},{"v":3403,"d":"3,403"},{"v":3371,"d":"3,371"},{"v":3162,"d":"3,162"},{"v":2936,"d":"2,936"},{"v":3455,"d":"3,455"},{"v":3738,"d":"3,738"},{"v":3503,"d":"3,503"},{"v":3561,"d":"3,561"},{"v":3808,"d":"3,808"},{"v":3695,"d":"3,695"},{"v":3545,"d":"3,545"},{"v":3580,"d":"3,580"},{"v":3918,"d":"3,918"},{"v":3556,"d":"3,556"},{"v":3648,"d":"3,648"},{"v":3606,"d":"3,606"},{"v":3654,"d":"3,654"},{"v":3495,"d":"3,495"},{"v":4125,"d":"4,125"},{"v":4377,"d":"4,377"},{"v":3622,"d":"3,622"},{"v":3988,"d":"3,988"},{"v":4005,"d":"4,005"},{"v":4366,"d":"4,366"},{"v":5279,"d":"5,279"},{"v":4640,"d":"4,640"},{"v":4741,"d":"4,741"},{"v":5066,"d":"5,066"},{"v":5158,"d":"5,158"},{"v":5028,"d":"5,028"},{"v":5489,"d":"5,489"},{"v":5293,"d":"5,293"}]

{"sheet":"Latvia","index":91,"n_rows":42,"n_cols":37,"rows_kept":42,"merged":[[3,0,3,32]]}
["FEFAC SECRETARIAT GENERAL"]
[]
[]
["INDUSTRIAL COMPOUND FEED PRODUCTION"]
[]
["TAB 4"]
[]
["COUNTRY: LATVIA"]
[]
[]
[]
["1 000 t",1989,1990,1991,1992,1993,1994,1995,1996,1997,1998,1999,2000,2001,2002,2003,2004,2005,2006,2007,2008,2009,2010,2011,2012,2013,2014,2015,2016,2017,2018,2019,2020,2021,2022,2023,2024]
[null,"final figures","final figures","final figures","final figures","final figures","final figures","final figures","final figures","final figures","final figures","final figures","final figures","final figures","final figures","final figures","final figures","final figures","final figures","final figures","final figures","final figures","final figures","final figures","final figures","final figures","final figures","final figures"," final figures"," final figures","final figures","final figures","estimates","final figures","estimates","forecasts","forecasts"]
[]
[]
["Cattle",{"$nulls":8},201,236,14,17,9,11,15,25,28,47,50,49,38,52,52,74,115,62,57,55,64,64,64,64,64,64,64,64]
["fattening",{"$nulls":13},":",":",":",":",":",{"$nulls":8},":",":",":",":",":",":",":",":",":",":"]
["dairy cow",{"$nulls":13},":",":",":",":",":",{"$nulls":8},":",":",":",":",":",":",":",":",":",":"]
["calves (excl. milk replacers)",{"$nulls":13},":",":",":",":",":",{"$nulls":8},":",":",":",":",":",":",":",":",":",":"]
["others",{"$nulls":13},":",":",":",":",":",{"$nulls":8},":",":",":",":",":",":",":",":",":",":"]
[]
[]
["Pigs",{"$nulls":8},152,150,108,75,83,88,86,90,107,105,100,109,111,90,90,100,109,91,85,73,66,66,66,66,66,66,66,66]
["piglets",{"$nulls":13},":",":",":",":",":",{"$nulls":8},":",":",":",":",":",":",":",":",":",":"]
["pigs for fattening",{"$nulls":13},":",":",":",":",":",{"$nulls":8},":",":",":",":",":",":",":",":",":",":"]
["breeding pigs",{"$nulls":13},":",":",":",":",":",{"$nulls":8},":",":",":",":",":",":",":",":",":",":"]
["others",{"$nulls":13},":",":",":",":",":",{"$nulls":8},":",":",":",":",":",":",":",":",":",":"]
[]
[]
["Poultry",{"$nulls":8},97,94,71,74,78,98,114,102,38,37,35,144,159,169,169,165,161,162,173,178,202,202,202,202,202,202,202,202]
["broilers",{"$nulls":13},":",":",":",":",":",{"$nulls":8},":",":",":",":",":",":",":",":",":",":"]
["chicks & layers",{"$nulls":13},":",":",":",":",":",{"$nulls":8},":",":",":",":",":",":",":",":",":",":"]
["others",{"$nulls":13},":",":",":",":",":",{"$nulls":8},":",":",":",":",":",":",":",":",":",":"]
[]
[]
["Milk replacers",{"$nulls":8},0,0,0,0,0,0,0,0,0,0,0,0,0,0,0,0,0,0,0,0,0,0,0,0,0,0,0,0]
[]
[]
["Others",{"$nulls":8},28,26,3,3,3,3,18,21,17,18,17,25,15,28,28,22,11,10,11,9,14,14,14,14,14,14,14,14]
[]
[]
["TOTAL",{"$f":"B39+B30+B23+B16+B36","v":0},0,0,0,0,0,0,0,478,506,196,169,173,200,233,238,190,207,202,327,323,339,339,361,396,325,326,315,346,346,346,346,346,346,346,{"$f":"AK39+AK30+AK23+AK16+AK36","v":346}]

{"sheet":"Lithuania","index":92,"n_rows":42,"n_cols":43,"rows_kept":42,"merged":[[3,0,3,32]]}
["FEFAC SECRETARIAT GENERAL"]
[]
[{"$nulls":37},"2024/23"]
["INDUSTRIAL COMPOUND FEED PRODUCTION",{"$nulls":36},"Cattle","Pigs","Poultry","Milk replacers","Others","TOTAL"]
[{"$nulls":37},{"$f":"(($AK$16/$AJ$16)-1)*100","v":{"v":0,"d":"0.0"}},{"$f":"(($AK$23/$AJ$23)-1)*100","v":{"v":0,"d":"0.0"}},{"$f":"(($AK$30/$AJ$30)-1)*100","v":{"v":0,"d":"0.0"}},{"$f":"(($AK$36/$AJ$36)-1)*100","v":{"$error":"#DIV/0!"}},{"$f":"(($AK$39/$AJ$39)-1)*100","v":{"v":0,"d":"0.0"}},{"$f":"(($AK$42/$AJ$42)-1)*100","v":{"v":0,"d":"0.0"}}]
["TAB 3"]
[{"$nulls":37},"2023/22"]
["COUNTRY: LITHUANIA",{"$nulls":36},"Cattle","Pigs","Poultry","Milk replacers","Others","TOTAL"]
[{"$nulls":37},{"$f":"(($AJ$16/$AI$16)-1)*100","v":{"v":1.9354838709677358,"d":"1.9"}},{"$f":"(($AJ$23/$AI$23)-1)*100","v":{"v":-24,"d":"-24.0"}},{"$f":"(($AJ$30/$AI$30)-1)*100","v":{"v":-0.91324200913242,"d":"-0.9"}},{"$f":"(($AJ$36/$AI$36)-1)*100","v":{"$error":"#DIV/0!"}},{"$f":"(($AJ$39/$AI$39)-1)*100","v":{"v":-13.888888888888884,"d":"-13.9"}},{"$f":"(($AJ$42/$AI$42)-1)*100","v":{"v":-6.406250000000002,"d":"-6.4"}}]
[]
[]
["1 000 t",1989,1990,1991,1992,1993,1994,1995,1996,1997,1998,1999,2000,2001,2002,2003,2004,2005,2006,2007,2008,2009,2010,2011,2012,2013,2014,2015,2016,2017,2018,2019,2020,2021,2022,2023,2024]
[null,"final figures","final figures","final figures","final figures","final figures","final figures","final figures","final figures","final figures","final figures","final figures","final figures","final figures","final figures","final figures","final figures","final figures","final figures","final figures","final figures","final figures","final figures","final figures","final figures","final figures","final figures","final figures"," final figures"," final figures","final figures","final figures","final figures","final figures","final figures","estimates","forecasts"]
[{"$nulls":32},"fefac =2019"]
[]
["Cattle",{"$nulls":8},17,9,9,12,13,13,{"$f":"P17+P18+P19+P20","v":7},8,21,45,110,64,32,45,48,59,63,60,113,148,151,155,152,152,155,155,{"$f":"SUM(AJ17:AJ20)","v":158},{"$f":"SUM(AK17:AK20)","v":158}]
["fattening",{"$nulls":13},":",1,2,2,2,5,3,1,1,3,10,13,13,3,1,3,5,5,5,5,5,6,6]
["dairy cow",{"$nulls":13},":",5,5,9,29,91,51,28,40,42,46,47,44,98,142,145,145,142,142,142,142,143,143]
["calves (excl. milk replacers)",{"$nulls":13},":",1,1,9,13,7,8,2,3,2,3,3,3,8,2,2,3,3,3,3,3,9,9]
["others",{"$nulls":13},":",0,0,1,1,7,2,1,1,1,0,0,0,4,3,1,2,2,2,5,5,0,0]
[]
[]
["Pigs",{"$nulls":8},170,149,134,131,131,131,{"$f":"P24+P25+P26+P27","v":105},114,98,117,123,77,71,70,78,78,78,60,40,36,34,31,28,28,50,50,{"$f":"SUM(AJ24:AJ27)","v":38},{"$f":"SUM(AK24:AK27)","v":38}]
["piglets",{"$nulls":13},":",23,26,30,20,26,18,15,15,11,13,10,5,14,8,7,6,5,5,15,15,19,19]
["pigs for fattening",{"$nulls":13},":",61,66,48,63,63,35,38,43,60,61,64,54,18,20,20,19,18,18,30,30,4,4]
["breeding pigs",{"$nulls":13},":",19,21,11,19,24,16,11,6,3,3,3,1,7,7,7,6,5,5,5,5,14,14]
["others",{"$nulls":13},":",2,1,9,15,10,8,7,6,4,1,1,0,1,1,0,0,0,0,0,0,1,1]
[]
[]
["Poultry",{"$nulls":8},228,185,88,118,96,96,{"$f":"P31+P32+P33","v":123},150,168,173,256,245,245,284,284,295,300,310,241,245,268,272,275,275,217,219,217,217]
["broilers",{"$nulls":13},":",72,94,90,120,132,158,144,178,195,206,223,218,174,175,198,198,201,201,151,153,155,155]
["chicks & layers",{"$nulls":13},":",47,52,76,50,117,78,81,79,73,64,57,63,60,65,65,68,68,68,60,60,62,62]
["others",{"$nulls":13},":",4,4,2,3,7,9,20,27,16,25,20,29,7,5,5,6,6,6,6,6,1,1]
[]
[]
["Milk replacers",{"$nulls":8},0,0,0,0,0,0,3,4,4,5,5,3,3,2,2,2,3,4,0,0,0,0,0,0,0,0]
[]
[]
["Others",{"$nulls":8},2,2,47,66,87,87,5,7,6,12,21,9,10,7,10,15,15,15,127,178,177,177,177,177,216,216,186,186]
[]
[]
["TOTAL",{"$f":"B39+B30+B23+B16+B36","v":0},0,0,0,0,0,0,0,417,345,278,327,327,327,243,283,297,352,515,398,361,408,422,449,459,449,521,607,630,635,632,632,638,640,{"$f":"AJ39+AJ30+AJ23+AJ16+AJ36","v":599},{"$f":"AK39+AK30+AK23+AK16+AK36","v":599}]

{"sheet":"Poland","index":93,"n_rows":42,"n_cols":43,"rows_kept":42,"merged":[[3,0,3,32]]}
["FEFAC SECRETARIAT GENERAL"]
[]
[{"$nulls":37},"2025/24"]
["INDUSTRIAL COMPOUND FEED PRODUCTION",{"$nulls":36},"Cattle","Pigs","Poultry","Milk replacers","Others","TOTAL"]
[{"$nulls":37},{"$f":"(($AL$16/$AK$16)-1)*100","v":{"v":3.90625,"d":"3.9"}},{"$f":"(($AL$23/$AK$23)-1)*100","v":{"v":2.6615969581748944,"d":"2.7"}},{"$f":"(($AL$30/$AK$30)-1)*100","v":{"v":2.3383768913342484,"d":"2.3"}},{"$f":"(($AK$36/$AJ$36)-1)*100","v":{"$error":"#DIV/0!"}},{"$f":"(($AL$39/$AK$39)-1)*100","v":{"v":1.5151515151515138,"d":"1.5"}},{"$f":"(($AL$42/$AK$42)-1)*100","v":{"v":2.533783783783794,"d":"2.5"}}]
["TAB 3"]
[{"$nulls":37},"2024/23"]
["COUNTRY: POLAND",{"$nulls":36},"Cattle","Pigs","Poultry","Milk replacers","Others","TOTAL"]
[{"$nulls":37},{"$f":"(($AK$16/$AJ$16)-1)*100","v":{"v":9.401709401709413,"d":"9.4"}},{"$f":"(($AK$23/$AJ$23)-1)*100","v":{"v":10.970464135021096,"d":"11.0"}},{"$f":"(($AK$30/$AJ$30)-1)*100","v":{"v":1.112656467315709,"d":"1.1"}},{"$f":"(($AJ$36/$AI$36)-1)*100","v":{"$error":"#DIV/0!"}},{"$f":"(($AK$39/$AJ$39)-1)*100","v":{"v":-17.500000000000004,"d":"-17.5"}},{"$f":"(($AK$42/$AJ$42)-1)*100","v":{"v":2.6886383347788367,"d":"2.7"}}]
[]
[]
["1 000 t",1989,1990,1991,1992,1993,1994,1995,1996,1997,1998,1999,2000,2001,2002,2003,2004,2005,2006,2007,2008,2009,2010,2011,2012,2013,2014,2015,2016,2017,2018,2019,2020,2021,2022,2023,2024,2025]
[null,"final figures","final figures","final figures","final figures","final figures","final figures","final figures","final figures","final figures","final figures","final figures","final figures","final figures","final figures","final figures","final figures","final figures","final figures","final figures","final figures","final figures","final figures","final figures","final figures","final figures","final figures","final figures"," final figures"," final figures","final figures","final figures","final figures","final figures","final figures","estimates","final?","forecasts"]
[]
[]
["Cattle",{"$nulls":8},40,116,164,180,230,231,327,365,421,551,678,756,652,767,889,962,934,{"v":1032,"d":"1,032"},847,857,{"v":1071,"d":"1,071"},{"v":1190,"d":"1,190"},{"v":1227,"d":"1,227"},{"v":1255,"d":"1,255"},{"v":1213,"d":"1,213"},{"v":1176,"d":"1,176"},{"v":1170,"d":"1,170"},{"v":1280,"d":"1,280"},{"v":1330,"d":"1,330"}]
["fattening",{"$nulls":13},":",":",":",":",":",{"$nulls":8},":",":",":",":"]
["dairy cow",{"$nulls":13},":",":",":",":",":",{"$nulls":8},":",":",":",":"]
["calves (excl. milk replacers)",{"$nulls":13},":",":",":",":",":",{"$nulls":8},":",":",":",":"]
["others",{"$nulls":13},":",":",":",":",":",{"$nulls":8},":",":",":",":"]
[]
[]
["Pigs",{"$nulls":8},{"v":1773,"d":"1,773"},{"v":1457,"d":"1,457"},{"v":1189,"d":"1,189"},{"v":1340,"d":"1,340"},{"v":1112,"d":"1,112"},999,{"v":1352,"d":"1,352"},{"v":1167,"d":"1,167"},{"v":1082,"d":"1,082"},{"v":1653,"d":"1,653"},{"v":1874,"d":"1,874"},{"v":1700,"d":"1,700"},{"v":1477,"d":"1,477"},{"v":1693,"d":"1,693"},{"v":1752,"d":"1,752"},{"v":1816,"d":"1,816"},{"v":1850,"d":"1,850"},{"v":1906,"d":"1,906"},{"v":1940,"d":"1,940"},{"v":2061,"d":"2,061"},{"v":2453,"d":"2,453"},{"v":2465,"d":"2,465"},{"v":2417,"d":"2,417"},{"v":2495,"d":"2,495"},{"v":2444,"d":"2,444"},{"v":2485,"d":"2,485"},{"v":2370,"d":"2,370"},{"v":2630,"d":"2,630"},{"v":2700,"d":"2,700"}]
["piglets",{"$nulls":13},":",":",":",":",":",{"$nulls":8},":",":",":",":"]
["pigs for fattening",{"$nulls":13},":",":",":",":",":",{"$nulls":8},":",":",":",":"]
["breeding pigs",{"$nulls":13},":",":",":",":",":",{"$nulls":8},":",":",":",":"]
["others",{"$nulls":13},":",":",":",":",":",{"$nulls":8},":",":",":",":"]
[]
[]
["Poultry",{"$nulls":8},{"v":2389,"d":"2,389"},{"v":2381,"d":"2,381"},{"v":2508,"d":"2,508"},{"v":2750,"d":"2,750"},{"v":3015,"d":"3,015"},{"v":3269,"d":"3,269"},{"v":3450,"d":"3,450"},{"v":3667,"d":"3,667"},{"v":3474,"d":"3,474"},{"v":3815,"d":"3,815"},{"v":4064,"d":"4,064"},{"v":4262,"d":"4,262"},{"v":4807,"d":"4,807"},{"v":5118,"d":"5,118"},{"v":4774,"d":"4,774"},{"v":5233,"d":"5,233"},{"v":5259,"d":"5,259"},{"v":5370,"d":"5,370"},{"v":5929,"d":"5,929"},{"v":6504,"d":"6,504"},{"v":6752,"d":"6,752"},{"v":6815,"d":"6,815"},{"v":6905,"d":"6,905"},{"v":7114,"d":"7,114"},{"v":6303,"d":"6,303"},{"v":7247,"d":"7,247"},{"v":7190,"d":"7,190"},{"v":7270,"d":"7,270"},{"v":7440,"d":"7,440"}]
["broilers",{"$nulls":13},":",":",":",":",":",{"$nulls":8},":",":",":",":"]
["chicks & layers",{"$nulls":13},":",":",":",":",":",{"$nulls":8},":",":",":",":"]
["others",{"$nulls":13},":",":",":",":",":",{"$nulls":8},":",":",":",":"]
[]
[]
["Milk replacers",{"$nulls":8},0,0,0,0,0,0,0,0,0,0,0,0,0,0,0,0,0,0,0,0,0,0,0,0,0]
[]
[]
["Others",{"$nulls":8},63,74,67,0,241,242,430,265,299,322,437,411,319,328,323,402,523,{"$f":"239+318","v":557},592,{"$f":"290+381","v":671},719,758,668,723,765,734,800,660,670]
[]
[]
["TOTAL",{"$f":"B39+B30+B23+B16+B36","v":0},0,0,0,0,0,0,0,{"v":4265,"d":"4,265"},{"v":4028,"d":"4,028"},{"v":3928,"d":"3,928"},{"v":4270,"d":"4,270"},{"v":4598,"d":"4,598"},{"v":4741,"d":"4,741"},{"v":5559,"d":"5,559"},{"v":5464,"d":"5,464"},{"v":5276,"d":"5,276"},{"v":6341,"d":"6,341"},{"v":7053,"d":"7,053"},{"v":7129,"d":"7,129"},{"v":7255,"d":"7,255"},{"v":7906,"d":"7,906"},{"v":7738,"d":"7,738"},{"v":8413,"d":"8,413"},{"v":8566,"d":"8,566"},{"v":8865,"d":"8,865"},{"v":9308,"d":"9,308"},{"v":10093,"d":"10,093"},{"v":10995,"d":"10,995"},{"v":11228,"d":"11,228"},{"v":11217,"d":"11,217"},{"v":11587,"d":"11,587"},{"v":10725,"d":"10,725"},{"v":11642,"d":"11,642"},{"v":11530,"d":"11,530"},{"$f":"SUM(AK16+AK23+AK30+AK39)","v":{"v":11840,"d":"11,840"}},{"$f":"AL16+AL23+AL30+AL39","v":{"v":12140,"d":"12,140"}}]

{"sheet":"Portugal","index":94,"n_rows":44,"n_cols":43,"rows_kept":44,"merged":[[3,0,3,32]]}
["FEFAC SECRETARIAT GENERAL"]
[]
[{"$nulls":37},"2025/24"]
["INDUSTRIAL COMPOUND FEED PRODUCTION",{"$nulls":36},"Cattle","Pigs","Poultry","Milk replacers","Others","TOTAL"]
[{"$nulls":37},{"$f":"(($AL$16/$AK$16)-1)*100","v":{"v":-6.666666666666665,"d":"-6.7"}},{"$f":"(($AL$23/$AK$23)-1)*100","v":{"v":4.347826086956519,"d":"4.3"}},{"$f":"(($AL$30/$AK$30)-1)*100","v":{"v":3.7832310838445737,"d":"3.8"}},{"$f":"(($AK$36/$AJ$36)-1)*100","v":{"$error":"#DIV/0!"}},{"$f":"(($AL$39/$AK$39)-1)*100","v":{"v":10.701107011070121,"d":"10.7"}},{"$f":"(($AL$42/$AK$42)-1)*100","v":{"v":1.8748588208719275,"d":"1.9"}}]
["TAB 3"]
[{"$nulls":37},"2024/23"]
["COUNTRY: PORTUGAL",{"$nulls":36},"Cattle","Pigs","Poultry","Milk replacers","Others","TOTAL"]
[{"$nulls":37},{"$f":"(($AK$16/$AJ$16)-1)*100","v":{"v":-5.74506283662477,"d":"-5.7"}},{"$f":"(($AK$23/$AJ$23)-1)*100","v":{"v":4.4504995458674035,"d":"4.5"}},{"$f":"(($AK$30/$AJ$30)-1)*100","v":{"v":2.677165354330713,"d":"2.7"}},{"$f":"(($AJ$36/$AI$36)-1)*100","v":{"$error":"#DIV/0!"}},{"$f":"(($AK$39/$AJ$39)-1)*100","v":{"v":-14.240506329113922,"d":"-14.2"}},{"$f":"(($AK$42/$AJ$42)-1)*100","v":{"v":-0.20288548241659266,"d":"-0.2"}}]
[]
[]
["1 000 t",1989,1990,1991,1992,1993,1994,1995,1996,1997,1998,1999,2000,2001,2002,2003,2004,2005,2006,2007,2008,2009,2010,2011,2012,2013,2014,2015,2016,2017,2018,2019,2020,2021,2022,2023,2024,"2025*"]
[null,"final figures","final figures","final figures","final figures","final figures","final figures","final figures","final figures","final figures","final figures","final figures","final figures","final figures","final figures","final figures","final figures","final figures","final figures","final figures","final figures","final figures","final figures","final figures","final figures","final figures","final figures","final figures","final figures","final figures","final figures","final figures","final figures","final figures","final figures","estimates","forecasts","forecasts"]
[]
[]
["Cattle",{"v":1013,"d":"1,013"},{"$f":"C18+C20+C19","v":{"v":1115,"d":"1,115"}},{"v":1145,"d":"1,145"},{"$f":"E18+E20+E17+E19","v":{"v":1119,"d":"1,119"}},{"v":1012,"d":"1,012"},{"v":1007,"d":"1,007"},{"v":1119,"d":"1,119"},{"v":1090,"d":"1,090"},{"v":1010,"d":"1,010"},{"$f":"SUM(K17:K20)","v":{"v":1020,"d":"1,020"}},{"$f":"L17+L18+L19+L20","v":{"v":1130,"d":"1,130"}},{"v":1130,"d":"1,130"},{"v":1080,"d":"1,080"},{"v":1070,"d":"1,070"},{"v":1060,"d":"1,060"},{"v":1010,"d":"1,010"},{"v":1100,"d":"1,100"},910,940,885,805,{"$f":"SUM(W17:W20)","v":750},720,710,675,695,890,903,997,{"v":1059,"d":"1,059"},983,{"v":1007,"d":"1,007"},{"v":1073,"d":"1,073"},{"v":1108,"d":"1,108"},{"v":1114,"d":"1,114"},{"v":1050,"d":"1,050"},980]
["fattening",":",":",":",521,434,423,470,425,384,362,390,418,395,364,371,422,470,360,360,315,300,240,265,270,250,258,317,325,363,385,372,420,423,462,441]
["dairy cow",":",495,551,525,512,514,576,599,565,583,630,610,584,589,556,497,520,454,487,450,400,390,390,350,310,270,384,421,466,591,561,531,564,587,628]
["calves (excl. milk replacers)",":",69,46,51,50,50,51,46,41,58,79,79,72,75,85,53,70,61,62,50,32,33,27,35,35,40,46,46,52,74,39,41,62,31,35]
["others",":",551,548,22,16,20,22,20,20,17,31,23,29,42,48,38,40,35,31,70,73,87,38,55,80,127,143,111,116,9,11,15,24,28,10]
[]
[]
["Pigs",{"v":1339,"d":"1,339"},{"v":1457,"d":"1,457"},{"v":1422,"d":"1,422"},{"$f":"SUM(E24:E27)","v":{"v":1356,"d":"1,356"}},{"v":1537,"d":"1,537"},{"v":1485,"d":"1,485"},{"v":1311,"d":"1,311"},{"v":1300,"d":"1,300"},{"v":1320,"d":"1,320"},{"v":1340,"d":"1,340"},{"$f":"L24+L25+L26+L27","v":{"v":1230,"d":"1,230"}},{"v":1150,"d":"1,150"},{"v":1180,"d":"1,180"},{"v":1260,"d":"1,260"},{"v":1225,"d":"1,225"},{"v":1190,"d":"1,190"},{"v":1090,"d":"1,090"},{"v":1025,"d":"1,025"},{"v":1080,"d":"1,080"},{"v":1060,"d":"1,060"},955,{"$f":"SUM(W24:W27)","v":920},890,870,830,820,{"v":1136,"d":"1,136"},{"v":1156,"d":"1,156"},{"v":1124,"d":"1,124"},973,{"v":1074,"d":"1,074"},{"v":1210,"d":"1,210"},{"v":1173,"d":"1,173"},973,{"v":1101,"d":"1,101"},{"v":1150,"d":"1,150"},{"v":1200,"d":"1,200"}]
["piglets",":",":",":",171,212,267,158,156,208,194,180,161,169,184,196,178,171,158,162,152,138,120,115,110,95,92,111,113,112,76,103,131,125,120,115]
["pigs for fattening",":",":",":",346,953,386,382,380,375,381,336,311,737,792,760,741,670,630,660,675,610,600,595,585,570,545,757,795,306,663,721,806,772,624,720]
["breeding pigs",":",":",":",204,238,282,198,196,270,264,245,230,244,267,260,262,242,233,236,215,185,180,160,155,158,170,230,202,430,216,239,255,255,207,249]
["others",":",":",":",635,134,550,573,568,467,501,469,448,30,17,9,9,7,4,22,18,22,20,20,20,7,13,38,46,276,18,11,18,21,22,17]
[]
[]
["Poultry",{"v":1221,"d":"1,221"},{"$f":"C31+C32+C33","v":{"v":1230,"d":"1,230"}},{"v":1232,"d":"1,232"},{"v":1241,"d":"1,241"},{"v":1237,"d":"1,237"},{"v":1274,"d":"1,274"},{"v":1323,"d":"1,323"},{"v":1330,"d":"1,330"},{"v":1340,"d":"1,340"},{"$f":"SUM(K31:K33)","v":{"v":1400,"d":"1,400"}},{"$f":"L31+L32+L33","v":{"v":1350,"d":"1,350"}},{"v":1340,"d":"1,340"},{"v":1390,"d":"1,390"},{"v":1400,"d":"1,400"},{"v":1280,"d":"1,280"},{"v":1360,"d":"1,360"},{"v":1350,"d":"1,350"},{"v":1280,"d":"1,280"},{"v":1350,"d":"1,350"},{"v":1320,"d":"1,320"},{"v":1380,"d":"1,380"},{"$f":"SUM(W31:W33)","v":{"v":1420,"d":"1,420"}},{"v":1420,"d":"1,420"},{"v":1410,"d":"1,410"},{"v":1400,"d":"1,400"},{"v":1390,"d":"1,390"},{"v":1436,"d":"1,436"},{"v":1630,"d":"1,630"},{"v":1638,"d":"1,638"},{"v":1559,"d":"1,559"},{"v":1638,"d":"1,638"},{"v":1767,"d":"1,767"},{"v":1745,"d":"1,745"},{"v":1753,"d":"1,753"},{"v":1905,"d":"1,905"},{"v":1956,"d":"1,956"},{"v":2030,"d":"2,030"}]
["broilers",":",681,686,699,630,701,750,758,750,798,791,791,832,842,768,802,797,750,800,795,820,845,850,870,874,850,882,{"v":1026,"d":"1,026"},{"v":1043,"d":"1,043"},814,875,977,928,953,789]
["chicks & layers",":",407,399,429,404,370,420,418,325,420,394,400,374,376,270,384,367,350,340,250,260,255,410,390,360,320,349,393,426,540,548,552,563,587,944]
["others",":",142,147,113,203,203,153,154,265,182,165,149,184,182,242,174,186,180,210,275,300,320,160,150,166,220,205,211,169,205,215,238,254,213,172]
[]
[]
["Milk replacers",0,0,0,0,0,0,0,0,0,0,0,0,0,0,0,0,0,0,0,0,0,0,0,0,0,0,0,0,0,0,0,0,0]
[]
[]
["Others",123,145,150,187,213,204,244,236,235,218,218,212,198,208,213,234,259,225,235,225,240,228,205,210,195,190,258,210,229,235,232,249,277,283,316,271,300]
[]
[]
["TOTAL",{"$f":"B39+B30+B23+B16+B36","v":{"v":3696,"d":"3,696"}},{"v":3947,"d":"3,947"},{"v":3949,"d":"3,949"},{"v":3903,"d":"3,903"},{"v":3999,"d":"3,999"},{"v":3970,"d":"3,970"},{"v":3997,"d":"3,997"},{"v":3956,"d":"3,956"},{"v":3905,"d":"3,905"},{"v":3978,"d":"3,978"},{"v":3928,"d":"3,928"},{"v":3832,"d":"3,832"},{"v":3848,"d":"3,848"},{"v":3938,"d":"3,938"},{"v":3778,"d":"3,778"},{"v":3794,"d":"3,794"},{"v":3799,"d":"3,799"},{"v":3440,"d":"3,440"},{"v":3605,"d":"3,605"},{"v":3490,"d":"3,490"},{"v":3380,"d":"3,380"},{"v":3318,"d":"3,318"},{"v":3235,"d":"3,235"},{"v":3200,"d":"3,200"},{"v":3100,"d":"3,100"},{"v":3095,"d":"3,095"},{"v":3720,"d":"3,720"},{"v":3899,"d":"3,899"},{"v":3988,"d":"3,988"},{"v":3826,"d":"3,826"},{"v":3927,"d":"3,927"},{"v":4233,"d":"4,233"},{"v":4268,"d":"4,268"},{"v":4117,"d":"4,117"},{"$f":"AJ39+AJ30+AJ23+AJ16+AJ36","v":{"v":4436,"d":"4,436"}},{"$f":"AK39+AK30+AK23+AK16+AK36","v":{"v":4427,"d":"4,427"}},{"v":4510,"d":"4,510"}]
[]
[{"$nulls":27},"3830 (112)","4036 (136)","4136 (148)","3976 (150)","4092 (165)","4411 (178)"]

{"sheet":"Romania","index":95,"n_rows":46,"n_cols":43,"rows_kept":46,"merged":[[3,0,3,32]]}
["FEFAC SECRETARIAT GENERAL"]
["January 2020: Nearly 12,000 farm birds have died of bird flu in Romania, Reuters reports. The country had been free from the disease for several years. The outbreak comes in a region close to Hungary and Ukraine"]
[]
["INDUSTRIAL COMPOUND FEED PRODUCTION",{"$nulls":36},"2022/21"]
[{"$nulls":37},"Cattle","Pigs","Poultry","Milk replacers","Others","TOTAL"]
["TAB 3",{"$nulls":36},{"$f":"(($AI$17/$AH$17)-1)*100","v":{"v":0,"d":"0.0"}},{"$f":"(($AI$24/$AH$24)-1)*100","v":{"v":-10.185185185185187,"d":"-10.2"}},{"$f":"(($AI$31/$AH$31)-1)*100","v":{"v":4.374999999999996,"d":"4.4"}},{"$f":"(($AI$37/$AH$37)-1)*100","v":{"$error":"#DIV/0!"}},{"$f":"(($AI$40/$AH$40)-1)*100","v":{"v":0,"d":"0.0"}},{"$f":"(($AI$43/$AH$43)-1)*100","v":{"v":-1.3745704467353903,"d":"-1.4"}}]
[]
["COUNTRY: ROMANIA",{"$nulls":36},"2023/22"]
[{"$nulls":37},"Cattle","Pigs","Poultry","Milk replacers","Others","TOTAL"]
[{"$nulls":37},{"$f":"(($AJ$17/$AI$17)-1)*100","v":{"v":0,"d":"0.0"}},{"$f":"(($AJ$24/$AI$24)-1)*100","v":{"v":1.0309278350515427,"d":"1.0"}},{"$f":"(($AJ$31/$AI$31)-1)*100","v":{"v":1.4970059880239583,"d":"1.5"}},{"$f":"(($AJ$37/$AI$37)-1)*100","v":{"$error":"#DIV/0!"}},{"$f":"(($AJ$40/$AI$40)-1)*100","v":{"v":0,"d":"0.0"}},{"$f":"(($AJ$43/$AI$43)-1)*100","v":{"v":1.2195121951219523,"d":"1.2"}}]
[]
[]
["1 000 t",1989,1990,1991,1992,1993,1994,1995,1996,1997,1998,1999,2000,2001,2002,2003,2004,2005,2006,2007,2008,2009,2010,2011,2012,2013,2014,2015,2016,2017,2018,2019,2020,2021,2022,2023,2024]
[null,"final figures","final figures","final figures","final figures","final figures","final figures","final figures","final figures","final figures","final figures","final figures","final figures","final figures","final figures","final figures","final figures","final figures","final figures","final figures","final figures","final figures","final figures","final figures","final figures","final figures","final figures","final figures","final figures","final figures","final figures","final figures","final figures","final figures","estimates","final figures","forecasts"]
[{"$nulls":28},"FEFAC","FEFAC"]
[]
["Cattle",{"$nulls":8},0,0,80,70,70,75,68,70,85,100,135,150,130,150,155,170,100,64,75,49,50,{"$f":"AE18+AE19+AE20","v":71},{"v":80.2,"d":"80"},87,90,90,90,90]
["fattening",{"$nulls":13},":",":",":",":",":",":",":",":",":",{"$nulls":4},":",":",":",12,15,18,20,20]
["dairy cow",{"$nulls":13},":",":",":",":",":",":",":",":",":",{"$nulls":4},":",":",":",58,64,68,69,69]
["calves (excl. milk replacers)",{"$nulls":13},":",":",":",":",":",":",":",":",":",{"$nulls":4},":",":",":",1,{"v":1.2,"d":"1"},1,1,1]
["others",{"$nulls":13},":",":",":",":",":",":",":",":",":",{"$nulls":4},":",":",":",":",":"]
[]
[]
["Pigs",{"$nulls":8},{"v":1000,"d":"1,000"},{"v":1000,"d":"1,000"},850,700,703,714,692,726,857,{"v":1047,"d":"1,047"},{"v":1150,"d":"1,150"},{"v":1380,"d":"1,380"},{"v":1400,"d":"1,400"},{"v":1475,"d":"1,475"},{"v":1520,"d":"1,520"},{"v":1600,"d":"1,600"},{"v":1000,"d":"1,000"},{"v":1011,"d":"1,011"},{"v":1120,"d":"1,120"},{"v":1176,"d":"1,176"},{"v":1200,"d":"1,200"},{"v":1380,"d":"1,380"},{"v":1100,"d":"1,100"},{"v":1050,"d":"1,050"},{"v":1080,"d":"1,080"},970,980,980]
["piglets",{"$nulls":13},":",":",":",":",":",":",":",":",":",{"$nulls":4},":",":",":",":",":",":"]
["pigs for fattening",{"$nulls":13},":",":",":",":",":",":",":",":",":",{"$nulls":4},":",":",":",":",":",":"]
["breeding pigs",{"$nulls":13},":",":",":",":",":",":",":",":",":",{"$nulls":4},":",":",":",":",":",":"]
["others",{"$nulls":13},":",":",":",":",":",":",":",":",":",{"$nulls":4},":",":",":",":",":",":"]
[]
[]
["Poultry",{"$nulls":8},{"v":1000,"d":"1,000"},{"v":1000,"d":"1,000"},{"v":1050,"d":"1,050"},800,830,893,985,{"v":1055,"d":"1,055"},{"v":1100,"d":"1,100"},{"v":1176,"d":"1,176"},{"v":1420,"d":"1,420"},{"v":1502,"d":"1,502"},{"v":1530,"d":"1,530"},{"v":1620,"d":"1,620"},{"v":1660,"d":"1,660"},{"v":1750,"d":"1,750"},{"v":1500,"d":"1,500"},{"v":1251,"d":"1,251"},{"v":1300,"d":"1,300"},{"v":1529,"d":"1,529"},{"v":1600,"d":"1,600"},{"v":1546,"d":"1,546"},{"v":1615,"d":"1,615"},{"v":1520,"d":"1,520"},{"v":1600,"d":"1,600"},{"v":1670,"d":"1,670"},{"v":1695,"d":"1,695"},{"v":1695,"d":"1,695"}]
["broilers",{"$nulls":13},":",":",":",":",":",":",":",":",":",{"$nulls":4},":",":",":",{"v":1360,"d":"1,360"},{"v":1428,"d":"1,428"}]
["chicks & layers",{"$nulls":13},":",":",":",":",":",":",":",":",":",{"$nulls":4},":",":",":",165,166]
["others",{"$nulls":13},":",":",":",":",":",":",":",":",":",{"$nulls":4},":",":",":",21,21]
[]
[]
["Milk replacers",{"$nulls":8},0,0,0,0,0,0,0,0,0,0,0,0,0,0,0,0,0,0,0,0,0,0,0,0]
[]
[]
["Others",{"$nulls":8},0,0,0,0,0,0,0,1,0,0,0,0,0,0,0,0,2,2,2,2,2,102,122,135,140,140,140,140]
[]
[]
["TOTAL",{"$f":"B40+B31+B24+B17+B37","v":0},0,0,0,0,0,0,0,{"v":2000,"d":"2,000"},{"v":2000,"d":"2,000"},{"v":1980,"d":"1,980"},{"v":1570,"d":"1,570"},{"v":1603,"d":"1,603"},{"v":1682,"d":"1,682"},{"v":1745,"d":"1,745"},{"v":1852,"d":"1,852"},{"v":2042,"d":"2,042"},{"v":2323,"d":"2,323"},{"v":2705,"d":"2,705"},{"v":3032,"d":"3,032"},{"v":3060,"d":"3,060"},{"v":3245,"d":"3,245"},{"v":3335,"d":"3,335"},{"v":3520,"d":"3,520"},{"v":2602,"d":"2,602"},{"v":2328,"d":"2,328"},{"v":2497,"d":"2,497"},{"v":2756,"d":"2,756"},{"v":2852,"d":"2,852"},{"v":3099,"d":"3,099"},{"v":2917.2,"d":"2,917"},{"v":2792,"d":"2,792"},{"v":2910,"d":"2,910"},{"v":2870,"d":"2,870"},{"v":2905,"d":"2,905"},{"$f":"AK40+AK31+AK24+AK17+AK37","v":{"v":2905,"d":"2,905"}}]
[]
[]
[{"$nulls":28},"Others: Lambs"]

{"sheet":"Spain","index":96,"n_rows":42,"n_cols":43,"rows_kept":42,"merged":[[3,0,3,32]]}
["FEFAC SECRETARIAT GENERAL"]
[]
[{"$nulls":37},"2024/25"]
["INDUSTRIAL COMPOUND FEED PRODUCTION",{"$nulls":36},"Cattle","Pigs","Poultry","Milk replacers","Others","TOTAL"]
[{"$nulls":37},{"$f":"(($AL$16/$AK$16)-1)*100","v":{"v":-3.0000000000000027,"d":"-3.0"}},{"$f":"(($AL$23/$AK$23)-1)*100","v":{"v":0.7633587786259444,"d":"0.8"}},{"$f":"(($AL$30/$AK$30)-1)*100","v":{"v":5.769230769230771,"d":"5.8"}},{"$f":"(($AJ$36/$AI$36)-1)*100","v":{"$error":"#DIV/0!"}},{"$f":"(($AL$39/$AK$39)-1)*100","v":{"v":2.941176470588225,"d":"2.9"}},{"$f":"(($AL$42/$AK$42)-1)*100","v":{"v":0.44133476856835774,"d":"0.4"}}]
["TAB 3"]
[{"$nulls":37},"2023/24"]
["COUNTRY: ESPAGNE",{"$nulls":36},"Cattle","Pigs","Poultry","Milk replacers","Others","TOTAL"]
[{"$nulls":37},{"$f":"(($AK$16/$AJ$16)-1)*100","v":{"v":-2.7519139250982816,"d":"-2.8"}},{"$f":"(($AK$23/$AJ$23)-1)*100","v":{"v":1.4953126210583312,"d":"1.5"}},{"$f":"(($AK$30/$AJ$30)-1)*100","v":{"v":8.26566729127629,"d":"8.3"}},{"$f":"(($AK$36/$AJ$36)-1)*100","v":{"$error":"#DIV/0!"}},{"$f":"(($AK$39/$AJ$39)-1)*100","v":{"v":6.91823899371069,"d":"6.9"}},{"$f":"(($AK$42/$AJ$42)-1)*100","v":{"v":1.2166333757036574,"d":"1.2"}}]
[]
[]
["1 000 t",1989,1990,1991,1992,1993,1994,1995,1996,1997,1998,1999,2000,2001,2002,2003,2004,2005,2006,2007,2008,2009,2010,2011,2012,2013,2014,2015,2016,2017,2018,2019,2020,2021,2022,2023,2024,2025]
[null,"final figures","final figures","final figures","final figures","final figures","final figures","final figures","final figures","final figures","final figures","final figures","final figures","final figures","final figures","final figures","final figures","final figures","final figures","final figures","final figures","final figures","final figures","final figures","final figures","final figures","final figures","final figures","final figures","final figures","final figures","final figures","final figures","final figures","final figures","final figures","final?","forecasts"]
[]
[]
["Cattle",{"v":3250,"d":"3,250"},{"v":3200,"d":"3,200"},{"v":3084,"d":"3,084"},{"$f":"E17+E18+E20","v":{"v":3180,"d":"3,180"}},{"v":3100,"d":"3,100"},{"v":3150,"d":"3,150"},{"v":3650,"d":"3,650"},{"v":3150,"d":"3,150"},{"v":3350,"d":"3,350"},{"v":3200,"d":"3,200"},{"v":3500,"d":"3,500"},{"v":3500,"d":"3,500"},{"v":4748,"d":"4,748"},{"v":5246,"d":"5,246"},{"v":5050,"d":"5,050"},{"v":5504,"d":"5,504"},{"v":6197,"d":"6,197"},{"v":4100,"d":"4,100"},{"v":4780,"d":"4,780"},{"v":6986,"d":"6,986"},{"v":6700,"d":"6,700"},{"v":6800,"d":"6,800"},{"v":6816,"d":"6,816"},{"v":7060,"d":"7,060"},{"v":6700,"d":"6,700"},{"v":7154,"d":"7,154"},{"v":7447,"d":"7,447"},{"v":7799,"d":"7,799"},{"v":8443,"d":"8,443"},{"v":9178,"d":"9,178"},{"v":9489,"d":"9,489"},{"v":9441,"d":"9,441"},{"v":9320,"d":"9,320"},{"v":9059,"d":"9,059"},{"v":9666,"d":"9,666"},{"v":9400,"d":"9,400"},{"v":9118,"d":"9,118"}]
["fattening",":",":",":",{"v":1500,"d":"1,500"},{"v":1500,"d":"1,500"},{"v":1500,"d":"1,500"},{"v":1600,"d":"1,600"},{"v":1400,"d":"1,400"},{"v":1600,"d":"1,600"},{"v":1450,"d":"1,450"},{"v":1600,"d":"1,600"},{"v":1600,"d":"1,600"},{"v":2450,"d":"2,450"},{"v":2611,"d":"2,611"},{"v":2510,"d":"2,510"},{"$nulls":11},":",":",":",":",":",":"]
["dairy cow",":",":",":",{"v":1250,"d":"1,250"},{"v":1200,"d":"1,200"},{"v":1250,"d":"1,250"},{"v":1250,"d":"1,250"},{"v":1250,"d":"1,250"},{"v":1250,"d":"1,250"},{"v":1250,"d":"1,250"},{"v":1400,"d":"1,400"},{"v":1400,"d":"1,400"},{"v":1748,"d":"1,748"},{"v":2070,"d":"2,070"},{"v":2000,"d":"2,000"},{"$nulls":11},":",":",":",":",":",":"]
["calves (excl. milk replacers)",":",":",":",":",":",":",":",":",":",":",":",":",":",":",{"$nulls":12},":",":",":",":",":",":"]
["others",":",":",":",430,400,400,800,500,500,500,500,500,550,565,540,{"$nulls":11},":",":",":",":",":",":"]
[]
[]
["Pigs",{"v":5850,"d":"5,850"},{"v":5800,"d":"5,800"},{"v":5431,"d":"5,431"},{"$f":"E24+E25+E26+E27","v":{"v":6305,"d":"6,305"}},{"v":5998,"d":"5,998"},{"v":5850,"d":"5,850"},{"v":6040,"d":"6,040"},{"v":6530,"d":"6,530"},{"v":6450,"d":"6,450"},{"v":7000,"d":"7,000"},{"v":7700,"d":"7,700"},{"v":8270,"d":"8,270"},{"v":7733,"d":"7,733"},{"v":8137,"d":"8,137"},{"v":8235,"d":"8,235"},{"v":8535,"d":"8,535"},{"v":8713,"d":"8,713"},{"v":8935,"d":"8,935"},{"v":10185,"d":"10,185"},{"v":9651,"d":"9,651"},{"v":8985,"d":"8,985"},{"v":8844,"d":"8,844"},{"v":8732,"d":"8,732"},{"v":8758,"d":"8,758"},{"v":8900,"d":"8,900"},{"v":9625,"d":"9,625"},{"v":9937,"d":"9,937"},{"v":10420,"d":"10,420"},{"v":10440,"d":"10,440"},{"v":10589,"d":"10,589"},{"v":11054,"d":"11,054"},{"v":11748,"d":"11,748"},{"v":13361,"d":"13,361"},{"v":12987,"d":"12,987"},{"v":12907,"d":"12,907"},{"v":13100,"d":"13,100"},{"v":13200,"d":"13,200"}]
["piglets",":",":",":",710,670,650,640,700,800,{"v":1025,"d":"1,025"},{"v":1150,"d":"1,150"},{"v":1230,"d":"1,230"},{"v":1005,"d":"1,005"},{"v":1045,"d":"1,045"},{"v":1060,"d":"1,060"},{"$nulls":11},":",":",":",":",":",":"]
["pigs for fattening",":",":",":",{"v":4550,"d":"4,550"},{"v":4350,"d":"4,350"},{"v":4230,"d":"4,230"},{"v":4500,"d":"4,500"},{"v":4850,"d":"4,850"},{"v":4580,"d":"4,580"},{"v":4680,"d":"4,680"},{"v":5120,"d":"5,120"},{"v":5520,"d":"5,520"},{"v":5460,"d":"5,460"},{"v":5735,"d":"5,735"},{"v":5800,"d":"5,800"},{"$nulls":11},":",":",":",":",":",":"]
["breeding pigs",":",":",":",975,908,900,830,910,{"v":1000,"d":"1,000"},{"v":1225,"d":"1,225"},{"v":1360,"d":"1,360"},{"v":1450,"d":"1,450"},{"v":1198,"d":"1,198"},{"v":1277,"d":"1,277"},{"v":1295,"d":"1,295"},{"$nulls":11},":",":",":",":",":",":"]
["others",":",":",":",70,70,70,70,70,70,70,70,70,70,80,80,{"$nulls":11},":",":",":",":",":",":"]
[{"$nulls":31}," "," "]
[]
["Poultry",{"v":4260,"d":"4,260"},{"v":4300,"d":"4,300"},{"v":4159,"d":"4,159"},{"$f":"E31+E32+E33","v":{"v":4325,"d":"4,325"}},{"v":4435,"d":"4,435"},{"v":4350,"d":"4,350"},{"v":4050,"d":"4,050"},{"v":4100,"d":"4,100"},{"v":4150,"d":"4,150"},{"v":4100,"d":"4,100"},{"v":4100,"d":"4,100"},{"v":4050,"d":"4,050"},{"v":4388,"d":"4,388"},{"v":4559,"d":"4,559"},{"v":4425,"d":"4,425"},{"v":4578,"d":"4,578"},{"v":4351,"d":"4,351"},{"v":4547,"d":"4,547"},{"v":4583,"d":"4,583"},{"v":4540,"d":"4,540"},{"v":4734,"d":"4,734"},{"v":4483,"d":"4,483"},{"v":4442,"d":"4,442"},{"v":4409,"d":"4,409"},{"v":4400,"d":"4,400"},{"v":4654,"d":"4,654"},{"v":4205,"d":"4,205"},{"v":4401,"d":"4,401"},{"v":4198,"d":"4,198"},{"v":4314,"d":"4,314"},{"v":4478,"d":"4,478"},{"v":4004,"d":"4,004"},{"v":4387,"d":"4,387"},{"v":4264,"d":"4,264"},{"v":4803,"d":"4,803"},{"v":5200,"d":"5,200"},{"v":5500,"d":"5,500"}]
["broilers",":",":",":",{"v":2465,"d":"2,465"},{"v":2535,"d":"2,535"},{"v":2450,"d":"2,450"},{"v":2100,"d":"2,100"},{"v":2100,"d":"2,100"},{"v":2200,"d":"2,200"},{"v":2190,"d":"2,190"},{"v":2190,"d":"2,190"},{"v":2120,"d":"2,120"},{"v":2320,"d":"2,320"},{"v":2430,"d":"2,430"},{"v":2355,"d":"2,355"},{"$nulls":11},":",":",":",":",":",":"]
["chicks & layers",":",":",":",{"v":1680,"d":"1,680"},{"v":1700,"d":"1,700"},{"v":1700,"d":"1,700"},{"v":1750,"d":"1,750"},{"v":1800,"d":"1,800"},{"v":1700,"d":"1,700"},{"v":1690,"d":"1,690"},{"v":1690,"d":"1,690"},{"v":1690,"d":"1,690"},{"v":1790,"d":"1,790"},{"v":1830,"d":"1,830"},{"v":1780,"d":"1,780"},{"$nulls":11},":",":",":",":",":",":"]
["others",":",":",":",180,200,200,200,200,250,220,220,240,278,299,290,{"$nulls":11},":",":",":",":",":",":"]
[]
[]
["Milk replacers",84,74,70,63,64,65,60,60,60,60,60,65,0,0,0,0,0,0,0,0,0,0,0,0,0,0,0,0,0,0,0,0,0]
[]
[]
["Others",{"v":1161,"d":"1,161"},{"v":1165,"d":"1,165"},{"v":1156,"d":"1,156"},{"v":1353,"d":"1,353"},{"v":1453,"d":"1,453"},{"v":1212,"d":"1,212"},{"v":1312,"d":"1,312"},{"v":1200,"d":"1,200"},{"v":1050,"d":"1,050"},{"v":1000,"d":"1,000"},900,{"v":1000,"d":"1,000"},{"$f":"118+790+709","v":{"v":1617,"d":"1,617"}},{"v":1706,"d":"1,706"},{"v":1715,"d":"1,715"},{"v":1722,"d":"1,722"},{"v":1727,"d":"1,727"},{"v":1636,"d":"1,636"},{"v":1655,"d":"1,655"},174,137,128,158,134,150,138,147,151,166,175,182,184,170,169,159,170,175]
[]
[]
["TOTAL",{"$f":"B39+B30+B23+B16+B36","v":{"v":14605,"d":"14,605"}},{"v":14539,"d":"14,539"},{"v":13900,"d":"13,900"},{"v":15226,"d":"15,226"},{"v":15050,"d":"15,050"},{"v":14627,"d":"14,627"},{"v":15112,"d":"15,112"},{"v":15040,"d":"15,040"},{"v":15060,"d":"15,060"},{"v":15360,"d":"15,360"},{"v":16260,"d":"16,260"},{"v":16885,"d":"16,885"},{"v":18486,"d":"18,486"},{"v":19648,"d":"19,648"},{"v":19425,"d":"19,425"},{"v":20339,"d":"20,339"},{"v":20988,"d":"20,988"},{"v":19218,"d":"19,218"},{"v":21203,"d":"21,203"},{"v":21351,"d":"21,351"},{"v":20556,"d":"20,556"},{"v":20255,"d":"20,255"},{"v":20148,"d":"20,148"},{"v":20361,"d":"20,361"},{"v":20150,"d":"20,150"},{"v":21571,"d":"21,571"},{"v":21736,"d":"21,736"},{"v":22771,"d":"22,771"},{"v":23247,"d":"23,247"},{"v":24256,"d":"24,256"},{"v":25203,"d":"25,203"},{"v":25377,"d":"25,377"},{"v":27238,"d":"27,238"},{"v":26479,"d":"26,479"},{"v":27535,"d":"27,535"},{"v":27870,"d":"27,870"},{"v":27993,"d":"27,993"}]

{"sheet":"Slovenia","index":97,"n_rows":42,"n_cols":43,"rows_kept":42,"merged":[[3,0,3,29]]}
["FEFAC SECRETARIAT GENERAL"]
[]
[{"$nulls":37},"2025/24"]
["INDUSTRIAL COMPOUND FEED PRODUCTION",{"$nulls":36},"Cattle","Pigs","Poultry","Milk replacers","Others","TOTAL"]
[{"$nulls":37},{"$f":"(($AL$16/$AK$16)-1)*100","v":{"v":0.9626152123352716,"d":"1.0"}},{"$f":"(($AL$23/$AK$23)-1)*100","v":{"v":0.5622399640166531,"d":"0.6"}},{"$f":"(($AL$30/$AK$30)-1)*100","v":{"v":6.034826328213616,"d":"6.0"}},{"$f":"(($AK$36/$AJ$36)-1)*100","v":{"$error":"#DIV/0!"}},{"$f":"(($AL$39/$AK$39)-1)*100","v":{"v":1.8166666666666664,"d":"1.8"}},{"$f":"(($AL$42/$AK$42)-1)*100","v":{"v":4.122745663096983,"d":"4.1"}}]
["TAB 3"]
[{"$nulls":37},"2024/23"]
["COUNTRY: SLOVENIA",{"$nulls":36},"Cattle","Pigs","Poultry","Milk replacers","Others","TOTAL"]
[{"$nulls":37},{"$f":"(($AK$16/$AJ$16)-1)*100","v":{"v":4.405697390756913,"d":"4.4"}},{"$f":"(($AK$23/$AJ$23)-1)*100","v":{"v":-2.751350523806395,"d":"-2.8"}},{"$f":"(($AK$30/$AJ$30)-1)*100","v":{"v":0.030011073289104573,"d":"0.0"}},{"$f":"(($AJ$36/$AI$36)-1)*100","v":{"$error":"#DIV/0!"}},{"$f":"(($AK$39/$AJ$39)-1)*100","v":{"v":67.0843776106934,"d":"67.1"}},{"$f":"(($AK$42/$AJ$42)-1)*100","v":{"v":1.3700158557367281,"d":"1.4"}}]
[]
[]
["1 000 t",1989,1990,1991,1992,1993,1994,1995,1996,1997,1998,1999,2000,2001,2002,2003,2004,2005,2006,2007,2008,2009,2010,2011,2012,2013,2014,2015,2016,2017,2018,2019,2020,2021,2022,2023,2024,2025]
[null,"final figures","final figures","final figures","final figures","final figures","final figures","final figures","final figures","final figures","final figures","final figures","final figures","final figures","final figures","final figures","final figures","final figures","final figures","final figures","final figures","final figures","final figures","final figures","final figures","final figures","final figures","final figures"," final figures"," final figures","final figures","final figures","final figures","final figures","final figures","final figures","final","forecasts"]
[]
[]
["Cattle",{"$nulls":8},76,77,78,80,80,99,106,{"$f":"Q17+Q18+Q19+Q20","v":114},129,130,104,104,95,91,98,98,95,84,85,92,85,90,{"v":83.883,"d":"84"},87,88,{"v":85.851936,"d":"86"},{"v":88.953,"d":"89"},92.872,93.766]
["fattening",{"$nulls":13},":",":",106,113,{"$nulls":9},":",":",":",":",":",{"v":4.5,"d":"5"},15,{"v":14.982,"d":"15"},{"v":12.78,"d":"13"},13.159,12.807]
["dairy cow",{"$nulls":13},":",":",3,11,{"$nulls":9},":",":",":",":",":",{"v":15.3,"d":"15"},63,{"v":68.705936,"d":"69"},{"v":73.592,"d":"74"},{"v":77.11,"d":"77.110"},78.416]
["calves (excl. milk replacers)",{"$nulls":13},":",":",3,3,{"$nulls":9},":",":",":",":",":",{"v":0.6,"d":"1"},3,{"v":1.812,"d":"2"},{"v":2.338,"d":"2"},2.373,2.343]
["others",{"$nulls":13},":",":",2,2,{"$nulls":9},":",":",":",":",":",{"v":0.1,"d":"0"},8,{"v":3.52,"d":"4"},{"v":2.43,"d":"2"},{"v":0.23,"d":"0.230"},{"v":0.1,"d":"0.100"}]
[]
[]
["Pigs",{"$nulls":8},142,145,146,152,152,129,136,{"$f":"Q24+Q25+Q26","v":141},113,110,172,172,110,65,74,59,59,48,50,51,39,43,{"v":42.572,"d":"43"},43,42,{"v":43.128058,"d":"43"},{"v":45.723,"d":"46"},44.465,44.715]
["piglets",{"$nulls":13},":",":",7,6,{"$nulls":9},":",":",":",":",":",{"v":0.473,"d":"0"},5,{"v":6.039,"d":"6"},{"v":4.83,"d":"5"},{"v":5,"d":"5.000"},4.877]
["pigs for fattening",{"$nulls":13},":",":",132,105,{"$nulls":9},":",":",":",":",":",{"v":22.464,"d":"22"},28,{"v":32.038058,"d":"32"},{"v":34.791,"d":"35"},33.375,33.738]
["breeding pigs",{"$nulls":13},":",":",2,2,{"$nulls":9},":",":",":",":",":",{"v":0.369,"d":"0"},6,{"v":5.051,"d":"5"},{"v":6.102,"d":"6"},{"v":6.09,"d":"6.090"},{"v":6.1,"d":"6.100"}]
["others",{"$nulls":13},":",":",":",{"$nulls":10},":",":",":",":",":",0,3,{"v":7.9,"d":"8"},0,{"v":0,"d":"0.000"},{"v":0,"d":"0.000"}]
[]
[]
["Poultry",{"$nulls":8},241,246,256,284,284,228,244,{"$f":"Q31+Q32","v":232},233,225,210,210,260,255,226,208,208,202,200,228,239,246,{"v":246.342,"d":"246"},255,258,{"v":257.440508,"d":"257"},{"v":260.873709,"d":"261"},260.952,{"v":276.7,"d":"276.700"}]
["broilers",{"$nulls":13},":",":",225,226,{"$nulls":9},":",":",":",":",":",{"v":159.933,"d":"160"},164,{"v":169.90925,"d":"170"},{"v":171.474,"d":"171"},182.017,199.192]
["chicks & layers",{"$nulls":13},":",":",7,7,{"$nulls":9},":",":",":",":",":",{"v":8.815,"d":"9"},52,{"v":28.674746,"d":"29"},{"v":72.107,"d":"72"},45.576,44.947]
["others",{"$nulls":13},":",":",":",{"$nulls":10},":",":",":",":",":",{"v":0.039,"d":"0"},{"v":0.042,"d":"0"},{"v":0.041,"d":"0"},{"v":0.08,"d":"0"},0.067,{"v":0.09,"d":"0.090"}]
["turkey",{"$nulls":33},{"v":17.451,"d":"17"},{"v":17.301,"d":"17"},17.196,22.821]
[{"$nulls":35},{"v":87,"d":"87.000"}]
["Milk replacers",{"$nulls":8},0,0,0,0,0,0,0,0,0,0,0,0,0,0,0,0,0,0,0,0,0,0,0,{"v":0,"d":"0.000"},{"v":0,"d":"0.000"}]
[]
[]
["Others",{"$nulls":8},14,14,15,10,10,48,17,14,9,9,9,9,12,12,11,14,13,24,25,16,9,13,{"v":13.902,"d":"14"},{"v":12.5,"d":"13"},6,{"v":9.982056,"d":"10"},{"v":3.591,"d":"4"},{"v":6,"d":"6.000"},6.109]
[]
[]
["TOTAL",{"$f":"B39+B30+B23+B16+B36","v":0},0,0,0,0,0,0,0,473,482,495,526,526,504,503,501,484,474,495,495,477,423,409,379,375,358,360,387,372,392,{"v":386.699,"d":"387"},{"v":397.5,"d":"398"},394,{"$f":"AI39+AI30+AI23+AI16+AI36","v":{"v":396.402558,"d":"396"}},{"v":399.140709,"d":"399"},{"v":404.609,"d":"405"},{"v":421.29,"d":"421"}]

{"sheet":"Slovakia","index":98,"n_rows":42,"n_cols":43,"rows_kept":42,"merged":[[3,0,3,32]]}
["FEFAC SECRETARIAT GENERAL"]
[]
[{"$nulls":37},"2024/23"]
["INDUSTRIAL COMPOUND FEED PRODUCTION",{"$nulls":36},"Cattle","Pigs","Poultry","Milk replacers","Others","TOTAL"]
[{"$nulls":37},{"$f":"(($AK$16/$AJ$16)-1)*100","v":{"v":0,"d":"0.0"}},{"$f":"(($AK$23/$AJ$23)-1)*100","v":{"v":0,"d":"0.0"}},{"$f":"(($AK$30/$AJ$30)-1)*100","v":{"v":0,"d":"0.0"}},{"$f":"(($AK$36/$AJ$36)-1)*100","v":{"$error":"#DIV/0!"}},{"$f":"(($AK$39/$AJ$39)-1)*100","v":{"v":0,"d":"0.0"}},{"$f":"(($AK$42/$AJ$42)-1)*100","v":{"v":0,"d":"0.0"}}]
["TAB 3"]
[{"$nulls":37},"2023/22"]
["COUNTRY: SLOVAKIA",{"$nulls":36},"Cattle","Pigs","Poultry","Milk replacers","Others","TOTAL"]
[{"$nulls":37},{"$f":"(($AJ$16/$AI$16)-1)*100","v":{"v":9.753999463759055,"d":"9.8"}},{"$f":"(($AJ$23/$AI$23)-1)*100","v":{"v":-2.733439744612942,"d":"-2.7"}},{"$f":"(($AJ$30/$AI$30)-1)*100","v":{"v":-3.789599050089154,"d":"-3.8"}},{"$f":"(($AJ$36/$AI$36)-1)*100","v":{"$error":"#DIV/0!"}},{"$f":"(($AJ$39/$AI$39)-1)*100","v":{"v":18.124999999999993,"d":"18.1"}},{"$f":"(($AJ$42/$AI$42)-1)*100","v":{"v":0.6403991297215805,"d":"0.6"}}]
[]
[]
["1 000 t",1989,1990,1991,1992,1993,1994,1995,1996,1997,1998,1999,2000,2001,2002,2003,2004,2005,2006,2007,2008,2009,2010,2011,2012,2013,2014,2015,2016,2017,2018,2019,2020,2021,2022,2023,2024]
[null,"final figures","final figures","final figures","final figures","final figures","final figures","final figures","final figures","final figures","final figures","final figures","final figures","final figures","final figures","final figures","final figures","final figures","final figures","final figures","final figures","final figures","final figures","final figures","final figures","final figures","final figures","final figures"," final figures"," final figures","final figures","final figures","final figures","final figures","estimates","final figures","forecasts"]
[]
[]
["Cattle",{"$nulls":8},231,237,212,273,263,291,281,259,{"$f":"R17+R18+R19+R20","v":262},274,265,249,206,196,198,212,208,223,206,200,190,{"v":186.787,"d":"187"},{"v":187.78499999999997,"d":"188"},{"v":194.83999999999997,"d":"195"},{"v":187.15,"d":"187"},{"v":179.024,"d":"179"},{"v":196.48600000000002,"d":"196"},{"$f":"AK17+AK18+AK19+AK20","v":{"v":196.48600000000002,"d":"196"}}]
["fattening",{"$nulls":13},":",":",":",22,24,22,17,14,12,12,15,15,17,15,16,16,{"v":12.75,"d":"13"},{"v":15.03,"d":"15"},{"v":17.649,"d":"18"},16,{"v":13.808,"d":"14"},{"v":16.52,"d":"17"},{"v":16.52,"d":"17"}]
["dairy cow",{"$nulls":13},":",":",":",191,199,192,186,155,148,150,159,157,170,156,151,144,145,{"v":144.896,"d":"145"},{"v":149.009,"d":"149"},{"v":143.9,"d":"144"},{"v":139.209,"d":"139"},{"v":152.966,"d":"153"},{"v":152.966,"d":"153"}]
["calves (excl. milk replacers)",{"$nulls":13},":",":",":",27,27,26,23,17,16,16,19,17,17,15,14,13,{"v":12.037,"d":"12"},{"v":11.969,"d":"12"},{"v":11.887,"d":"12"},{"v":10.25,"d":"10"},{"v":9.675,"d":"10"},11,11]
["others",{"$nulls":13},":",":",":",22,24,25,23,20,20,20,19,19,19,20,19,17,17,{"v":15.89,"d":"16"},{"v":16.295,"d":"16"},17,16,16,16]
[]
[]
["Pigs",{"$nulls":8},835,652,538,673,592,614,603,473,{"$f":"R24+R25+R26+R27","v":394},422,397,275,214,224,204,230,239,248,246,224,229,{"v":247.049,"d":"247"},{"v":244.92999999999998,"d":"245"},{"v":247.56099999999998,"d":"248"},{"v":265.291,"d":"265"},{"v":200.48000000000002,"d":"200"},195,{"$f":"AK24+AK25+AK26+AK27","v":195}]
["piglets",{"$nulls":13},":",":",":",34,36,35,23,17,18,17,21,24,25,26,25,33,31,{"v":29.592,"d":"30"},{"v":26.486,"d":"26"},{"v":31.164,"d":"31"},{"v":25.917,"d":"26"},25,25]
["pigs for fattening",{"$nulls":13},":",":",":",258,279,275,197,153,164,151,164,164,162,161,147,139,{"v":157.604,"d":"158"},{"v":150.375,"d":"150"},{"v":153.831,"d":"154"},{"v":157.356,"d":"157"},{"v":117.409,"d":"117"},116,116]
["breeding pigs",{"$nulls":13},":",":",":",22,24,19,45,34,33,26,34,12,40,37,34,21,{"v":19.47,"d":"19"},{"v":25.594,"d":"26"},{"v":26.584,"d":"27"},{"v":31.311,"d":"31"},24,22,22]
["others",{"$nulls":13},":",":",":",80,83,68,10,10,9,10,11,39,21,22,18,36,{"v":38.975,"d":"39"},{"v":39.369,"d":"39"},{"v":40.66,"d":"41"},{"v":45.46,"d":"45"},{"v":33.154,"d":"33"},32,32]
[]
[]
["Poultry",{"$nulls":8},390,372,371,361,385,424,377,334,{"$f":"R31+R32+R33","v":334},358,312,296,223,231,226,247,241,225,229,222,221,{"v":198.663,"d":"199"},{"v":197.76100000000002,"d":"198"},{"v":207.46699999999998,"d":"207"},{"v":210.779,"d":"211"},{"v":278.76300000000003,"d":"279"},{"v":268.199,"d":"268"},{"$f":"AK31+AK32+AK33+AK34","v":{"v":268.199,"d":"268"}}]
["broilers",{"$nulls":13},":",":",":",209,196,164,156,97,109,107,115,113,99,98,88,84,{"v":70.08,"d":"70"},{"v":76.135,"d":"76"},{"v":80.116,"d":"80"},{"v":80.396,"d":"80"},{"v":145.983,"d":"146"},{"v":150.006,"d":"150"},{"v":150.006,"d":"150"}]
["chicks & layers",{"$nulls":13},":",":",":",100,119,115,109,106,116,105,121,114,111,116,119,121,{"v":114.583,"d":"115"},{"v":107.626,"d":"108"},{"v":110.351,"d":"110"},{"v":112.383,"d":"112"},{"v":117.78,"d":"118"},{"v":100.193,"d":"100"},{"v":100.193,"d":"100"}]
["others",{"$nulls":13},":",":",":",25,43,33,31,20,6,14,11,14,15,15,15,16,14,14,17,18,15,18,18]
[]
[]
["Milk replacers",{"$nulls":8},0,0,0,0,0,0,0,0,0,0,0,0,0,0,0,0,0,0,0,0,0,0,0,0,0]
[]
[]
["Others",{"$nulls":8},18,7,6,11,9,15,18,16,12,15,16,14,12,10,12,12,13,14,15,16,16,13,{"v":12.6,"d":"13"},14,15,16,{"v":18.9,"d":"19"},{"v":18.9,"d":"19"}]
[]
[]
["TOTAL",{"$f":"B39+B30+B23+B16+B36","v":0},0,0,0,0,0,0,0,{"v":1474,"d":"1,474"},{"v":1268,"d":"1,268"},{"v":1127,"d":"1,127"},{"v":1318,"d":"1,318"},{"v":1249,"d":"1,249"},{"v":1344,"d":"1,344"},{"v":1279,"d":"1,279"},{"v":1082,"d":"1,082"},{"v":1002,"d":"1,002"},{"v":1069,"d":"1,069"},990,834,655,661,640,701,701,710,696,662,656,{"v":645.499,"d":"645"},{"v":643.076,"d":"643"},{"v":663.8679999999999,"d":"664"},{"v":678.22,"d":"678.2"},{"v":674.267,"d":"674"},{"$f":"AJ16+AJ23+AJ30+AJ39","v":{"v":678.5849999999999,"d":"679"}},{"$f":"AK16+AK23+AK30+AK39","v":{"v":678.5849999999999,"d":"679"}}]

{"sheet":"Sweden","index":99,"n_rows":42,"n_cols":43,"rows_kept":42,"merged":[[3,0,3,32]]}
["FEFAC SECRETARIAT GENERAL"]
[]
[{"$nulls":37},"2022/21"]
["INDUSTRIAL COMPOUND FEED PRODUCTION",{"$nulls":36},"Cattle","Pigs","Poultry","Milk replacers","Others","TOTAL"]
[{"$nulls":37},{"$f":"(($AI$16/$AH$16)-1)*100","v":{"v":-2.601809954751133,"d":"-2.6"}},{"$f":"(($AI$23/$AH$23)-1)*100","v":{"v":4.0000000000000036,"d":"4.0"}},{"$f":"(($AI$30/$AH$30)-1)*100","v":{"v":2.582496413199431,"d":"2.6"}},{"$f":"(($AI$36/$AH$36)-1)*100","v":{"v":0,"d":"0.0"}},{"$f":"(($AI$39/$AH$39)-1)*100","v":{"v":-4.225352112676061,"d":"-4.2"}},{"$f":"(($AI$42/$AH$42)-1)*100","v":{"v":0.2525252525252597,"d":"0.3"}}]
["TAB 3"]
[{"$nulls":37},"2023/22"]
["COUNTRY: SWEDEN",{"$nulls":36},"Cattle","Pigs","Poultry","Milk replacers","Others","TOTAL"]
[{"$nulls":37},{"$f":"(($AJ$16/$AI$16)-1)*100","v":{"v":0,"d":"0.0"}},{"$f":"(($AJ$23/$AI$23)-1)*100","v":{"v":-9.467455621301779,"d":"-9.5"}},{"$f":"(($AJ$30/$AI$30)-1)*100","v":{"v":-4.1958041958041985,"d":"-4.2"}},{"$f":"(($AJ$36/$AI$36)-1)*100","v":{"v":0,"d":"0.0"}},{"$f":"(($AJ$39/$AI$39)-1)*100","v":{"v":5.882352941176472,"d":"5.9"}},{"$f":"(($AJ$42/$AI$42)-1)*100","v":{"v":-2.92191435768262,"d":"-2.9"}}]
[]
[]
["1 000 t",1989,1990,1991,1992,1993,1994,1995,1996,1997,1998,1999,2000,2001,2002,2003,2004,2005,2006,2007,2008,2009,2010,2011,2012,2013,2014,2015,2016,2017,2018,2019,2020,2021,2022,2023,2024,2025]
[null,"final figures","final figures","final figures","final figures","final figures","final figures","final figures","final figures","final figures","final figures","final figures","final figures","final figures","final figures","final figures","final figures","final figures","final figures","final figures","final figures","final figures","final figures","final figures","final figures","final figures","final figures","estimates","final figures","final figures","final figures","final figures","final figures","final figures","estimates","estimates","forecasts","forecasts"]
[]
[]
["Cattle",{"$nulls":3},{"$f":"E18+E20","v":960},{"v":1110,"d":"1,110"},{"v":1130,"d":"1,130"},{"v":1200,"d":"1,200"},{"v":1220,"d":"1,220"},{"v":1160,"d":"1,160"},{"v":1170,"d":"1,170"},{"$f":"L18+L20","v":{"v":1235,"d":"1,235"}},{"v":1223,"d":"1,223"},{"v":1238,"d":"1,238"},{"$f":"O18+O20+O17","v":{"v":1224,"d":"1,224"}},{"$f":"P18+P20","v":{"v":1197,"d":"1,197"}},{"$f":"Q18+Q20+Q17","v":{"v":1163,"d":"1,163"}},{"$f":"R18+R20+R17+R19","v":{"v":1138,"d":"1,138"}},{"v":1121,"d":"1,121"},{"v":1107,"d":"1,107"},{"v":1031,"d":"1,031"},915,872,850,932,903,841,872,867,868,931,981,913,884,861,861,832,832]
["fattening",{"$nulls":3},":",":",":",":",":",":",":",":",":",":",189,":",167,152,154,158,142,113,117,110,117,113,":",":",":",133,164,168,137,133,129,131,106,106]
["dairy cow",{"$nulls":3},910,{"v":1010,"d":"1,010"},{"v":1030,"d":"1,030"},{"v":1100,"d":"1,100"},{"v":1120,"d":"1,120"},{"v":1065,"d":"1,065"},":",{"v":1065,"d":"1,065"},{"v":1050,"d":"1,050"},{"v":1063,"d":"1,063"},{"v":1016,"d":"1,016"},{"v":1045,"d":"1,045"},965,930,914,897,849,764,711,700,771,752,":",":",":",735,767,813,776,751,732,730,726,726]
["calves (excl. milk replacers)",{"$nulls":3},":",":",":",":",":",":",":",":",":",":",":",":",null,16,11,8,10,14,12,10,16,15,":",":",":",":",":",":"]
["others",{"$nulls":3},50,100,100,100,100,95,":",170,173,175,19,152,31,40,42,44,30,24,32,30,28,23,":",":",":",":",":",":"]
[]
[]
["Pigs",{"$nulls":3},{"$f":"E24+E25+E26","v":600},670,660,700,700,700,690,{"$f":"L24+L25+L26+L27","v":578},492,510,500,491,445,413,385,395,402,377,385,350,312,297,302,308,308,322,339,341,323,325,338,306,338,338]
["piglets",{"$nulls":3},80,90,90,100,100,100,":",90,80,80,77,76,71,62,64,62,60,57,68,60,60,43,":",":",":",57,58,55,58,56,56,51,56,56]
["pigs for fattening",{"$nulls":3},340,390,380,400,400,400,":",335,280,285,273,265,258,241,210,245,256,235,223,200,175,177,":",":",":",180,196,205,185,190,205,183,205,205]
["breeding pigs",{"$nulls":3},180,190,190,200,200,200,":",140,120,135,126,140,110,94,85,87,85,83,82,80,76,76,":",":",":",85,85,81,82,79,77,71,77,77]
["others",{"$nulls":3},":",":",":",":",":",":",":",13,12,10,24,10,6,16,26,1,1,2,12,10,1,1,":",":",":",":",":",":"]
[]
[]
["Poultry",{"$nulls":3},{"$f":"E31+E32","v":460},470,490,500,{"$f":"I31+I32+I33","v":540},{"$f":"J31+J32","v":520},500,{"$f":"L33+L32+L31","v":500},500,514,491,480,510,488,484,516,542,{"$f":"SUM(V31:V33)","v":534},554,550,554,548,572,627,667,667,676,718,717,697,715,685,715,715]
["broilers",{"$nulls":3},230,230,240,250,250,280,":",190,195,212,199,190,189,191,195,214,218,211,219,215,218,226,":",":",":",352,342,380,384,407,401,399,401,401]
["chicks & layers",{"$nulls":3},230,240,250,250,250,240,":",205,200,197,209,190,268,297,272,255,270,267,243,245,251,239,":",":",":",315,334,338,333,290,314,286,314,314]
["others",{"$nulls":3},":",":",":",":",40,":",":",105,105,105,83,100,53,null,17,47,54,56,92,90,85,83,":",":",":",":",":",":"]
[]
[]
["Milk replacers",{"$nulls":3},":",":",":",10,10,10,7,7,6,6,6,6,5,6,2,2,1,1,1,1,2,2,2,2,3,3,3,3,3,3,3,3,3,3]
[]
[]
["Others",{"$nulls":3},48,50,50,50,50,50,50,50,50,50,49,50,21,52,65,120,98,82,85,85,86,138,101,123,88,67,71,67,68,71,68,72,68,68]
[]
[]
["TOTAL",{"$f":"B39+B30+B23+B16+B36","v":0},0,0,{"$f":"E39+E30+E23+E16","v":{"v":2068,"d":"2,068"}},{"v":2300,"d":"2,300"},{"v":2330,"d":"2,330"},{"$f":"H39+H30+H23+H16+H36","v":{"v":2460,"d":"2,460"}},{"v":2520,"d":"2,520"},{"v":2440,"d":"2,440"},{"v":2417,"d":"2,417"},{"v":2370,"d":"2,370"},{"v":2271,"d":"2,271"},{"v":2318,"d":"2,318"},{"v":2270,"d":"2,270"},{"v":2224,"d":"2,224"},{"v":2144,"d":"2,144"},{"v":2097,"d":"2,097"},{"v":2057,"d":"2,057"},{"v":2140,"d":"2,140"},{"v":2074,"d":"2,074"},{"v":1909,"d":"1,909"},{"v":1897,"d":"1,897"},{"v":1836,"d":"1,836"},{"v":1886,"d":"1,886"},{"v":1888,"d":"1,888"},{"v":1818,"d":"1,818"},{"v":1932,"d":"1,932"},{"v":1933,"d":"1,933"},{"v":1927,"d":"1,927"},{"v":2020,"d":"2,020"},{"v":2110,"d":"2,110"},{"v":2024,"d":"2,024"},{"v":1980,"d":"1,980"},{"v":1985,"d":"1,985"},{"v":1927,"d":"1,927"},{"$f":"AK39+AK30+AK23+AK16+AK36","v":{"v":1956,"d":"1,956"}},{"v":1956,"d":"1,956"}]

{"sheet":"The Netherlands","index":100,"n_rows":47,"n_cols":43,"rows_kept":47,"merged":[[3,0,3,32]]}
["FEFAC SECRETARIAT GENERAL"]
[]
[{"$nulls":37},"2025/24"]
["INDUSTRIAL COMPOUND FEED PRODUCTION",{"$nulls":36},"Cattle","Pigs","Poultry","Milk replacers","Others","TOTAL"]
[{"$nulls":37},{"$f":"(($AL$16/$AK$16)-1)*100","v":{"v":-5.000000000000004,"d":"-5.0"}},{"$f":"(($AL$23/$AK$23)-1)*100","v":{"v":-9.999999999999998,"d":"-10.0"}},{"$f":"(($AL$30/$AK$30)-1)*100","v":{"v":-2.0000000000000018,"d":"-2.0"}},{"$f":"(($AL$36/$AK$36)-1)*100","v":{"$error":"#DIV/0!"}},{"$f":"(($AL$39/$AK$39)-1)*100","v":{"v":-4.0000000000000036,"d":"-4.0"}},{"$f":"(($AL$42/$AK$42)-1)*100","v":{"v":-5.258781558726666,"d":"-5.3"}}]
["TAB 3"]
[{"$nulls":37},"2024/23"]
["COUNTRY: THE NETHERLANDS",{"$nulls":36},"Cattle","Pigs","Poultry","Milk replacers","Others","TOTAL"]
[{"$nulls":37},{"$f":"(($AK$16/$AJ$16)-1)*100","v":{"v":-25.284156808165157,"d":"-25.3"}},{"$f":"(($AK$23/$AJ$23)-1)*100","v":{"v":-28.972177512071738,"d":"-29.0"}},{"$f":"(($AK$30/$AJ$30)-1)*100","v":{"v":-1.4546351084812614,"d":"-1.5"}},{"$f":"(($AJ$36/$AI$36)-1)*100","v":{"v":0,"d":"0.0"}},{"$f":"(($AK$39/$AJ$39)-1)*100","v":{"v":5.752961082910324,"d":"5.8"}},{"$f":"(($AK$42/$AJ$42)-1)*100","v":{"v":-20.93729659362118,"d":"-20.9"}}]
[]
[]
["1 000 t",1989,1990,1991,1992,1993,1994,1995,1996,1997,1998,1999,2000,2001,2002,2003,2004,2005,2006,2007,2008,2009,2010,2011,2012,2013,2014,2015,2016,2017,2018,2019,2020,2021,2022,2023,2024,2025]
[null,"final figures","final figures","final figures","final figures","final figures","final figures","final figures","final figures","final figures","final figures","final figures","final figures","final figures","final figures","final figures","final figures","final figures","final figures","final figures","final figures","final figures","final figures","final figures","final figures","final figures","final figures","final figures","final figures","final figures","final figures","final figures","final figures","final figures","estimates","final figures","final?","forecasts"]
[]
[]
["Cattle",{"v":4295,"d":"4,295"},{"$f":"C18+C20","v":{"v":4053,"d":"4,053"}},{"v":4155,"d":"4,155"},{"$f":"E17+E18+E20","v":{"v":4046,"d":"4,046"}},{"v":4121,"d":"4,121"},{"$f":"G17+G18+G19","v":{"v":4124,"d":"4,124"}},{"v":4026,"d":"4,026"},{"v":3804,"d":"3,804"},{"v":3654,"d":"3,654"},{"v":3597,"d":"3,597"},{"v":3646,"d":"3,646"},{"v":3541,"d":"3,541"},{"v":3449,"d":"3,449"},{"v":3306,"d":"3,306"},{"v":3388,"d":"3,388"},{"v":3320,"d":"3,320"},{"$f":"R17+R18","v":{"v":3178,"d":"3,178"}},{"v":3140,"d":"3,140"},{"$f":"T17+T18+T20","v":{"v":3375,"d":"3,375"}},{"v":3560,"d":"3,560"},{"v":3364,"d":"3,364"},{"v":3433,"d":"3,433"},{"v":3451,"d":"3,451"},{"v":3543,"d":"3,543"},{"v":3543,"d":"3,543"},{"v":3852,"d":"3,852"},{"$f":"AB17+AB18+AB19","v":{"v":4098,"d":"4,098"}},{"$f":"AC18+AC17+AC19","v":{"v":4419,"d":"4,419"}},{"v":4587,"d":"4,587"},{"v":4553,"d":"4,553"},{"v":4503,"d":"4,503"},{"v":4501,"d":"4,501"},{"v":4380,"d":"4,380"},{"v":4380,"d":"4,380"},{"v":4311,"d":"4,311"},{"v":3221,"d":"3,221"},{"$f":"AK16*0.95","v":{"v":3059.95,"d":"3,060"}}]
["fattening",":",":",":",341,383,428,361,318,284,279,283,479,308,266,276,":",262,259,347,343,338,380,432,487,487,null,474,508,163,156,157,149,61,61,35,59,{"$f":"AK17*0.95","v":{"v":56.05,"d":"56"}}]
["dairy cow",":",{"v":3891,"d":"3,891"},{"v":3578,"d":"3,578"},{"v":3546,"d":"3,546"},{"v":3562,"d":"3,562"},{"v":3644,"d":"3,644"},{"v":3601,"d":"3,601"},{"v":3418,"d":"3,418"},{"v":3327,"d":"3,327"},{"v":3271,"d":"3,271"},{"v":3206,"d":"3,206"},{"v":2949,"d":"2,949"},{"v":3013,"d":"3,013"},{"v":2998,"d":"2,998"},{"v":3067,"d":"3,067"},":",{"v":2916,"d":"2,916"},{"v":2881,"d":"2,881"},{"v":3012,"d":"3,012"},{"v":3186,"d":"3,186"},{"v":2923,"d":"2,923"},{"v":2982,"d":"2,982"},{"v":2943,"d":"2,943"},{"v":2969,"d":"2,969"},{"v":2969,"d":"2,969"},null,{"v":3395,"d":"3,395"},{"v":3667,"d":"3,667"},{"v":3699,"d":"3,699"},{"v":3586,"d":"3,586"},{"v":3509,"d":"3,509"},{"v":3535,"d":"3,535"},{"v":3471,"d":"3,471"},{"v":3471,"d":"3,471"},{"v":3377,"d":"3,377"},{"v":2497,"d":"2,497"},{"v":2372.15,"d":"2,372"}]
["calves (excl. milk replacers)",":",":",":",":",":",52,64,68,43,47,157,113,128,42,45,":",":",":",{"$nulls":8},229,244,725,811,837,817,848,848,900,665,{"v":631.75,"d":"632"}]
["others",":",162,577,159,176,":",":",":",":",":",":",":",":",":",":",":",":",":",16,31,103,71,76,87,87,null,":",":",":",":"]
[]
[]
["Pigs",{"v":7611,"d":"7,611"},{"v":7690,"d":"7,690"},{"v":7311,"d":"7,311"},{"$f":"E24+E25+E26","v":{"v":7678,"d":"7,678"}},{"v":8007,"d":"8,007"},{"v":7763,"d":"7,763"},{"v":7405,"d":"7,405"},{"v":7459,"d":"7,459"},{"v":7052,"d":"7,052"},{"v":6951,"d":"6,951"},{"v":6729,"d":"6,729"},{"v":6001,"d":"6,001"},{"v":5762,"d":"5,762"},{"v":5309,"d":"5,309"},{"v":5227,"d":"5,227"},{"v":5120,"d":"5,120"},{"$f":"R24+R25+R26","v":{"v":5378,"d":"5,378"}},{"v":5672,"d":"5,672"},{"v":5755,"d":"5,755"},{"v":6107,"d":"6,107"},{"v":5936,"d":"5,936"},{"v":5863,"d":"5,863"},{"v":5734,"d":"5,734"},{"v":5451,"d":"5,451"},{"v":5360,"d":"5,360"},{"v":5349,"d":"5,349"},{"$f":"AB24+AB25+AB26","v":{"v":5362,"d":"5,362"}},{"$f":"AC25+AC24+AC26","v":{"v":5132,"d":"5,132"}},{"v":5264,"d":"5,264"},{"v":5106,"d":"5,106"},{"v":5029,"d":"5,029"},{"v":4917,"d":"4,917"},{"v":4668,"d":"4,668"},{"v":4668,"d":"4,668"},{"v":4349,"d":"4,349"},{"v":3089,"d":"3,089"},{"$f":"AK23*0.9","v":{"v":2780.1,"d":"2,780"}}]
["piglets",":",":",":",988,{"v":1002,"d":"1,002"},969,930,819,734,810,841,863,815,734,694,":",689,758,770,797,795,753,733,682,682,null,714,752,766,694,683,681,628,628,581,454,{"$f":"AK24*0.9","v":{"v":408.6,"d":"409"}}]
["pigs for fattening",":",":",":",{"v":5050,"d":"5,050"},{"v":5354,"d":"5,354"},{"v":5079,"d":"5,079"},{"v":4953,"d":"4,953"},{"v":5090,"d":"5,090"},{"v":4824,"d":"4,824"},{"v":4670,"d":"4,670"},{"v":4489,"d":"4,489"},{"v":3688,"d":"3,688"},{"v":3693,"d":"3,693"},{"v":3353,"d":"3,353"},{"v":3404,"d":"3,404"},":",{"v":3545,"d":"3,545"},{"v":3698,"d":"3,698"},{"v":3779,"d":"3,779"},{"v":4032,"d":"4,032"},{"v":3884,"d":"3,884"},{"v":3844,"d":"3,844"},{"v":3668,"d":"3,668"},{"v":3581,"d":"3,581"},{"v":3490,"d":"3,490"},null,{"v":3483,"d":"3,483"},{"v":3289,"d":"3,289"},{"v":3388,"d":"3,388"},{"v":3303,"d":"3,303"},{"v":3260,"d":"3,260"},{"v":3159,"d":"3,159"},{"v":3014,"d":"3,014"},{"v":3014,"d":"3,014"},{"v":2796,"d":"2,796"},{"v":1942,"d":"1,942"},{"v":1747.8,"d":"1,748"}]
["breeding pigs",":",":",":",{"v":1640,"d":"1,640"},{"v":1651,"d":"1,651"},{"v":1715,"d":"1,715"},{"v":1522,"d":"1,522"},{"v":1550,"d":"1,550"},{"v":1494,"d":"1,494"},{"v":1471,"d":"1,471"},{"v":1399,"d":"1,399"},{"v":1450,"d":"1,450"},{"v":1254,"d":"1,254"},{"v":1222,"d":"1,222"},{"v":1129,"d":"1,129"},":",{"v":1144,"d":"1,144"},{"v":1216,"d":"1,216"},{"v":1206,"d":"1,206"},{"v":1278,"d":"1,278"},{"v":1257,"d":"1,257"},{"v":1266,"d":"1,266"},{"v":1333,"d":"1,333"},{"v":1188,"d":"1,188"},{"v":1188,"d":"1,188"},null,{"v":1165,"d":"1,165"},{"v":1091,"d":"1,091"},{"v":1110,"d":"1,110"},{"v":1109,"d":"1,109"},{"v":1086,"d":"1,086"},{"v":1077,"d":"1,077"},{"v":1026,"d":"1,026"},{"v":1026,"d":"1,026"},972,693,{"v":623.7,"d":"624"}]
["others",":",":",":",":",":",":",":",":",":",":",":",":",":",":",":",":",":",":",{"$nulls":8},":",":",":",":"]
[]
[]
["Poultry",{"v":3266,"d":"3,266"},{"$f":"C31+C32+C33","v":{"v":3308,"d":"3,308"}},{"$f":"D31+D32","v":{"v":3482,"d":"3,482"}},{"v":3536,"d":"3,536"},{"v":3465,"d":"3,465"},{"v":3423,"d":"3,423"},{"v":3409,"d":"3,409"},{"v":3581,"d":"3,581"},{"v":3740,"d":"3,740"},{"$f":"K32+K31","v":{"v":3727,"d":"3,727"}},{"v":3579,"d":"3,579"},{"v":3598,"d":"3,598"},{"v":3466,"d":"3,466"},{"v":3296,"d":"3,296"},{"v":2745,"d":"2,745"},{"v":3080,"d":"3,080"},{"$f":"R32+R31","v":{"v":3426,"d":"3,426"}},{"v":3533,"d":"3,533"},{"v":3407,"d":"3,407"},{"v":3710,"d":"3,710"},{"v":3623,"d":"3,623"},{"v":3793,"d":"3,793"},{"v":3801,"d":"3,801"},{"v":3802,"d":"3,802"},{"v":3602,"d":"3,602"},{"v":3689,"d":"3,689"},{"$f":"AB32+AB31","v":{"v":3856,"d":"3,856"}},{"v":3840,"d":"3,840"},{"v":3987,"d":"3,987"},{"$f":"AE31+AE32","v":{"v":4101,"d":"4,101"}},{"v":4044,"d":"4,044"},{"v":4119,"d":"4,119"},{"v":4153,"d":"4,153"},{"v":4153,"d":"4,153"},{"v":4056,"d":"4,056"},{"v":3997,"d":"3,997"},{"$f":"AK30*0.98","v":{"v":3917.06,"d":"3,917"}}]
["broilers",":",{"v":1290,"d":"1,290"},{"v":1442,"d":"1,442"},{"v":1517,"d":"1,517"},{"v":1514,"d":"1,514"},{"v":1498,"d":"1,498"},{"v":1552,"d":"1,552"},{"v":1645,"d":"1,645"},{"v":1769,"d":"1,769"},{"v":1717,"d":"1,717"},{"v":1701,"d":"1,701"},{"v":1783,"d":"1,783"},{"v":1840,"d":"1,840"},{"v":1596,"d":"1,596"},{"v":1334,"d":"1,334"},":",{"v":1558,"d":"1,558"},{"v":1526,"d":"1,526"},{"v":1530,"d":"1,530"},{"v":1663,"d":"1,663"},{"v":1540,"d":"1,540"},{"v":1658,"d":"1,658"},{"v":1759,"d":"1,759"},{"v":1785,"d":"1,785"},{"v":1585,"d":"1,585"},null,{"v":1783,"d":"1,783"},{"v":1970,"d":"1,970"},{"v":1946,"d":"1,946"},{"v":2025,"d":"2,025"},{"v":2042,"d":"2,042"},{"v":2093,"d":"2,093"},{"v":2001,"d":"2,001"},{"v":2001,"d":"2,001"},{"v":2031,"d":"2,031"},{"v":2003,"d":"2,003"},{"$f":"AK31*0.98","v":{"v":1962.94,"d":"1,963"}}]
["chicks & layers",":",{"v":1952,"d":"1,952"},{"v":2040,"d":"2,040"},{"v":2019,"d":"2,019"},{"v":1951,"d":"1,951"},{"v":1925,"d":"1,925"},{"v":1857,"d":"1,857"},{"v":1936,"d":"1,936"},{"v":1971,"d":"1,971"},{"v":2010,"d":"2,010"},{"v":1878,"d":"1,878"},{"v":1815,"d":"1,815"},{"v":1626,"d":"1,626"},{"v":1700,"d":"1,700"},{"v":1411,"d":"1,411"},":",{"v":1868,"d":"1,868"},{"v":2007,"d":"2,007"},{"v":1877,"d":"1,877"},{"v":2047,"d":"2,047"},{"v":2083,"d":"2,083"},{"v":2135,"d":"2,135"},{"v":2042,"d":"2,042"},{"v":2017,"d":"2,017"},{"v":2017,"d":"2,017"},null,{"v":2073,"d":"2,073"},{"v":1870,"d":"1,870"},{"v":2041,"d":"2,041"},{"v":2076,"d":"2,076"},{"v":2002,"d":"2,002"},{"v":2026,"d":"2,026"},{"v":2152,"d":"2,152"},{"v":2152,"d":"2,152"},{"v":2025,"d":"2,025"},{"v":1994,"d":"1,994"},{"v":1954.12,"d":"1,954"}]
["others",":",66,":",":",":",":",":",":",":",":",":",":",":",":",":",":",":",":",{"$nulls":8},":",":",":",":"]
[]
[]
["Milk replacers",638,639,629,693,684,745,779,745,716,732,761,774,710,666,690,728,728,724,761,759,719,703,652,616,616,595,550,520,520,520,520,520,520,520,520]
[]
[]
["Others",487,520,520,518,517,713,753,784,795,766,754,741,864,772,796,830,269,422,432,441,437,457,435,429,320,633,646,538,593,580,614,638,570,570,591,625,600]
[]
[]
["TOTAL",{"$f":"B39+B30+B23+B16+B36","v":{"v":16297,"d":"16,297"}},{"v":16210,"d":"16,210"},{"v":16097,"d":"16,097"},{"v":16471,"d":"16,471"},{"v":16794,"d":"16,794"},{"v":16768,"d":"16,768"},{"v":16372,"d":"16,372"},{"v":16373,"d":"16,373"},{"v":15957,"d":"15,957"},{"v":15773,"d":"15,773"},{"v":15469,"d":"15,469"},{"v":14655,"d":"14,655"},{"v":14251,"d":"14,251"},{"v":13349,"d":"13,349"},{"v":12846,"d":"12,846"},{"v":13078,"d":"13,078"},{"v":12979,"d":"12,979"},{"v":13491,"d":"13,491"},{"v":13730,"d":"13,730"},{"v":14577,"d":"14,577"},{"v":14079,"d":"14,079"},{"v":14249,"d":"14,249"},{"v":14073,"d":"14,073"},{"v":13841,"d":"13,841"},{"v":13441,"d":"13,441"},{"v":14118,"d":"14,118"},{"v":14512,"d":"14,512"},{"v":14449,"d":"14,449"},{"v":14951,"d":"14,951"},{"$f":"AE39+AE30+AE23+AE16+AE36","v":{"v":14860,"d":"14,860"}},{"v":14710,"d":"14,710"},{"v":14695,"d":"14,695"},{"v":14291,"d":"14,291"},{"v":14291,"d":"14,291"},{"$f":"AJ39+AJ30+AJ23+AJ16+AJ36","v":{"v":13827,"d":"13,827"}},{"$f":"AK39+AK30+AK23+AK16+AK36","v":{"v":10932,"d":"10,932"}},{"$f":"AL39+AL30+AL23+AL16+AL36","v":{"v":10357.11,"d":"10,357"}}]
[]
[]
[]
[{"$nulls":20},"From 2015 on, the actual figure is replaced by a rough estimate due to statistical confidentiality rules"]
["estimate"]

{"sheet":"UK","index":101,"n_rows":42,"n_cols":43,"rows_kept":42,"merged":[[3,0,3,32]]}
["FEFAC SECRETARIAT GENERAL"]
[]
[{"$nulls":37},"2025/24"]
["INDUSTRIAL COMPOUND FEED PRODUCTION",{"$nulls":36},"Cattle","Pigs","Poultry","Milk replacers","Others","TOTAL"]
[{"$nulls":37},{"$f":"(($AL$16/$AK$16)-1)*100","v":{"v":-1.0086710316758118,"d":"-1.0"}},{"$f":"(($AL$23/$AK$23)-1)*100","v":{"v":0,"d":"0.0"}},{"$f":"(($AL$30/$AK$30)-1)*100","v":{"v":0.9975773122417042,"d":"1.0"}},{"$f":"(($AI$36/$AH$36)-1)*100","v":{"$error":"#DIV/0!"}},{"$f":"(($AL$39/$AK$39)-1)*100","v":{"v":0,"d":"0.0"}},{"$f":"(($AL$42/$AK$42)-1)*100","v":{"v":0.08020730503455198,"d":"0.1"}}]
["TAB 3"]
[{"$nulls":37},"2024/23"]
["COUNTRY: UNITED KINGDOM",{"$nulls":36},"Cattle","Pigs","Poultry","Milk replacers","Others","TOTAL"]
[{"$nulls":37},{"$f":"(($AK$16/$AJ$16)-1)*100","v":{"v":5.645915124322309,"d":"5.6"}},{"$f":"(($AK$23/$AJ$23)-1)*100","v":{"v":-7.880910683012255,"d":"-7.9"}},{"$f":"(($AK$30/$AJ$30)-1)*100","v":{"v":2.5427444103463426,"d":"2.5"}},{"$f":"(($AL$36/$AI$36)-1)*100","v":{"$error":"#DIV/0!"}},{"$f":"(($AK$39/$AJ$40)-1)*100","v":{"$error":"#DIV/0!"}},{"$f":"(($AK$42/$AJ$42)-1)*100","v":{"v":1.7323625407983823,"d":"1.7"}}]
[]
[]
["1 000 t",1989,1990,1991,1992,1993,1994,1995,1996,1997,1998,1999,2000,2001,2002,2003,2004,2005,2006,2007,2008,2009,2010,2011,2012,2013,2014,2015,2016,2017,2018,2019,2020,2021,2022,2023,2024,2025]
[null,"final figures","final figures","final figures","final figures","final figures","final figures","final figures","final figures","final figures","final figures","final figures","final figures","final figures","final figures","final figures","final figures","final figures","final figures","final figures","final figures","final figures","final figures","final figures","final figures","final figures","final figures","final figures","final figures","final figures","final figures","final figures","final figures","final figures","estimates","final figures","final figures","forecasts"]
[]
[]
["Cattle",{"v":4201,"d":"4,201"},{"v":4159,"d":"4,159"},{"v":4034,"d":"4,034"},{"$f":"E18+E19+E20","v":{"v":4054,"d":"4,054"}},{"$f":"F18+F20+F17+F19","v":{"v":4380,"d":"4,380"}},{"v":4491,"d":"4,491"},{"v":4761,"d":"4,761"},{"v":4702,"d":"4,702"},{"v":4132,"d":"4,132"},{"$f":"K17+K18+K19+K20","v":{"v":4032,"d":"4,032"}},{"v":4434,"d":"4,434"},{"v":4214,"d":"4,214"},{"v":4554,"d":"4,554"},{"v":4443,"d":"4,443"},{"v":4743,"d":"4,743"},{"v":4651,"d":"4,651"},{"v":4435,"d":"4,435"},{"v":4785,"d":"4,785"},{"v":4851,"d":"4,851"},{"v":4874,"d":"4,874"},{"v":4764,"d":"4,764"},{"$f":"SUM(W17:W20)","v":{"v":4972,"d":"4,972"}},{"v":4869,"d":"4,869"},{"v":5212,"d":"5,212"},{"v":5574,"d":"5,574"},{"v":5387,"d":"5,387"},{"v":5224,"d":"5,224"},{"v":5071,"d":"5,071"},{"v":5439,"d":"5,439"},{"v":5695,"d":"5,695"},{"v":5324,"d":"5,324"},{"v":5409,"d":"5,409"},{"v":5468,"d":"5,468"},{"v":5333,"d":"5,333"},{"v":5349,"d":"5,349"},{"v":5651,"d":"5,651"},{"v":5594,"d":"5,594"}]
["fattening",":",":",":",":",94,951,{"v":1150,"d":"1,150"},{"v":1220,"d":"1,220"},992,958,{"v":1138,"d":"1,138"},{"v":1136,"d":"1,136"},{"v":1191,"d":"1,191"},{"v":1157,"d":"1,157"},{"v":1309,"d":"1,309"},{"v":1350,"d":"1,350"},{"v":1261,"d":"1,261"},{"v":1378,"d":"1,378"},{"v":1391,"d":"1,391"},{"v":1388,"d":"1,388"},{"v":1367,"d":"1,367"},{"v":1301,"d":"1,301"},{"v":1263,"d":"1,263"},{"v":1414,"d":"1,414"},{"v":1622,"d":"1,622"},{"v":1371,"d":"1,371"},{"v":1285,"d":"1,285"},{"v":1291,"d":"1,291"},{"v":1385,"d":"1,385"},{"v":1465,"d":"1,465"},{"v":1297,"d":"1,297"},{"v":1377,"d":"1,377"},{"v":1399,"d":"1,399"},{"v":1365,"d":"1,365"},{"v":1367,"d":"1,367"},{"v":1342,"d":"1,342"},{"v":1328,"d":"1,328"}]
["dairy cow",":",":",":",{"v":2997,"d":"2,997"},{"v":3199,"d":"3,199"},{"v":3176,"d":"3,176"},{"v":3213,"d":"3,213"},{"v":3112,"d":"3,112"},{"v":2826,"d":"2,826"},{"v":2783,"d":"2,783"},{"v":3038,"d":"3,038"},{"v":2803,"d":"2,803"},{"v":3093,"d":"3,093"},{"v":3028,"d":"3,028"},{"v":3166,"d":"3,166"},{"v":3034,"d":"3,034"},{"v":2922,"d":"2,922"},{"v":3141,"d":"3,141"},{"v":3186,"d":"3,186"},{"v":3211,"d":"3,211"},{"v":3127,"d":"3,127"},{"v":3378,"d":"3,378"},{"v":3322,"d":"3,322"},{"v":3484,"d":"3,484"},{"v":3624,"d":"3,624"},{"v":3690,"d":"3,690"},{"v":3596,"d":"3,596"},{"v":3441,"d":"3,441"},{"v":3658,"d":"3,658"},{"v":3558,"d":"3,558"},{"v":3681,"d":"3,681"},{"v":3756,"d":"3,756"},{"v":3785,"d":"3,785"},{"v":3691,"d":"3,691"},{"v":3705,"d":"3,705"},{"v":3931,"d":"3,931"},{"v":3891,"d":"3,891"}]
["calves (excl. milk replacers)",":",":",":",197,222,254,285,254,206,188,173,176,173,171,184,185,171,191,205,211,203,213,217,246,253,250,264,256,314,330,250,276,277,270,270,282,279]
["others",":",":",":",860,865,110,113,116,108,103,85,99,97,87,84,82,81,75,69,64,67,80,67,68,75,76,79,83,82,342,96,0,7,7,7,96,96]
[]
[]
["Pigs",{"v":2134,"d":"2,134"},{"v":2285,"d":"2,285"},{"v":2353,"d":"2,353"},{"$f":"E24+E25+E26+E27","v":{"v":2434,"d":"2,434"}},{"v":2522,"d":"2,522"},{"v":2504,"d":"2,504"},{"v":2453,"d":"2,453"},{"v":2566,"d":"2,566"},{"v":2723,"d":"2,723"},{"v":2804,"d":"2,804"},{"v":2499,"d":"2,499"},{"v":2142,"d":"2,142"},{"v":1988,"d":"1,988"},{"v":1836,"d":"1,836"},{"v":1593,"d":"1,593"},{"v":1648,"d":"1,648"},{"v":1613,"d":"1,613"},{"v":1672,"d":"1,672"},{"v":1739,"d":"1,739"},{"v":1572,"d":"1,572"},{"v":1497,"d":"1,497"},{"$f":"SUM(W24:W28)","v":{"v":1617,"d":"1,617"}},{"v":1654,"d":"1,654"},{"v":1858,"d":"1,858"},{"v":1842,"d":"1,842"},{"v":2002,"d":"2,002"},{"v":2075,"d":"2,075"},{"v":2028,"d":"2,028"},{"v":2056,"d":"2,056"},{"v":2052,"d":"2,052"},{"v":2168,"d":"2,168"},{"v":2273,"d":"2,273"},{"v":2387,"d":"2,387"},{"v":2314,"d":"2,314"},{"v":2284,"d":"2,284"},{"v":2104,"d":"2,104"},{"v":2104,"d":"2,104"}]
["piglets",":",":",":",169,164,158,165,162,160,130,117,99,89,94,85,95,108,95,86,69,66,87,83,77,77,78,79,72,234,217,227,239,236,228,225,174,174]
["pigs for fattening",":",":",":",{"v":1481,"d":"1,481"},649,{"v":1555,"d":"1,555"},{"v":1541,"d":"1,541"},{"v":1610,"d":"1,610"},{"v":1724,"d":"1,724"},{"v":1836,"d":"1,836"},{"v":1659,"d":"1,659"},{"v":1420,"d":"1,420"},{"v":1316,"d":"1,316"},{"v":1210,"d":"1,210"},{"v":1034,"d":"1,034"},{"v":1092,"d":"1,092"},{"v":1058,"d":"1,058"},{"v":1111,"d":"1,111"},{"v":1192,"d":"1,192"},{"v":1098,"d":"1,098"},{"v":1022,"d":"1,022"},{"v":1078,"d":"1,078"},{"v":1117,"d":"1,117"},{"v":1313,"d":"1,313"},{"v":1321,"d":"1,321"},{"v":1461,"d":"1,461"},{"v":1534,"d":"1,534"},{"v":1512,"d":"1,512"},{"v":1391,"d":"1,391"},{"v":1390,"d":"1,390"},{"v":1460,"d":"1,460"},{"v":1537,"d":"1,537"},{"v":1643,"d":"1,643"},{"v":1593,"d":"1,593"},{"v":1571,"d":"1,571"},{"v":1504,"d":"1,504"},{"v":1504,"d":"1,504"}]
["breeding pigs",":",":",":",733,777,742,702,751,795,793,694,594,565,512,454,444,431,447,446,389,394,435,442,460,434,452,452,434,426,445,469,484,501,487,481,419,419]
["others",":",":",":",51,932,49,45,43,44,45,29,29,18,20,20,17,16,19,15,16,15,17,12,8,10,11,10,10,5,0,12,13,7,6,7,7,7]
[]
[]
["Poultry",{"v":3514,"d":"3,514"},{"v":3851,"d":"3,851"},{"v":3866,"d":"3,866"},{"$f":"E31+E32+E33","v":{"v":3823,"d":"3,823"}},{"v":3856,"d":"3,856"},{"v":3953,"d":"3,953"},{"v":6135,"d":"6,135"},{"v":6291,"d":"6,291"},{"v":6396,"d":"6,396"},{"v":6318,"d":"6,318"},{"v":6080,"d":"6,080"},{"v":6037,"d":"6,037"},{"v":6241,"d":"6,241"},{"v":6248,"d":"6,248"},{"v":6159,"d":"6,159"},{"v":6436,"d":"6,436"},{"v":6277,"d":"6,277"},{"v":6113,"d":"6,113"},{"v":6157,"d":"6,157"},{"v":6246,"d":"6,246"},{"v":6236,"d":"6,236"},{"$f":"SUM(W31:W33)","v":{"v":6600,"d":"6,600"}},{"v":6468,"d":"6,468"},{"v":6606,"d":"6,606"},{"v":6570,"d":"6,570"},{"v":6640,"d":"6,640"},{"v":6674,"d":"6,674"},{"v":6990,"d":"6,990"},{"v":7035,"d":"7,035"},{"v":7225,"d":"7,225"},{"v":7191,"d":"7,191"},{"v":7189,"d":"7,189"},{"v":7360,"d":"7,360"},{"v":6936,"d":"6,936"},{"v":6843,"d":"6,843"},{"v":7017,"d":"7,017"},{"v":7087,"d":"7,087"}]
["broilers",":",":",":",{"v":1675,"d":"1,675"},{"v":1652,"d":"1,652"},{"v":1670,"d":"1,670"},{"v":3049,"d":"3,049"},{"v":3102,"d":"3,102"},{"v":3108,"d":"3,108"},{"v":3156,"d":"3,156"},{"$f":"1118+1990","v":{"v":3108,"d":"3,108"}},{"$f":"2025+1072","v":{"v":3097,"d":"3,097"}},{"v":3327,"d":"3,327"},{"v":3347,"d":"3,347"},{"v":3369,"d":"3,369"},{"v":3540,"d":"3,540"},{"v":3496,"d":"3,496"},{"v":3418,"d":"3,418"},{"v":3425,"d":"3,425"},{"v":3455,"d":"3,455"},{"v":3486,"d":"3,486"},{"v":3709,"d":"3,709"},{"v":3678,"d":"3,678"},{"v":3763,"d":"3,763"},{"v":3711,"d":"3,711"},{"v":3792,"d":"3,792"},{"v":3747,"d":"3,747"},{"v":3890,"d":"3,890"},{"v":4057,"d":"4,057"},{"v":4148,"d":"4,148"},{"v":4107,"d":"4,107"},{"v":4132,"d":"4,132"},{"v":4353,"d":"4,353"},{"v":4100,"d":"4,100"},{"v":4045,"d":"4,045"},{"v":4144,"d":"4,144"},{"v":4185,"d":"4,185"}]
["chicks & layers",":",":",":",942,949,{"v":1067,"d":"1,067"},{"v":1185,"d":"1,185"},{"v":1285,"d":"1,285"},{"v":1307,"d":"1,307"},{"v":1261,"d":"1,261"},{"$f":"291+889","v":{"v":1180,"d":"1,180"}},{"v":1236,"d":"1,236"},{"v":1249,"d":"1,249"},{"v":1242,"d":"1,242"},{"v":1243,"d":"1,243"},{"v":1804,"d":"1,804"},{"v":1427,"d":"1,427"},{"v":1543,"d":"1,543"},{"v":1572,"d":"1,572"},{"v":1537,"d":"1,537"},{"v":1674,"d":"1,674"},{"v":1533,"d":"1,533"},{"v":1553,"d":"1,553"},{"v":1558,"d":"1,558"},{"v":1544,"d":"1,544"},{"v":1551,"d":"1,551"},{"v":1738,"d":"1,738"},{"v":1773,"d":"1,773"},{"v":1595,"d":"1,595"},{"v":1630,"d":"1,630"},{"v":1765,"d":"1,765"},{"v":1817,"d":"1,817"},{"v":1808,"d":"1,808"},{"v":1704,"d":"1,704"},{"v":1681,"d":"1,681"},{"v":1715,"d":"1,715"},{"v":1732,"d":"1,732"}]
["others",":",":",":",{"v":1206,"d":"1,206"},{"v":1255,"d":"1,255"},{"v":1216,"d":"1,216"},{"v":1901,"d":"1,901"},{"v":1904,"d":"1,904"},{"v":1981,"d":"1,981"},{"v":1901,"d":"1,901"},{"$f":"3140+2940-L31-L32","v":{"v":1792,"d":"1,792"}},{"$f":"1704","v":{"v":1704,"d":"1,704"}},{"v":1665,"d":"1,665"},{"v":1659,"d":"1,659"},{"v":1547,"d":"1,547"},{"v":1092,"d":"1,092"},{"v":1354,"d":"1,354"},{"v":1152,"d":"1,152"},{"v":1160,"d":"1,160"},{"v":1254,"d":"1,254"},{"v":1076,"d":"1,076"},{"v":1358,"d":"1,358"},{"v":1237,"d":"1,237"},{"v":1285,"d":"1,285"},{"v":1315,"d":"1,315"},{"v":1297,"d":"1,297"},{"v":1189,"d":"1,189"},{"v":1327,"d":"1,327"},{"v":1383,"d":"1,383"},{"v":1447,"d":"1,447"},{"v":1319,"d":"1,319"},{"v":1240,"d":"1,240"},{"v":1199,"d":"1,199"},{"v":1132,"d":"1,132"},{"v":1117,"d":"1,117"},{"v":1158,"d":"1,158"},{"v":1170,"d":"1,170"}]
[]
[]
["Milk replacers",24,24,24,19,30,34,22,20,21,10,13,15,14,14,16,15,15,1,1,1,1,1,1,2,0,0,0,0,0,0,0,0,0]
[]
[]
["Others",747,831,833,874,906,{"v":1019,"d":"1,019"},{"v":1111,"d":"1,111"},{"v":1262,"d":"1,262"},{"v":1194,"d":"1,194"},{"v":1234,"d":"1,234"},{"v":1369,"d":"1,369"},{"v":1239,"d":"1,239"},{"v":1201,"d":"1,201"},{"v":1133,"d":"1,133"},{"v":1207,"d":"1,207"},{"v":1335,"d":"1,335"},{"v":1430,"d":"1,430"},{"v":1544,"d":"1,544"},{"v":1593,"d":"1,593"},{"v":1300,"d":"1,300"},{"v":1301,"d":"1,301"},{"v":1504,"d":"1,504"},{"v":1426,"d":"1,426"},{"v":1468,"d":"1,468"},{"v":1647,"d":"1,647"},{"v":1436,"d":"1,436"},{"v":1587,"d":"1,587"},{"v":1546,"d":"1,546"},{"v":1737,"d":"1,737"},{"v":1826,"d":"1,826"},{"v":1468,"d":"1,468"},{"v":1491,"d":"1,491"},{"v":1541,"d":"1,541"},{"v":1447,"d":"1,447"},{"v":1456,"d":"1,456"},{"v":1436,"d":"1,436"},{"v":1436,"d":"1,436"}]
[]
[]
["TOTAL",{"$f":"B39+B30+B23+B16+B36","v":{"v":10620,"d":"10,620"}},{"v":11150,"d":"11,150"},{"v":11110,"d":"11,110"},{"v":11204,"d":"11,204"},{"v":11694,"d":"11,694"},{"v":12001,"d":"12,001"},{"v":14482,"d":"14,482"},{"v":14841,"d":"14,841"},{"v":14466,"d":"14,466"},{"v":14398,"d":"14,398"},{"v":14395,"d":"14,395"},{"v":13647,"d":"13,647"},{"v":13998,"d":"13,998"},{"v":13674,"d":"13,674"},{"v":13718,"d":"13,718"},{"v":14085,"d":"14,085"},{"v":13770,"d":"13,770"},{"v":14115,"d":"14,115"},{"v":14341,"d":"14,341"},{"v":13993,"d":"13,993"},{"v":13799,"d":"13,799"},{"v":14694,"d":"14,694"},{"v":14418,"d":"14,418"},{"v":15146,"d":"15,146"},{"v":15633,"d":"15,633"},{"v":15465,"d":"15,465"},{"v":15560,"d":"15,560"},{"v":15635,"d":"15,635"},{"v":16267,"d":"16,267"},{"$f":"AE39+AE36+AE30+AE23+AE16","v":{"v":16798,"d":"16,798"}},{"$f":"AF39+AF30+AF23+AF16+AF36","v":{"v":16151,"d":"16,151"}},{"v":16362,"d":"16,362"},{"v":16756,"d":"16,756"},{"v":16030,"d":"16,030"},{"v":15932,"d":"15,932"},{"v":16208,"d":"16,208"},{"v":16221,"d":"16,221"}]

{"sheet":"Serbia","index":102,"n_rows":70,"n_cols":36,"rows_kept":70,"merged":[[3,0,3,31]]}
["FEFAC SECRETARIAT GENERAL"]
[]
[]
["INDUSTRIAL COMPOUND FEED PRODUCTION"]
[]
["TAB 4"]
[]
["COUNTRY: SERBIA"]
[]
[]
[]
["1 000 t",1989,1990,1991,1992,1993,1994,1995,1996,1997,1998,1999,2000,2001,2002,2003,2004,2005,2006,2007,2008,2009,2010,2011,2012,2013,2014,2015,2016,2017,2018,2019,2020,2021,2022,2023]
[null,"final figures","final figures","final figures","final figures","final figures","final figures","final figures","final figures","final figures","final figures","final figures","final figures","final figures","final figures","final figures","final figures","final figures","final figures","final figures","final figures","final figures","final figures","final figures","final figures","final figures","final figures","final figures","final figures","final figures","final figures","final figures","final figures","final figures","estimates","forecasts"]
[]
[]
["Cattle",{"$nulls":15},109,105,132,140,157,131,118,132,144,140,153,187,221,{"$f":"AD55+AD57","v":{"v":225.36100000000002,"d":"225"}},{"v":296.632,"d":"297"},{"v":263.24899999999997,"d":"263"},{"v":301.368,"d":"301"},{"v":286.61400000000003,"d":"287"}]
["fattening"]
["dairy cow"]
["calves (excl. milk replacers)"]
["others"]
[]
[]
["Pigs",{"$nulls":15},186,201,240,235,287,276,336,306,316,293,312,335,400,{"$f":"AD51+AD53","v":{"v":416.77,"d":"417"}},{"v":473.594,"d":"474"},{"v":469.093,"d":"469"},{"v":446.49,"d":"446"},{"v":443.585,"d":"444"}]
["piglets"]
["pigs for fattening"]
["breeding pigs"]
["others"]
[]
[]
["Poultry",{"$nulls":15},178,206,223,198,345,328,351,364,421,365,372,345,378,{"$f":"AD59+AD61","v":{"v":376.73499999999996,"d":"377"}},{"v":411.353,"d":"411"},{"v":449.003,"d":"449"},{"v":452.058,"d":"452"},{"v":449.374,"d":"449"}]
["broilers"]
["chicks & layers"]
["others"]
[]
[]
["Milk replacers"]
[]
[]
["Others",{"$nulls":15},12,12,17,16,20,17,19,20,34,40,42,31,38,{"$f":"AD63","v":{"v":29.3,"d":"29"}},{"v":29.017,"d":"29"},{"v":29.751,"d":"30"},{"v":42.096,"d":"42"},{"v":37.079,"d":"37"}]
[]
[]
["TOTAL",{"$f":"B39+B30+B23+B16+B36","v":0},0,0,0,0,0,0,0,0,0,0,0,0,0,0,485,524,612,589,809,752,824,822,915,838,879,898,{"v":1037,"d":"1,037"},{"v":1048.166,"d":"1,048"},{"v":1210.596,"d":"1,211"},{"v":1211.096,"d":"1,211"},{"v":1242.012,"d":"1,242"},{"$f":"AH39+AH30+AH23+AH16+AH36+AH19","v":{"v":1216.652,"d":"1,217"}},{"$f":"AI39+AI30+AI23+AI16+AI36","v":0},0]
[]
[]
[]
["Compound feed production",{"$nulls":28},2017,2018,2019,2020,2021]
[]
["Premixes",{"$nulls":28},48.325,90.82,86.66,110.825,83.548]
[]
["Pigs"]
["Complete",{"$nulls":28},384.787,443.884,437.451,418.084,415.693]
["Complemetary"]
["Other (super concentratеs)",{"$nulls":28},31.983,29.71,31.642,28.406,27.892]
["Cattle"]
["Complete",{"$nulls":28},220.704,292.051,257.748,295.932,281.242]
["Complemetary"]
["Other (super concentrates)",{"$nulls":28},4.657,4.581,5.501,5.436,5.372]
["Poultry"]
["Complete",{"$nulls":28},367.734,403.497,440.426,443.742,441.463]
["Complemetary"]
["Other (super concentrates)",{"$nulls":28},9.001,7.856,8.577,8.316,7.911]
["Other animals"]
["Complete",{"$nulls":28},29.3,29.017,29.751,42.096,37.079]
["Complemetary"]
["Other (super concentrates)",{"$nulls":32},"-"]
["Other animal feed",{"$nulls":28},41.231,45.82,50.002,55.345,59.113]
[{"$nulls":29},"(Pet Food)","(Pet Food)","(Pet Food)","(Pet Food)","(Pet Food)"]
["TOTAL"]
[{"$nulls":29},"1.137.722","1.346.436","1.347.758","1.408.182","1.359.313"]
[{"$nulls":29},{"$f":"AD48+AD51+AD53+AD55+AD57+AD59+AD61+AD63+AD66","v":1137.722},1347.2359999999999,1347.7579999999998,1408.182,1359.313]

{"sheet":"Turkey","index":103,"n_rows":42,"n_cols":36,"rows_kept":42,"merged":[[3,0,3,29]]}
["FEFAC SECRETARIAT GENERAL"]
[]
[]
["INDUSTRIAL COMPOUND FEED PRODUCTION"]
[]
["TAB 4"]
[]
["COUNTRY: TURKEY"]
[]
[]
[]
["1 000 t",1989,1990,1991,1992,1993,1994,1995,1996,1997,1998,1999,2000,2001,2002,2003,2004,2005,2006,2007,2008,2009,2010,2011,2012,2013,2014,2015,2016,2017,2018,2019,2020,2021,2022,2023]
[null,"final figures","final figures","final figures","final figures","final figures","final figures","final figures","final figures","final figures","final figures","final figures","final figures","final figures","final figures","final figures","final figures","final figures","final figures","final figures","final figures","final figures","final figures","final figures","final figures","final figures","final figures","final figures","final figures","final figures","final figures","final figures","estimates","forecasts","forecasts","forecasts"]
[]
[]
["Cattle",{"$nulls":7},{"$f":"SUM(I17:I20)","v":{"v":2340,"d":"2,340"}},{"v":2607,"d":"2,607"},{"v":2840,"d":"2,840"},{"v":3179,"d":"3,179"},{"v":3436,"d":"3,436"},{"v":2553,"d":"2,553"},{"v":2496,"d":"2,496"},{"v":2837,"d":"2,837"},{"v":3462,"d":"3,462"},{"v":3485,"d":"3,485"},{"v":4216,"d":"4,216"},{"v":5079,"d":"5,079"},{"v":5048,"d":"5,048"},{"v":4771,"d":"4,771"},{"v":5848,"d":"5,848"},{"v":6735,"d":"6,735"},{"v":7458,"d":"7,458"},{"v":8257,"d":"8,257"},{"v":9440,"d":"9,440"},{"v":9197,"d":"9,197"},{"v":10114,"d":"10,114"},{"v":11316,"d":"11,316"},{"$f":"AE17+AE18","v":{"v":12079,"d":"12,079"}},{"v":12540.047,"d":"12,540"},{"v":13437.739,"d":"13,438"},{"v":13945.15647,"d":"13,945"}]
["fattening",{"$nulls":7},{"v":1148,"d":"1,148"},{"v":1313,"d":"1,313"},{"v":1389,"d":"1,389"},{"v":1580,"d":"1,580"},{"v":1608,"d":"1,608"},{"v":1148,"d":"1,148"},957,{"v":1180,"d":"1,180"},{"v":1452,"d":"1,452"},{"v":1452,"d":"1,452"},{"v":1847,"d":"1,847"},{"v":2271,"d":"2,271"},{"v":2004,"d":"2,004"},{"v":1896,"d":"1,896"},{"v":2311,"d":"2,311"},{"v":2837,"d":"2,837"},{"v":3065,"d":"3,065"},{"v":3062,"d":"3,062"},{"v":3782,"d":"3,782"},{"v":3764,"d":"3,764"},{"v":4214,"d":"4,214"},{"v":5061,"d":"5,061"},{"v":5538,"d":"5,538"},{"v":5922.314,"d":"5,922"},{"v":6368.137,"d":"6,368"},{"v":6698.43131,"d":"6,698"}]
["dairy cow",{"$nulls":7},{"v":1192,"d":"1,192"},{"v":1294,"d":"1,294"},{"v":1451,"d":"1,451"},{"v":1599,"d":"1,599"},{"v":1828,"d":"1,828"},{"v":1405,"d":"1,405"},{"v":1539,"d":"1,539"},{"v":1657,"d":"1,657"},{"v":2010,"d":"2,010"},{"v":2033,"d":"2,033"},{"v":2369,"d":"2,369"},{"v":2808,"d":"2,808"},{"v":3044,"d":"3,044"},{"v":2875,"d":"2,875"},{"v":3537,"d":"3,537"},{"v":3898,"d":"3,898"},{"v":4393,"d":"4,393"},{"v":5195,"d":"5,195"},{"v":5658,"d":"5,658"},{"v":5433,"d":"5,433"},{"v":5900,"d":"5,900"},{"v":6255,"d":"6,255"},{"v":6541,"d":"6,541"},{"v":6617.733,"d":"6,618"},{"v":7069.602,"d":"7,070"},{"v":7246.72516,"d":"7,247"}]
["calves (excl. milk replacers)"]
["others"]
[]
[]
["Pigs",{"$nulls":7},0,0,0,0,0,0,0,0,0,0,0,0,0,0,0,0,0,0,0,0,0,0,0,0]
["piglets"]
["pigs for fattening"]
["breeding pigs"]
["others"]
[]
[]
["Poultry",{"$nulls":7},{"$f":"SUM(I31:I33)","v":{"v":2020,"d":"2,020"}},{"v":2122,"d":"2,122"},{"v":2208,"d":"2,208"},{"v":2666,"d":"2,666"},{"v":3013,"d":"3,013"},{"v":2457,"d":"2,457"},{"v":2499,"d":"2,499"},{"v":2775,"d":"2,775"},{"v":3163,"d":"3,163"},{"v":3054,"d":"3,054"},{"v":2873,"d":"2,873"},{"v":3529,"d":"3,529"},{"v":4018,"d":"4,018"},{"v":4127,"d":"4,127"},{"v":4962,"d":"4,962"},{"v":5581,"d":"5,581"},{"v":5954,"d":"5,954"},{"v":6371,"d":"6,371"},{"v":7132,"d":"7,132"},{"v":9109,"d":"9,109"},{"v":8309,"d":"8,309"},{"v":8883,"d":"8,883"},{"v":9767,"d":"9,767"},{"$f":"AF31+AF32+AF33","v":{"v":10034.794,"d":"10,035"}},{"v":10033.794999999998,"d":"10,034"},{"v":10165.41,"d":"10,165"}]
["broilers",{"$nulls":7},{"v":1047,"d":"1,047"},{"v":1094,"d":"1,094"},{"v":1151,"d":"1,151"},{"v":1532,"d":"1,532"},{"v":1912,"d":"1,912"},{"v":1504,"d":"1,504"},{"v":1646,"d":"1,646"},{"v":1845,"d":"1,845"},{"v":2132,"d":"2,132"},{"v":2127,"d":"2,127"},{"v":2026,"d":"2,026"},{"v":2471,"d":"2,471"},{"v":2886,"d":"2,886"},{"v":2967,"d":"2,967"},{"v":3594,"d":"3,594"},{"v":4031,"d":"4,031"},{"v":4224,"d":"4,224"},{"v":4084,"d":"4,084"},{"v":3980,"d":"3,980"},{"v":4780,"d":"4,780"},{"v":4566,"d":"4,566"},{"v":4754,"d":"4,754"},{"v":5306,"d":"5,306"},{"v":5363.209,"d":"5,363"},{"v":5397.526,"d":"5,398"},{"v":5542.974,"d":"5,543"}]
["chicks & layers",{"$nulls":7},802,796,829,782,745,624,586,608,623,537,494,674,693,740,821,954,{"v":1059,"d":"1,059"},{"v":1602,"d":"1,602"},{"v":2480,"d":"2,480"},{"v":3417,"d":"3,417"},{"v":2958,"d":"2,958"},{"v":3370,"d":"3,370"},{"v":3601,"d":"3,601"},{"v":3828.441,"d":"3,828"},{"v":3716.754,"d":"3,717"},{"v":3661.78,"d":"3,662"}]
["others",{"$nulls":7},171,232,228,352,356,329,267,322,408,390,353,384,439,420,547,596,671,685,672,912,785,759,860,{"v":843.144,"d":"843"},{"v":919.515,"d":"920"},{"v":960.656,"d":"961"}]
[]
[]
["Milk replacers"]
[]
[]
["Others",{"$nulls":7},151,226,218,200,213,169,182,241,281,295,378,544,495,521,691,845,{"v":1077,"d":"1,077"},{"v":1334,"d":"1,334"},{"v":1432,"d":"1,432"},{"v":1799,"d":"1,799"},{"v":1979,"d":"1,979"},{"v":2219,"d":"2,219"},{"v":2298,"d":"2,298"},{"v":2364.275,"d":"2,364"},{"v":2773.732,"d":"2,774"},{"v":2893.432,"d":"2,893"}]
[]
[]
["TOTAL",{"$f":"B39+B30+B23+B16+B36","v":0},0,0,0,0,0,0,{"v":4511,"d":"4,511"},{"v":4955,"d":"4,955"},{"v":5266,"d":"5,266"},{"v":6045,"d":"6,045"},{"v":6662,"d":"6,662"},{"v":5179,"d":"5,179"},{"v":5177,"d":"5,177"},{"v":5853,"d":"5,853"},{"v":6906,"d":"6,906"},{"v":6834,"d":"6,834"},{"v":7467,"d":"7,467"},{"v":9152,"d":"9,152"},{"v":9561,"d":"9,561"},{"v":9419,"d":"9,419"},{"v":11501,"d":"11,501"},{"v":13161,"d":"13,161"},{"v":14489,"d":"14,489"},{"v":15962,"d":"15,962"},{"v":18004,"d":"18,004"},{"v":20105,"d":"20,105"},{"v":20402,"d":"20,402"},{"v":22418,"d":"22,418"},{"v":24144,"d":"24,144"},{"v":24939.116,"d":"24,939"},{"v":26245.265999999996,"d":"26,245"},{"$f":"AH39+AH30+AH23+AH16+AH36+AH19","v":{"v":27003.99847,"d":"27,004"}}]

{"sheet":"Switzerland","index":104,"n_rows":42,"n_cols":36,"rows_kept":42,"merged":[[3,0,3,29]]}
["FEFAC SECRETARIAT GENERAL"]
[]
[]
["INDUSTRIAL COMPOUND FEED PRODUCTION"]
[]
["TAB 3"]
[]
["COUNTRY: SWITZERLAND"]
[]
[]
[]
["1 000 t",1989,1990,1991,1992,1993,1994,1995,1996,1997,1998,1999,2000,2001,2002,2003,2004,2005,2006,2007,2008,2009,2010,2011,2012,2013,2014,2015,2016,2017,2018,2019,2020,2021,2022,2023]
[null,"final figures","final figures","final figures","final figures","final figures","final figures","final figures","final figures","final figures","final figures","final figures","final figures","final figures","final figures","final figures","final figures","final figures","final figures","final figures","final figures","final figures","final figures","final figures","final figures","final figures","final figures","final figures","final figures","final figures","final figures","final figures","final figures","final figures","estimates","forecasts"]
[]
[]
["Cattle",{"$nulls":8},331,326,339,385,385,399,425,431,421,439,471,493,481,474,493,490,505,523,515,504,479,509,{"$f":"AE16*1.01","v":{"v":514.09,"d":"514"}},{"v":524.86,"d":"525"},{"v":537.74,"d":"538"},{"$f":"AI42*0.315","v":{"v":523.53,"d":"524"}},525]
["fattening"]
["dairy cow"]
["calves (excl. milk replacers)"]
["others"]
[]
[]
["Pigs",{"$nulls":8},501,539,511,541,562,592,592,601,595,613,598,599,609,617,637,620,630,638,633,633,636,638,{"$f":"AE23*0.97","v":{"v":618.86,"d":"619"}},{"v":645.48,"d":"645"},{"v":661.32,"d":"661"},{"$f":"AI42*0.396","v":{"v":658.152,"d":"658"}},650]
["piglets"]
["pigs for fattening"]
["breeding pigs"]
["others"]
[]
[]
["Poultry",{"$nulls":8},302,310,312,330,319,341,349,335,321,290,307,319,321,321,343,345,350,364,369,370,377,408,{"$f":"AE30*1.03","v":{"v":420.24,"d":"420"}},{"v":415.65000000000003,"d":"416"},{"v":429.19,"d":"429"},{"$f":"AI42*0.265","v":{"v":440.43,"d":"440"}},445]
["broilers"]
["chicks & layers"]
["others"]
[]
[]
["Milk replacers"]
[]
[]
["Others",{"$nulls":8},86,85,102,100,98,53,54,54,87,104,110,89,86,94,50,62,35,44,38,48,48,45,45,{"v":44.00999999999982,"d":"44"},{"v":41.74999999999994,"d":"42"},{"$f":"AI42-AI16-AI23-AI30","v":{"v":39.88799999999998,"d":"40"}},39]
[]
[]
["TOTAL",{"$f":"B39+B30+B23+B16+B36","v":0},0,0,0,0,0,0,0,{"v":1220,"d":"1,220"},{"v":1260,"d":"1,260"},{"v":1264,"d":"1,264"},{"v":1356,"d":"1,356"},{"v":1364,"d":"1,364"},{"v":1385,"d":"1,385"},{"v":1420,"d":"1,420"},{"v":1421,"d":"1,421"},{"v":1424,"d":"1,424"},{"v":1446,"d":"1,446"},{"v":1486,"d":"1,486"},{"v":1500,"d":"1,500"},{"v":1497,"d":"1,497"},{"v":1506,"d":"1,506"},{"v":1523,"d":"1,523"},{"v":1517,"d":"1,517"},{"v":1520,"d":"1,520"},{"v":1569,"d":"1,569"},{"v":1555,"d":"1,555"},{"v":1555,"d":"1,555"},{"v":1540,"d":"1,540"},{"v":1600,"d":"1,600"},{"v":1598.19,"d":"1,598"},{"v":1630,"d":"1,630"},{"v":1670,"d":"1,670"},{"v":1662,"d":"1,662"},{"$f":"SUM(AJ16:AJ39)","v":{"v":1659,"d":"1,659"}}]

{"sheet":"Norway","index":105,"n_rows":51,"n_cols":36,"rows_kept":51,"merged":[[3,0,3,29]]}
["FEFAC SECRETARIAT GENERAL"]
[]
[]
["INDUSTRIAL COMPOUND FEED PRODUCTION"]
[]
["TAB 3"]
[]
["COUNTRY: NORWAY"]
[]
[]
[]
["1 000 t",1989,1990,1991,1992,1993,1994,1995,1996,1997,1998,1999,2000,2001,2002,2003,2004,2005,2006,2007,2008,2009,2010,2011,2012,2013,2014,2015,2016,2017,2018,2019,2020,2021,2022,2023]
[null,"final figures","final figures","final figures","final figures","final figures","final figures","final figures","final figures","final figures","final figures","final figures","final figures","final figures","final figures","final figures","final figures","final figures","final figures","final figures","final figures","final figures","final figures","final figures","final figures","final figures","final figures","final figures","final figures","final figures","final figures","final figures","estimates","final figures","estimates","forecasts"]
[]
[]
["Cattle",{"$nulls":8},{"v":1013,"d":"1,013"},{"v":1016,"d":"1,016"},{"v":1005,"d":"1,005"},906,919,903,913,914,910,912,918,943,893,907,913,985,992,997,{"v":1016,"d":"1,016"},{"v":1005.422,"d":"1,005"},{"v":1014.512,"d":"1,015"},{"v":1082,"d":"1,082"},{"v":1060.04,"d":"1,060"},{"v":1043.144,"d":"1,043"},{"v":1037.838,"d":"1,038"},{"v":737.352,"d":"737"}]
["fattening"]
["dairy cow"]
["calves (excl. milk replacers)"]
["others"]
[]
[]
["Pigs",{"$nulls":8},426,429,421,382,426,432,445,454,454,453,464,473,473,487,491,491,479,481,502,{"v":493.219,"d":"493"},{"v":493.541,"d":"494"},477,{"v":464.515,"d":"465"},{"v":465.351,"d":"465"},{"v":469.147,"d":"469"},{"v":344.682,"d":"345"}]
["piglets"]
["pigs for fattening"]
["breeding pigs"]
["others"]
[]
[]
["Poultry",{"$nulls":8},251,242,256,267,267,271,283,298,297,315,340,380,379,385,389,418,452,457,422,{"v":447.023,"d":"447"},{"v":453.495,"d":"453"},448,{"v":477.538,"d":"478"},{"v":480.332,"d":"480"},{"v":506.28,"d":"506"},{"v":378.352,"d":"378"}]
["broilers"]
["chicks & layers"]
["others"]
[]
[]
["Milk replacers"]
[]
["other feed",{"$nulls":27},{"v":18.479,"d":"18"},{"v":16.414,"d":"16"},{"v":17.324,"d":"17"},{"v":15.993,"d":"16"},{"v":12.987,"d":"13"},{"v":13.6,"d":"14"},{"v":9.825,"d":"10"}]
["Others",{"$nulls":8},552,593,617,724,714,746,771,813,910,{"v":1005,"d":"1,005"},{"v":1154,"d":"1,154"},{"v":1205,"d":"1,205"},{"v":1404,"d":"1,404"},{"v":1380,"d":"1,380"},{"v":1467,"d":"1,467"},{"v":1723,"d":"1,723"},{"v":1652,"d":"1,652"},{"v":1767,"d":"1,767"},{"$f":"AB46+AB38","v":{"v":1746,"d":"1,746"}},{"v":1727.479,"d":"1,727"},{"v":1845.65,"d":"1,846"},{"v":1858.7150000000001,"d":"1,859"},{"v":1910.759,"d":"1,911"},{"v":2002.0900000000001,"d":"2,002"},{"v":2152.653,"d":"2,153"},{"v":9.825,"d":"10"}]
[]
[]
["TOTAL",{"$f":"B39+B30+B23+B16+B36","v":0},0,0,0,0,0,0,0,{"v":2242,"d":"2,242"},{"v":2280,"d":"2,280"},{"v":2299,"d":"2,299"},{"v":2279,"d":"2,279"},{"v":2326,"d":"2,326"},{"v":2352,"d":"2,352"},{"v":2412,"d":"2,412"},{"v":2479,"d":"2,479"},{"v":2571,"d":"2,571"},{"v":2685,"d":"2,685"},{"v":2876,"d":"2,876"},{"v":3001,"d":"3,001"},{"v":3149,"d":"3,149"},{"v":3159,"d":"3,159"},{"v":3260,"d":"3,260"},{"v":3617,"d":"3,617"},{"v":3575,"d":"3,575"},{"v":3702,"d":"3,702"},{"v":3686,"d":"3,686"},{"v":3673.143,"d":"3,673"},{"v":3807.1980000000003,"d":"3,807"},{"v":3865.715,"d":"3,866"},{"v":3912.852,"d":"3,913"},{"v":3990.9170000000004,"d":"3,991"},{"$f":"AH39+AH30+AH23+AH16+AH36+AH19","v":{"v":4165.918,"d":"4,166"}},{"v":1470.2109999999998,"d":"1,470"}]
[]
[{"$nulls":27},{"$f":"AB38+AB30+AB23+AB16","v":{"v":1940,"d":"1,940"}},{"v":1964.143,"d":"1,964"},{"v":1977.962,"d":"1,978"},{"v":2024.324,"d":"2,024"},{"v":2018.086,"d":"2,018"},{"v":2001.814,"d":"2,002"},{"v":2026.865,"d":"2,027"},{"v":1470.2109999999998,"d":"1,470"}]
[]
["Thereof fish",{"$nulls":8},518,560,586,688,682,712,738,778,876,968,1116,1168,1373,1347,1435,1693,1624,1742,1746,{"v":1709,"d":"1,709"},{"v":1829.236,"d":"1,829"},{"v":1841.391,"d":"1,841"},{"v":1894.766,"d":"1,895"},{"v":1989.103,"d":"1,989"},{"v":2139.053,"d":"2,139"}]
[{"$nulls":34},"Not yet"]
[]
[]
["Land animals: https://www.landbruksdirektoratet.no/nb/statistikk-og-utviklingstrekk/utvikling-i-jordbruket/kraftforstatistikk"]
["Fish: https://www.fiskeridir.no/Akvakultur/Tall-og-analyse/Statistiske-publikasjoner/Noekkeltall-for-norsk-havbruksnaering"]

{"sheet":"Greece","index":106,"n_rows":42,"n_cols":34,"rows_kept":42,"hidden":true,"merged":[[3,0,3,16]]}
["FEFAC SECRETARIAT GENERAL"]
[]
[]
["INDUSTRIAL COMPOUND FEED PRODUCTION"]
[]
["Tab3"]
["PAYS/COUNTRY/LAND : Greece"]
[]
[]
[]
["1 000 t",1989,1990,1991,1992,1993,1994,1995,1996,1997,1998,1999,2000,2001,2002,2003,2004,2005,2006,2007,2008,2009,2010,2011,2012,2013,2014,2015,2016,2017,2018,2019,2020,2021]
[null,"définitifs","définitifs","définitifs","définitifs","définitifs","définitifs","définitifs","définitifs","définitifs","définitifs","définitifs","définitifs","définitifs","définitifs","estimations","prévisions","prévisions","prévisions","prévisions","prévisions","prévisions","prévisions","prévisions","prévisions","prévisions","prévisions","prévisions","prévisions","prévisions","prévisions","prévisions","prévisions","prévisions"]
[null,"final figures","final figures","final figures","final figures","final figures","final figures","final figures","final figures","final figures","final figures","final figures","final figures","final figures","final figures","estimates","forecasts","forecasts","forecasts","forecasts","forecasts","forecasts","forecasts","forecasts","forecasts","forecasts","forecasts","forecasts","forecasts","forecasts","forecasts","forecasts","forecasts","forecasts"]
[]
[]
["Bovins/Cattle/Rinder",{"$nulls":31},460]
["engrais/fattening/Mast",{"$nulls":13},":",":",":",":",":",":",":",":",":",":",":",":",":",":",":",":",":",":",":",":"]
["VL/dairy cow/Milchkühe",{"$nulls":13},":",":",":",":",":",":",":",":",":",":",":",":",":",":",":",":",":",":",":",":"]
["veaux (alim. d'allaitement non compris)/calves ",{"$nulls":13},":",":",":",":",":",":",":",":",":",":",":",":",":",":",":",":",":",":",":",":"]
["autres/others/Andere",{"$nulls":13},":",":",":",":",":",":",":",":",":",":",":",":",":",":",":",":",":",":",":",":"]
[]
[]
["Porcins/Pigs/Schweine",{"$nulls":31},395]
["porcelets/piglets/Ferkel",{"$nulls":13},":",":",":",":",":",":",":",":",":",":",":",":",":",":",":",":",":",":",":",":"]
["porcs engrais/pigs for fattening/Mastschweine",{"$nulls":13},":",":",":",":",":",":",":",":",":",":",":",":",":",":",":",":",":",":",":",":"]
["reproducteurs/breeding pigs/Zuchtschweine",{"$nulls":13},":",":",":",":",":",":",":",":",":",":",":",":",":",":",":",":",":",":",":",":"]
["autres/others/Andere",{"$nulls":13},":",":",":",":",":",":",":",":",":",":",":",":",":",":",":",":",":",":",":",":"]
[]
[]
["Volaille/Poultry/Geflügel",{"$nulls":31},{"v":500.14,"d":"500"}]
["broilers",{"$nulls":13},":",":",":",":",":",":",":",":",":",":",":",":",":",":",":",":",":",":",":",":"]
["poulettes & pondeuses/chicks & layers/Jung- & Legehennen",{"$nulls":13},":",":",":",":",":",":",":",":",":",":",":",":",":",":",":",":",":",":",":",":"]
["autres/others/Andere",{"$nulls":13},":",":",":",":",":",":",":",":",":",":",":",":",":",":",":",":",":",":",":",":"]
[]
[]
["Aliments d'allaitement/Milk replacers"]
[]
[]
["Autres/others/Andere",{"$nulls":31},220]
[]
[]
["TOTAL",{"$f":"B39+B36+B30+B23+B16","v":0},0,0,{"$f":"E39+#REF!+E30+E23+E16","v":{"$error":"#REF!"}},{"$error":"#REF!"},{"$error":"#REF!"},{"$error":"#REF!"},{"$error":"#REF!"},{"$error":"#REF!"},{"$error":"#REF!"},{"$error":"#REF!"},{"$error":"#REF!"},{"$error":"#REF!"},{"$error":"#REF!"},{"$error":"#REF!"},{"$f":"Q39+#REF!+Q36+Q30+Q23+Q16","v":{"$error":"#REF!"}},{"$error":"#REF!"},{"$error":"#REF!"},{"$error":"#REF!"},{"$error":"#REF!"},{"$error":"#REF!"},{"$error":"#REF!"},{"$error":"#REF!"},{"$error":"#REF!"},{"$error":"#REF!"},{"$error":"#REF!"},{"$error":"#REF!"},{"$error":"#REF!"},{"$error":"#REF!"},{"$error":"#REF!"},{"$f":"AF39+AF36+AF30+AF23+AF16","v":0},{"v":1575.1399999999999,"d":"1,575"},0]

{"sheet":"Malta","index":107,"n_rows":48,"n_cols":34,"rows_kept":48,"hidden":true,"merged":[[3,0,3,16]]}
["FEFAC SECRETARIAT GENERAL"]
[]
[]
["INDUSTRIAL COMPOUND FEED PRODUCTION"]
["TAB 3"]
[]
["PAYS/COUNTRY/LAND : MALTA"]
[]
[]
[]
["1 000 t",1989,1990,1991,1992,1993,1994,1995,1996,1997,1998,1999,2000,2001,2002,2003,2004,2005,2006,2007,2008,2009,2010,2011,2012,2013,2014,2015,2016,2017,2018,2019,2020,2021]
[null,"définitifs","définitifs","définitifs","définitifs","définitifs","définitifs","définitifs","définitifs","définitifs","définitifs","définitifs","définitifs","définitifs","définitifs","estimations","prévisions","prévisions","prévisions","prévisions","prévisions","prévisions","prévisions","prévisions","prévisions","prévisions","prévisions","prévisions","prévisions","prévisions","prévisions","prévisions","prévisions","prévisions"]
[null,"final figures","final figures","final figures","final figures","final figures","final figures","final figures","final figures","final figures","final figures","final figures","final figures","final figures","final figures","estimates","forecasts","forecasts","forecasts","forecasts","forecasts","forecasts","forecasts","forecasts","forecasts","forecasts","forecasts","forecasts","forecasts","forecasts","forecasts","forecasts","forecasts","forecasts"]
[]
[]
["Bovins/Cattle/Rinder"]
["engrais/fattening/Mast",{"$nulls":13},":",":",":",":",":",":",":",":",":",":",":",":",":",":",":",":",":",":",":",":"]
["VL/dairy cow/Milchkühe",{"$nulls":13},":",":",":",":",":",":",":",":",":",":",":",":",":",":",":",":",":",":",":",":"]
["veaux (alim. d'allaitement non compris)/calves ",{"$nulls":13},":",":",":",":",":",":",":",":",":",":",":",":",":",":",":",":",":",":",":",":"]
["(excl. milk replacers)/Kälber (exkl. Milchaustaucher)"]
["autres/others/Andere",{"$nulls":13},":",":",":",":",":",":",":",":",":",":",":",":",":",":",":",":",":",":",":",":"]
[]
[]
["Porcins/Pigs/Schweine"]
["porcelets/piglets/Ferkel",{"$nulls":13},":",":",":",":",":",":",":",":",":",":",":",":",":",":",":",":",":",":",":",":"]
["porcs engrais/pigs for fattening/Mastschweine",{"$nulls":13},":",":",":",":",":",":",":",":",":",":",":",":",":",":",":",":",":",":",":",":"]
["reproducteurs/breeding pigs/Zuchtschweine",{"$nulls":13},":",":",":",":",":",":",":",":",":",":",":",":",":",":",":",":",":",":",":",":"]
["autres/others/Andere",{"$nulls":13},":",":",":",":",":",":",":",":",":",":",":",":",":",":",":",":",":",":",":",":"]
[]
[]
["Volaille/Poultry/Geflügel"]
["broilers",{"$nulls":13},":",":",":",":",":",":",":",":",":",":",":",":",":",":",":",":",":",":",":",":"]
["poulettes & pondeuses/chicks & layers/Jung- & Legehennen",{"$nulls":13},":",":",":",":",":",":",":",":",":",":",":",":",":",":",":",":",":",":",":",":"]
["autres/others/Andere",{"$nulls":13},":",":",":",":",":",":",":",":",":",":",":",":",":",":",":",":",":",":",":",":"]
[]
[]
["Aliments d'allaitement/Milk replacers"]
["Milchaustaucher"]
[]
[]
["Pet food sec/Dry pet food"]
["Trockenfutter für Heimtiere"]
[]
[]
["Autres/others/Andere"]
[]
[]
["TOTAL",{"$f":"B45+B37+B31+B24+B16","v":0},0,0,{"$f":"E45+E41+E31+E24+E16","v":0},0,0,0,0,0,0,0,0,0,0,0,{"$f":"Q45+Q41+Q37+Q31+Q24+Q16","v":0},0,0,0,0,0,0,0,0,0,0,0,0,0,0,0,0,0]

{"sheet":"Luxembourg","index":108,"n_rows":48,"n_cols":34,"rows_kept":48,"hidden":true,"merged":[[3,0,3,16]]}
["FEFAC SECRETARIAT GENERAL"]
[]
[]
["INDUSTRIAL COMPOUND FEED PRODUCTION"]
[]
["TAB 4"]
["PAYS/COUNTRY/LAND : Luxembourg"]
[]
[]
[]
["1 000 t",1989,1990,1991,1992,1993,1994,1995,1996,1997,1998,1999,2000,2001,2002,2003,2004,2005,2006,2007,2008,2009,2010,2011,2012,2013,2014,2015,2016,2017,2018,2019,2020,2021]
[null,"définitifs","définitifs","définitifs","définitifs","définitifs","définitifs","définitifs","définitifs","définitifs","définitifs","définitifs","définitifs","définitifs","définitifs","estimations","prévisions","prévisions","prévisions","prévisions","prévisions","prévisions","prévisions","prévisions","prévisions","prévisions","prévisions","prévisions","prévisions","prévisions","prévisions","prévisions","prévisions","prévisions"]
[null,"final figures","final figures","final figures","final figures","final figures","final figures","final figures","final figures","final figures","final figures","final figures","final figures","final figures","final figures","estimates","forecasts","forecasts","forecasts","forecasts","forecasts","forecasts","forecasts","forecasts","forecasts","forecasts","forecasts","forecasts","forecasts","forecasts","forecasts","forecasts","forecasts","forecasts"]
[]
[]
["Bovins/Cattle/Rinder"]
["engrais/fattening/Mast",{"$nulls":13},":",":",":",":",":",":",":",":",":",":",":",":",":",":",":",":",":",":",":",":"]
["VL/dairy cow/Milchkühe",{"$nulls":13},":",":",":",":",":",":",":",":",":",":",":",":",":",":",":",":",":",":",":",":"]
["veaux (alim. d'allaitement non compris)/calves ",{"$nulls":13},":",":",":",":",":",":",":",":",":",":",":",":",":",":",":",":",":",":",":",":"]
["(excl. milk replacers)/Kälber (exkl. Milchaustaucher)"]
["autres/others/Andere",{"$nulls":13},":",":",":",":",":",":",":",":",":",":",":",":",":",":",":",":",":",":",":",":"]
[]
[]
["Porcins/Pigs/Schweine"]
["porcelets/piglets/Ferkel",{"$nulls":13},":",":",":",":",":",":",":",":",":",":",":",":",":",":",":",":",":",":",":",":"]
["porcs engrais/pigs for fattening/Mastschweine",{"$nulls":13},":",":",":",":",":",":",":",":",":",":",":",":",":",":",":",":",":",":",":",":"]
["reproducteurs/breeding pigs/Zuchtschweine",{"$nulls":13},":",":",":",":",":",":",":",":",":",":",":",":",":",":",":",":",":",":",":",":"]
["autres/others/Andere",{"$nulls":13},":",":",":",":",":",":",":",":",":",":",":",":",":",":",":",":",":",":",":",":"]
[]
[]
["Volaille/Poultry/Geflügel"]
["broilers",{"$nulls":13},":",":",":",":",":",":",":",":",":",":",":",":",":",":",":",":",":",":",":",":"]
["poulettes & pondeuses/chicks & layers/Jung- & Legehennen",{"$nulls":13},":",":",":",":",":",":",":",":",":",":",":",":",":",":",":",":",":",":",":",":"]
["autres/others/Andere",{"$nulls":13},":",":",":",":",":",":",":",":",":",":",":",":",":",":",":",":",":",":",":",":"]
[]
[]
["Aliments d'allaitement/Milk replacers"]
["Milchaustaucher"]
[]
[]
["Pet food sec/Dry pet food"]
["Trockenfutter für Heimtiere"]
[]
[]
["Autres/others/Andere"]
[]
[]
["TOTAL",{"$f":"B45+B37+B31+B24+B16","v":0},0,0,{"$f":"E45+E41+E31+E24+E16","v":0},0,0,0,0,0,0,0,0,0,0,0,{"$f":"Q45+Q41+Q37+Q31+Q24+Q16","v":0},0,0,0,0,0,0,0,0,0,0,0,0,0,0,0,0,0]

{"sheet":"nonEU","index":109,"n_rows":6,"n_cols":21,"rows_kept":6,"hidden":true,"merged":[[0,1,0,4],[0,5,0,8],[0,9,0,12],[0,13,0,16],[0,17,0,20]]}
[null,"Cattle & calf feed",{"$nulls":3},"Pig feed",{"$nulls":3},"Poultry feed",{"$nulls":3},"Other compounds",{"$nulls":3},"Total"]
[null,2016,2017,2018,"%TAV 18/17",2016,2017,2018,"%TAV 18/17",2016,2017,2018,"%TAV 18/17",2016,2017,2018,"%TAV 18/17",2016,2017,2018,"%TAV 18/17"]
["Turkey",10114,11316,12079,{"$f":"((D3/C3)-1)*100","v":{"v":6.742665252739477,"d":"6.7"}},0,0,0,{"v":0,"d":"0.0"},8309,8883,9767,{"$f":"((L3/K3)-1)*100","v":{"v":9.951592930316334,"d":"10.0"}},1979,2219,2298,{"$f":"((P3/O3)-1)*100","v":{"v":3.5601622352410933,"d":"3.6"}},20402,22418,24144,{"$f":"((T3/S3)-1)*100","v":{"v":7.699170309572656,"d":"7.7"}}]
["Serbia",221,225,297,{"v":32.00000000000001,"d":"32.0"},400,417,473,{"$f":"((H4/G4)-1)*100","v":{"v":13.429256594724226,"d":"13.4"}},378,377,411,{"v":9.018567639257302,"d":"9.0"},38,29,29,{"v":0,"d":"0.0"},1037,1048,1210,{"v":15.458015267175561,"d":"15.5"}]
["Switzerland",504,479,509,{"v":6.263048016701456,"d":"6.3"},633,636,638,{"v":0.3144654088050425,"d":"0.3"},370,377,408,{"v":8.222811671087538,"d":"8.2"},48,48,45,{"v":-6.25,"d":"-6.3"},1555,1540,1600,{"v":3.8961038961038863,"d":"3.9"}]
["Norway ",1005,1015,1082,{"v":6.600985221674871,"d":"6.6"},493,494,477,{"v":-3.441295546558709,"d":"-3.4"},447,453,448,{"v":-1.103752759381893,"d":"-1.1"},1728,1845,1859,{"v":0.7588075880758716,"d":"0.8"},3673,3807,3866,{"v":1.5497767270816976,"d":"1.5"}]